BEGIN:VCALENDAR
VERSION:2.0
PRODID:-//St. James&#039; Episcopal Church - ECPv6.15.20//NONSGML v1.0//EN
CALSCALE:GREGORIAN
METHOD:PUBLISH
X-ORIGINAL-URL:https://stjameshydepark.org
X-WR-CALDESC:Events for St. James&#039; Episcopal Church
REFRESH-INTERVAL;VALUE=DURATION:PT1H
X-Robots-Tag:noindex
X-PUBLISHED-TTL:PT1H
BEGIN:VTIMEZONE
TZID:America/New_York
BEGIN:DAYLIGHT
TZOFFSETFROM:-0500
TZOFFSETTO:-0400
TZNAME:EDT
DTSTART:20210314T070000
END:DAYLIGHT
BEGIN:STANDARD
TZOFFSETFROM:-0400
TZOFFSETTO:-0500
TZNAME:EST
DTSTART:20211107T060000
END:STANDARD
BEGIN:DAYLIGHT
TZOFFSETFROM:-0500
TZOFFSETTO:-0400
TZNAME:EDT
DTSTART:20220313T070000
END:DAYLIGHT
BEGIN:STANDARD
TZOFFSETFROM:-0400
TZOFFSETTO:-0500
TZNAME:EST
DTSTART:20221106T060000
END:STANDARD
BEGIN:DAYLIGHT
TZOFFSETFROM:-0500
TZOFFSETTO:-0400
TZNAME:EDT
DTSTART:20230312T070000
END:DAYLIGHT
BEGIN:STANDARD
TZOFFSETFROM:-0400
TZOFFSETTO:-0500
TZNAME:EST
DTSTART:20231105T060000
END:STANDARD
BEGIN:DAYLIGHT
TZOFFSETFROM:-0500
TZOFFSETTO:-0400
TZNAME:EDT
DTSTART:20240310T070000
END:DAYLIGHT
BEGIN:STANDARD
TZOFFSETFROM:-0400
TZOFFSETTO:-0500
TZNAME:EST
DTSTART:20241103T060000
END:STANDARD
BEGIN:DAYLIGHT
TZOFFSETFROM:-0500
TZOFFSETTO:-0400
TZNAME:EDT
DTSTART:20250309T070000
END:DAYLIGHT
BEGIN:STANDARD
TZOFFSETFROM:-0400
TZOFFSETTO:-0500
TZNAME:EST
DTSTART:20251102T060000
END:STANDARD
BEGIN:DAYLIGHT
TZOFFSETFROM:-0500
TZOFFSETTO:-0400
TZNAME:EDT
DTSTART:20260308T070000
END:DAYLIGHT
BEGIN:STANDARD
TZOFFSETFROM:-0400
TZOFFSETTO:-0500
TZNAME:EST
DTSTART:20261101T060000
END:STANDARD
BEGIN:DAYLIGHT
TZOFFSETFROM:-0500
TZOFFSETTO:-0400
TZNAME:EDT
DTSTART:20270314T070000
END:DAYLIGHT
BEGIN:STANDARD
TZOFFSETFROM:-0400
TZOFFSETTO:-0500
TZNAME:EST
DTSTART:20271107T060000
END:STANDARD
END:VTIMEZONE
BEGIN:VEVENT
DTSTART;TZID=America/New_York:20260403T190000
DTEND;TZID=America/New_York:20260403T203000
DTSTAMP:20260423T165201
CREATED:20260402T175822Z
LAST-MODIFIED:20260402T175840Z
UID:10007895-1775242800-1775248200@stjameshydepark.org
SUMMARY:Good Friday Service (St. Margaret's\, Staatsburg)
DESCRIPTION:Good Friday (March 29th)\n7 pm Solemn Liturgy for Good Friday at St. Margaret’s\, Staatsburg \n\nA solemn service commemorating Jesus’ trial and death by crucifixion\nReading of the Passion according to John\nVeneration of the Cross\nCommunion from the Reserved Sacrament\n\nThis service brings together the congregations of St. James’ and our neighbor church\, St. Margaret’s in Staatsburg. St. Margaret’s hosts at the corner of Old Post Road and East Elm in Staatsburg. 
URL:https://stjameshydepark.org/event/good-friday-2026/
LOCATION:St. Margaret’s Church\, E. Elm Ave.\, Staatsburg\, NY\, 12580\, United States
CATEGORIES:Holy Week and Easter,Worship
END:VEVENT
BEGIN:VEVENT
DTSTART;TZID=America/New_York:20251214T180000
DTEND;TZID=America/New_York:20251214T190000
DTSTAMP:20260423T165201
CREATED:20251126T160459Z
LAST-MODIFIED:20251126T160459Z
UID:10007164-1765735200-1765738800@stjameshydepark.org
SUMMARY:Caroling in the Village of Staatsburg (starts at St. Margaret's)
DESCRIPTION:
URL:https://stjameshydepark.org/event/caroling-in-the-village-of-staatsburg-starts-at-st-margarets/
LOCATION:St. Margaret’s Church\, E. Elm Ave.\, Staatsburg\, NY\, 12580\, United States
END:VEVENT
BEGIN:VEVENT
DTSTART;TZID=America/New_York:20251211T190000
DTEND;TZID=America/New_York:20251211T200000
DTSTAMP:20260423T165201
CREATED:20251126T160324Z
LAST-MODIFIED:20251126T160324Z
UID:10007163-1765479600-1765483200@stjameshydepark.org
SUMMARY:Blue Christmas Service (St. Margaret's)
DESCRIPTION:For anyone holding grief in the holiday season.
URL:https://stjameshydepark.org/event/blue-christmas-service-st-margarets/
LOCATION:St. Margaret’s Church\, E. Elm Ave.\, Staatsburg\, NY\, 12580\, United States
END:VEVENT
BEGIN:VEVENT
DTSTART;TZID=America/New_York:20250418T190000
DTEND;TZID=America/New_York:20250418T200000
DTSTAMP:20260423T165201
CREATED:20250325T171825Z
LAST-MODIFIED:20250325T171825Z
UID:10006449-1745002800-1745006400@stjameshydepark.org
SUMMARY:Good Friday (St. Margaret's\, Staatsburg)
DESCRIPTION:
URL:https://stjameshydepark.org/event/good-friday-st-margarets-staatsburg/
LOCATION:St. Margaret’s Church\, E. Elm Ave.\, Staatsburg\, NY\, 12580\, United States
END:VEVENT
BEGIN:VEVENT
DTSTART;TZID=America/New_York:20241222T180000
DTEND;TZID=America/New_York:20241222T200000
DTSTAMP:20260423T165201
CREATED:20241121T183033Z
LAST-MODIFIED:20241121T183130Z
UID:10004300-1734890400-1734897600@stjameshydepark.org
SUMMARY:Neighborhood Christmas Caroling (St. Margaret's)
DESCRIPTION:Meet at 6 pm on Sunday\, December 22nd at St. Margaret’s (corner of East Elm and Old Post in Staatsburg) for caroling in the village of Staatsburg. Afterward\, we’ll return to St. Margaret’s for a festive reception.
URL:https://stjameshydepark.org/event/caroling-2024/
LOCATION:St. Margaret’s Church\, E. Elm Ave.\, Staatsburg\, NY\, 12580\, United States
CATEGORIES:Christmas,Fun,Kids & Youth
ATTACH;FMTTYPE=image/png:https://stjameshydepark.org/wp-content/uploads/2024/11/Cookies-and-Caroling.png
END:VEVENT
BEGIN:VEVENT
DTSTART;TZID=America/New_York:20240721T100000
DTEND;TZID=America/New_York:20240721T113000
DTSTAMP:20260423T165201
CREATED:20240628T203235Z
LAST-MODIFIED:20240628T203237Z
UID:10002756-1721556000-1721561400@stjameshydepark.org
SUMMARY:Holy Eucharist at St. Margaret’s\, Staatsburg (Combined Two-Parish Service)
DESCRIPTION:On Sunday\, June 30th\, our 10 am service will be held at our sister parish\, St. Margaret’s Episcopal Church in Staatsburg (corner of East Elm and Old Post Road). Please plan to join in! \nAfter the service\, please stay for coffee and conversation in the St. Margaret’s fellowship room. \nWe have four combined services planned with St. Margaret’s this summer: \n\nJune 30th—10 am service at St. Margaret’s\, Mtr. Meredith preaching and presiding (8 am service at St. James’)\nJuly 21st—10 am service at St. Margaret’s\, Mtr. Meredith preaching and presiding (8 am service at St. James’)\nAugust 11th—10 am service at St. James’\, Fr. Michael preaching and presiding (he will also lead the 8 am service at St. James’)\nAugust 25th—10 am service at St. James’\, Fr. Michael preaching and presiding (he will also lead the 8 am service at St. James’)
URL:https://stjameshydepark.org/event/2024-eucharist-rite-ii-9/
LOCATION:St. Margaret’s Church\, E. Elm Ave.\, Staatsburg\, NY\, 12580\, United States
CATEGORIES:Worship
END:VEVENT
BEGIN:VEVENT
DTSTART;TZID=America/New_York:20240329T190000
DTEND;TZID=America/New_York:20240329T203000
DTSTAMP:20260423T165201
CREATED:20240321T190528Z
LAST-MODIFIED:20240321T191156Z
UID:10003627-1711738800-1711744200@stjameshydepark.org
SUMMARY:Good Friday Service (St. Margaret's\, Staatsburg)
DESCRIPTION:Good Friday (March 29th)\n7 pm Solemn Liturgy for Good Friday at St. Margaret’s\, Staatsburg \n\nA solemn service commemorating Jesus’ trial and death by crucifixion\nReading of the Passion according to John\nVeneration of the Cross\nCommunion from the Reserved Sacrament\n\nThis service brings together the congregations of St. James’ and our neighbor church\, St. Margaret’s in Staatsburg. St. Margaret’s hosts at the corner of Old Post Road and East Elm in Staatsburg. 
URL:https://stjameshydepark.org/event/good-friday-2024/
LOCATION:St. Margaret’s Church\, E. Elm Ave.\, Staatsburg\, NY\, 12580\, United States
CATEGORIES:Holy Week and Easter,Worship
END:VEVENT
BEGIN:VEVENT
DTSTART;TZID=America/New_York:20240121T100000
DTEND;TZID=America/New_York:20240121T113000
DTSTAMP:20260423T165201
CREATED:20240102T013020Z
LAST-MODIFIED:20240117T150936Z
UID:10002730-1705831200-1705836600@stjameshydepark.org
SUMMARY:Holy Eucharist (Rite II)\, Sunday School\, and Coffee Hour AT ST. MARGARET'S
DESCRIPTION:On Sunday\, January 21st we’ll join our neighbors at St. Margaret’s\, Staatsburg for a special combined service. The Rev. Meredith Sanderson will preach and preside. Please join in at the corner of Old Post Road and East Elm in Staatsburg! \nSunday School will meet in the Fellowship Room of St. Margaret’s Church. \nCoffee hour in the fellowship room will follow this service. \n 
URL:https://stjameshydepark.org/event/2024-eucharist-rite-ii-jan-21/
LOCATION:St. Margaret’s Church\, E. Elm Ave.\, Staatsburg\, NY\, 12580\, United States
CATEGORIES:Worship
END:VEVENT
BEGIN:VEVENT
DTSTART;TZID=America/New_York:20231217T180000
DTEND;TZID=America/New_York:20231217T200000
DTSTAMP:20260423T165201
CREATED:20231026T173102Z
LAST-MODIFIED:20231224T110713Z
UID:10002701-1702836000-1702843200@stjameshydepark.org
SUMMARY:Neighborhood Christmas Caroling (St. Margaret's)
DESCRIPTION:Meet at St. Margaret’s (corner of East Elm and Old Post in Staatsburg) for caroling in the village of Staatsburg. Afterward\, we’ll return to St. Margaret’s for a festive reception\, including cookies baked by our youth group!
URL:https://stjameshydepark.org/event/neighborhood-christmas-caroling-st-margarets/
LOCATION:St. Margaret’s Church\, E. Elm Ave.\, Staatsburg\, NY\, 12580\, United States
CATEGORIES:Christmas,Fun,Kids & Youth
END:VEVENT
BEGIN:VEVENT
DTSTART;TZID=America/New_York:20230709T100000
DTEND;TZID=America/New_York:20230709T113000
DTSTAMP:20260423T165201
CREATED:20230510T124324Z
LAST-MODIFIED:20230525T134306Z
UID:10002061-1688896800-1688902200@stjameshydepark.org
SUMMARY:Holy Eucharist (Rite II) - St. Margaret's Church
DESCRIPTION:
URL:https://stjameshydepark.org/event/holy-eucharist-rite-ii-st-margarets-church/
LOCATION:St. Margaret’s Church\, E. Elm Ave.\, Staatsburg\, NY\, 12580\, United States
CATEGORIES:General
END:VEVENT
BEGIN:VEVENT
DTSTART;TZID=America/New_York:20230407T203000
DTEND;TZID=America/New_York:20230407T203000
DTSTAMP:20260423T165201
CREATED:20230119T150901Z
LAST-MODIFIED:20230321T151813Z
UID:10001898-1680899400-1680899400@stjameshydepark.org
SUMMARY:Good Friday Service—at St. Margaret's\, Staatsburg
DESCRIPTION:
URL:https://stjameshydepark.org/event/good-friday-2023/
LOCATION:St. Margaret’s Church\, E. Elm Ave.\, Staatsburg\, NY\, 12580\, United States
CATEGORIES:Holy Week and Easter
END:VEVENT
BEGIN:VEVENT
DTSTART;TZID=America/New_York:20221221T190000
DTEND;TZID=America/New_York:20221221T200000
DTSTAMP:20260423T165201
CREATED:20221202T184031Z
LAST-MODIFIED:20221220T164117Z
UID:10001685-1671649200-1671652800@stjameshydepark.org
SUMMARY:Blue Christmas Service (St. Margaret's Church\, Staatsburg)
DESCRIPTION:St. James’ will join our neighbors at St. Margaret’s Episcopal Church in Staatsburg for a joint Blue Christmas Service on Wednesday\, December 21st at 7:00 p.m. The service will take place at St. Margaret’s\, corner of Old Post Rd & E Elm Ave in Staatsburg. \nThis healing service especially for anyone who’s feeling the weight of grief\, loss\, or anxiety in this holiday season. The service will be co-officiated by Fr. Michael of St. Margaret’s and Mtr. Meredith of St. James’ and will include lay readers from both parishes.
URL:https://stjameshydepark.org/event/blue-christmas-service-st-margarets-church-staatsburg/
LOCATION:St. Margaret’s Church\, E. Elm Ave.\, Staatsburg\, NY\, 12580\, United States
CATEGORIES:Christmas,One Time Event
END:VEVENT
END:VCALENDAR