BEGIN:VCALENDAR
VERSION:2.0
PRODID:-//St. James&#039; Episcopal Church - ECPv6.15.20//NONSGML v1.0//EN
CALSCALE:GREGORIAN
METHOD:PUBLISH
X-WR-CALNAME:St. James&#039; Episcopal Church
X-ORIGINAL-URL:https://stjameshydepark.org
X-WR-CALDESC:Events for St. James&#039; Episcopal Church
REFRESH-INTERVAL;VALUE=DURATION:PT1H
X-Robots-Tag:noindex
X-PUBLISHED-TTL:PT1H
BEGIN:VTIMEZONE
TZID:America/New_York
BEGIN:DAYLIGHT
TZOFFSETFROM:-0500
TZOFFSETTO:-0400
TZNAME:EDT
DTSTART:20210314T070000
END:DAYLIGHT
BEGIN:STANDARD
TZOFFSETFROM:-0400
TZOFFSETTO:-0500
TZNAME:EST
DTSTART:20211107T060000
END:STANDARD
BEGIN:DAYLIGHT
TZOFFSETFROM:-0500
TZOFFSETTO:-0400
TZNAME:EDT
DTSTART:20220313T070000
END:DAYLIGHT
BEGIN:STANDARD
TZOFFSETFROM:-0400
TZOFFSETTO:-0500
TZNAME:EST
DTSTART:20221106T060000
END:STANDARD
BEGIN:DAYLIGHT
TZOFFSETFROM:-0500
TZOFFSETTO:-0400
TZNAME:EDT
DTSTART:20230312T070000
END:DAYLIGHT
BEGIN:STANDARD
TZOFFSETFROM:-0400
TZOFFSETTO:-0500
TZNAME:EST
DTSTART:20231105T060000
END:STANDARD
END:VTIMEZONE
BEGIN:VEVENT
DTSTART;VALUE=DATE:20220417
DTEND;VALUE=DATE:20220418
DTSTAMP:20260423T202910
CREATED:20220330T135235Z
LAST-MODIFIED:20220330T180053Z
UID:10001481-1650153600-1650239999@stjameshydepark.org
SUMMARY:Easter Day
DESCRIPTION:
URL:https://stjameshydepark.org/event/easter-day/
LOCATION:HP Farmers Market
CATEGORIES:Easter
END:VEVENT
BEGIN:VEVENT
DTSTART;TZID=America/New_York:20220416T193000
DTEND;TZID=America/New_York:20220416T213000
DTSTAMP:20260423T202910
CREATED:20220331T154736Z
LAST-MODIFIED:20220331T154736Z
UID:10001500-1650137400-1650144600@stjameshydepark.org
SUMMARY:Easter Vigil
DESCRIPTION:
URL:https://stjameshydepark.org/event/easter-vigil/
LOCATION:HP Farmers Market
CATEGORIES:Easter
END:VEVENT
BEGIN:VEVENT
DTSTART;TZID=America/New_York:20220416T080000
DTEND;TZID=America/New_York:20220416T090000
DTSTAMP:20260423T202910
CREATED:20220331T145513Z
LAST-MODIFIED:20220331T145513Z
UID:10001499-1650096000-1650099600@stjameshydepark.org
SUMMARY:Holy Saturday Liturgy (Remote)
DESCRIPTION:
URL:https://stjameshydepark.org/event/holy-saturday-liturgy-remote/
LOCATION:HP Farmers Market
END:VEVENT
BEGIN:VEVENT
DTSTART;VALUE=DATE:20220416
DTEND;VALUE=DATE:20220417
DTSTAMP:20260423T202910
CREATED:20220330T135419Z
LAST-MODIFIED:20220330T175939Z
UID:10001482-1650067200-1650153599@stjameshydepark.org
SUMMARY:Holy Saturday
DESCRIPTION:
URL:https://stjameshydepark.org/event/holy-saturday-2/
LOCATION:HP Farmers Market
CATEGORIES:Holy Week and Easter
END:VEVENT
BEGIN:VEVENT
DTSTART;TZID=America/New_York:20220415T193000
DTEND;TZID=America/New_York:20220415T203000
DTSTAMP:20260423T202910
CREATED:20220331T145323Z
LAST-MODIFIED:20220331T145323Z
UID:10001498-1650051000-1650054600@stjameshydepark.org
SUMMARY:Good Friday Liturgy with Solemn Collects and Veneration of the Cross
DESCRIPTION:
URL:https://stjameshydepark.org/event/good-friday-liturgy-with-solemn-collects-and-veneration-of-the-cross/
LOCATION:HP Farmers Market
END:VEVENT
BEGIN:VEVENT
DTSTART;TZID=America/New_York:20220415T183000
DTEND;TZID=America/New_York:20220415T193000
DTSTAMP:20260423T202910
CREATED:20220331T145135Z
LAST-MODIFIED:20220331T145135Z
UID:10001497-1650047400-1650051000@stjameshydepark.org
SUMMARY:Good Friday Liturgy with Solemn Collects (Remote)
DESCRIPTION:
URL:https://stjameshydepark.org/event/good-friday-liturgy-with-solemn-collects-remote/
LOCATION:HP Farmers Market
END:VEVENT
BEGIN:VEVENT
DTSTART;TZID=America/New_York:20220415T101500
DTEND;TZID=America/New_York:20220415T120000
DTSTAMP:20260423T202910
CREATED:20220331T145002Z
LAST-MODIFIED:20220331T145002Z
UID:10001496-1650017700-1650024000@stjameshydepark.org
SUMMARY:Walk of the Cross (Begin at Regina Coeli RC Church)
DESCRIPTION:
URL:https://stjameshydepark.org/event/walk-of-the-cross-begin-at-regina-coeli-rc-church/
LOCATION:HP Farmers Market
END:VEVENT
BEGIN:VEVENT
DTSTART;VALUE=DATE:20220415
DTEND;VALUE=DATE:20220416
DTSTAMP:20260423T202910
CREATED:20220330T135131Z
LAST-MODIFIED:20220330T175851Z
UID:10001480-1649980800-1650067199@stjameshydepark.org
SUMMARY:Good Friday
DESCRIPTION:
URL:https://stjameshydepark.org/event/good-friday/
LOCATION:HP Farmers Market
CATEGORIES:Holy Week and Easter
END:VEVENT
BEGIN:VEVENT
DTSTART;TZID=America/New_York:20220415T000000
DTEND;TZID=America/New_York:20220415T070000
DTSTAMP:20260423T202910
CREATED:20220331T144631Z
LAST-MODIFIED:20220331T144631Z
UID:10001495-1649980800-1650006000@stjameshydepark.org
SUMMARY:Night Vigil (Remote)
DESCRIPTION:
URL:https://stjameshydepark.org/event/night-vigil-remote-2/
LOCATION:HP Farmers Market
END:VEVENT
BEGIN:VEVENT
DTSTART;TZID=America/New_York:20220414T220000
DTEND;TZID=America/New_York:20220414T235900
DTSTAMP:20260423T202910
CREATED:20220331T144117Z
LAST-MODIFIED:20220331T144450Z
UID:10001494-1649973600-1649980740@stjameshydepark.org
SUMMARY:Night Vigil (Remote)
DESCRIPTION:
URL:https://stjameshydepark.org/event/night-vigil-remote/
LOCATION:HP Farmers Market
END:VEVENT
BEGIN:VEVENT
DTSTART;VALUE=DATE:20220414
DTEND;VALUE=DATE:20220415
DTSTAMP:20260423T202910
CREATED:20220330T134726Z
LAST-MODIFIED:20220330T175610Z
UID:10001479-1649894400-1649980799@stjameshydepark.org
SUMMARY:Maundy Thursday
DESCRIPTION:
URL:https://stjameshydepark.org/event/maundy-thursday/
LOCATION:HP Farmers Market
CATEGORIES:Holy Week and Easter
END:VEVENT
BEGIN:VEVENT
DTSTART;TZID=America/New_York:20220413T183000
DTEND;TZID=America/New_York:20220413T193000
DTSTAMP:20260423T202910
CREATED:20220331T142207Z
LAST-MODIFIED:20220331T142207Z
UID:10001488-1649874600-1649878200@stjameshydepark.org
SUMMARY:Tenebrae III: Temple Sacrifice (Remote)
DESCRIPTION:
URL:https://stjameshydepark.org/event/tenebrae-iii-temple-sacrifice-remote/
LOCATION:HP Farmers Market
END:VEVENT
BEGIN:VEVENT
DTSTART;VALUE=DATE:20220413
DTEND;VALUE=DATE:20220414
DTSTAMP:20260423T202910
CREATED:20220331T142713Z
LAST-MODIFIED:20220331T142750Z
UID:10001490-1649808000-1649894399@stjameshydepark.org
SUMMARY:Holy Wednesday
DESCRIPTION:
URL:https://stjameshydepark.org/event/holy-tuesday/
LOCATION:HP Farmers Market
CATEGORIES:Holy Week and Easter
END:VEVENT
BEGIN:VEVENT
DTSTART;TZID=America/New_York:20220412T183000
DTEND;TZID=America/New_York:20220412T193000
DTSTAMP:20260423T202910
CREATED:20220331T142103Z
LAST-MODIFIED:20220331T142103Z
UID:10001487-1649788200-1649791800@stjameshydepark.org
SUMMARY:Tenebrae II: Suffering Servant (Remote)
DESCRIPTION:
URL:https://stjameshydepark.org/event/tenebrae-ii-suffering-servant-remote/
LOCATION:HP Farmers Market
END:VEVENT
BEGIN:VEVENT
DTSTART;VALUE=DATE:20220412
DTEND;VALUE=DATE:20220413
DTSTAMP:20260423T202910
CREATED:20220331T142938Z
LAST-MODIFIED:20220331T142938Z
UID:10001491-1649721600-1649807999@stjameshydepark.org
SUMMARY:Holy Tuesday
DESCRIPTION:
URL:https://stjameshydepark.org/event/holy-tuesday-2/
LOCATION:HP Farmers Market
CATEGORIES:Holy Week and Easter
END:VEVENT
BEGIN:VEVENT
DTSTART;TZID=America/New_York:20220411T183000
DTEND;TZID=America/New_York:20220411T193000
DTSTAMP:20260423T202910
CREATED:20220331T141905Z
LAST-MODIFIED:20220331T141905Z
UID:10001486-1649701800-1649705400@stjameshydepark.org
SUMMARY:Tenebrae I: Lament for Jerusalem (Remote)
DESCRIPTION:
URL:https://stjameshydepark.org/event/tenebrae-i-lament-for-jerusalem-remote/
LOCATION:HP Farmers Market
END:VEVENT
BEGIN:VEVENT
DTSTART;VALUE=DATE:20220411
DTEND;VALUE=DATE:20220416
DTSTAMP:20260423T202910
CREATED:20220331T143811Z
LAST-MODIFIED:20220331T143811Z
UID:10001493-1649635200-1650067199@stjameshydepark.org
SUMMARY:Nursery School Closed for Spring Break
DESCRIPTION:
URL:https://stjameshydepark.org/event/nursery-school-closed-for-spring-break/
LOCATION:HP Farmers Market
CATEGORIES:Nursery School
END:VEVENT
BEGIN:VEVENT
DTSTART;VALUE=DATE:20220411
DTEND;VALUE=DATE:20220412
DTSTAMP:20260423T202910
CREATED:20220331T143114Z
LAST-MODIFIED:20220331T143114Z
UID:10001492-1649635200-1649721599@stjameshydepark.org
SUMMARY:Holy Monday
DESCRIPTION:
URL:https://stjameshydepark.org/event/holy-monday/
LOCATION:HP Farmers Market
CATEGORIES:Holy Week and Easter
END:VEVENT
BEGIN:VEVENT
DTSTART;VALUE=DATE:20220410
DTEND;VALUE=DATE:20220411
DTSTAMP:20260423T202910
CREATED:20220330T134605Z
LAST-MODIFIED:20220330T155105Z
UID:10001478-1649548800-1649635199@stjameshydepark.org
SUMMARY:Palm Sunday
DESCRIPTION:
URL:https://stjameshydepark.org/event/palm-sunday/
LOCATION:HP Farmers Market
CATEGORIES:Holy Week and Easter
END:VEVENT
BEGIN:VEVENT
DTSTART;TZID=America/New_York:20220406T180000
DTEND;TZID=America/New_York:20220406T200000
DTSTAMP:20260423T202910
CREATED:20220330T140628Z
LAST-MODIFIED:20220330T140628Z
UID:10001483-1649268000-1649275200@stjameshydepark.org
SUMMARY:Women's Group (Antonella's Back Room)
DESCRIPTION:
URL:https://stjameshydepark.org/event/womens-group-antonellas-back-room/2022-04-06/
LOCATION:HP Farmers Market
END:VEVENT
BEGIN:VEVENT
DTSTART;TZID=America/New_York:20220226T030000
DTEND;TZID=America/New_York:20220226T040000
DTSTAMP:20260423T202910
CREATED:20220219T231332Z
LAST-MODIFIED:20220219T231332Z
UID:10001030-1645844400-1645848000@stjameshydepark.org
SUMMARY:Sunday Worship
DESCRIPTION:
URL:https://stjameshydepark.org/event/sunday-worship/
LOCATION:HP Farmers Market
END:VEVENT
END:VCALENDAR