BEGIN:VCALENDAR
VERSION:2.0
PRODID:-//St. James&#039; Episcopal Church - ECPv6.15.20//NONSGML v1.0//EN
CALSCALE:GREGORIAN
METHOD:PUBLISH
X-WR-CALNAME:St. James&#039; Episcopal Church
X-ORIGINAL-URL:https://stjameshydepark.org
X-WR-CALDESC:Events for St. James&#039; Episcopal Church
REFRESH-INTERVAL;VALUE=DURATION:PT1H
X-Robots-Tag:noindex
X-PUBLISHED-TTL:PT1H
BEGIN:VTIMEZONE
TZID:America/New_York
BEGIN:DAYLIGHT
TZOFFSETFROM:-0500
TZOFFSETTO:-0400
TZNAME:EDT
DTSTART:20250309T070000
END:DAYLIGHT
BEGIN:STANDARD
TZOFFSETFROM:-0400
TZOFFSETTO:-0500
TZNAME:EST
DTSTART:20251102T060000
END:STANDARD
BEGIN:DAYLIGHT
TZOFFSETFROM:-0500
TZOFFSETTO:-0400
TZNAME:EDT
DTSTART:20260308T070000
END:DAYLIGHT
BEGIN:STANDARD
TZOFFSETFROM:-0400
TZOFFSETTO:-0500
TZNAME:EST
DTSTART:20261101T060000
END:STANDARD
BEGIN:DAYLIGHT
TZOFFSETFROM:-0500
TZOFFSETTO:-0400
TZNAME:EDT
DTSTART:20270314T070000
END:DAYLIGHT
BEGIN:STANDARD
TZOFFSETFROM:-0400
TZOFFSETTO:-0500
TZNAME:EST
DTSTART:20271107T060000
END:STANDARD
END:VTIMEZONE
BEGIN:VEVENT
DTSTART;TZID=America/New_York:20260427T180000
DTEND;TZID=America/New_York:20260427T210000
DTSTAMP:20260423T150253
CREATED:20260312T174910Z
LAST-MODIFIED:20260312T174910Z
UID:10007867-1777312800-1777323600@stjameshydepark.org
SUMMARY:[New Deal] Sound of Music Auditions (Parish Hall)
DESCRIPTION:
URL:https://stjameshydepark.org/event/new-deal-sound-of-music-auditions-parish-hall/2026-04-27/
LOCATION:HP Farmers Market
END:VEVENT
BEGIN:VEVENT
DTSTART;TZID=America/New_York:20260507T170000
DTEND;TZID=America/New_York:20260507T210000
DTSTAMP:20260423T150253
CREATED:20260312T174910Z
LAST-MODIFIED:20260312T174910Z
UID:10007868-1778173200-1778187600@stjameshydepark.org
SUMMARY:[New Deal] Sound of Music Auditions (Parish Hall)
DESCRIPTION:
URL:https://stjameshydepark.org/event/new-deal-sound-of-music-auditions-parish-hall/2026-05-07/
LOCATION:HP Farmers Market
END:VEVENT
BEGIN:VEVENT
DTSTART;TZID=America/New_York:20260508T170000
DTEND;TZID=America/New_York:20260508T210000
DTSTAMP:20260423T150253
CREATED:20260312T174910Z
LAST-MODIFIED:20260312T174910Z
UID:10007869-1778259600-1778274000@stjameshydepark.org
SUMMARY:[New Deal] Sound of Music Auditions (Parish Hall)
DESCRIPTION:
URL:https://stjameshydepark.org/event/new-deal-sound-of-music-auditions-parish-hall/2026-05-08/
LOCATION:HP Farmers Market
END:VEVENT
BEGIN:VEVENT
DTSTART;TZID=America/New_York:20260509T100000
DTEND;TZID=America/New_York:20260509T210000
DTSTAMP:20260423T150253
CREATED:20260312T174910Z
LAST-MODIFIED:20260312T174910Z
UID:10007870-1778320800-1778360400@stjameshydepark.org
SUMMARY:[New Deal] Sound of Music Auditions (Parish Hall)
DESCRIPTION:
URL:https://stjameshydepark.org/event/new-deal-sound-of-music-auditions-parish-hall/2026-05-09/
LOCATION:HP Farmers Market
END:VEVENT
END:VCALENDAR