BEGIN:VCALENDAR
VERSION:2.0
PRODID:-//St. James&#039; Episcopal Church - ECPv6.15.20//NONSGML v1.0//EN
CALSCALE:GREGORIAN
METHOD:PUBLISH
X-ORIGINAL-URL:https://stjameshydepark.org
X-WR-CALDESC:Events for St. James&#039; Episcopal Church
REFRESH-INTERVAL;VALUE=DURATION:PT1H
X-Robots-Tag:noindex
X-PUBLISHED-TTL:PT1H
BEGIN:VTIMEZONE
TZID:America/New_York
BEGIN:DAYLIGHT
TZOFFSETFROM:-0500
TZOFFSETTO:-0400
TZNAME:EDT
DTSTART:20220313T070000
END:DAYLIGHT
BEGIN:STANDARD
TZOFFSETFROM:-0400
TZOFFSETTO:-0500
TZNAME:EST
DTSTART:20221106T060000
END:STANDARD
BEGIN:DAYLIGHT
TZOFFSETFROM:-0500
TZOFFSETTO:-0400
TZNAME:EDT
DTSTART:20230312T070000
END:DAYLIGHT
BEGIN:STANDARD
TZOFFSETFROM:-0400
TZOFFSETTO:-0500
TZNAME:EST
DTSTART:20231105T060000
END:STANDARD
BEGIN:DAYLIGHT
TZOFFSETFROM:-0500
TZOFFSETTO:-0400
TZNAME:EDT
DTSTART:20240310T070000
END:DAYLIGHT
BEGIN:STANDARD
TZOFFSETFROM:-0400
TZOFFSETTO:-0500
TZNAME:EST
DTSTART:20241103T060000
END:STANDARD
BEGIN:DAYLIGHT
TZOFFSETFROM:-0500
TZOFFSETTO:-0400
TZNAME:EDT
DTSTART:20250309T070000
END:DAYLIGHT
BEGIN:STANDARD
TZOFFSETFROM:-0400
TZOFFSETTO:-0500
TZNAME:EST
DTSTART:20251102T060000
END:STANDARD
BEGIN:DAYLIGHT
TZOFFSETFROM:-0500
TZOFFSETTO:-0400
TZNAME:EDT
DTSTART:20260308T070000
END:DAYLIGHT
BEGIN:STANDARD
TZOFFSETFROM:-0400
TZOFFSETTO:-0500
TZNAME:EST
DTSTART:20261101T060000
END:STANDARD
END:VTIMEZONE
BEGIN:VEVENT
DTSTART;TZID=America/New_York:20250503T160000
DTEND;TZID=America/New_York:20250503T200000
DTSTAMP:20260424T120102
CREATED:20250429T124132Z
LAST-MODIFIED:20250429T124351Z
UID:10006543-1746288000-1746302400@stjameshydepark.org
SUMMARY:[New Deal] (Chapel & Reading Room)
DESCRIPTION:
URL:https://stjameshydepark.org/event/new-deal-chapel/
LOCATION:St. James’ Chapel\, 10 East Market Street\, Hyde Park\, NY\, 12567\, United States
END:VEVENT
BEGIN:VEVENT
DTSTART;TZID=America/New_York:20250423T080000
DTEND;TZID=America/New_York:20250423T110000
DTSTAMP:20260424T120102
CREATED:20250422T153020Z
LAST-MODIFIED:20250422T153020Z
UID:10006538-1745395200-1745406000@stjameshydepark.org
SUMMARY:Optimum Phone Upgrade (Chapel)
DESCRIPTION:
URL:https://stjameshydepark.org/event/optimum-phone-upgrade-chapel/
LOCATION:St. James’ Chapel\, 10 East Market Street\, Hyde Park\, NY\, 12567\, United States
END:VEVENT
BEGIN:VEVENT
DTSTART;TZID=America/New_York:20250417T080000
DTEND;TZID=America/New_York:20250417T110000
DTSTAMP:20260424T120102
CREATED:20250415T175818Z
LAST-MODIFIED:20250415T175818Z
UID:10006537-1744876800-1744887600@stjameshydepark.org
SUMMARY:Phone Upgrade (Chapel)
DESCRIPTION:
URL:https://stjameshydepark.org/event/phone-upgrade-chapel/
LOCATION:St. James’ Chapel\, 10 East Market Street\, Hyde Park\, NY\, 12567\, United States
END:VEVENT
BEGIN:VEVENT
DTSTART;TZID=America/New_York:20250312T190000
DTEND;TZID=America/New_York:20250312T210000
DTSTAMP:20260424T120102
CREATED:20250211T152016Z
LAST-MODIFIED:20250211T152016Z
UID:10006371-1741806000-1741813200@stjameshydepark.org
SUMMARY:Garden Kick-off Meeting (Chapel)
DESCRIPTION:
URL:https://stjameshydepark.org/event/garden-kick-off-meeting-chapel/
LOCATION:St. James’ Chapel\, 10 East Market Street\, Hyde Park\, NY\, 12567\, United States
END:VEVENT
BEGIN:VEVENT
DTSTART;TZID=America/New_York:20241215T120000
DTEND;TZID=America/New_York:20241215T150000
DTSTAMP:20260424T120102
CREATED:20241022T133732Z
LAST-MODIFIED:20241205T164301Z
UID:10004305-1734264000-1734274800@stjameshydepark.org
SUMMARY:Winter Clothing Giveaway (Chapel)
DESCRIPTION:❄️ ❄️ November 17th & 24th + December 15th: Winter Clothing Giveaway ❄️ ❄️\nWarm winter clothing for women~men~children \nSunday\, November 17th AND Sunday\, November 24th AND Sunday\, December 15th\n12-3 pm (while supplies last) \nSt. James’ Episcopal Chapel\n10 East Market Street\nHyde Park\, New York \nNEEDED: \nGently used\, warm winter clothing\, all sizes for Women\, Men and Children \nCONTACT: \nLillian\n845-282-6328\nfinallygigi22@gmail.com
URL:https://stjameshydepark.org/event/outreach-clothing-drive-chapel/2024-12-15/
LOCATION:St. James’ Chapel\, 10 East Market Street\, Hyde Park\, NY\, 12567\, United States
CATEGORIES:Outreach
END:VEVENT
BEGIN:VEVENT
DTSTART;TZID=America/New_York:20241201T183000
DTEND;TZID=America/New_York:20241201T210000
DTSTAMP:20260424T120102
CREATED:20240131T154552Z
LAST-MODIFIED:20241001T152150Z
UID:10004149-1733077800-1733086800@stjameshydepark.org
SUMMARY:AA Meeting (Chapel)
DESCRIPTION:
URL:https://stjameshydepark.org/event/aa-meeting-chapel-2/2024-12-01/
LOCATION:St. James’ Chapel\, 10 East Market Street\, Hyde Park\, NY\, 12567\, United States
CATEGORIES:General
END:VEVENT
BEGIN:VEVENT
DTSTART;TZID=America/New_York:20241124T120000
DTEND;TZID=America/New_York:20241124T150000
DTSTAMP:20260424T120102
CREATED:20241022T133732Z
LAST-MODIFIED:20241205T164301Z
UID:10004246-1732449600-1732460400@stjameshydepark.org
SUMMARY:Winter Clothing Giveaway (Chapel)
DESCRIPTION:❄️ ❄️ November 17th & 24th + December 15th: Winter Clothing Giveaway ❄️ ❄️\nWarm winter clothing for women~men~children \nSunday\, November 17th AND Sunday\, November 24th AND Sunday\, December 15th\n12-3 pm (while supplies last) \nSt. James’ Episcopal Chapel\n10 East Market Street\nHyde Park\, New York \nNEEDED: \nGently used\, warm winter clothing\, all sizes for Women\, Men and Children \nCONTACT: \nLillian\n845-282-6328\nfinallygigi22@gmail.com
URL:https://stjameshydepark.org/event/outreach-clothing-drive-chapel/2024-11-24/
LOCATION:St. James’ Chapel\, 10 East Market Street\, Hyde Park\, NY\, 12567\, United States
CATEGORIES:Outreach
END:VEVENT
BEGIN:VEVENT
DTSTART;TZID=America/New_York:20241117T120000
DTEND;TZID=America/New_York:20241117T150000
DTSTAMP:20260424T120102
CREATED:20241022T133732Z
LAST-MODIFIED:20241205T164301Z
UID:10004217-1731844800-1731855600@stjameshydepark.org
SUMMARY:Winter Clothing Giveaway (Chapel)
DESCRIPTION:❄️ ❄️ November 17th & 24th + December 15th: Winter Clothing Giveaway ❄️ ❄️\nWarm winter clothing for women~men~children \nSunday\, November 17th AND Sunday\, November 24th AND Sunday\, December 15th\n12-3 pm (while supplies last) \nSt. James’ Episcopal Chapel\n10 East Market Street\nHyde Park\, New York \nNEEDED: \nGently used\, warm winter clothing\, all sizes for Women\, Men and Children \nCONTACT: \nLillian\n845-282-6328\nfinallygigi22@gmail.com
URL:https://stjameshydepark.org/event/outreach-clothing-drive-chapel/2024-11-17/
LOCATION:St. James’ Chapel\, 10 East Market Street\, Hyde Park\, NY\, 12567\, United States
CATEGORIES:Outreach
END:VEVENT
BEGIN:VEVENT
DTSTART;TZID=America/New_York:20241012T090000
DTEND;TZID=America/New_York:20241012T140000
DTSTAMP:20260424T120102
CREATED:20240314T181712Z
LAST-MODIFIED:20240503T013146Z
UID:10003600-1728723600-1728741600@stjameshydepark.org
SUMMARY:Pop-up Craft Fair at the Yellow Chapel
DESCRIPTION:Pop-up craft fair at our Chapel on East Market Street—food\, local crafts and gifts\, live music and more! All table fee proceeds benefit the Hyde Park Community Garden\, a ministry of St. James’ Church. Call Deb Belding at 845-240-3194 for more info or to reserve a table. \nSaturdays May 11th\, June 15th\, July 13th\, September 14th\, and October 12th\, 9 am to 2 pm.
URL:https://stjameshydepark.org/event/chapel-popups-2024/2024-10-12/
LOCATION:St. James’ Chapel\, 10 East Market Street\, Hyde Park\, NY\, 12567\, United States
CATEGORIES:Community Garden
ATTACH;FMTTYPE=image/jpeg:https://stjameshydepark.org/wp-content/uploads/2024/03/Yellow-Chapel-pop-ups.jpeg
END:VEVENT
BEGIN:VEVENT
DTSTART;TZID=America/New_York:20240914T090000
DTEND;TZID=America/New_York:20240914T140000
DTSTAMP:20260424T120102
CREATED:20240314T181712Z
LAST-MODIFIED:20240503T013146Z
UID:10003599-1726304400-1726322400@stjameshydepark.org
SUMMARY:Pop-up Craft Fair at the Yellow Chapel
DESCRIPTION:Pop-up craft fair at our Chapel on East Market Street—food\, local crafts and gifts\, live music and more! All table fee proceeds benefit the Hyde Park Community Garden\, a ministry of St. James’ Church. Call Deb Belding at 845-240-3194 for more info or to reserve a table. \nSaturdays May 11th\, June 15th\, July 13th\, September 14th\, and October 12th\, 9 am to 2 pm.
URL:https://stjameshydepark.org/event/chapel-popups-2024/2024-09-14/
LOCATION:St. James’ Chapel\, 10 East Market Street\, Hyde Park\, NY\, 12567\, United States
CATEGORIES:Community Garden
ATTACH;FMTTYPE=image/jpeg:https://stjameshydepark.org/wp-content/uploads/2024/03/Yellow-Chapel-pop-ups.jpeg
END:VEVENT
BEGIN:VEVENT
DTSTART;VALUE=DATE:20240720
DTEND;VALUE=DATE:20240721
DTSTAMP:20260424T120102
CREATED:20240607T153646Z
LAST-MODIFIED:20240607T153646Z
UID:10003794-1721433600-1721519999@stjameshydepark.org
SUMMARY:Christ Church Vestry Retreat (Chapel)
DESCRIPTION:
URL:https://stjameshydepark.org/event/christ-church-vestry-retreat-chapel/
LOCATION:St. James’ Chapel\, 10 East Market Street\, Hyde Park\, NY\, 12567\, United States
END:VEVENT
BEGIN:VEVENT
DTSTART;TZID=America/New_York:20240713T090000
DTEND;TZID=America/New_York:20240713T140000
DTSTAMP:20260424T120102
CREATED:20240712T201852Z
LAST-MODIFIED:20240712T201853Z
UID:10003598-1720861200-1720879200@stjameshydepark.org
SUMMARY:Canceled: Pop-up Craft Fair at the Yellow Chapel
DESCRIPTION:The July Pop-up is CANCELED due to weather conditions. \nPop-up craft fair at our Chapel on East Market Street—food\, local crafts and gifts\, live music and more! All table fee proceeds benefit the Hyde Park Community Garden\, a ministry of St. James’ Church. Call Deb Belding at 845-240-3194 for more info or to reserve a table. \nSaturdays May 11th\, June 15th\, July 13th\, September 14th\, and October 12th\, 9 am to 2 pm.
URL:https://stjameshydepark.org/event/chapel-popups-2024-2/
LOCATION:St. James’ Chapel\, 10 East Market Street\, Hyde Park\, NY\, 12567\, United States
CATEGORIES:Community Garden
ATTACH;FMTTYPE=image/jpeg:https://stjameshydepark.org/wp-content/uploads/2024/03/Yellow-Chapel-pop-ups.jpeg
END:VEVENT
BEGIN:VEVENT
DTSTART;TZID=America/New_York:20240618T183000
DTEND;TZID=America/New_York:20240618T203000
DTSTAMP:20260424T120102
CREATED:20240609T013257Z
LAST-MODIFIED:20240609T013328Z
UID:10003383-1718735400-1718742600@stjameshydepark.org
SUMMARY:Hyde Park Historical Society Presents: Father Michael—the Meeting of FDR and Eugenio Pacelli (later Pope Pius XII) in Hyde Park\, 1936 (Chapel)
DESCRIPTION:Details at hydeparkhistoricalsociety1821.org
URL:https://stjameshydepark.org/event/hphs-father-michael/
LOCATION:St. James’ Chapel\, 10 East Market Street\, Hyde Park\, NY\, 12567\, United States
CATEGORIES:General
END:VEVENT
BEGIN:VEVENT
DTSTART;TZID=America/New_York:20240615T090000
DTEND;TZID=America/New_York:20240615T140000
DTSTAMP:20260424T120102
CREATED:20240314T181712Z
LAST-MODIFIED:20240503T013146Z
UID:10003597-1718442000-1718460000@stjameshydepark.org
SUMMARY:Pop-up Craft Fair at the Yellow Chapel
DESCRIPTION:Pop-up craft fair at our Chapel on East Market Street—food\, local crafts and gifts\, live music and more! All table fee proceeds benefit the Hyde Park Community Garden\, a ministry of St. James’ Church. Call Deb Belding at 845-240-3194 for more info or to reserve a table. \nSaturdays May 11th\, June 15th\, July 13th\, September 14th\, and October 12th\, 9 am to 2 pm.
URL:https://stjameshydepark.org/event/chapel-popups-2024/2024-06-15/
LOCATION:St. James’ Chapel\, 10 East Market Street\, Hyde Park\, NY\, 12567\, United States
CATEGORIES:Community Garden
ATTACH;FMTTYPE=image/jpeg:https://stjameshydepark.org/wp-content/uploads/2024/03/Yellow-Chapel-pop-ups.jpeg
END:VEVENT
BEGIN:VEVENT
DTSTART;TZID=America/New_York:20240608T170000
DTEND;TZID=America/New_York:20240608T210000
DTSTAMP:20260424T120102
CREATED:20240308T162617Z
LAST-MODIFIED:20240308T162617Z
UID:10003592-1717866000-1717880400@stjameshydepark.org
SUMMARY:Birthday Party (Chapel)
DESCRIPTION:
URL:https://stjameshydepark.org/event/birthday-party-chapel/
LOCATION:St. James’ Chapel\, 10 East Market Street\, Hyde Park\, NY\, 12567\, United States
END:VEVENT
BEGIN:VEVENT
DTSTART;TZID=America/New_York:20240511T090000
DTEND;TZID=America/New_York:20240511T140000
DTSTAMP:20260424T120102
CREATED:20240314T181712Z
LAST-MODIFIED:20240503T013146Z
UID:10003596-1715418000-1715436000@stjameshydepark.org
SUMMARY:Pop-up Craft Fair at the Yellow Chapel
DESCRIPTION:Pop-up craft fair at our Chapel on East Market Street—food\, local crafts and gifts\, live music and more! All table fee proceeds benefit the Hyde Park Community Garden\, a ministry of St. James’ Church. Call Deb Belding at 845-240-3194 for more info or to reserve a table. \nSaturdays May 11th\, June 15th\, July 13th\, September 14th\, and October 12th\, 9 am to 2 pm.
URL:https://stjameshydepark.org/event/chapel-popups-2024/2024-05-11/
LOCATION:St. James’ Chapel\, 10 East Market Street\, Hyde Park\, NY\, 12567\, United States
CATEGORIES:Community Garden
ATTACH;FMTTYPE=image/jpeg:https://stjameshydepark.org/wp-content/uploads/2024/03/Yellow-Chapel-pop-ups.jpeg
END:VEVENT
BEGIN:VEVENT
DTSTART;TZID=America/New_York:20240417T183000
DTEND;TZID=America/New_York:20240417T203000
DTSTAMP:20260424T120102
CREATED:20240415T114537Z
LAST-MODIFIED:20240415T114607Z
UID:10003356-1713378600-1713385800@stjameshydepark.org
SUMMARY:Outreach Meeting (Chapel)
DESCRIPTION:
URL:https://stjameshydepark.org/event/outreach-meeting/
LOCATION:St. James’ Chapel\, 10 East Market Street\, Hyde Park\, NY\, 12567\, United States
CATEGORIES:Outreach
END:VEVENT
BEGIN:VEVENT
DTSTART;TZID=America/New_York:20240330T193000
DTEND;TZID=America/New_York:20240330T210000
DTSTAMP:20260424T120102
CREATED:20240321T191001Z
LAST-MODIFIED:20240321T191001Z
UID:10003629-1711827000-1711832400@stjameshydepark.org
SUMMARY:The Great Vigil of Easter
DESCRIPTION:The Great Vigil of Easter\n(Saturday evening\, March 30th)\n7:30 pm The Great Vigil of Easter at our 10 East Market Street Chapel  \n\nBeginning at sundown\, the Great Vigil of Easter is a wild ride through the stories of God’s saving acts in human history—culminating with the Resurrection and the first Eucharist of Easter.\nBring bells to ring!\nA celebratory champagne\, sparkling juice\, and dessert reception follows!\n\n\nThis service brings together the congregations of St. James’ and our neighbor church\, St. Margaret’s in Staatsburg. St. James’ hosts at our historic “Yellow Chapel” at 10 East Market Street\, Hyde Park. 
URL:https://stjameshydepark.org/event/the-great-vigil-of-easter/
LOCATION:St. James’ Chapel\, 10 East Market Street\, Hyde Park\, NY\, 12567\, United States
CATEGORIES:Holy Week and Easter,Worship
END:VEVENT
BEGIN:VEVENT
DTSTART;TZID=America/New_York:20240319T190000
DTEND;TZID=America/New_York:20240319T200000
DTSTAMP:20260424T120102
CREATED:20240315T143824Z
LAST-MODIFIED:20240315T143825Z
UID:10003382-1710874800-1710878400@stjameshydepark.org
SUMMARY:Hyde Park Historical Society Presents: Ralph Osterhoudt shares stories of his life (Chapel)
DESCRIPTION:Tuesday\, March 19th at 7 pm\, join the Hyde Park Historical Society in our historic Chapel for a special presentation from Hyde Park resident Ralph Osterhoudt. \nLearn a bit about \n\nRalph’s childhood in a big family on a small farm on South Cross Road\nWorking on the Hughes Farm (where the FDR High School is now)\nAttending Staatsburg School (now owned by the Taconic Park Commission)\nRiding his bicycle to sit at the WW II airplane observation post (on the hill not too far from the Hilltop Deli)\nWW II combat experiences\nAttending Electrician School at Biaritz\, France after the war
URL:https://stjameshydepark.org/event/hphs-osterhoudt/
LOCATION:St. James’ Chapel\, 10 East Market Street\, Hyde Park\, NY\, 12567\, United States
CATEGORIES:Fun,Outreach
END:VEVENT
BEGIN:VEVENT
DTSTART;TZID=America/New_York:20240221T190000
DTEND;TZID=America/New_York:20240221T210000
DTSTAMP:20260424T120102
CREATED:20240202T152047Z
LAST-MODIFIED:20240202T152047Z
UID:10003398-1708542000-1708549200@stjameshydepark.org
SUMMARY:H.P. Community Garden Kick-Off Mtg. (Chapel)
DESCRIPTION:
URL:https://stjameshydepark.org/event/h-p-community-garden-kick-off-mtg-chapel/
LOCATION:St. James’ Chapel\, 10 East Market Street\, Hyde Park\, NY\, 12567\, United States
CATEGORIES:Community Garden
END:VEVENT
BEGIN:VEVENT
DTSTART;TZID=America/New_York:20240211T183000
DTEND;TZID=America/New_York:20240211T210000
DTSTAMP:20260424T120102
CREATED:20240131T154552Z
LAST-MODIFIED:20241001T152150Z
UID:10003391-1707676200-1707685200@stjameshydepark.org
SUMMARY:AA Meeting (Chapel)
DESCRIPTION:
URL:https://stjameshydepark.org/event/aa-meeting-chapel-2/2024-02-11/
LOCATION:St. James’ Chapel\, 10 East Market Street\, Hyde Park\, NY\, 12567\, United States
CATEGORIES:General
END:VEVENT
BEGIN:VEVENT
DTSTART;TZID=America/New_York:20240203T130000
DTEND;TZID=America/New_York:20240203T170000
DTSTAMP:20260424T120102
CREATED:20240126T155048Z
LAST-MODIFIED:20240126T155048Z
UID:10003385-1706965200-1706979600@stjameshydepark.org
SUMMARY:Opening Reception for New Guinea Exhibit (Chapel)
DESCRIPTION:
URL:https://stjameshydepark.org/event/opening-reception-for-new-guinea-exhibit-chapel/
LOCATION:St. James’ Chapel\, 10 East Market Street\, Hyde Park\, NY\, 12567\, United States
CATEGORIES:General
END:VEVENT
BEGIN:VEVENT
DTSTART;TZID=America/New_York:20231225T100000
DTEND;TZID=America/New_York:20231225T110000
DTSTAMP:20260424T120102
CREATED:20231122T132530Z
LAST-MODIFIED:20231224T111201Z
UID:10002721-1703498400-1703502000@stjameshydepark.org
SUMMARY:Christmas Day Service
DESCRIPTION:Merry Christmas! We look forward to celebrating with you!\nOur Christmas Eve services are at 6 and 10 pm. Both services include festive carols\, Holy Eucharist\, and a candlelight singing of “Silent Night.” Our 6 pm service features the blessing of the creche (Nativity scene) and our 10 pm service begins with a special candle lighting ceremony\, moving from darkness to light. Both Christmas Eve services will be livestreamed on YouTube\, and you can download the 6 pm bulletin and the 10 pm bulletin to follow along. \nOur Christmas Day service at 10 am is a quiet\, spoken service. The Christmas Day service is not livestreamed.
URL:https://stjameshydepark.org/event/2023-christmas-day-10am/
LOCATION:St. James’ Chapel\, 10 East Market Street\, Hyde Park\, NY\, 12567\, United States
CATEGORIES:Christmas
ATTACH;FMTTYPE=image/png:https://stjameshydepark.org/wp-content/uploads/2023/12/Christmas-at-St.-James-2023.png
END:VEVENT
BEGIN:VEVENT
DTSTART;TZID=America/New_York:20231214T190000
DTEND;TZID=America/New_York:20231214T200000
DTSTAMP:20260424T120102
CREATED:20231205T140822Z
LAST-MODIFIED:20231205T140822Z
UID:10002724-1702580400-1702584000@stjameshydepark.org
SUMMARY:Garden Wrapup (Chapel)
DESCRIPTION:
URL:https://stjameshydepark.org/event/garden-wrapup-chapel/
LOCATION:St. James’ Chapel\, 10 East Market Street\, Hyde Park\, NY\, 12567\, United States
CATEGORIES:Community Garden
END:VEVENT
BEGIN:VEVENT
DTSTART;TZID=America/New_York:20231210T183000
DTEND;TZID=America/New_York:20231210T210000
DTSTAMP:20260424T120102
CREATED:20231108T151540Z
LAST-MODIFIED:20231108T151540Z
UID:10002711-1702233000-1702242000@stjameshydepark.org
SUMMARY:AA Meeting (Chapel)
DESCRIPTION:
URL:https://stjameshydepark.org/event/aa-meeting-chapel/
LOCATION:St. James’ Chapel\, 10 East Market Street\, Hyde Park\, NY\, 12567\, United States
CATEGORIES:General
END:VEVENT
BEGIN:VEVENT
DTSTART;TZID=America/New_York:20231123T100000
DTEND;TZID=America/New_York:20231123T110000
DTSTAMP:20260424T120102
CREATED:20231108T141741Z
LAST-MODIFIED:20231109T210603Z
UID:10002708-1700733600-1700737200@stjameshydepark.org
SUMMARY:Thanksgiving Day Eucharist (Chapel)
DESCRIPTION:Give thanks! All are welcome to join in a quiet service of gratitude and Holy Communion on Thanksgiving Day at 10 am in our East Market Street Chapel.
URL:https://stjameshydepark.org/event/thanksgiving/
LOCATION:St. James’ Chapel\, 10 East Market Street\, Hyde Park\, NY\, 12567\, United States
CATEGORIES:Worship
ATTACH;FMTTYPE=image/jpeg:https://stjameshydepark.org/wp-content/uploads/2022/11/Thanksgiving-Day-Holy-Eucharist-1000-a.m.-in-the-chapel-10-E-Market-St-Hyde-Park.jpg
END:VEVENT
BEGIN:VEVENT
DTSTART;TZID=America/New_York:20231014T080000
DTEND;TZID=America/New_York:20231014T130000
DTSTAMP:20260424T120102
CREATED:20231011T140423Z
LAST-MODIFIED:20231011T140423Z
UID:10002675-1697270400-1697288400@stjameshydepark.org
SUMMARY:Health Screenings and Counselings (Chapel)
DESCRIPTION:
URL:https://stjameshydepark.org/event/health-screenings-and-counselings-chapel/
LOCATION:St. James’ Chapel\, 10 East Market Street\, Hyde Park\, NY\, 12567\, United States
END:VEVENT
BEGIN:VEVENT
DTSTART;TZID=America/New_York:20231007T090000
DTEND;TZID=America/New_York:20231007T150000
DTSTAMP:20260424T120102
CREATED:20230526T131256Z
LAST-MODIFIED:20230926T155711Z
UID:10001917-1696669200-1696690800@stjameshydepark.org
SUMMARY:Yellow Chapel Emporium (Chapel Parking Lot)
DESCRIPTION:
URL:https://stjameshydepark.org/event/emporium-chapel-parking-lot-2/2023-10-07/
LOCATION:St. James’ Chapel\, 10 East Market Street\, Hyde Park\, NY\, 12567\, United States
CATEGORIES:Community Garden
END:VEVENT
BEGIN:VEVENT
DTSTART;TZID=America/New_York:20230909T090000
DTEND;TZID=America/New_York:20230909T150000
DTSTAMP:20260424T120102
CREATED:20230526T131256Z
LAST-MODIFIED:20230926T155711Z
UID:10001916-1694250000-1694271600@stjameshydepark.org
SUMMARY:Yellow Chapel Emporium (Chapel Parking Lot)
DESCRIPTION:
URL:https://stjameshydepark.org/event/emporium-chapel-parking-lot-2/2023-09-09/
LOCATION:St. James’ Chapel\, 10 East Market Street\, Hyde Park\, NY\, 12567\, United States
CATEGORIES:Community Garden
END:VEVENT
BEGIN:VEVENT
DTSTART;TZID=America/New_York:20230902T090000
DTEND;TZID=America/New_York:20230902T150000
DTSTAMP:20260424T120102
CREATED:20230808T132409Z
LAST-MODIFIED:20230808T132409Z
UID:10002222-1693645200-1693666800@stjameshydepark.org
SUMMARY:Roots & Branches Annual Advisory Board Meeting (Chapel)
DESCRIPTION:
URL:https://stjameshydepark.org/event/roots-branches-annual-advisory-board-meeting-chapel/
LOCATION:St. James’ Chapel\, 10 East Market Street\, Hyde Park\, NY\, 12567\, United States
CATEGORIES:One Time Event
END:VEVENT
END:VCALENDAR