BEGIN:VCALENDAR
VERSION:2.0
PRODID:-//St. James&#039; Episcopal Church - ECPv6.15.20//NONSGML v1.0//EN
CALSCALE:GREGORIAN
METHOD:PUBLISH
X-WR-CALNAME:St. James&#039; Episcopal Church
X-ORIGINAL-URL:https://stjameshydepark.org
X-WR-CALDESC:Events for St. James&#039; Episcopal Church
REFRESH-INTERVAL;VALUE=DURATION:PT1H
X-Robots-Tag:noindex
X-PUBLISHED-TTL:PT1H
BEGIN:VTIMEZONE
TZID:America/New_York
BEGIN:DAYLIGHT
TZOFFSETFROM:-0500
TZOFFSETTO:-0400
TZNAME:EDT
DTSTART:20240310T070000
END:DAYLIGHT
BEGIN:STANDARD
TZOFFSETFROM:-0400
TZOFFSETTO:-0500
TZNAME:EST
DTSTART:20241103T060000
END:STANDARD
BEGIN:DAYLIGHT
TZOFFSETFROM:-0500
TZOFFSETTO:-0400
TZNAME:EDT
DTSTART:20250309T070000
END:DAYLIGHT
BEGIN:STANDARD
TZOFFSETFROM:-0400
TZOFFSETTO:-0500
TZNAME:EST
DTSTART:20251102T060000
END:STANDARD
BEGIN:DAYLIGHT
TZOFFSETFROM:-0500
TZOFFSETTO:-0400
TZNAME:EDT
DTSTART:20260308T070000
END:DAYLIGHT
BEGIN:STANDARD
TZOFFSETFROM:-0400
TZOFFSETTO:-0500
TZNAME:EST
DTSTART:20261101T060000
END:STANDARD
BEGIN:DAYLIGHT
TZOFFSETFROM:-0500
TZOFFSETTO:-0400
TZNAME:EDT
DTSTART:20270314T070000
END:DAYLIGHT
BEGIN:STANDARD
TZOFFSETFROM:-0400
TZOFFSETTO:-0500
TZNAME:EST
DTSTART:20271107T060000
END:STANDARD
END:VTIMEZONE
BEGIN:VEVENT
DTSTART;VALUE=DATE:20260114
DTEND;VALUE=DATE:20260115
DTSTAMP:20260423T200400
CREATED:20251104T151721Z
LAST-MODIFIED:20251104T151721Z
UID:10007116-1768348800-1768435199@stjameshydepark.org
SUMMARY:Fresh Manna Church Evening Prayer and Bible Study (Chapel and Reading Room)
DESCRIPTION:
URL:https://stjameshydepark.org/event/fresh-manna-church-evening-prayer-and-bible-study-chapel-and-reading-room/2026-01-14/
LOCATION:St. James’ Chapel\, 10 East Market Street\, Hyde Park\, NY\, 12567\, United States
END:VEVENT
BEGIN:VEVENT
DTSTART;TZID=America/New_York:20260111T100000
DTEND;TZID=America/New_York:20260111T140000
DTSTAMP:20260423T200400
CREATED:20251104T151409Z
LAST-MODIFIED:20251209T150151Z
UID:10007090-1768125600-1768140000@stjameshydepark.org
SUMMARY:Fresh Manna Church (Chapel and Reading Room)
DESCRIPTION:
URL:https://stjameshydepark.org/event/fresh-manna-church-chapel-and-reading-room/2026-01-11/
LOCATION:St. James’ Chapel\, 10 East Market Street\, Hyde Park\, NY\, 12567\, United States
END:VEVENT
BEGIN:VEVENT
DTSTART;VALUE=DATE:20260107
DTEND;VALUE=DATE:20260108
DTSTAMP:20260423T200400
CREATED:20251104T151721Z
LAST-MODIFIED:20251104T151721Z
UID:10007115-1767744000-1767830399@stjameshydepark.org
SUMMARY:Fresh Manna Church Evening Prayer and Bible Study (Chapel and Reading Room)
DESCRIPTION:
URL:https://stjameshydepark.org/event/fresh-manna-church-evening-prayer-and-bible-study-chapel-and-reading-room/2026-01-07/
LOCATION:St. James’ Chapel\, 10 East Market Street\, Hyde Park\, NY\, 12567\, United States
END:VEVENT
BEGIN:VEVENT
DTSTART;TZID=America/New_York:20260104T100000
DTEND;TZID=America/New_York:20260104T140000
DTSTAMP:20260423T200400
CREATED:20251104T151409Z
LAST-MODIFIED:20251209T150151Z
UID:10007089-1767520800-1767535200@stjameshydepark.org
SUMMARY:Fresh Manna Church (Chapel and Reading Room)
DESCRIPTION:
URL:https://stjameshydepark.org/event/fresh-manna-church-chapel-and-reading-room/2026-01-04/
LOCATION:St. James’ Chapel\, 10 East Market Street\, Hyde Park\, NY\, 12567\, United States
END:VEVENT
BEGIN:VEVENT
DTSTART;VALUE=DATE:20251231
DTEND;VALUE=DATE:20260101
DTSTAMP:20260423T200400
CREATED:20251104T151721Z
LAST-MODIFIED:20251104T151721Z
UID:10007114-1767139200-1767225599@stjameshydepark.org
SUMMARY:Fresh Manna Church Evening Prayer and Bible Study (Chapel and Reading Room)
DESCRIPTION:
URL:https://stjameshydepark.org/event/fresh-manna-church-evening-prayer-and-bible-study-chapel-and-reading-room/2025-12-31/
LOCATION:St. James’ Chapel\, 10 East Market Street\, Hyde Park\, NY\, 12567\, United States
END:VEVENT
BEGIN:VEVENT
DTSTART;TZID=America/New_York:20251228T100000
DTEND;TZID=America/New_York:20251228T140000
DTSTAMP:20260423T200400
CREATED:20251104T151409Z
LAST-MODIFIED:20251209T150151Z
UID:10007088-1766916000-1766930400@stjameshydepark.org
SUMMARY:Fresh Manna Church (Chapel and Reading Room)
DESCRIPTION:
URL:https://stjameshydepark.org/event/fresh-manna-church-chapel-and-reading-room/2025-12-28/
LOCATION:St. James’ Chapel\, 10 East Market Street\, Hyde Park\, NY\, 12567\, United States
END:VEVENT
BEGIN:VEVENT
DTSTART;VALUE=DATE:20251224
DTEND;VALUE=DATE:20251225
DTSTAMP:20260423T200400
CREATED:20251104T151721Z
LAST-MODIFIED:20251104T151721Z
UID:10007113-1766534400-1766620799@stjameshydepark.org
SUMMARY:Fresh Manna Church Evening Prayer and Bible Study (Chapel and Reading Room)
DESCRIPTION:
URL:https://stjameshydepark.org/event/fresh-manna-church-evening-prayer-and-bible-study-chapel-and-reading-room/2025-12-24/
LOCATION:St. James’ Chapel\, 10 East Market Street\, Hyde Park\, NY\, 12567\, United States
END:VEVENT
BEGIN:VEVENT
DTSTART;TZID=America/New_York:20251221T100000
DTEND;TZID=America/New_York:20251221T140000
DTSTAMP:20260423T200400
CREATED:20251104T151409Z
LAST-MODIFIED:20251209T150151Z
UID:10007087-1766311200-1766325600@stjameshydepark.org
SUMMARY:Fresh Manna Church (Chapel and Reading Room)
DESCRIPTION:
URL:https://stjameshydepark.org/event/fresh-manna-church-chapel-and-reading-room/2025-12-21/
LOCATION:St. James’ Chapel\, 10 East Market Street\, Hyde Park\, NY\, 12567\, United States
END:VEVENT
BEGIN:VEVENT
DTSTART;VALUE=DATE:20251217
DTEND;VALUE=DATE:20251218
DTSTAMP:20260423T200400
CREATED:20251104T151721Z
LAST-MODIFIED:20251104T151721Z
UID:10007112-1765929600-1766015999@stjameshydepark.org
SUMMARY:Fresh Manna Church Evening Prayer and Bible Study (Chapel and Reading Room)
DESCRIPTION:
URL:https://stjameshydepark.org/event/fresh-manna-church-evening-prayer-and-bible-study-chapel-and-reading-room/2025-12-17/
LOCATION:St. James’ Chapel\, 10 East Market Street\, Hyde Park\, NY\, 12567\, United States
END:VEVENT
BEGIN:VEVENT
DTSTART;VALUE=DATE:20251210
DTEND;VALUE=DATE:20251211
DTSTAMP:20260423T200400
CREATED:20251104T151721Z
LAST-MODIFIED:20251104T151721Z
UID:10007111-1765324800-1765411199@stjameshydepark.org
SUMMARY:Fresh Manna Church Evening Prayer and Bible Study (Chapel and Reading Room)
DESCRIPTION:
URL:https://stjameshydepark.org/event/fresh-manna-church-evening-prayer-and-bible-study-chapel-and-reading-room/2025-12-10/
LOCATION:St. James’ Chapel\, 10 East Market Street\, Hyde Park\, NY\, 12567\, United States
END:VEVENT
BEGIN:VEVENT
DTSTART;TZID=America/New_York:20251207T100000
DTEND;TZID=America/New_York:20251207T140000
DTSTAMP:20260423T200400
CREATED:20251104T151409Z
LAST-MODIFIED:20251209T150151Z
UID:10007085-1765101600-1765116000@stjameshydepark.org
SUMMARY:Fresh Manna Church (Chapel and Reading Room)
DESCRIPTION:
URL:https://stjameshydepark.org/event/fresh-manna-church-chapel-and-reading-room/2025-12-07/
LOCATION:St. James’ Chapel\, 10 East Market Street\, Hyde Park\, NY\, 12567\, United States
END:VEVENT
BEGIN:VEVENT
DTSTART;VALUE=DATE:20251203
DTEND;VALUE=DATE:20251204
DTSTAMP:20260423T200400
CREATED:20251104T151721Z
LAST-MODIFIED:20251104T151721Z
UID:10007110-1764720000-1764806399@stjameshydepark.org
SUMMARY:Fresh Manna Church Evening Prayer and Bible Study (Chapel and Reading Room)
DESCRIPTION:
URL:https://stjameshydepark.org/event/fresh-manna-church-evening-prayer-and-bible-study-chapel-and-reading-room/2025-12-03/
LOCATION:St. James’ Chapel\, 10 East Market Street\, Hyde Park\, NY\, 12567\, United States
END:VEVENT
BEGIN:VEVENT
DTSTART;TZID=America/New_York:20251130T100000
DTEND;TZID=America/New_York:20251130T140000
DTSTAMP:20260423T200400
CREATED:20251104T151409Z
LAST-MODIFIED:20251209T150151Z
UID:10007084-1764496800-1764511200@stjameshydepark.org
SUMMARY:Fresh Manna Church (Chapel and Reading Room)
DESCRIPTION:
URL:https://stjameshydepark.org/event/fresh-manna-church-chapel-and-reading-room/2025-11-30/
LOCATION:St. James’ Chapel\, 10 East Market Street\, Hyde Park\, NY\, 12567\, United States
END:VEVENT
BEGIN:VEVENT
DTSTART;VALUE=DATE:20251126
DTEND;VALUE=DATE:20251127
DTSTAMP:20260423T200400
CREATED:20251104T151721Z
LAST-MODIFIED:20251104T151721Z
UID:10007109-1764115200-1764201599@stjameshydepark.org
SUMMARY:Fresh Manna Church Evening Prayer and Bible Study (Chapel and Reading Room)
DESCRIPTION:
URL:https://stjameshydepark.org/event/fresh-manna-church-evening-prayer-and-bible-study-chapel-and-reading-room/2025-11-26/
LOCATION:St. James’ Chapel\, 10 East Market Street\, Hyde Park\, NY\, 12567\, United States
END:VEVENT
BEGIN:VEVENT
DTSTART;TZID=America/New_York:20251123T100000
DTEND;TZID=America/New_York:20251123T140000
DTSTAMP:20260423T200400
CREATED:20251104T151409Z
LAST-MODIFIED:20251209T150151Z
UID:10007083-1763892000-1763906400@stjameshydepark.org
SUMMARY:Fresh Manna Church (Chapel and Reading Room)
DESCRIPTION:
URL:https://stjameshydepark.org/event/fresh-manna-church-chapel-and-reading-room/2025-11-23/
LOCATION:St. James’ Chapel\, 10 East Market Street\, Hyde Park\, NY\, 12567\, United States
END:VEVENT
BEGIN:VEVENT
DTSTART;VALUE=DATE:20251119
DTEND;VALUE=DATE:20251120
DTSTAMP:20260423T200400
CREATED:20251104T151721Z
LAST-MODIFIED:20251104T151721Z
UID:10007108-1763510400-1763596799@stjameshydepark.org
SUMMARY:Fresh Manna Church Evening Prayer and Bible Study (Chapel and Reading Room)
DESCRIPTION:
URL:https://stjameshydepark.org/event/fresh-manna-church-evening-prayer-and-bible-study-chapel-and-reading-room/2025-11-19/
LOCATION:St. James’ Chapel\, 10 East Market Street\, Hyde Park\, NY\, 12567\, United States
END:VEVENT
BEGIN:VEVENT
DTSTART;TZID=America/New_York:20251116T100000
DTEND;TZID=America/New_York:20251116T140000
DTSTAMP:20260423T200400
CREATED:20251104T151409Z
LAST-MODIFIED:20251209T150151Z
UID:10007082-1763287200-1763301600@stjameshydepark.org
SUMMARY:Fresh Manna Church (Chapel and Reading Room)
DESCRIPTION:
URL:https://stjameshydepark.org/event/fresh-manna-church-chapel-and-reading-room/2025-11-16/
LOCATION:St. James’ Chapel\, 10 East Market Street\, Hyde Park\, NY\, 12567\, United States
END:VEVENT
BEGIN:VEVENT
DTSTART;VALUE=DATE:20251112
DTEND;VALUE=DATE:20251113
DTSTAMP:20260423T200400
CREATED:20251104T151721Z
LAST-MODIFIED:20251104T151721Z
UID:10007107-1762905600-1762991999@stjameshydepark.org
SUMMARY:Fresh Manna Church Evening Prayer and Bible Study (Chapel and Reading Room)
DESCRIPTION:
URL:https://stjameshydepark.org/event/fresh-manna-church-evening-prayer-and-bible-study-chapel-and-reading-room/2025-11-12/
LOCATION:St. James’ Chapel\, 10 East Market Street\, Hyde Park\, NY\, 12567\, United States
END:VEVENT
BEGIN:VEVENT
DTSTART;TZID=America/New_York:20251109T100000
DTEND;TZID=America/New_York:20251109T140000
DTSTAMP:20260423T200400
CREATED:20251104T151409Z
LAST-MODIFIED:20251209T150151Z
UID:10007081-1762682400-1762696800@stjameshydepark.org
SUMMARY:Fresh Manna Church (Chapel and Reading Room)
DESCRIPTION:
URL:https://stjameshydepark.org/event/fresh-manna-church-chapel-and-reading-room/2025-11-09/
LOCATION:St. James’ Chapel\, 10 East Market Street\, Hyde Park\, NY\, 12567\, United States
END:VEVENT
BEGIN:VEVENT
DTSTART;VALUE=DATE:20251105
DTEND;VALUE=DATE:20251106
DTSTAMP:20260423T200400
CREATED:20251104T151721Z
LAST-MODIFIED:20251104T151721Z
UID:10007106-1762300800-1762387199@stjameshydepark.org
SUMMARY:Fresh Manna Church Evening Prayer and Bible Study (Chapel and Reading Room)
DESCRIPTION:
URL:https://stjameshydepark.org/event/fresh-manna-church-evening-prayer-and-bible-study-chapel-and-reading-room/2025-11-05/
LOCATION:St. James’ Chapel\, 10 East Market Street\, Hyde Park\, NY\, 12567\, United States
END:VEVENT
BEGIN:VEVENT
DTSTART;TZID=America/New_York:20251102T100000
DTEND;TZID=America/New_York:20251102T140000
DTSTAMP:20260423T200400
CREATED:20251104T151409Z
LAST-MODIFIED:20251209T150151Z
UID:10007080-1762077600-1762092000@stjameshydepark.org
SUMMARY:Fresh Manna Church (Chapel and Reading Room)
DESCRIPTION:
URL:https://stjameshydepark.org/event/fresh-manna-church-chapel-and-reading-room/2025-11-02/
LOCATION:St. James’ Chapel\, 10 East Market Street\, Hyde Park\, NY\, 12567\, United States
END:VEVENT
BEGIN:VEVENT
DTSTART;TZID=America/New_York:20251022T180000
DTEND;TZID=America/New_York:20251022T190000
DTSTAMP:20260423T200400
CREATED:20250702T124213Z
LAST-MODIFIED:20251107T181059Z
UID:10006831-1761156000-1761159600@stjameshydepark.org
SUMMARY:Interviews for Legacy Project (Reading Room)
DESCRIPTION:
URL:https://stjameshydepark.org/event/interviews-for-legacy-project-reading-room/2025-10-22/
LOCATION:St. James’ Chapel\, 10 East Market Street\, Hyde Park\, NY\, 12567\, United States
END:VEVENT
BEGIN:VEVENT
DTSTART;TZID=America/New_York:20251018T090000
DTEND;TZID=America/New_York:20251018T110000
DTSTAMP:20260423T200400
CREATED:20250604T181622Z
LAST-MODIFIED:20250604T181817Z
UID:10006586-1760778000-1760785200@stjameshydepark.org
SUMMARY:H.P. Community Garden Pie Pickups (Chapel - Reading Room)
DESCRIPTION:
URL:https://stjameshydepark.org/event/h-p-community-garden-pie-pickups-chapel-reading-room/2025-10-18/
LOCATION:St. James’ Chapel\, 10 East Market Street\, Hyde Park\, NY\, 12567\, United States
END:VEVENT
BEGIN:VEVENT
DTSTART;TZID=America/New_York:20251015T190000
DTEND;TZID=America/New_York:20251015T203000
DTSTAMP:20260423T200400
CREATED:20250926T165041Z
LAST-MODIFIED:20250926T165204Z
UID:10007003-1760554800-1760560200@stjameshydepark.org
SUMMARY:Legacy Project (Reading Room)
DESCRIPTION:
URL:https://stjameshydepark.org/event/legacy-project-reading-room/
LOCATION:St. James’ Chapel\, 10 East Market Street\, Hyde Park\, NY\, 12567\, United States
END:VEVENT
BEGIN:VEVENT
DTSTART;TZID=America/New_York:20251004T090000
DTEND;TZID=America/New_York:20251004T140000
DTSTAMP:20260423T200400
CREATED:20250717T182748Z
LAST-MODIFIED:20251003T161626Z
UID:10006900-1759568400-1759586400@stjameshydepark.org
SUMMARY:Hyde Park Food Pantry Bake Sale and Yard Sale (Chapel)
DESCRIPTION:
URL:https://stjameshydepark.org/event/food-pantry-bake-yard-sale/
LOCATION:St. James’ Chapel\, 10 East Market Street\, Hyde Park\, NY\, 12567\, United States
CATEGORIES:Outreach
END:VEVENT
BEGIN:VEVENT
DTSTART;TZID=America/New_York:20251003T180000
DTEND;TZID=America/New_York:20251003T193000
DTSTAMP:20260423T200400
CREATED:20250730T135636Z
LAST-MODIFIED:20250730T135712Z
UID:10006911-1759514400-1759519800@stjameshydepark.org
SUMMARY:Hyde Park Food Pantry Bake and Yard Sale Setup (Chapel)
DESCRIPTION:
URL:https://stjameshydepark.org/event/hyde-park-food-pantry-bake-and-yard-sale-setup-chapel/
LOCATION:St. James’ Chapel\, 10 East Market Street\, Hyde Park\, NY\, 12567\, United States
END:VEVENT
BEGIN:VEVENT
DTSTART;TZID=America/New_York:20250927T090000
DTEND;TZID=America/New_York:20250927T110000
DTSTAMP:20260423T200400
CREATED:20250604T181622Z
LAST-MODIFIED:20250604T181817Z
UID:10006585-1758963600-1758970800@stjameshydepark.org
SUMMARY:H.P. Community Garden Pie Pickups (Chapel - Reading Room)
DESCRIPTION:
URL:https://stjameshydepark.org/event/h-p-community-garden-pie-pickups-chapel-reading-room/2025-09-27/
LOCATION:St. James’ Chapel\, 10 East Market Street\, Hyde Park\, NY\, 12567\, United States
END:VEVENT
BEGIN:VEVENT
DTSTART;TZID=America/New_York:20250917T190000
DTEND;TZID=America/New_York:20250917T200000
DTSTAMP:20260423T200400
CREATED:20250702T124213Z
LAST-MODIFIED:20251107T181059Z
UID:10006830-1758135600-1758139200@stjameshydepark.org
SUMMARY:Interviews for Legacy Project (Reading Room)
DESCRIPTION:
URL:https://stjameshydepark.org/event/interviews-for-legacy-project-reading-room/2025-09-17/
LOCATION:St. James’ Chapel\, 10 East Market Street\, Hyde Park\, NY\, 12567\, United States
END:VEVENT
BEGIN:VEVENT
DTSTART;TZID=America/New_York:20250823T090000
DTEND;TZID=America/New_York:20250823T110000
DTSTAMP:20260423T200400
CREATED:20250821T140203Z
LAST-MODIFIED:20250821T140204Z
UID:10006584-1755939600-1755946800@stjameshydepark.org
SUMMARY:H.P. Community Garden Pie Pickups (Chapel - Reading Room)
DESCRIPTION:
URL:https://stjameshydepark.org/event/h-p-community-garden-pie-pickups-chapel-reading-room-2/
LOCATION:St. James’ Chapel\, 10 East Market Street\, Hyde Park\, NY\, 12567\, United States
END:VEVENT
BEGIN:VEVENT
DTSTART;TZID=America/New_York:20250816T100000
DTEND;TZID=America/New_York:20250816T120000
DTSTAMP:20260423T200400
CREATED:20250613T152548Z
LAST-MODIFIED:20250613T152614Z
UID:10006664-1755338400-1755345600@stjameshydepark.org
SUMMARY:Garden Committee ~ Gardening at the Chapel
DESCRIPTION:St. James’ Garden Committee members meet at the Chapel for garden maintenance at 10 am on the third Saturday of each month. Breakfast treats are provided. All are welcome!
URL:https://stjameshydepark.org/event/garden-committee-chapel/2025-08-16/
LOCATION:St. James’ Chapel\, 10 East Market Street\, Hyde Park\, NY\, 12567\, United States
CATEGORIES:Fun
END:VEVENT
END:VCALENDAR