BEGIN:VCALENDAR
VERSION:2.0
PRODID:-//St. James&#039; Episcopal Church - ECPv6.15.20//NONSGML v1.0//EN
CALSCALE:GREGORIAN
METHOD:PUBLISH
X-ORIGINAL-URL:https://stjameshydepark.org
X-WR-CALDESC:Events for St. James&#039; Episcopal Church
REFRESH-INTERVAL;VALUE=DURATION:PT1H
X-Robots-Tag:noindex
X-PUBLISHED-TTL:PT1H
BEGIN:VTIMEZONE
TZID:America/New_York
BEGIN:DAYLIGHT
TZOFFSETFROM:-0500
TZOFFSETTO:-0400
TZNAME:EDT
DTSTART:20220313T070000
END:DAYLIGHT
BEGIN:STANDARD
TZOFFSETFROM:-0400
TZOFFSETTO:-0500
TZNAME:EST
DTSTART:20221106T060000
END:STANDARD
BEGIN:DAYLIGHT
TZOFFSETFROM:-0500
TZOFFSETTO:-0400
TZNAME:EDT
DTSTART:20230312T070000
END:DAYLIGHT
BEGIN:STANDARD
TZOFFSETFROM:-0400
TZOFFSETTO:-0500
TZNAME:EST
DTSTART:20231105T060000
END:STANDARD
BEGIN:DAYLIGHT
TZOFFSETFROM:-0500
TZOFFSETTO:-0400
TZNAME:EDT
DTSTART:20240310T070000
END:DAYLIGHT
BEGIN:STANDARD
TZOFFSETFROM:-0400
TZOFFSETTO:-0500
TZNAME:EST
DTSTART:20241103T060000
END:STANDARD
BEGIN:DAYLIGHT
TZOFFSETFROM:-0500
TZOFFSETTO:-0400
TZNAME:EDT
DTSTART:20250309T070000
END:DAYLIGHT
BEGIN:STANDARD
TZOFFSETFROM:-0400
TZOFFSETTO:-0500
TZNAME:EST
DTSTART:20251102T060000
END:STANDARD
BEGIN:DAYLIGHT
TZOFFSETFROM:-0500
TZOFFSETTO:-0400
TZNAME:EDT
DTSTART:20260308T070000
END:DAYLIGHT
BEGIN:STANDARD
TZOFFSETFROM:-0400
TZOFFSETTO:-0500
TZNAME:EST
DTSTART:20261101T060000
END:STANDARD
END:VTIMEZONE
BEGIN:VEVENT
DTSTART;TZID=America/New_York:20250418T101500
DTEND;TZID=America/New_York:20250418T120000
DTSTAMP:20260423T213442
CREATED:20250325T171704Z
LAST-MODIFIED:20250325T171704Z
UID:10006448-1744971300-1744977600@stjameshydepark.org
SUMMARY:Walk of the Cross (starts at Regina Coeli)
DESCRIPTION:
URL:https://stjameshydepark.org/event/walk-of-the-cross-starts-at-regina-coeli/
LOCATION:Regina Coeli Roman Catholic Church\, 2 Harvey Street\, Hyde Park\, NY\, 12538\, United States
END:VEVENT
BEGIN:VEVENT
DTSTART;TZID=America/New_York:20240329T101500
DTEND;TZID=America/New_York:20240329T120000
DTSTAMP:20260423T213442
CREATED:20240321T190641Z
LAST-MODIFIED:20240321T191131Z
UID:10003628-1711707300-1711713600@stjameshydepark.org
SUMMARY:Good Friday Walk of the Cross (Village of Hyde Park)
DESCRIPTION:Good Friday (March 29th)\n10:15 am Hyde Park Walk of the Cross\n\nSolemn procession through the heart of Hyde Park hosted by the Christian communities of the village\nStarts outside Regina Coeli Catholic Church\, 2 Harvey Street
URL:https://stjameshydepark.org/event/cross-walk-2024/
LOCATION:Regina Coeli Roman Catholic Church\, 2 Harvey Street\, Hyde Park\, NY\, 12538\, United States
CATEGORIES:Holy Week and Easter,Worship
END:VEVENT
BEGIN:VEVENT
DTSTART;TZID=America/New_York:20230407T101500
DTEND;TZID=America/New_York:20230407T120000
DTSTAMP:20260423T213442
CREATED:20230119T150712Z
LAST-MODIFIED:20230323T150752Z
UID:10001897-1680862500-1680868800@stjameshydepark.org
SUMMARY:Walk of the Cross
DESCRIPTION:Join us for this communal act of devotion on Good Friday April 7\, 2023 at 10:15 am\, a long-standing tradition in Hyde Park. We meet at Regina Coeli and process through town with the cross\, hearing portions of the Passion story along the way. We conclude at Hyde Park Reformed Dutch Church with prayers and a time for fellowship. All ages are welcome. Organized by the Hyde Park Clergy Association.
URL:https://stjameshydepark.org/event/cross-walk/
LOCATION:Regina Coeli Roman Catholic Church\, 2 Harvey Street\, Hyde Park\, NY\, 12538\, United States
CATEGORIES:Holy Week and Easter
END:VEVENT
END:VCALENDAR