BEGIN:VCALENDAR
VERSION:2.0
PRODID:-//St. James&#039; Episcopal Church - ECPv6.15.20//NONSGML v1.0//EN
CALSCALE:GREGORIAN
METHOD:PUBLISH
X-ORIGINAL-URL:https://stjameshydepark.org
X-WR-CALDESC:Events for St. James&#039; Episcopal Church
REFRESH-INTERVAL;VALUE=DURATION:PT1H
X-Robots-Tag:noindex
X-PUBLISHED-TTL:PT1H
BEGIN:VTIMEZONE
TZID:America/New_York
BEGIN:DAYLIGHT
TZOFFSETFROM:-0500
TZOFFSETTO:-0400
TZNAME:EDT
DTSTART:20220313T070000
END:DAYLIGHT
BEGIN:STANDARD
TZOFFSETFROM:-0400
TZOFFSETTO:-0500
TZNAME:EST
DTSTART:20221106T060000
END:STANDARD
BEGIN:DAYLIGHT
TZOFFSETFROM:-0500
TZOFFSETTO:-0400
TZNAME:EDT
DTSTART:20230312T070000
END:DAYLIGHT
BEGIN:STANDARD
TZOFFSETFROM:-0400
TZOFFSETTO:-0500
TZNAME:EST
DTSTART:20231105T060000
END:STANDARD
BEGIN:DAYLIGHT
TZOFFSETFROM:-0500
TZOFFSETTO:-0400
TZNAME:EDT
DTSTART:20240310T070000
END:DAYLIGHT
BEGIN:STANDARD
TZOFFSETFROM:-0400
TZOFFSETTO:-0500
TZNAME:EST
DTSTART:20241103T060000
END:STANDARD
BEGIN:DAYLIGHT
TZOFFSETFROM:-0500
TZOFFSETTO:-0400
TZNAME:EDT
DTSTART:20250309T070000
END:DAYLIGHT
BEGIN:STANDARD
TZOFFSETFROM:-0400
TZOFFSETTO:-0500
TZNAME:EST
DTSTART:20251102T060000
END:STANDARD
END:VTIMEZONE
BEGIN:VEVENT
DTSTART;VALUE=DATE:20241017
DTEND;VALUE=DATE:20241018
DTSTAMP:20260424T002308
CREATED:20241002T145149Z
LAST-MODIFIED:20241002T145149Z
UID:10004155-1729123200-1729209599@stjameshydepark.org
SUMMARY:Nursery School Field Trip
DESCRIPTION:
URL:https://stjameshydepark.org/event/nursery-school-field-trip/
LOCATION:Kesicke Farms\, 229 Middle Rd\, Rhinebeck\, NY\, 12572\, United States
END:VEVENT
BEGIN:VEVENT
DTSTART;TZID=America/New_York:20231028T100000
DTEND;TZID=America/New_York:20231028T140000
DTSTAMP:20260424T002308
CREATED:20231015T190816Z
LAST-MODIFIED:20231015T190936Z
UID:10002677-1698487200-1698501600@stjameshydepark.org
SUMMARY:Youth Group Fall Festival
DESCRIPTION:Join St. James’ Youth Group for a FALL FEST visit to Kesicke Farm on Saturday\, October 28th at 10:00 am. Activities include corn maze\, pick-your-own pumpkins\, wagon ride\, and more! $15 per person. Please email Melinda at melinda.harris@yahoo.com for details.
URL:https://stjameshydepark.org/event/youth-group-fall-festival/
LOCATION:Kesicke Farms\, 229 Middle Rd\, Rhinebeck\, NY\, 12572\, United States
CATEGORIES:Fun,Kids & Youth
ATTACH;FMTTYPE=image/jpeg:https://stjameshydepark.org/wp-content/uploads/2023/10/Fall-Festival-Youth.jpg
END:VEVENT
END:VCALENDAR