BEGIN:VCALENDAR
VERSION:2.0
PRODID:-//St. James&#039; Episcopal Church - ECPv6.15.20//NONSGML v1.0//EN
CALSCALE:GREGORIAN
METHOD:PUBLISH
X-WR-CALNAME:St. James&#039; Episcopal Church
X-ORIGINAL-URL:https://stjameshydepark.org
X-WR-CALDESC:Events for St. James&#039; Episcopal Church
REFRESH-INTERVAL;VALUE=DURATION:PT1H
X-Robots-Tag:noindex
X-PUBLISHED-TTL:PT1H
BEGIN:VTIMEZONE
TZID:America/New_York
BEGIN:DAYLIGHT
TZOFFSETFROM:-0500
TZOFFSETTO:-0400
TZNAME:EDT
DTSTART:20210314T070000
END:DAYLIGHT
BEGIN:STANDARD
TZOFFSETFROM:-0400
TZOFFSETTO:-0500
TZNAME:EST
DTSTART:20211107T060000
END:STANDARD
BEGIN:DAYLIGHT
TZOFFSETFROM:-0500
TZOFFSETTO:-0400
TZNAME:EDT
DTSTART:20220313T070000
END:DAYLIGHT
BEGIN:STANDARD
TZOFFSETFROM:-0400
TZOFFSETTO:-0500
TZNAME:EST
DTSTART:20221106T060000
END:STANDARD
BEGIN:DAYLIGHT
TZOFFSETFROM:-0500
TZOFFSETTO:-0400
TZNAME:EDT
DTSTART:20230312T070000
END:DAYLIGHT
BEGIN:STANDARD
TZOFFSETFROM:-0400
TZOFFSETTO:-0500
TZNAME:EST
DTSTART:20231105T060000
END:STANDARD
END:VTIMEZONE
BEGIN:VEVENT
DTSTART;VALUE=DATE:20221123
DTEND;VALUE=DATE:20221124
DTSTAMP:20260424T074605
CREATED:20220603T175339Z
LAST-MODIFIED:20220603T175726Z
UID:10001412-1669161600-1669247999@stjameshydepark.org
SUMMARY:Thanksgiving Pie Fundraiser for Hyde Park Community Garden
DESCRIPTION:Choice of apple\, apple crumb\, or pumpkin. $18 each.
URL:https://stjameshydepark.org/event/thanksgiving-pie-fundraiser/2022-11-23/
LOCATION:St. James’ Episcopal Church\, 4526 Albany Post Rd.\, Hyde Park\, NY\, 12538\, United States
CATEGORIES:One Time Event
END:VEVENT
BEGIN:VEVENT
DTSTART;VALUE=DATE:20221122
DTEND;VALUE=DATE:20221123
DTSTAMP:20260424T074605
CREATED:20220603T175339Z
LAST-MODIFIED:20220603T175726Z
UID:10001411-1669075200-1669161599@stjameshydepark.org
SUMMARY:Thanksgiving Pie Fundraiser for Hyde Park Community Garden
DESCRIPTION:Choice of apple\, apple crumb\, or pumpkin. $18 each.
URL:https://stjameshydepark.org/event/thanksgiving-pie-fundraiser/2022-11-22/
LOCATION:St. James’ Episcopal Church\, 4526 Albany Post Rd.\, Hyde Park\, NY\, 12538\, United States
CATEGORIES:One Time Event
END:VEVENT
BEGIN:VEVENT
DTSTART;VALUE=DATE:20221121
DTEND;VALUE=DATE:20221122
DTSTAMP:20260424T074605
CREATED:20220603T175339Z
LAST-MODIFIED:20220603T175726Z
UID:10001410-1668988800-1669075199@stjameshydepark.org
SUMMARY:Thanksgiving Pie Fundraiser for Hyde Park Community Garden
DESCRIPTION:Choice of apple\, apple crumb\, or pumpkin. $18 each.
URL:https://stjameshydepark.org/event/thanksgiving-pie-fundraiser/2022-11-21/
LOCATION:St. James’ Episcopal Church\, 4526 Albany Post Rd.\, Hyde Park\, NY\, 12538\, United States
CATEGORIES:One Time Event
END:VEVENT
BEGIN:VEVENT
DTSTART;TZID=America/New_York:20221119T103000
DTEND;TZID=America/New_York:20221119T120000
DTSTAMP:20260424T074605
CREATED:20221011T153301Z
LAST-MODIFIED:20221011T160255Z
UID:10001667-1668853800-1668859200@stjameshydepark.org
SUMMARY:Hyde Park Kids Garden Club Veggie Printmaking (Parish Hall)
DESCRIPTION:
URL:https://stjameshydepark.org/event/hyde-park-kids-garden-club-veggie-printmaking-parish-hall/
LOCATION:St. James’ Episcopal Church\, 4526 Albany Post Rd.\, Hyde Park\, NY\, 12538\, United States
CATEGORIES:One Time Event
END:VEVENT
BEGIN:VEVENT
DTSTART;TZID=America/New_York:20221016T113000
DTEND;TZID=America/New_York:20221016T133000
DTSTAMP:20260424T074605
CREATED:20220603T174930Z
LAST-MODIFIED:20220603T175019Z
UID:10001409-1665919800-1665927000@stjameshydepark.org
SUMMARY:Blessing of the Garden with Octoberfest (Hyde Park Community Garden)
DESCRIPTION:
URL:https://stjameshydepark.org/event/blessing-of-the-garden-with-octoberfest-hyde-park-community-garden/
LOCATION:St. James’ Episcopal Church\, 4526 Albany Post Rd.\, Hyde Park\, NY\, 12538\, United States
CATEGORIES:One Time Event
END:VEVENT
BEGIN:VEVENT
DTSTART;TZID=America/New_York:20220923T170000
DTEND;TZID=America/New_York:20220923T190000
DTSTAMP:20260424T074605
CREATED:20220531T140849Z
LAST-MODIFIED:20220802T131951Z
UID:10001545-1663952400-1663959600@stjameshydepark.org
SUMMARY:Annual Roast Pork Dinner
DESCRIPTION:
URL:https://stjameshydepark.org/event/annual-roast-pork-dinner/
LOCATION:St. James’ Episcopal Church\, 4526 Albany Post Rd.\, Hyde Park\, NY\, 12538\, United States
CATEGORIES:One Time Event
END:VEVENT
BEGIN:VEVENT
DTSTART;TZID=America/New_York:20220910T103000
DTEND;TZID=America/New_York:20220910T120000
DTSTAMP:20260424T074605
CREATED:20220603T154911Z
LAST-MODIFIED:20220603T154911Z
UID:10001370-1662805800-1662811200@stjameshydepark.org
SUMMARY:Bluebird Program (Hyde Park Community Garden)
DESCRIPTION:Free kids event
URL:https://stjameshydepark.org/event/bluebird-program-hyde-park-community-garden/
LOCATION:St. James’ Episcopal Church\, 4526 Albany Post Rd.\, Hyde Park\, NY\, 12538\, United States
CATEGORIES:One Time Event
END:VEVENT
BEGIN:VEVENT
DTSTART;TZID=America/New_York:20220813T103000
DTEND;TZID=America/New_York:20220813T120000
DTSTAMP:20260424T074605
CREATED:20220603T153616Z
LAST-MODIFIED:20220603T155801Z
UID:10001595-1660386600-1660392000@stjameshydepark.org
SUMMARY:Veggie Printmaking (Hyde Park Community Garden)
DESCRIPTION:Free kids event
URL:https://stjameshydepark.org/event/veggie-printmaking-hyde-park-community-garden/
LOCATION:St. James’ Episcopal Church\, 4526 Albany Post Rd.\, Hyde Park\, NY\, 12538\, United States
CATEGORIES:One Time Event
END:VEVENT
BEGIN:VEVENT
DTSTART;TZID=America/New_York:20220709T103000
DTEND;TZID=America/New_York:20220709T120000
DTSTAMP:20260424T074605
CREATED:20220603T153035Z
LAST-MODIFIED:20220603T155714Z
UID:10001582-1657362600-1657368000@stjameshydepark.org
SUMMARY:Crazy Over Art Tour (HP Community Garden)
DESCRIPTION:Free Kids event
URL:https://stjameshydepark.org/event/crazy-over-art-tour-hp-community-garden/
LOCATION:St. James’ Episcopal Church\, 4526 Albany Post Rd.\, Hyde Park\, NY\, 12538\, United States
CATEGORIES:One Time Event
END:VEVENT
BEGIN:VEVENT
DTSTART;TZID=America/New_York:20220611T103000
DTEND;TZID=America/New_York:20220611T120000
DTSTAMP:20260424T074605
CREATED:20220603T151644Z
LAST-MODIFIED:20220603T155532Z
UID:10001546-1654943400-1654948800@stjameshydepark.org
SUMMARY:Butterflies (HP Community Garden) - FILLED UP
DESCRIPTION:
URL:https://stjameshydepark.org/event/butterflies-hp-community-garden-filled-up/
LOCATION:St. James’ Episcopal Church\, 4526 Albany Post Rd.\, Hyde Park\, NY\, 12538\, United States
CATEGORIES:One Time Event
END:VEVENT
END:VCALENDAR