BEGIN:VCALENDAR
VERSION:2.0
PRODID:-//St. James&#039; Episcopal Church - ECPv6.15.20//NONSGML v1.0//EN
CALSCALE:GREGORIAN
METHOD:PUBLISH
X-WR-CALNAME:St. James&#039; Episcopal Church
X-ORIGINAL-URL:https://stjameshydepark.org
X-WR-CALDESC:Events for St. James&#039; Episcopal Church
REFRESH-INTERVAL;VALUE=DURATION:PT1H
X-Robots-Tag:noindex
X-PUBLISHED-TTL:PT1H
BEGIN:VTIMEZONE
TZID:America/New_York
BEGIN:DAYLIGHT
TZOFFSETFROM:-0500
TZOFFSETTO:-0400
TZNAME:EDT
DTSTART:20250309T070000
END:DAYLIGHT
BEGIN:STANDARD
TZOFFSETFROM:-0400
TZOFFSETTO:-0500
TZNAME:EST
DTSTART:20251102T060000
END:STANDARD
BEGIN:DAYLIGHT
TZOFFSETFROM:-0500
TZOFFSETTO:-0400
TZNAME:EDT
DTSTART:20260308T070000
END:DAYLIGHT
BEGIN:STANDARD
TZOFFSETFROM:-0400
TZOFFSETTO:-0500
TZNAME:EST
DTSTART:20261101T060000
END:STANDARD
BEGIN:DAYLIGHT
TZOFFSETFROM:-0500
TZOFFSETTO:-0400
TZNAME:EDT
DTSTART:20270314T070000
END:DAYLIGHT
BEGIN:STANDARD
TZOFFSETFROM:-0400
TZOFFSETTO:-0500
TZNAME:EST
DTSTART:20271107T060000
END:STANDARD
END:VTIMEZONE
BEGIN:VEVENT
DTSTART;TZID=America/New_York:20260802T080000
DTEND;TZID=America/New_York:20260802T090000
DTSTAMP:20260423T195040
CREATED:20241219T191649Z
LAST-MODIFIED:20250325T172434Z
UID:10004613-1785657600-1785661200@stjameshydepark.org
SUMMARY:Sunday Worship—Holy Eucharist\, Rite I
DESCRIPTION:Join us Sundays at 8:00 a.m. for a celebration of Holy Eucharist (Communion). This is a quiet service\, usually without music\, though we often have a soloist with acoustic guitar playing before and after the service. The service uses Rite 1 from the 1979 Book of Common Prayer\, with traditional language.
URL:https://stjameshydepark.org/event/sunday-8am-2025/2026-08-02/
LOCATION:St. James’ Episcopal Church\, 4526 Albany Post Rd.\, Hyde Park\, NY\, 12538\, United States
CATEGORIES:Worship
END:VEVENT
BEGIN:VEVENT
DTSTART;TZID=America/New_York:20260802T090000
DTEND;TZID=America/New_York:20260802T220000
DTSTAMP:20260423T195040
CREATED:20260331T132104Z
LAST-MODIFIED:20260331T132104Z
UID:10007887-1785661200-1785708000@stjameshydepark.org
SUMMARY:Building and Grounds Team Meeting (Wilks Room)
DESCRIPTION:
URL:https://stjameshydepark.org/event/building-and-grounds-team-meeting-wilks-room/2026-08-02/
LOCATION:St. James’ Episcopal Church\, 4526 Albany Post Rd.\, Hyde Park\, NY\, 12538\, United States
END:VEVENT
BEGIN:VEVENT
DTSTART;TZID=America/New_York:20260802T100000
DTEND;TZID=America/New_York:20260802T113000
DTSTAMP:20260423T195040
CREATED:20251220T015723Z
LAST-MODIFIED:20260402T145034Z
UID:10007314-1785664800-1785670200@stjameshydepark.org
SUMMARY:Sunday Worship—Holy Eucharist\, Rite II with Sunday School and Coffee Hour
DESCRIPTION:Join us Sundays at 10:00 a.m. for a celebration of Holy Eucharist (Communion). This service has music (usually organ and choir\, along with special guest musicians) and uses a variety of prayers and language from traditional to inclusive and expansive\, drawing from Rite II of the 1979 Book of Common Prayer\, Enriching Our Worship\, and other sources. \nCoffee hour in the Parish House usually follows this service. \nSunday School for kindergarten and up meets today on the second floor of the Parish House at 10:00 a.m. Students will rejoin the congregation just before Holy Communion. New to St. James’ Church? Your kids are welcome to Sunday School any Sunday. More details about St. James’ Sunday School at: https://stjameshydepark.org/for-children/
URL:https://stjameshydepark.org/event/sunday-worship-holy-eucharist-rite-ii-with-sunday-school-and-coffee-hour/2026-08-02/
LOCATION:St. James’ Episcopal Church\, 4526 Albany Post Rd.\, Hyde Park\, NY\, 12538\, United States
CATEGORIES:Worship
END:VEVENT
BEGIN:VEVENT
DTSTART;TZID=America/New_York:20260802T183000
DTEND;TZID=America/New_York:20260802T210000
DTSTAMP:20260423T195040
CREATED:20260410T125621Z
LAST-MODIFIED:20260410T125621Z
UID:10007936-1785695400-1785704400@stjameshydepark.org
SUMMARY:Hyde Park Group AA (Parish Hall\, Rm. 201)
DESCRIPTION:
URL:https://stjameshydepark.org/event/hyde-park-group-aa-parish-hall-rm-201-2/2026-08-02/
LOCATION:St. James’ Episcopal Church\, 4526 Albany Post Rd.\, Hyde Park\, NY\, 12538\, United States
END:VEVENT
BEGIN:VEVENT
DTSTART;TZID=America/New_York:20260803T130000
DTEND;TZID=America/New_York:20260803T150000
DTSTAMP:20260423T195040
CREATED:20260113T175431Z
LAST-MODIFIED:20260123T215934Z
UID:10007470-1785762000-1785769200@stjameshydepark.org
SUMMARY:Knit + Craft + Chat (Wilks Room)
DESCRIPTION:A community of crafters and conversationalists meets Mondays from 1-3 pm (drop-in)—at St. James’ Episcopal Church in the Wilks Room of our Parish House. We are a friendly group: knitters\, embroiderers\, crocheters\, conversationalists and miscellaneous other activities. All are welcome; no previous skill is required.
URL:https://stjameshydepark.org/event/knit-craft-chat-2026/2026-08-03/
LOCATION:St. James’ Episcopal Church\, 4526 Albany Post Rd.\, Hyde Park\, NY\, 12538\, United States
CATEGORIES:Fun
ATTACH;FMTTYPE=image/png:https://stjameshydepark.org/wp-content/uploads/2024/09/Knit-Craft-Chat.png
END:VEVENT
BEGIN:VEVENT
DTSTART;TZID=America/New_York:20260804T190000
DTEND;TZID=America/New_York:20260804T203000
DTSTAMP:20260423T195040
CREATED:20250107T191135Z
LAST-MODIFIED:20250107T191355Z
UID:10006114-1785870000-1785875400@stjameshydepark.org
SUMMARY:Boy Scout Troop 80 (Wilks Room)
DESCRIPTION:
URL:https://stjameshydepark.org/event/boy-scout-troop-80-wilks-room/2026-08-04/
LOCATION:St. James’ Episcopal Church\, 4526 Albany Post Rd.\, Hyde Park\, NY\, 12538\, United States
END:VEVENT
BEGIN:VEVENT
DTSTART;TZID=America/New_York:20260805T110000
DTEND;TZID=America/New_York:20260805T121500
DTSTAMP:20260423T195040
CREATED:20260113T175632Z
LAST-MODIFIED:20260206T005925Z
UID:10007521-1785927600-1785932100@stjameshydepark.org
SUMMARY:Bible Study (Online)
DESCRIPTION:Our weekly Bible study on Zoom usually focuses on the Gospel for the upcoming Sunday and is led by Mtr. Meredith. We practice a contemplative\, prayerful style of Bible study that focuses on how God is speaking to us through our questions\, responses\, curiosities and doubts as we engage Scripture. \nThe study is followed by a brief\, optional service of noonday prayer. \nJoin in any Wednesday at 11 am. No previous preparation is required. The Zoom link is distributed via our weekly email newsletter (or contact the parish office).
URL:https://stjameshydepark.org/event/bible-study-online/2026-08-05/
LOCATION:St. James’ Episcopal Church\, 4526 Albany Post Rd.\, Hyde Park\, NY\, 12538\, United States
CATEGORIES:Christian Formation
END:VEVENT
BEGIN:VEVENT
DTSTART;TZID=America/New_York:20260805T183000
DTEND;TZID=America/New_York:20260805T190000
DTSTAMP:20260423T195040
CREATED:20260113T180519Z
LAST-MODIFIED:20260113T180519Z
UID:10007573-1785954600-1785956400@stjameshydepark.org
SUMMARY:Evening Prayer (Online)
DESCRIPTION:
URL:https://stjameshydepark.org/event/evening-prayer-online/2026-08-05/
LOCATION:St. James’ Episcopal Church\, 4526 Albany Post Rd.\, Hyde Park\, NY\, 12538\, United States
END:VEVENT
BEGIN:VEVENT
DTSTART;TZID=America/New_York:20260808T183000
DTEND;TZID=America/New_York:20260808T190000
DTSTAMP:20260423T195040
CREATED:20260113T180750Z
LAST-MODIFIED:20260113T180750Z
UID:10007624-1786213800-1786215600@stjameshydepark.org
SUMMARY:Compline (Online)
DESCRIPTION:
URL:https://stjameshydepark.org/event/compline-online/2026-08-08/
LOCATION:St. James’ Episcopal Church\, 4526 Albany Post Rd.\, Hyde Park\, NY\, 12538\, United States
END:VEVENT
END:VCALENDAR