BEGIN:VCALENDAR
VERSION:2.0
PRODID:-//St. James&#039; Episcopal Church - ECPv6.15.20//NONSGML v1.0//EN
CALSCALE:GREGORIAN
METHOD:PUBLISH
X-WR-CALNAME:St. James&#039; Episcopal Church
X-ORIGINAL-URL:https://stjameshydepark.org
X-WR-CALDESC:Events for St. James&#039; Episcopal Church
REFRESH-INTERVAL;VALUE=DURATION:PT1H
X-Robots-Tag:noindex
X-PUBLISHED-TTL:PT1H
BEGIN:VTIMEZONE
TZID:America/New_York
BEGIN:DAYLIGHT
TZOFFSETFROM:-0500
TZOFFSETTO:-0400
TZNAME:EDT
DTSTART:20230312T070000
END:DAYLIGHT
BEGIN:STANDARD
TZOFFSETFROM:-0400
TZOFFSETTO:-0500
TZNAME:EST
DTSTART:20231105T060000
END:STANDARD
BEGIN:DAYLIGHT
TZOFFSETFROM:-0500
TZOFFSETTO:-0400
TZNAME:EDT
DTSTART:20240310T070000
END:DAYLIGHT
BEGIN:STANDARD
TZOFFSETFROM:-0400
TZOFFSETTO:-0500
TZNAME:EST
DTSTART:20241103T060000
END:STANDARD
BEGIN:DAYLIGHT
TZOFFSETFROM:-0500
TZOFFSETTO:-0400
TZNAME:EDT
DTSTART:20250309T070000
END:DAYLIGHT
BEGIN:STANDARD
TZOFFSETFROM:-0400
TZOFFSETTO:-0500
TZNAME:EST
DTSTART:20251102T060000
END:STANDARD
END:VTIMEZONE
BEGIN:VEVENT
DTSTART;TZID=America/New_York:20241027T080000
DTEND;TZID=America/New_York:20241027T090000
DTSTAMP:20260424T210647
CREATED:20231222T015421Z
LAST-MODIFIED:20241213T230031Z
UID:10002874-1730016000-1730019600@stjameshydepark.org
SUMMARY:Holy Eucharist (Rite I)
DESCRIPTION:Join us Sundays at 8:00 a.m. for a celebration of Holy Eucharist (Communion). This is a quiet service\, usually without music\, though we often have a soloist with acoustic guitar playing before and after the service. The service uses Rite 1 from the 1979 Book of Common Prayer\, with traditional language.
URL:https://stjameshydepark.org/event/2024-eucharist-8am/2024-10-27/
LOCATION:St. James’ Episcopal Church\, 4526 Albany Post Rd.\, Hyde Park\, NY\, 12538\, United States
CATEGORIES:Worship
END:VEVENT
BEGIN:VEVENT
DTSTART;TZID=America/New_York:20241027T100000
DTEND;TZID=America/New_York:20241027T113000
DTSTAMP:20260424T210647
CREATED:20240628T203601Z
LAST-MODIFIED:20240628T203728Z
UID:10002770-1730023200-1730028600@stjameshydepark.org
SUMMARY:Holy Eucharist (Rite II) with Sunday School and Coffee Hour
DESCRIPTION:Join us Sundays at 10:00 a.m. for a celebration of Holy Eucharist (Communion). This service has music (usually organ and choir\, along with special guest musicians) and uses a variety of prayers and language from traditional to inclusive and expansive\, drawing from Rite II of the 1979 Book of Common Prayer\, Enriching Our Worship\, and other sources. \nCoffee hour in the Parish House usually follows this service. \nSunday School for kindergarten and up meets today on the second floor of the Parish House at 10:00 a.m. Students will rejoin the congregation just before Holy Communion. New to St. James’ Church? Your kids are welcome to Sunday School any Sunday. More details about St. James’ Sunday School at: https://stjameshydepark.org/for-children/
URL:https://stjameshydepark.org/event/2024-eucharist-rite-ii-10-2/2024-10-27/
LOCATION:St. James’ Episcopal Church\, 4526 Albany Post Rd.\, Hyde Park\, NY\, 12538\, United States
CATEGORIES:Worship
END:VEVENT
BEGIN:VEVENT
DTSTART;TZID=America/New_York:20241027T113000
DTEND;TZID=America/New_York:20241027T130000
DTSTAMP:20260424T210647
CREATED:20241024T200741Z
LAST-MODIFIED:20241024T200741Z
UID:10004218-1730028600-1730034000@stjameshydepark.org
SUMMARY:St. James’ Day Extended Coffee Hour & Halloween Party!
DESCRIPTION:On Sunday\, October 27th we’ll celebrate our patronal feast day—St. James’ of Jerusalem—in worship\, and then we’ll keep the fun going with a special extended coffee hour to celebrate St. James’ and Halloween! There will be baked ziti! Cake! Spooky meatballs! Chili! Bring some board games! \nPlan to spend time and relax with our St. James’ family on our feast day for some Halloween fun. Costumes optional!
URL:https://stjameshydepark.org/event/st-james-day-extended-coffee-hour-halloween-party/
LOCATION:St. James’ Episcopal Church\, 4526 Albany Post Rd.\, Hyde Park\, NY\, 12538\, United States
CATEGORIES:Fun
END:VEVENT
BEGIN:VEVENT
DTSTART;TZID=America/New_York:20241027T130000
DTEND;TZID=America/New_York:20241027T150000
DTSTAMP:20260424T210647
CREATED:20241016T130738Z
LAST-MODIFIED:20241016T130738Z
UID:10004212-1730034000-1730041200@stjameshydepark.org
SUMMARY:[New Deal] Play Rehearsal (Parish Hall)
DESCRIPTION:
URL:https://stjameshydepark.org/event/new-deal-play-rehearsal-parish-hall/2024-10-27/
LOCATION:St. James’ Episcopal Church\, 4526 Albany Post Rd.\, Hyde Park\, NY\, 12538\, United States
CATEGORIES:New Deal
END:VEVENT
BEGIN:VEVENT
DTSTART;TZID=America/New_York:20241027T170000
DTEND;TZID=America/New_York:20241027T190000
DTSTAMP:20260424T210647
CREATED:20240924T134420Z
LAST-MODIFIED:20241009T191425Z
UID:10004075-1730048400-1730055600@stjameshydepark.org
SUMMARY:Knit+Craft+Chat (Wilks Room)
DESCRIPTION:A community of crafters and conversationalists meets twice a week—Sundays from 5-7 pm and Mondays from 2-4 pm (drop-in)—at St. James’ Episcopal Church in the Wilks Room of our Parish House. We are a friendly group: knitters\, embroiderers\, crocheters\, conversationalists and miscellaneous other activities. All are welcome; no previous skill is required.
URL:https://stjameshydepark.org/event/knit-craft-chat/2024-10-27/
LOCATION:St. James’ Episcopal Church\, 4526 Albany Post Rd.\, Hyde Park\, NY\, 12538\, United States
END:VEVENT
BEGIN:VEVENT
DTSTART;TZID=America/New_York:20241027T183000
DTEND;TZID=America/New_York:20241027T220000
DTSTAMP:20260424T210647
CREATED:20230622T132525Z
LAST-MODIFIED:20240112T181743Z
UID:10002117-1730053800-1730066400@stjameshydepark.org
SUMMARY:AA Ind. Anniversary (Parish Hall)
DESCRIPTION:
URL:https://stjameshydepark.org/event/aa-ind-anniversary-parish-hall/2024-10-27/
LOCATION:St. James’ Episcopal Church\, 4526 Albany Post Rd.\, Hyde Park\, NY\, 12538\, United States
END:VEVENT
BEGIN:VEVENT
DTSTART;VALUE=DATE:20241028
DTEND;VALUE=DATE:20241029
DTSTAMP:20260424T210647
CREATED:20240112T172541Z
LAST-MODIFIED:20240112T172541Z
UID:10002992-1730073600-1730159999@stjameshydepark.org
SUMMARY:Parish Office Closed
DESCRIPTION:
URL:https://stjameshydepark.org/event/parish-office-closed-4/2024-10-28/
LOCATION:St. James’ Episcopal Church\, 4526 Albany Post Rd.\, Hyde Park\, NY\, 12538\, United States
CATEGORIES:General
END:VEVENT
BEGIN:VEVENT
DTSTART;TZID=America/New_York:20241028T140000
DTEND;TZID=America/New_York:20241028T160000
DTSTAMP:20260424T210647
CREATED:20240924T134420Z
LAST-MODIFIED:20241009T191425Z
UID:10004189-1730124000-1730131200@stjameshydepark.org
SUMMARY:Knit+Craft+Chat (Wilks Room)
DESCRIPTION:A community of crafters and conversationalists meets twice a week—Sundays from 5-7 pm and Mondays from 2-4 pm (drop-in)—at St. James’ Episcopal Church in the Wilks Room of our Parish House. We are a friendly group: knitters\, embroiderers\, crocheters\, conversationalists and miscellaneous other activities. All are welcome; no previous skill is required.
URL:https://stjameshydepark.org/event/knit-craft-chat/2024-10-28/
LOCATION:St. James’ Episcopal Church\, 4526 Albany Post Rd.\, Hyde Park\, NY\, 12538\, United States
END:VEVENT
BEGIN:VEVENT
DTSTART;TZID=America/New_York:20241028T173000
DTEND;TZID=America/New_York:20241028T193000
DTSTAMP:20260424T210647
CREATED:20241016T130738Z
LAST-MODIFIED:20241016T130738Z
UID:10004213-1730136600-1730143800@stjameshydepark.org
SUMMARY:[New Deal] Play Rehearsal (Parish Hall)
DESCRIPTION:
URL:https://stjameshydepark.org/event/new-deal-play-rehearsal-parish-hall/2024-10-28/
LOCATION:St. James’ Episcopal Church\, 4526 Albany Post Rd.\, Hyde Park\, NY\, 12538\, United States
CATEGORIES:New Deal
END:VEVENT
BEGIN:VEVENT
DTSTART;VALUE=DATE:20241029
DTEND;VALUE=DATE:20241030
DTSTAMP:20260424T210647
CREATED:20241002T145100Z
LAST-MODIFIED:20241002T145100Z
UID:10004153-1730160000-1730246399@stjameshydepark.org
SUMMARY:Nursery School Halloween Party
DESCRIPTION:
URL:https://stjameshydepark.org/event/nursery-school-halloween-party/2024-10-29/
LOCATION:St. James’ Episcopal Church\, 4526 Albany Post Rd.\, Hyde Park\, NY\, 12538\, United States
END:VEVENT
BEGIN:VEVENT
DTSTART;TZID=America/New_York:20241029T113000
DTEND;TZID=America/New_York:20241029T120000
DTSTAMP:20260424T210647
CREATED:20241008T150243Z
LAST-MODIFIED:20241008T150243Z
UID:10004160-1730201400-1730203200@stjameshydepark.org
SUMMARY:ARC Lunch
DESCRIPTION:
URL:https://stjameshydepark.org/event/arc-lunch/2024-10-29/
LOCATION:St. James’ Episcopal Church\, 4526 Albany Post Rd.\, Hyde Park\, NY\, 12538\, United States
END:VEVENT
BEGIN:VEVENT
DTSTART;TZID=America/New_York:20241029T183000
DTEND;TZID=America/New_York:20241029T200000
DTSTAMP:20260424T210647
CREATED:20241024T200922Z
LAST-MODIFIED:20241024T200922Z
UID:10004219-1730226600-1730232000@stjameshydepark.org
SUMMARY:Stewardship Team Meeting (Wilks Room)
DESCRIPTION:
URL:https://stjameshydepark.org/event/stewardship-team-meeting-wilks-room/
LOCATION:St. James’ Episcopal Church\, 4526 Albany Post Rd.\, Hyde Park\, NY\, 12538\, United States
CATEGORIES:Governance
END:VEVENT
BEGIN:VEVENT
DTSTART;TZID=America/New_York:20241029T190000
DTEND;TZID=America/New_York:20241029T200000
DTSTAMP:20260424T210647
CREATED:20240112T173633Z
LAST-MODIFIED:20240216T165320Z
UID:10003055-1730228400-1730232000@stjameshydepark.org
SUMMARY:Boy Scouts Troop 80 (Parish Hall)
DESCRIPTION:
URL:https://stjameshydepark.org/event/boy-scouts-troop-80-parish-hall-rm-203-2-2/2024-10-29/
LOCATION:St. James’ Episcopal Church\, 4526 Albany Post Rd.\, Hyde Park\, NY\, 12538\, United States
CATEGORIES:General
END:VEVENT
BEGIN:VEVENT
DTSTART;TZID=America/New_York:20241030T110000
DTEND;TZID=America/New_York:20241030T120000
DTSTAMP:20260424T210647
CREATED:20240203T231706Z
LAST-MODIFIED:20240508T020856Z
UID:10003444-1730286000-1730289600@stjameshydepark.org
SUMMARY:Bible Study
DESCRIPTION:Our weekly Bible study on Zoom usually focuses on the Gospel for the upcoming Sunday and is led by Mtr. Meredith. We practice a contemplative\, prayerful style of Bible study that focuses on how God is speaking to us through our questions\, responses\, curiosities and doubts as we engage Scripture.  \nThe study is followed by a brief\, optional service of noonday prayer. \nJoin in any Wednesday at 11 am. No previous preparation is required. The Zoom link is distributed via our weekly email newsletter (or contact the parish office). \n 
URL:https://stjameshydepark.org/event/bible-study-2024/2024-10-30/
LOCATION:Online
CATEGORIES:Christian Formation
ATTACH;FMTTYPE=image/png:https://stjameshydepark.org/wp-content/uploads/2024/05/Bible-Study.png
END:VEVENT
BEGIN:VEVENT
DTSTART;TZID=America/New_York:20241030T173000
DTEND;TZID=America/New_York:20241030T193000
DTSTAMP:20260424T210647
CREATED:20241016T130738Z
LAST-MODIFIED:20241016T130738Z
UID:10004214-1730309400-1730316600@stjameshydepark.org
SUMMARY:[New Deal] Play Rehearsal (Parish Hall)
DESCRIPTION:
URL:https://stjameshydepark.org/event/new-deal-play-rehearsal-parish-hall/2024-10-30/
LOCATION:St. James’ Episcopal Church\, 4526 Albany Post Rd.\, Hyde Park\, NY\, 12538\, United States
CATEGORIES:New Deal
END:VEVENT
BEGIN:VEVENT
DTSTART;TZID=America/New_York:20241030T183000
DTEND;TZID=America/New_York:20241030T193000
DTSTAMP:20260424T210647
CREATED:20240112T175112Z
LAST-MODIFIED:20240112T175307Z
UID:10003106-1730313000-1730316600@stjameshydepark.org
SUMMARY:Evening Prayer (Remote)
DESCRIPTION:
URL:https://stjameshydepark.org/event/evening-prayer-remote-2-2/2024-10-30/
LOCATION:Online
CATEGORIES:Worship
END:VEVENT
BEGIN:VEVENT
DTSTART;VALUE=DATE:20241031
DTEND;VALUE=DATE:20241101
DTSTAMP:20260424T210647
CREATED:20241002T145100Z
LAST-MODIFIED:20241002T145100Z
UID:10004154-1730361600-1730394000@stjameshydepark.org
SUMMARY:Nursery School Halloween Party
DESCRIPTION:
URL:https://stjameshydepark.org/event/nursery-school-halloween-party/2024-10-31/
LOCATION:St. James’ Episcopal Church\, 4526 Albany Post Rd.\, Hyde Park\, NY\, 12538\, United States
END:VEVENT
BEGIN:VEVENT
DTSTART;TZID=America/New_York:20241102T120000
DTEND;TZID=America/New_York:20241102T180000
DTSTAMP:20260424T210647
CREATED:20240627T180752Z
LAST-MODIFIED:20240627T180752Z
UID:10003820-1730548800-1730570400@stjameshydepark.org
SUMMARY:Private Event (Parish Hall\, Kitchen)
DESCRIPTION:
URL:https://stjameshydepark.org/event/private-event-parish-hall-kitchen-2/
LOCATION:St. James’ Episcopal Church\, 4526 Albany Post Rd.\, Hyde Park\, NY\, 12538\, United States
END:VEVENT
BEGIN:VEVENT
DTSTART;TZID=America/New_York:20241102T183000
DTEND;TZID=America/New_York:20241102T193000
DTSTAMP:20260424T210647
CREATED:20240112T175527Z
LAST-MODIFIED:20240112T175653Z
UID:10003156-1730572200-1730575800@stjameshydepark.org
SUMMARY:Compline (Remote)
DESCRIPTION:
URL:https://stjameshydepark.org/event/compline-remote-3-2023-01-07-2/2024-11-02/
LOCATION:Online
CATEGORIES:Worship
END:VEVENT
END:VCALENDAR