BEGIN:VCALENDAR
VERSION:2.0
PRODID:-//St. James&#039; Episcopal Church - ECPv6.15.20//NONSGML v1.0//EN
CALSCALE:GREGORIAN
METHOD:PUBLISH
X-WR-CALNAME:St. James&#039; Episcopal Church
X-ORIGINAL-URL:https://stjameshydepark.org
X-WR-CALDESC:Events for St. James&#039; Episcopal Church
REFRESH-INTERVAL;VALUE=DURATION:PT1H
X-Robots-Tag:noindex
X-PUBLISHED-TTL:PT1H
BEGIN:VTIMEZONE
TZID:America/New_York
BEGIN:DAYLIGHT
TZOFFSETFROM:-0500
TZOFFSETTO:-0400
TZNAME:EDT
DTSTART:20230312T070000
END:DAYLIGHT
BEGIN:STANDARD
TZOFFSETFROM:-0400
TZOFFSETTO:-0500
TZNAME:EST
DTSTART:20231105T060000
END:STANDARD
BEGIN:DAYLIGHT
TZOFFSETFROM:-0500
TZOFFSETTO:-0400
TZNAME:EDT
DTSTART:20240310T070000
END:DAYLIGHT
BEGIN:STANDARD
TZOFFSETFROM:-0400
TZOFFSETTO:-0500
TZNAME:EST
DTSTART:20241103T060000
END:STANDARD
BEGIN:DAYLIGHT
TZOFFSETFROM:-0500
TZOFFSETTO:-0400
TZNAME:EDT
DTSTART:20250309T070000
END:DAYLIGHT
BEGIN:STANDARD
TZOFFSETFROM:-0400
TZOFFSETTO:-0500
TZNAME:EST
DTSTART:20251102T060000
END:STANDARD
END:VTIMEZONE
BEGIN:VEVENT
DTSTART;TZID=America/New_York:20240526T100000
DTEND;TZID=America/New_York:20240526T130000
DTSTAMP:20260425T080447
CREATED:20240521T140811Z
LAST-MODIFIED:20240521T141925Z
UID:10002748-1716717600-1716728400@stjameshydepark.org
SUMMARY:Outdoor Church with Guest Preacher the Very Rev. Gary C. Hall and Parish Picnic
DESCRIPTION:On Memorial Day weekend\, we’ll have a special Sunday worship service. \nWeather permitting\, church will be outdoors\, with hymns accompanied by guitar\, sax\, and bass. \nWe’ll be worshipping together with our sister church\, St. Margaret’s in Staatsburg\, and we’ll have a special guest preacher—the Very Rev. Gary C. Hall\, former dean of the Washington National Cathedral. \nSunday School for our kiddos will be outside\, too! We’ll have fun planning some prayers for our Youth Sunday service in June. \nAfter church we’ll enjoy a parish picnic and games on the lawn. \nIf you can\, please bring: \n\nA comfortable lawn chair (some chairs will be provided)\nA dish to share at the picnic\nA favorite outdoor game to play\n\nAnd if you can’t\, please come anyway!
URL:https://stjameshydepark.org/event/2024-parish-picnic/
LOCATION:St. James’ Episcopal Church\, 4526 Albany Post Rd.\, Hyde Park\, NY\, 12538\, United States
CATEGORIES:Fun,Worship
END:VEVENT
BEGIN:VEVENT
DTSTART;TZID=America/New_York:20240526T183000
DTEND;TZID=America/New_York:20240526T220000
DTSTAMP:20260425T080447
CREATED:20230622T132525Z
LAST-MODIFIED:20240112T181743Z
UID:10002112-1716748200-1716760800@stjameshydepark.org
SUMMARY:AA Ind. Anniversary (Parish Hall)
DESCRIPTION:
URL:https://stjameshydepark.org/event/aa-ind-anniversary-parish-hall/2024-05-26/
LOCATION:St. James’ Episcopal Church\, 4526 Albany Post Rd.\, Hyde Park\, NY\, 12538\, United States
END:VEVENT
BEGIN:VEVENT
DTSTART;VALUE=DATE:20240527
DTEND;VALUE=DATE:20240528
DTSTAMP:20260425T080447
CREATED:20240112T172541Z
LAST-MODIFIED:20240112T172541Z
UID:10002970-1716768000-1716854399@stjameshydepark.org
SUMMARY:Parish Office Closed
DESCRIPTION:
URL:https://stjameshydepark.org/event/parish-office-closed-4/2024-05-27/
LOCATION:St. James’ Episcopal Church\, 4526 Albany Post Rd.\, Hyde Park\, NY\, 12538\, United States
CATEGORIES:General
END:VEVENT
BEGIN:VEVENT
DTSTART;TZID=America/New_York:20240528T190000
DTEND;TZID=America/New_York:20240528T200000
DTSTAMP:20260425T080447
CREATED:20240112T173633Z
LAST-MODIFIED:20240216T165320Z
UID:10003033-1716922800-1716926400@stjameshydepark.org
SUMMARY:Boy Scouts Troop 80 (Parish Hall)
DESCRIPTION:
URL:https://stjameshydepark.org/event/boy-scouts-troop-80-parish-hall-rm-203-2-2/2024-05-28/
LOCATION:St. James’ Episcopal Church\, 4526 Albany Post Rd.\, Hyde Park\, NY\, 12538\, United States
CATEGORIES:General
END:VEVENT
BEGIN:VEVENT
DTSTART;TZID=America/New_York:20240529T110000
DTEND;TZID=America/New_York:20240529T120000
DTSTAMP:20260425T080447
CREATED:20240203T231706Z
LAST-MODIFIED:20240508T020856Z
UID:10003422-1716980400-1716984000@stjameshydepark.org
SUMMARY:Bible Study
DESCRIPTION:Our weekly Bible study on Zoom usually focuses on the Gospel for the upcoming Sunday and is led by Mtr. Meredith. We practice a contemplative\, prayerful style of Bible study that focuses on how God is speaking to us through our questions\, responses\, curiosities and doubts as we engage Scripture.  \nThe study is followed by a brief\, optional service of noonday prayer. \nJoin in any Wednesday at 11 am. No previous preparation is required. The Zoom link is distributed via our weekly email newsletter (or contact the parish office). \n 
URL:https://stjameshydepark.org/event/bible-study-2024/2024-05-29/
LOCATION:Online
CATEGORIES:Christian Formation
ATTACH;FMTTYPE=image/png:https://stjameshydepark.org/wp-content/uploads/2024/05/Bible-Study.png
END:VEVENT
BEGIN:VEVENT
DTSTART;TZID=America/New_York:20240529T183000
DTEND;TZID=America/New_York:20240529T193000
DTSTAMP:20260425T080447
CREATED:20240112T175112Z
LAST-MODIFIED:20240112T175307Z
UID:10003084-1717007400-1717011000@stjameshydepark.org
SUMMARY:Evening Prayer (Remote)
DESCRIPTION:
URL:https://stjameshydepark.org/event/evening-prayer-remote-2-2/2024-05-29/
LOCATION:Online
CATEGORIES:Worship
END:VEVENT
BEGIN:VEVENT
DTSTART;TZID=America/New_York:20240531T070000
DTEND;TZID=America/New_York:20240531T180000
DTSTAMP:20260425T080447
CREATED:20240502T005843Z
LAST-MODIFIED:20240502T010102Z
UID:10003737-1717138800-1717178400@stjameshydepark.org
SUMMARY:Hall reserved for Tag Sale setup
DESCRIPTION:
URL:https://stjameshydepark.org/event/tag-sale-setup/
LOCATION:St. James’ Episcopal Church\, 4526 Albany Post Rd.\, Hyde Park\, NY\, 12538\, United States
CATEGORIES:Outreach
END:VEVENT
BEGIN:VEVENT
DTSTART;TZID=America/New_York:20240531T100000
DTEND;TZID=America/New_York:20240531T110000
DTSTAMP:20260425T080447
CREATED:20240419T150827Z
LAST-MODIFIED:20240419T150827Z
UID:10003754-1717149600-1717153200@stjameshydepark.org
SUMMARY:Kennelly Memorial Service
DESCRIPTION:
URL:https://stjameshydepark.org/event/kennelly-memorial-service/
LOCATION:St. James’ Episcopal Church\, 4526 Albany Post Rd.\, Hyde Park\, NY\, 12538\, United States
END:VEVENT
BEGIN:VEVENT
DTSTART;TZID=America/New_York:20240601T090000
DTEND;TZID=America/New_York:20240601T160000
DTSTAMP:20260425T080447
CREATED:20240502T005911Z
LAST-MODIFIED:20240524T190401Z
UID:10003773-1717232400-1717257600@stjameshydepark.org
SUMMARY:Tag Sale
DESCRIPTION:St. James’ is hosting a community Tag Sale in our parking lot and parish hall on Saturday\, June 1st from 9 am to 4 pm! \nTag sale proceeds benefit St. James’ outreach ministries. \nDonations of items to be sold may  be dropped off in the Parish Hall during church office hours (T-F 9am-2pm) or contact Lillian Peralta at 845-282-6328 for special arrangements. \nVendors may contact Lillian Peralta at 845-282-6328 to reserve a table ($25-35 per table\, spots are limited). All proceeds benefit the church’s community outreach ministries.  \nPlus help fill Tommy’s Truck for local veterans in need\, during the Tag Sale from 10 am-2 pm only! Pease bring breakfast cereal\, pasta & sauce\, granola bars\, trail mix\, microwave meals\, and toiletries to donate.
URL:https://stjameshydepark.org/event/tag-sale/
LOCATION:St. James’ Episcopal Church\, 4526 Albany Post Rd.\, Hyde Park\, NY\, 12538\, United States
CATEGORIES:Outreach
ATTACH;FMTTYPE=image/png:https://stjameshydepark.org/wp-content/uploads/2024/05/Tag-Sale-Flyer-Instagram-Post.png
END:VEVENT
BEGIN:VEVENT
DTSTART;TZID=America/New_York:20240601T183000
DTEND;TZID=America/New_York:20240601T193000
DTSTAMP:20260425T080447
CREATED:20240112T175527Z
LAST-MODIFIED:20240112T175653Z
UID:10003134-1717266600-1717270200@stjameshydepark.org
SUMMARY:Compline (Remote)
DESCRIPTION:
URL:https://stjameshydepark.org/event/compline-remote-3-2023-01-07-2/2024-06-01/
LOCATION:Online
CATEGORIES:Worship
END:VEVENT
END:VCALENDAR