BEGIN:VCALENDAR
VERSION:2.0
PRODID:-//St. James&#039; Episcopal Church - ECPv6.15.20//NONSGML v1.0//EN
CALSCALE:GREGORIAN
METHOD:PUBLISH
X-WR-CALNAME:St. James&#039; Episcopal Church
X-ORIGINAL-URL:https://stjameshydepark.org
X-WR-CALDESC:Events for St. James&#039; Episcopal Church
REFRESH-INTERVAL;VALUE=DURATION:PT1H
X-Robots-Tag:noindex
X-PUBLISHED-TTL:PT1H
BEGIN:VTIMEZONE
TZID:America/New_York
BEGIN:DAYLIGHT
TZOFFSETFROM:-0500
TZOFFSETTO:-0400
TZNAME:EDT
DTSTART:20230312T070000
END:DAYLIGHT
BEGIN:STANDARD
TZOFFSETFROM:-0400
TZOFFSETTO:-0500
TZNAME:EST
DTSTART:20231105T060000
END:STANDARD
BEGIN:DAYLIGHT
TZOFFSETFROM:-0500
TZOFFSETTO:-0400
TZNAME:EDT
DTSTART:20240310T070000
END:DAYLIGHT
BEGIN:STANDARD
TZOFFSETFROM:-0400
TZOFFSETTO:-0500
TZNAME:EST
DTSTART:20241103T060000
END:STANDARD
BEGIN:DAYLIGHT
TZOFFSETFROM:-0500
TZOFFSETTO:-0400
TZNAME:EDT
DTSTART:20250309T070000
END:DAYLIGHT
BEGIN:STANDARD
TZOFFSETFROM:-0400
TZOFFSETTO:-0500
TZNAME:EST
DTSTART:20251102T060000
END:STANDARD
END:VTIMEZONE
BEGIN:VEVENT
DTSTART;TZID=America/New_York:20240421T080000
DTEND;TZID=America/New_York:20240421T090000
DTSTAMP:20260425T093835
CREATED:20231222T015421Z
LAST-MODIFIED:20241213T230031Z
UID:10002847-1713686400-1713690000@stjameshydepark.org
SUMMARY:Holy Eucharist (Rite I)
DESCRIPTION:Join us Sundays at 8:00 a.m. for a celebration of Holy Eucharist (Communion). This is a quiet service\, usually without music\, though we often have a soloist with acoustic guitar playing before and after the service. The service uses Rite 1 from the 1979 Book of Common Prayer\, with traditional language.
URL:https://stjameshydepark.org/event/2024-eucharist-8am/2024-04-21/
LOCATION:St. James’ Episcopal Church\, 4526 Albany Post Rd.\, Hyde Park\, NY\, 12538\, United States
CATEGORIES:Worship
END:VEVENT
BEGIN:VEVENT
DTSTART;TZID=America/New_York:20240421T100000
DTEND;TZID=America/New_York:20240421T113000
DTSTAMP:20260425T093835
CREATED:20231222T014951Z
LAST-MODIFIED:20231222T014951Z
UID:10002743-1713693600-1713699000@stjameshydepark.org
SUMMARY:Holy Eucharist (Rite II) with Sunday School and Coffee Hour
DESCRIPTION:Join us Sundays at 10:00 a.m. for a celebration of Holy Eucharist (Communion). This service has music (usually organ and choir\, along with special guest musicians) and uses a variety of prayers and language from traditional to inclusive and expansive\, drawing from Rite II of the 1979 Book of Common Prayer\, Enriching Our Worship\, and other sources. \nCoffee hour in the Parish House usually follows this service. \nSunday School for kindergarten and up meets today on the second floor of the Parish House at 10:00 a.m. Students will rejoin the congregation just before Holy Communion. New to St. James’ Church? Your kids are welcome to Sunday School any Sunday. More details about St. James’ Sunday School at: https://stjameshydepark.org/for-children/
URL:https://stjameshydepark.org/event/2024-eucharist-rite-ii/2024-04-21/
LOCATION:St. James’ Episcopal Church\, 4526 Albany Post Rd.\, Hyde Park\, NY\, 12538\, United States
CATEGORIES:Worship
END:VEVENT
BEGIN:VEVENT
DTSTART;TZID=America/New_York:20240421T183000
DTEND;TZID=America/New_York:20240421T210000
DTSTAMP:20260425T093835
CREATED:20240112T181055Z
LAST-MODIFIED:20241001T152045Z
UID:10003242-1713724200-1713733200@stjameshydepark.org
SUMMARY:AA Meeting (Parish Hall; Rm. 201)
DESCRIPTION:
URL:https://stjameshydepark.org/event/aa-meeting-parish-hall-rm-201-2/2024-04-21/
LOCATION:St. James’ Episcopal Church\, 4526 Albany Post Rd.\, Hyde Park\, NY\, 12538\, United States
CATEGORIES:General
END:VEVENT
BEGIN:VEVENT
DTSTART;VALUE=DATE:20240422
DTEND;VALUE=DATE:20240423
DTSTAMP:20260425T093835
CREATED:20240112T172541Z
LAST-MODIFIED:20240112T172541Z
UID:10002965-1713744000-1713830399@stjameshydepark.org
SUMMARY:Parish Office Closed
DESCRIPTION:
URL:https://stjameshydepark.org/event/parish-office-closed-4/2024-04-22/
LOCATION:St. James’ Episcopal Church\, 4526 Albany Post Rd.\, Hyde Park\, NY\, 12538\, United States
CATEGORIES:General
END:VEVENT
BEGIN:VEVENT
DTSTART;TZID=America/New_York:20240422T090000
DTEND;TZID=America/New_York:20240422T150000
DTSTAMP:20260425T093835
CREATED:20240315T172619Z
LAST-MODIFIED:20240416T124722Z
UID:10003748-1713776400-1713798000@stjameshydepark.org
SUMMARY:Painting (Wilks Room)
DESCRIPTION:
URL:https://stjameshydepark.org/event/painting-wilks-room/2024-04-22/
LOCATION:St. James’ Episcopal Church\, 4526 Albany Post Rd.\, Hyde Park\, NY\, 12538\, United States
END:VEVENT
BEGIN:VEVENT
DTSTART;TZID=America/New_York:20240422T130000
DTEND;TZID=America/New_York:20240422T143000
DTSTAMP:20260425T093835
CREATED:20240329T164717Z
LAST-MODIFIED:20240329T165436Z
UID:10003664-1713790800-1713796200@stjameshydepark.org
SUMMARY:Co-Working 2 (Parish Hall)
DESCRIPTION:
URL:https://stjameshydepark.org/event/co-working-2-wilks-room-or-parish-hall/
LOCATION:St. James’ Episcopal Church\, 4526 Albany Post Rd.\, Hyde Park\, NY\, 12538\, United States
END:VEVENT
BEGIN:VEVENT
DTSTART;TZID=America/New_York:20240422T140000
DTEND;TZID=America/New_York:20240422T160000
DTSTAMP:20260425T093835
CREATED:20240112T141137Z
LAST-MODIFIED:20241009T191510Z
UID:10002912-1713794400-1713801600@stjameshydepark.org
SUMMARY:Knitters and Crafters Group (Wilks Room)
DESCRIPTION:A New Group! A community of crafters begins on Mondays starting February 5\, from 2- 4 pm (drop-in). \nAll are welcome: knitters\, crocheters\, embroiderers\, crocheters\, conversationalists and miscellaneous other activities. No particular talent required. Meet in the Wilks Room at St. James Parish Hall.
URL:https://stjameshydepark.org/event/knitters-crafters/2024-04-22/
LOCATION:St. James’ Episcopal Church\, 4526 Albany Post Rd.\, Hyde Park\, NY\, 12538\, United States
CATEGORIES:Fun
END:VEVENT
BEGIN:VEVENT
DTSTART;TZID=America/New_York:20240422T180000
DTEND;TZID=America/New_York:20240422T193000
DTSTAMP:20260425T093835
CREATED:20240322T123601Z
LAST-MODIFIED:20240322T123601Z
UID:10003630-1713808800-1713814200@stjameshydepark.org
SUMMARY:Men's Gathering (Antonella's Restaurant)
DESCRIPTION:All welcome! Join in Monday\, April 22nd at 6 pm in the back room of Antonella’s Restaurant. Questions? Please see Joe Gasparini (call/text 845-475-4717) or Mike Glancey.
URL:https://stjameshydepark.org/event/mens-gathering-2024-apr/
LOCATION:Antonella’s Restaurant\, Hyde Park\, NY\, 4246 Albany Post Rd #1700\, Hyde Park\, NY\, 12538\, United States
CATEGORIES:Fun
END:VEVENT
BEGIN:VEVENT
DTSTART;TZID=America/New_York:20240422T191500
DTEND;TZID=America/New_York:20240422T201500
DTSTAMP:20260425T093835
CREATED:20240216T170759Z
LAST-MODIFIED:20240305T134052Z
UID:10003512-1713813300-1713816900@stjameshydepark.org
SUMMARY:[New Deal] Book Club (Wilks Room)
DESCRIPTION:
URL:https://stjameshydepark.org/event/book-club-classrooms/2024-04-22/
LOCATION:St. James’ Episcopal Church\, 4526 Albany Post Rd.\, Hyde Park\, NY\, 12538\, United States
CATEGORIES:New Deal
END:VEVENT
BEGIN:VEVENT
DTSTART;TZID=America/New_York:20240423T090000
DTEND;TZID=America/New_York:20240423T150000
DTSTAMP:20260425T093835
CREATED:20240315T172619Z
LAST-MODIFIED:20240416T124722Z
UID:10003749-1713862800-1713884400@stjameshydepark.org
SUMMARY:Painting (Wilks Room)
DESCRIPTION:
URL:https://stjameshydepark.org/event/painting-wilks-room/2024-04-23/
LOCATION:St. James’ Episcopal Church\, 4526 Albany Post Rd.\, Hyde Park\, NY\, 12538\, United States
END:VEVENT
BEGIN:VEVENT
DTSTART;TZID=America/New_York:20240423T180000
DTEND;TZID=America/New_York:20240423T200000
DTSTAMP:20260425T093835
CREATED:20240216T174259Z
LAST-MODIFIED:20240317T170047Z
UID:10003612-1713895200-1713902400@stjameshydepark.org
SUMMARY:[New Deal] "Chicago" Rehearsal (Classrooms)
DESCRIPTION:
URL:https://stjameshydepark.org/event/chicago-classrooms/2024-04-23/
LOCATION:St. James’ Episcopal Church\, 4526 Albany Post Rd.\, Hyde Park\, NY\, 12538\, United States
CATEGORIES:New Deal
END:VEVENT
BEGIN:VEVENT
DTSTART;TZID=America/New_York:20240423T190000
DTEND;TZID=America/New_York:20240423T200000
DTSTAMP:20260425T093835
CREATED:20240112T173633Z
LAST-MODIFIED:20240216T165320Z
UID:10003028-1713898800-1713902400@stjameshydepark.org
SUMMARY:Boy Scouts Troop 80 (Parish Hall)
DESCRIPTION:
URL:https://stjameshydepark.org/event/boy-scouts-troop-80-parish-hall-rm-203-2-2/2024-04-23/
LOCATION:St. James’ Episcopal Church\, 4526 Albany Post Rd.\, Hyde Park\, NY\, 12538\, United States
CATEGORIES:General
END:VEVENT
BEGIN:VEVENT
DTSTART;TZID=America/New_York:20240424T090000
DTEND;TZID=America/New_York:20240424T150000
DTSTAMP:20260425T093835
CREATED:20240315T172619Z
LAST-MODIFIED:20240416T124722Z
UID:10003750-1713949200-1713970800@stjameshydepark.org
SUMMARY:Painting (Wilks Room)
DESCRIPTION:
URL:https://stjameshydepark.org/event/painting-wilks-room/2024-04-24/
LOCATION:St. James’ Episcopal Church\, 4526 Albany Post Rd.\, Hyde Park\, NY\, 12538\, United States
END:VEVENT
BEGIN:VEVENT
DTSTART;TZID=America/New_York:20240424T103000
DTEND;TZID=America/New_York:20240424T120000
DTSTAMP:20260425T093835
CREATED:20240208T172616Z
LAST-MODIFIED:20240515T185656Z
UID:10003643-1713954600-1713960000@stjameshydepark.org
SUMMARY:Co-Working (Wilks Room or Parish Hall)
DESCRIPTION:
URL:https://stjameshydepark.org/event/co-working-wilks-room/2024-04-24/
LOCATION:St. James’ Episcopal Church\, 4526 Albany Post Rd.\, Hyde Park\, NY\, 12538\, United States
END:VEVENT
BEGIN:VEVENT
DTSTART;TZID=America/New_York:20240424T110000
DTEND;TZID=America/New_York:20240424T120000
DTSTAMP:20260425T093835
CREATED:20240203T231706Z
LAST-MODIFIED:20240508T020856Z
UID:10003417-1713956400-1713960000@stjameshydepark.org
SUMMARY:Bible Study
DESCRIPTION:Our weekly Bible study on Zoom usually focuses on the Gospel for the upcoming Sunday and is led by Mtr. Meredith. We practice a contemplative\, prayerful style of Bible study that focuses on how God is speaking to us through our questions\, responses\, curiosities and doubts as we engage Scripture.  \nThe study is followed by a brief\, optional service of noonday prayer. \nJoin in any Wednesday at 11 am. No previous preparation is required. The Zoom link is distributed via our weekly email newsletter (or contact the parish office). \n 
URL:https://stjameshydepark.org/event/bible-study-2024/2024-04-24/
LOCATION:Online
CATEGORIES:Christian Formation
ATTACH;FMTTYPE=image/png:https://stjameshydepark.org/wp-content/uploads/2024/05/Bible-Study.png
END:VEVENT
BEGIN:VEVENT
DTSTART;TZID=America/New_York:20240424T183000
DTEND;TZID=America/New_York:20240424T193000
DTSTAMP:20260425T093835
CREATED:20240112T175112Z
LAST-MODIFIED:20240112T175307Z
UID:10003079-1713983400-1713987000@stjameshydepark.org
SUMMARY:Evening Prayer (Remote)
DESCRIPTION:
URL:https://stjameshydepark.org/event/evening-prayer-remote-2-2/2024-04-24/
LOCATION:Online
CATEGORIES:Worship
END:VEVENT
BEGIN:VEVENT
DTSTART;TZID=America/New_York:20240424T190000
DTEND;TZID=America/New_York:20240424T200000
DTSTAMP:20260425T093835
CREATED:20240216T180456Z
LAST-MODIFIED:20240218T205501Z
UID:10003546-1713985200-1713988800@stjameshydepark.org
SUMMARY:[New Deal] Adult Tap (Parish Hall)
DESCRIPTION:
URL:https://stjameshydepark.org/event/adult-tap-parish-hall-2/2024-04-24/
LOCATION:St. James’ Episcopal Church\, 4526 Albany Post Rd.\, Hyde Park\, NY\, 12538\, United States
CATEGORIES:New Deal
END:VEVENT
BEGIN:VEVENT
DTSTART;TZID=America/New_York:20240424T190000
DTEND;TZID=America/New_York:20240424T210000
DTSTAMP:20260425T093835
CREATED:20240117T162621Z
LAST-MODIFIED:20240117T211034Z
UID:10003342-1713985200-1713992400@stjameshydepark.org
SUMMARY:Vestry Meeting (Wilks Room)
DESCRIPTION:
URL:https://stjameshydepark.org/event/vestry-meetings-2024/2024-04-24/
LOCATION:St. James’ Episcopal Church\, 4526 Albany Post Rd.\, Hyde Park\, NY\, 12538\, United States
CATEGORIES:General
END:VEVENT
BEGIN:VEVENT
DTSTART;TZID=America/New_York:20240425T090000
DTEND;TZID=America/New_York:20240425T150000
DTSTAMP:20260425T093835
CREATED:20240315T172619Z
LAST-MODIFIED:20240416T124722Z
UID:10003751-1714035600-1714057200@stjameshydepark.org
SUMMARY:Painting (Wilks Room)
DESCRIPTION:
URL:https://stjameshydepark.org/event/painting-wilks-room/2024-04-25/
LOCATION:St. James’ Episcopal Church\, 4526 Albany Post Rd.\, Hyde Park\, NY\, 12538\, United States
END:VEVENT
BEGIN:VEVENT
DTSTART;TZID=America/New_York:20240425T150000
DTEND;TZID=America/New_York:20240425T153000
DTSTAMP:20260425T093835
CREATED:20240419T150601Z
LAST-MODIFIED:20240419T150601Z
UID:10003753-1714057200-1714059000@stjameshydepark.org
SUMMARY:Barr Burial
DESCRIPTION:
URL:https://stjameshydepark.org/event/barr-burial/
LOCATION:St. James’ Episcopal Church\, 4526 Albany Post Rd.\, Hyde Park\, NY\, 12538\, United States
END:VEVENT
BEGIN:VEVENT
DTSTART;TZID=America/New_York:20240425T190000
DTEND;TZID=America/New_York:20240425T210000
DTSTAMP:20260425T093835
CREATED:20240425T130703Z
LAST-MODIFIED:20240425T130703Z
UID:10003771-1714071600-1714078800@stjameshydepark.org
SUMMARY:[New Deal] Shakespeare Auditions (Parish Hall)
DESCRIPTION:
URL:https://stjameshydepark.org/event/new-deal-shakespeare-auditions-parish-hall/
LOCATION:St. James’ Episcopal Church\, 4526 Albany Post Rd.\, Hyde Park\, NY\, 12538\, United States
CATEGORIES:New Deal
END:VEVENT
BEGIN:VEVENT
DTSTART;TZID=America/New_York:20240426T090000
DTEND;TZID=America/New_York:20240426T150000
DTSTAMP:20260425T093835
CREATED:20240315T172619Z
LAST-MODIFIED:20240416T124722Z
UID:10003752-1714122000-1714143600@stjameshydepark.org
SUMMARY:Painting (Wilks Room)
DESCRIPTION:
URL:https://stjameshydepark.org/event/painting-wilks-room/2024-04-26/
LOCATION:St. James’ Episcopal Church\, 4526 Albany Post Rd.\, Hyde Park\, NY\, 12538\, United States
END:VEVENT
BEGIN:VEVENT
DTSTART;TZID=America/New_York:20240426T103000
DTEND;TZID=America/New_York:20240426T120000
DTSTAMP:20260425T093835
CREATED:20240208T172616Z
LAST-MODIFIED:20240515T185656Z
UID:10003644-1714127400-1714132800@stjameshydepark.org
SUMMARY:Co-Working (Wilks Room or Parish Hall)
DESCRIPTION:
URL:https://stjameshydepark.org/event/co-working-wilks-room/2024-04-26/
LOCATION:St. James’ Episcopal Church\, 4526 Albany Post Rd.\, Hyde Park\, NY\, 12538\, United States
END:VEVENT
BEGIN:VEVENT
DTSTART;TZID=America/New_York:20240427T100000
DTEND;TZID=America/New_York:20240427T140000
DTSTAMP:20260425T093835
CREATED:20240317T171136Z
LAST-MODIFIED:20240317T171153Z
UID:10003620-1714212000-1714226400@stjameshydepark.org
SUMMARY:[New Deal] "Chicago" Rehearsal (Classrooms)
DESCRIPTION:
URL:https://stjameshydepark.org/event/new-deal-chicago-classrooms-apr-27/
LOCATION:St. James’ Episcopal Church\, 4526 Albany Post Rd.\, Hyde Park\, NY\, 12538\, United States
CATEGORIES:New Deal
END:VEVENT
BEGIN:VEVENT
DTSTART;TZID=America/New_York:20240427T183000
DTEND;TZID=America/New_York:20240427T193000
DTSTAMP:20260425T093835
CREATED:20240112T175527Z
LAST-MODIFIED:20240112T175653Z
UID:10003129-1714242600-1714246200@stjameshydepark.org
SUMMARY:Compline (Remote)
DESCRIPTION:
URL:https://stjameshydepark.org/event/compline-remote-3-2023-01-07-2/2024-04-27/
LOCATION:Online
CATEGORIES:Worship
END:VEVENT
END:VCALENDAR