BEGIN:VCALENDAR
VERSION:2.0
PRODID:-//St. James&#039; Episcopal Church - ECPv6.15.20//NONSGML v1.0//EN
CALSCALE:GREGORIAN
METHOD:PUBLISH
X-WR-CALNAME:St. James&#039; Episcopal Church
X-ORIGINAL-URL:https://stjameshydepark.org
X-WR-CALDESC:Events for St. James&#039; Episcopal Church
REFRESH-INTERVAL;VALUE=DURATION:PT1H
X-Robots-Tag:noindex
X-PUBLISHED-TTL:PT1H
BEGIN:VTIMEZONE
TZID:America/New_York
BEGIN:DAYLIGHT
TZOFFSETFROM:-0500
TZOFFSETTO:-0400
TZNAME:EDT
DTSTART:20230312T070000
END:DAYLIGHT
BEGIN:STANDARD
TZOFFSETFROM:-0400
TZOFFSETTO:-0500
TZNAME:EST
DTSTART:20231105T060000
END:STANDARD
BEGIN:DAYLIGHT
TZOFFSETFROM:-0500
TZOFFSETTO:-0400
TZNAME:EDT
DTSTART:20240310T070000
END:DAYLIGHT
BEGIN:STANDARD
TZOFFSETFROM:-0400
TZOFFSETTO:-0500
TZNAME:EST
DTSTART:20241103T060000
END:STANDARD
BEGIN:DAYLIGHT
TZOFFSETFROM:-0500
TZOFFSETTO:-0400
TZNAME:EDT
DTSTART:20250309T070000
END:DAYLIGHT
BEGIN:STANDARD
TZOFFSETFROM:-0400
TZOFFSETTO:-0500
TZNAME:EST
DTSTART:20251102T060000
END:STANDARD
END:VTIMEZONE
BEGIN:VEVENT
DTSTART;TZID=America/New_York:20240128T090000
DTEND;TZID=America/New_York:20240128T100000
DTSTAMP:20260425T125007
CREATED:20240102T011827Z
LAST-MODIFIED:20240102T012053Z
UID:10002731-1706432400-1706436000@stjameshydepark.org
SUMMARY:Holy Eucharist (Rite II) - ONE SERVICE TODAY at 9 am\, followed by Annual Meeting
DESCRIPTION:On Sunday\, January 28th\, we will have ONE SERVICE ONLY\, at 9 AM\, immediately followed by our Annual Meeting. Please join us! (No Sunday School or coffee hour\, but refreshments will be served at the Annual Meeting\, and there will be activities for kids too!)
URL:https://stjameshydepark.org/event/2024-annual-meeting-9am-service/
LOCATION:St. James’ Episcopal Church\, 4526 Albany Post Rd.\, Hyde Park\, NY\, 12538\, United States
CATEGORIES:Worship
END:VEVENT
BEGIN:VEVENT
DTSTART;TZID=America/New_York:20240128T090000
DTEND;TZID=America/New_York:20240128T120000
DTSTAMP:20260425T125007
CREATED:20240102T011947Z
LAST-MODIFIED:20240126T184410Z
UID:10002890-1706432400-1706443200@stjameshydepark.org
SUMMARY:2024 Annual Meeting
DESCRIPTION:St. James’ 2024 Annual Meeting will take place Sunday\, January 28th\, in the Parish Hall following a single combined service of Holy Eucharist at 9:00 a.m. The service (in the church) will be available by live-stream; the Annual Meeting will not be available online. \nSchedule: \n9:00 a.m. Polls open; Holy Eucharist (this is the only worship service for Sunday\, 1/28) \n10:00 a.m. All-Church photo (in front of the red doors\, weather permitting!) \n10:15 a.m. Annual Meeting in the Parish Hall\, with activities for youth K-12 upstairs \nElections at the Annual Meeting: \nElections shall be held at this Annual Meeting to fill the following expiring terms of office: \nWarden\, 2-year term (Andy Hall outgoing; Joe Gasparini standing for election)\nVestry member\, 3-year term (Jim Smyth outgoing; Russell Urban-Mead standing for election)\nVestry member\, 3-year term (Joe Gasparini outgoing; Maggie McNamara standing for election)\nVestry member\, 3-year term (Steve Gausepohl outgoing; Deborah Belding standing for election) \nPlease see candidate biographies below.  \nPolls will be open at 9:00 a.m. \nAnnual Meeting Materials \n\n2024 Parish Operating Budget and narrative summary. Thanks to the members of the 2024 budget task force: Treasurer Jim Smyth\, Junior Warden Mike Glancey\, Russell Urban-Mead\, and the Rev. Meredith K. Sanderson. The Budget will presented to the congregation at the Annual Meeting.\nBy-Laws of St. James Church – proposed amendments. These proposed amendments to our bylaws (internal operating rules) were distributed to the congregation for review last fall and presented at a Special Meeting of the congregation held on November 12\, 2023. At our Annual Meeting\, the congregation will vote on whether to adopt the proposed amendments. Adoption is recommended by the Vestry. Thank you to the bylaws review task force: Maggie McNamara\, Walter Koch\, Treasurer Jim Smyth\, Brian Rance\, Junior Warden Mike Glancey\, and the Rev. Meredith K. Sanderson.\nThe 20204 Annual Meeting Packet\, which includes the 2023 annual reports\, will be distributed at the Annual Meeting (and via email).\n\nYouth at the Annual Meeting: Our Sunday School teachers will host a hangout (with coloring\, fellowship\, DVDs and more) for youth age K-12 in the Parish House during the Annual Meeting. \nSt. James’ Medals \nThe St. James’ Medal is awarded at the Annual Meeting. Those who have been awarded the St. James’ medal in years past are encouraged to wear your medal on Annual Meeting day. \nThe deadline for 2023 annual reports was Friday\, January 19th. Please submit written reports to the office: stjames.hydepark@gmail.com. \nAs a member of St. James’\, our annual meeting is your opportunity to elect leaders to our Vestry\, to recognize all the people who contribute to our well-being as a church\, and to take stock of the state of our community of faith\, from formation to finances—so please do plan to attend. Your voice and your presence matter! \nVestry Candidate Biographies (2024) \nJoseph Gasparini—Candidate for Junior Warden\nMembers since 2020\, Karen and I are pleased to have found our spiritual and communal home at St. James’ Church\, among loving and faith-filled people\, where we have become active in various ministries. I have had the privilege to represent the congregation by serving on the Vestry these past three years. I can be found doing anything from flipping pancakes\, to chairing the Nursery School Committee\, to directing the Graveyard Tours\, and pitching in where there is a need. In planning to re-up for Vestry\, I was asked to consider running for Junior Warden. Respectfully\, I accept this candidacy\, and I ask for your support in order to serve you and the Church more deeply in these exciting times of challenge and change in the years ahead of us. \nRussell Urban-Mead—Candidate for Vestry\nThe Urban-Mead family began attending St. James’ in 2002. Russell has served previously on the Vestry and would be pleased to return to this service. In addition to being an active parish member fully supportive of St. James’ worship and ministry priorities\, Russell has a particular interest in our NY Diocesan commitment to carbon neutrality across our church facilities by 2030. At the pleasure of the Vestry\, and if needed\, he is also willing to be called to service as our St. James’ Treasurer. \nMargaret (Maggie) McNamara—Candidate for Vestry\nMaggie is a life-long Episcopalian from Poughkeepsie\, baptized at the now closed St. Andrews\, confirmed at St. Paul’s\, and then a communicant at Christ Church. The McNamara family began attending St. James’ Church about 10 years ago. Being residents of Staatsburg\, St. Margaret’s was our parish prior to moving to St. James’. While at St. Margaret’s\, Maggie served on the Vestry and as Clerk of the Vestry\, and she currently serves as Board member and Treasurer of Hyde Park Food Pantry. \nDeborah Belding—Candidate for Vestry \nI have been a member of St. James since 2003. During my time\, I have been on the Vestry\, joined our Outreach Committee a year later and stayed there until 2022. I also chaired Outreach for 10 years. I have been a lay reader for the 8:00 service for 13 years. I was a member of our Bicentennial Committee and assisted with the wonderful Fireside Chats that were held in our beautiful chapel for many years. \nMy two gifts that I have received from St. James are these: First\, being able to bring with others the beautiful Hyde Park Community Garden\, dedicated to my dear friend\, Allelu Kurten\, to life. After my son\, I have called this my second labor of love. And the last\, and most important\, is meeting Mr. Douglas Belding at a Lenten Breakfast 19 years ago. My husband and best pal\, and I couldn’t imagine my life without him! I’m excited to become a member of our Vestry once again.
URL:https://stjameshydepark.org/event/2024-annual-meeting/
LOCATION:St. James’ Episcopal Church\, 4526 Albany Post Rd.\, Hyde Park\, NY\, 12538\, United States
CATEGORIES:Governance
ATTACH;FMTTYPE=image/png:https://stjameshydepark.org/wp-content/uploads/2023/12/Annual-Meeting-2024.png
END:VEVENT
BEGIN:VEVENT
DTSTART;TZID=America/New_York:20240128T140000
DTEND;TZID=America/New_York:20240128T160000
DTSTAMP:20260425T125007
CREATED:20240125T133546Z
LAST-MODIFIED:20240125T133546Z
UID:10003384-1706450400-1706457600@stjameshydepark.org
SUMMARY:New Deal Book Club Movie Screening (Parish Hall)
DESCRIPTION:
URL:https://stjameshydepark.org/event/new-deal-book-club-movie-screening-parish-hall/
LOCATION:St. James’ Episcopal Church\, 4526 Albany Post Rd.\, Hyde Park\, NY\, 12538\, United States
CATEGORIES:New Deal
END:VEVENT
BEGIN:VEVENT
DTSTART;TZID=America/New_York:20240128T183000
DTEND;TZID=America/New_York:20240128T220000
DTSTAMP:20260425T125007
CREATED:20230622T132525Z
LAST-MODIFIED:20240112T181743Z
UID:10002108-1706466600-1706479200@stjameshydepark.org
SUMMARY:AA Ind. Anniversary (Parish Hall)
DESCRIPTION:
URL:https://stjameshydepark.org/event/aa-ind-anniversary-parish-hall/2024-01-28/
LOCATION:St. James’ Episcopal Church\, 4526 Albany Post Rd.\, Hyde Park\, NY\, 12538\, United States
END:VEVENT
BEGIN:VEVENT
DTSTART;VALUE=DATE:20240129
DTEND;VALUE=DATE:20240130
DTSTAMP:20260425T125007
CREATED:20240112T172541Z
LAST-MODIFIED:20240112T172541Z
UID:10002953-1706486400-1706572799@stjameshydepark.org
SUMMARY:Parish Office Closed
DESCRIPTION:
URL:https://stjameshydepark.org/event/parish-office-closed-4/2024-01-29/
LOCATION:St. James’ Episcopal Church\, 4526 Albany Post Rd.\, Hyde Park\, NY\, 12538\, United States
CATEGORIES:General
END:VEVENT
BEGIN:VEVENT
DTSTART;TZID=America/New_York:20240130T150000
DTEND;TZID=America/New_York:20240130T160000
DTSTAMP:20260425T125007
CREATED:20240105T160218Z
LAST-MODIFIED:20240105T160218Z
UID:10002894-1706626800-1706630400@stjameshydepark.org
SUMMARY:FDR Birthday Service (Rose Garden\, FDR Site)
DESCRIPTION:
URL:https://stjameshydepark.org/event/fdr-birthday-service-rose-garden-fdr-site/
LOCATION:St. James’ Episcopal Church\, 4526 Albany Post Rd.\, Hyde Park\, NY\, 12538\, United States
CATEGORIES:General
END:VEVENT
BEGIN:VEVENT
DTSTART;TZID=America/New_York:20240130T190000
DTEND;TZID=America/New_York:20240130T200000
DTSTAMP:20260425T125007
CREATED:20240112T173633Z
LAST-MODIFIED:20240216T165320Z
UID:10003016-1706641200-1706644800@stjameshydepark.org
SUMMARY:Boy Scouts Troop 80 (Parish Hall)
DESCRIPTION:
URL:https://stjameshydepark.org/event/boy-scouts-troop-80-parish-hall-rm-203-2-2/2024-01-30/
LOCATION:St. James’ Episcopal Church\, 4526 Albany Post Rd.\, Hyde Park\, NY\, 12538\, United States
CATEGORIES:General
END:VEVENT
BEGIN:VEVENT
DTSTART;TZID=America/New_York:20240130T190000
DTEND;TZID=America/New_York:20240130T210000
DTSTAMP:20260425T125007
CREATED:20240110T170452Z
LAST-MODIFIED:20240202T160223Z
UID:10002895-1706641200-1706648400@stjameshydepark.org
SUMMARY:Nursery School Committee Mtg. (Wilks Room)
DESCRIPTION:
URL:https://stjameshydepark.org/event/nursery-school-committee-mtg-wilks-room/2024-01-30/
LOCATION:St. James’ Episcopal Church\, 4526 Albany Post Rd.\, Hyde Park\, NY\, 12538\, United States
CATEGORIES:Nursery School
END:VEVENT
BEGIN:VEVENT
DTSTART;TZID=America/New_York:20240131T110000
DTEND;TZID=America/New_York:20240131T120000
DTSTAMP:20260425T125007
CREATED:20240203T231706Z
LAST-MODIFIED:20240508T020856Z
UID:10003405-1706698800-1706702400@stjameshydepark.org
SUMMARY:Bible Study
DESCRIPTION:Our weekly Bible study on Zoom usually focuses on the Gospel for the upcoming Sunday and is led by Mtr. Meredith. We practice a contemplative\, prayerful style of Bible study that focuses on how God is speaking to us through our questions\, responses\, curiosities and doubts as we engage Scripture.  \nThe study is followed by a brief\, optional service of noonday prayer. \nJoin in any Wednesday at 11 am. No previous preparation is required. The Zoom link is distributed via our weekly email newsletter (or contact the parish office). \n 
URL:https://stjameshydepark.org/event/bible-study-2024/2024-01-31/
LOCATION:Online
CATEGORIES:Christian Formation
ATTACH;FMTTYPE=image/png:https://stjameshydepark.org/wp-content/uploads/2024/05/Bible-Study.png
END:VEVENT
BEGIN:VEVENT
DTSTART;TZID=America/New_York:20240131T183000
DTEND;TZID=America/New_York:20240131T193000
DTSTAMP:20260425T125007
CREATED:20240112T175112Z
LAST-MODIFIED:20240112T175307Z
UID:10003068-1706725800-1706729400@stjameshydepark.org
SUMMARY:Evening Prayer (Remote)
DESCRIPTION:
URL:https://stjameshydepark.org/event/evening-prayer-remote-2-2/2024-01-31/
LOCATION:Online
CATEGORIES:Worship
END:VEVENT
BEGIN:VEVENT
DTSTART;TZID=America/New_York:20240201T173000
DTEND;TZID=America/New_York:20240201T183000
DTSTAMP:20260425T125007
CREATED:20231224T111840Z
LAST-MODIFIED:20240203T024014Z
UID:10002887-1706808600-1706812200@stjameshydepark.org
SUMMARY:The Good Book Club: Genesis (Wilks Room)
DESCRIPTION:The Good Book Club: Reading Genesis together \nSt. James’ will join our whole church in reading Genesis together in the season after the Epiphany! \nWe start on January 6th and continue through Ash Wednesday\, February 14th. Here’s how it works: \n\nAt home\, you can follow the reading schedule here: goodbookclub.org/readings\nSign up for a daily Good Book Club email (with reading reminders and more) at goodbookclub.org/readings.\nWe’ll meet on Thursdays\, 5:30-6:30 pm\, in the Wilks Room to discuss what we’re reading. We’ll start January 11th and wrap up on February 8th. Come as often as you can\, and don’t worry if you have to miss a week!\n\nThere’s more! \n\nOptional: You can add daily reflections to your scripture reading by getting a copy of Journey Through Genesis\nOptional: ChurchNext (a ministry associated with The Episcopal Church) is offering a free companion class on Genesis at 8 pm Tuesdays via Zoom\, starting January 9th. Sign up here: https://www.churchnext.tv/library/live-course-the-book-of-genesis-with-vicki-garvey-210550/553506/about/
URL:https://stjameshydepark.org/event/good-book-club-genesis/2024-02-01/
LOCATION:St. James’ Episcopal Church\, 4526 Albany Post Rd.\, Hyde Park\, NY\, 12538\, United States
CATEGORIES:Christian Formation
ATTACH;FMTTYPE=image/png:https://stjameshydepark.org/wp-content/uploads/2023/12/Good-Book-Club.png
END:VEVENT
BEGIN:VEVENT
DTSTART;TZID=America/New_York:20240202T173000
DTEND;TZID=America/New_York:20240202T193000
DTSTAMP:20260425T125007
CREATED:20240103T151212Z
LAST-MODIFIED:20240117T151316Z
UID:10002892-1706895000-1706902200@stjameshydepark.org
SUMMARY:Dinner and Taizé Service for Candlemas (Parish Hall and Church)
DESCRIPTION:On Friday\, February 2nd—the Feast of the Presentation\, aka Candlemas—please join us for a peaceful experience of Taizé prayer at 5:30 p.m. \nWe’ll start with a simple supper in the parish hall. Then the Rev. Masud Ibn Syedullah\, who has led many pilgrimages to the Taizé monastic community in France\, will teach us the Taizé way of prayer—simple\, chanted prayer-songs that anyone can sing. We’ll conclude our evening with a meditative prayer service in our candlelit church.  \nWhat is Taizé ? The ecumenical Taizé monastic community in France has engaged millions of pilgrims—mostly youth and young adults—with a message of peace and a meditative style of sung prayer. Come experience it for yourself! All ages welcome and everyone will be invited to participate (or not) in the singing to the extent they are comfortable.  \nWhat is Candlemas? Friday\, February 2nd is the Feast of the Presentation\, also known as Candlemas. This feast day comes forty days after Christmas and commemorates the presentation of baby Jesus and the purification of his mother Mary in the Jerusalem temple forty days after his birth. At his presentation\, the baby Jesus was greeted by Simeon (whose prayer upon encountering Jesus became the basis for the canticle nunc dimmittis (see page 120 in your Book of Common Prayer) and by the prophet Anna. Over time\, this celebration came to include the lighting and blessing of candles\, remembering Simeon’s prayer that Jesus is “a light to enlighten the nations.”
URL:https://stjameshydepark.org/event/taize-candlemas-2024/
LOCATION:St. James’ Episcopal Church\, 4526 Albany Post Rd.\, Hyde Park\, NY\, 12538\, United States
CATEGORIES:Christian Formation,Worship
ATTACH;FMTTYPE=image/png:https://stjameshydepark.org/wp-content/uploads/2024/01/Candlemas-2024.png
END:VEVENT
BEGIN:VEVENT
DTSTART;TZID=America/New_York:20240203T100000
DTEND;TZID=America/New_York:20240203T150000
DTSTAMP:20260425T125007
CREATED:20240117T151654Z
LAST-MODIFIED:20240117T210945Z
UID:10003334-1706954400-1706972400@stjameshydepark.org
SUMMARY:Vestry Retreat (Offsite)
DESCRIPTION:
URL:https://stjameshydepark.org/event/vestry-retreat-offsite/
LOCATION:Huntington House\, 1615 Rte 9W\, West Park\, NY\, 12493\, United States
CATEGORIES:Governance
END:VEVENT
BEGIN:VEVENT
DTSTART;TZID=America/New_York:20240203T130000
DTEND;TZID=America/New_York:20240203T170000
DTSTAMP:20260425T125007
CREATED:20240126T155048Z
LAST-MODIFIED:20240126T155048Z
UID:10003385-1706965200-1706979600@stjameshydepark.org
SUMMARY:Opening Reception for New Guinea Exhibit (Chapel)
DESCRIPTION:
URL:https://stjameshydepark.org/event/opening-reception-for-new-guinea-exhibit-chapel/
LOCATION:St. James’ Chapel\, 10 East Market Street\, Hyde Park\, NY\, 12567\, United States
CATEGORIES:General
END:VEVENT
BEGIN:VEVENT
DTSTART;TZID=America/New_York:20240203T150000
DTEND;TZID=America/New_York:20240203T170000
DTSTAMP:20260425T125007
CREATED:20240102T193247Z
LAST-MODIFIED:20240131T215500Z
UID:10002891-1706972400-1706979600@stjameshydepark.org
SUMMARY:American Guild of Organists Presents: Romanian Organ Landscape (Church with Reception in Parish Hall)
DESCRIPTION:
URL:https://stjameshydepark.org/event/presentation-on-romanian-organs-parish-hall/
LOCATION:St. James’ Episcopal Church\, 4526 Albany Post Rd.\, Hyde Park\, NY\, 12538\, United States
CATEGORIES:One Time Event
ATTACH;FMTTYPE=image/jpeg:https://stjameshydepark.org/wp-content/uploads/2024/01/Romanian-Organ-Landscape-scaled.jpg
END:VEVENT
BEGIN:VEVENT
DTSTART;TZID=America/New_York:20240203T183000
DTEND;TZID=America/New_York:20240203T193000
DTSTAMP:20260425T125007
CREATED:20240112T175527Z
LAST-MODIFIED:20240112T175653Z
UID:10003117-1706985000-1706988600@stjameshydepark.org
SUMMARY:Compline (Remote)
DESCRIPTION:
URL:https://stjameshydepark.org/event/compline-remote-3-2023-01-07-2/2024-02-03/
LOCATION:Online
CATEGORIES:Worship
END:VEVENT
END:VCALENDAR