BEGIN:VCALENDAR
VERSION:2.0
PRODID:-//St. James&#039; Episcopal Church - ECPv6.15.20//NONSGML v1.0//EN
CALSCALE:GREGORIAN
METHOD:PUBLISH
X-WR-CALNAME:St. James&#039; Episcopal Church
X-ORIGINAL-URL:https://stjameshydepark.org
X-WR-CALDESC:Events for St. James&#039; Episcopal Church
REFRESH-INTERVAL;VALUE=DURATION:PT1H
X-Robots-Tag:noindex
X-PUBLISHED-TTL:PT1H
BEGIN:VTIMEZONE
TZID:America/New_York
BEGIN:DAYLIGHT
TZOFFSETFROM:-0500
TZOFFSETTO:-0400
TZNAME:EDT
DTSTART:20220313T070000
END:DAYLIGHT
BEGIN:STANDARD
TZOFFSETFROM:-0400
TZOFFSETTO:-0500
TZNAME:EST
DTSTART:20221106T060000
END:STANDARD
BEGIN:DAYLIGHT
TZOFFSETFROM:-0500
TZOFFSETTO:-0400
TZNAME:EDT
DTSTART:20230312T070000
END:DAYLIGHT
BEGIN:STANDARD
TZOFFSETFROM:-0400
TZOFFSETTO:-0500
TZNAME:EST
DTSTART:20231105T060000
END:STANDARD
BEGIN:DAYLIGHT
TZOFFSETFROM:-0500
TZOFFSETTO:-0400
TZNAME:EDT
DTSTART:20240310T070000
END:DAYLIGHT
BEGIN:STANDARD
TZOFFSETFROM:-0400
TZOFFSETTO:-0500
TZNAME:EST
DTSTART:20241103T060000
END:STANDARD
END:VTIMEZONE
BEGIN:VEVENT
DTSTART;TZID=America/New_York:20231105T080000
DTEND;TZID=America/New_York:20231105T090000
DTSTAMP:20260425T180114
CREATED:20230110T171732Z
LAST-MODIFIED:20230709T232408Z
UID:10001572-1699171200-1699174800@stjameshydepark.org
SUMMARY:Holy Eucharist (Rite I)
DESCRIPTION:Join us Sundays at 8:00 a.m. for a celebration of Holy Eucharist (Communion). This is a quiet service\, usually without music\, though we often have a soloist with acoustic guitar playing before and after the service. The service uses Rite 1 from the 1979 Book of Common Prayer\, with traditional language.
URL:https://stjameshydepark.org/event/holy-eucharist-rite-i-2023-05-28/2023-11-05/
LOCATION:St. James’ Episcopal Church\, 4526 Albany Post Rd.\, Hyde Park\, NY\, 12538\, United States
CATEGORIES:Worship
END:VEVENT
BEGIN:VEVENT
DTSTART;TZID=America/New_York:20231105T100000
DTEND;TZID=America/New_York:20231105T110000
DTSTAMP:20260425T180114
CREATED:20231025T145615Z
LAST-MODIFIED:20231025T145616Z
UID:10002700-1699178400-1699182000@stjameshydepark.org
SUMMARY:Holy Eucharist (Rite II) with Baptisms for All Saints' Day ~ No Sunday School
DESCRIPTION:On Sunday\, November 5th\, we will observe the Feast of All Saints and baptize two children of God! \nNo Sunday School this Sunday; children are invited to join their families in church to celebrate the baptism. \nAbout the 10 am service: Join us Sundays at 10:00 a.m. for a celebration of Holy Eucharist (Communion). This service has music (usually organ and choir\, along with special guest musicians) and uses a variety of prayers and language from traditional to inclusive and expansive\, drawing from Rite II of the 1979 Book of Common Prayer\, Enriching Our Worship\, and other sources. Coffee hour in the Parish House usually follows this service. \n  \n 
URL:https://stjameshydepark.org/event/holy-eucharist-rite-ii-2023-06-04-3/
LOCATION:St. James’ Episcopal Church\, 4526 Albany Post Rd.\, Hyde Park\, NY\, 12538\, United States
CATEGORIES:General
END:VEVENT
BEGIN:VEVENT
DTSTART;TZID=America/New_York:20231105T183000
DTEND;TZID=America/New_York:20231105T210000
DTSTAMP:20260425T180114
CREATED:20230315T174027Z
LAST-MODIFIED:20231108T151435Z
UID:10001976-1699209000-1699218000@stjameshydepark.org
SUMMARY:AA Meeting (Parish Hall; Rm. 201)
DESCRIPTION:
URL:https://stjameshydepark.org/event/aa-meeting-parish-hall-rm-201/2023-11-05/
LOCATION:St. James’ Episcopal Church\, 4526 Albany Post Rd.\, Hyde Park\, NY\, 12538\, United States
END:VEVENT
BEGIN:VEVENT
DTSTART;VALUE=DATE:20231106
DTEND;VALUE=DATE:20231107
DTSTAMP:20260425T180114
CREATED:20220329T204444Z
LAST-MODIFIED:20230112T190336Z
UID:10001204-1699228800-1699315199@stjameshydepark.org
SUMMARY:Parish Office Closed
DESCRIPTION:
URL:https://stjameshydepark.org/event/parish-office-closed-2/2023-11-06/
LOCATION:NY
CATEGORIES:General
END:VEVENT
BEGIN:VEVENT
DTSTART;TZID=America/New_York:20231107T190000
DTEND;TZID=America/New_York:20231107T200000
DTSTAMP:20260425T180114
CREATED:20230113T151213Z
LAST-MODIFIED:20230316T161002Z
UID:10001886-1699383600-1699387200@stjameshydepark.org
SUMMARY:Boy Scouts Troop 80 (Parish Hall; Rm. 203)
DESCRIPTION:
URL:https://stjameshydepark.org/event/boy-scouts-troop-80-parish-hall-rm-203-2/2023-11-07/
LOCATION:St. James’ Episcopal Church\, 4526 Albany Post Rd.\, Hyde Park\, NY\, 12538\, United States
END:VEVENT
BEGIN:VEVENT
DTSTART;TZID=America/New_York:20231107T190000
DTEND;TZID=America/New_York:20231107T200000
DTSTAMP:20260425T180114
CREATED:20231017T142812Z
LAST-MODIFIED:20231017T142812Z
UID:10002693-1699383600-1699387200@stjameshydepark.org
SUMMARY:Boy Scouts (Wilks Room)
DESCRIPTION:
URL:https://stjameshydepark.org/event/boy-scouts-wilks-room/2023-11-07/
LOCATION:St. James’ Episcopal Church\, 4526 Albany Post Rd.\, Hyde Park\, NY\, 12538\, United States
END:VEVENT
BEGIN:VEVENT
DTSTART;TZID=America/New_York:20231108T110000
DTEND;TZID=America/New_York:20231108T120000
DTSTAMP:20260425T180114
CREATED:20220329T172814Z
LAST-MODIFIED:20230112T193257Z
UID:10001843-1699441200-1699444800@stjameshydepark.org
SUMMARY:Bible Study (Zoom)
DESCRIPTION:Our weekly Bible study takes place on Zoom! Join in every Wednesday at 11 a.m. for prayer\, conversation and reflection on the readings for the upcoming Sunday. The Zoom link will be distributed via our Google Group\, or contact the parish office. 
URL:https://stjameshydepark.org/event/bible-study-2023-02-15-2023-09-13/2023-11-08/
LOCATION:Online
CATEGORIES:General
END:VEVENT
BEGIN:VEVENT
DTSTART;TZID=America/New_York:20231108T180000
DTEND;TZID=America/New_York:20231108T200000
DTSTAMP:20260425T180114
CREATED:20230825T155543Z
LAST-MODIFIED:20230926T163608Z
UID:10002657-1699466400-1699473600@stjameshydepark.org
SUMMARY:Womens' Group (Antonella's)
DESCRIPTION:
URL:https://stjameshydepark.org/event/womens-group-antonellas/2023-11-08/
LOCATION:Antonella’s Restaurant\, Hyde Park\, NY\, 4246 Albany Post Rd #1700\, Hyde Park\, NY\, 12538\, United States
CATEGORIES:Women's Group
END:VEVENT
BEGIN:VEVENT
DTSTART;TZID=America/New_York:20231108T183000
DTEND;TZID=America/New_York:20231108T193000
DTSTAMP:20260425T180114
CREATED:20230112T192240Z
LAST-MODIFIED:20230926T155941Z
UID:10001824-1699468200-1699471800@stjameshydepark.org
SUMMARY:Evening Prayer (Remote)
DESCRIPTION:
URL:https://stjameshydepark.org/event/evening-prayer-remote-2/2023-11-08/
LOCATION:Online
CATEGORIES:Worship
END:VEVENT
BEGIN:VEVENT
DTSTART;VALUE=DATE:20231111
DTEND;VALUE=DATE:20231112
DTSTAMP:20260425T180114
CREATED:20231018T130819Z
LAST-MODIFIED:20231018T130819Z
UID:10002697-1699660800-1699747199@stjameshydepark.org
SUMMARY:Diocesan Convention
DESCRIPTION:
URL:https://stjameshydepark.org/event/diocesan-convention/
LOCATION:Cathedral of St. John the Divine\, 1047 Amsterdam Ave\, New York\, NY\, 10025\, United States
CATEGORIES:One Time Event
END:VEVENT
BEGIN:VEVENT
DTSTART;TZID=America/New_York:20231111T120000
DTEND;TZID=America/New_York:20231111T150000
DTSTAMP:20260425T180114
CREATED:20231104T170006Z
LAST-MODIFIED:20231104T170051Z
UID:10002673-1699704000-1699714800@stjameshydepark.org
SUMMARY:Youth Group Outreach Meal Preparation
DESCRIPTION:Youth Group Outreach Day\nJoin St. James’ Youth Group on Saturday\, November 11th\, noon-3 pm in the Parish Hall. We’re cooking a Thanksgiving-style meal for our neighbors experiencing homelessness. The hot meal will be distributed by at a shelter in downtown Poughkeepsie Saturday evening. For details or to volunteer as a chaperone please contact Kerri Palermo or Mtr. Meredith.
URL:https://stjameshydepark.org/event/youth-group-outreach-meal-preparation/
LOCATION:St. James’ Episcopal Church\, 4526 Albany Post Rd.\, Hyde Park\, NY\, 12538\, United States
CATEGORIES:Kids & Youth,Outreach
END:VEVENT
END:VCALENDAR