BEGIN:VCALENDAR
VERSION:2.0
PRODID:-//St. James&#039; Episcopal Church - ECPv6.15.20//NONSGML v1.0//EN
CALSCALE:GREGORIAN
METHOD:PUBLISH
X-ORIGINAL-URL:https://stjameshydepark.org
X-WR-CALDESC:Events for St. James&#039; Episcopal Church
REFRESH-INTERVAL;VALUE=DURATION:PT1H
X-Robots-Tag:noindex
X-PUBLISHED-TTL:PT1H
BEGIN:VTIMEZONE
TZID:America/New_York
BEGIN:DAYLIGHT
TZOFFSETFROM:-0500
TZOFFSETTO:-0400
TZNAME:EDT
DTSTART:20220313T070000
END:DAYLIGHT
BEGIN:STANDARD
TZOFFSETFROM:-0400
TZOFFSETTO:-0500
TZNAME:EST
DTSTART:20221106T060000
END:STANDARD
BEGIN:DAYLIGHT
TZOFFSETFROM:-0500
TZOFFSETTO:-0400
TZNAME:EDT
DTSTART:20230312T070000
END:DAYLIGHT
BEGIN:STANDARD
TZOFFSETFROM:-0400
TZOFFSETTO:-0500
TZNAME:EST
DTSTART:20231105T060000
END:STANDARD
BEGIN:DAYLIGHT
TZOFFSETFROM:-0500
TZOFFSETTO:-0400
TZNAME:EDT
DTSTART:20240310T070000
END:DAYLIGHT
BEGIN:STANDARD
TZOFFSETFROM:-0400
TZOFFSETTO:-0500
TZNAME:EST
DTSTART:20241103T060000
END:STANDARD
END:VTIMEZONE
BEGIN:VEVENT
DTSTART;TZID=America/New_York:20230806T080000
DTEND;TZID=America/New_York:20230806T090000
DTSTAMP:20260425T220629
CREATED:20230110T171732Z
LAST-MODIFIED:20230709T232408Z
UID:10001559-1691308800-1691312400@stjameshydepark.org
SUMMARY:Holy Eucharist (Rite I)
DESCRIPTION:Join us Sundays at 8:00 a.m. for a celebration of Holy Eucharist (Communion). This is a quiet service\, usually without music\, though we often have a soloist with acoustic guitar playing before and after the service. The service uses Rite 1 from the 1979 Book of Common Prayer\, with traditional language.
URL:https://stjameshydepark.org/event/holy-eucharist-rite-i-2023-05-28/2023-08-06/
LOCATION:St. James’ Episcopal Church\, 4526 Albany Post Rd.\, Hyde Park\, NY\, 12538\, United States
CATEGORIES:Worship
END:VEVENT
BEGIN:VEVENT
DTSTART;TZID=America/New_York:20230806T100000
DTEND;TZID=America/New_York:20230806T113000
DTSTAMP:20260425T220629
CREATED:20230803T154129Z
LAST-MODIFIED:20230803T154129Z
UID:10002148-1691316000-1691321400@stjameshydepark.org
SUMMARY:Holy Eucharist\, Rite II (Summer—Coffee Hour & Sunday School are on vacation!)
DESCRIPTION:Join us Sundays at 10:00 a.m. for a celebration of Holy Eucharist (Communion). This service has music (usually organ and choir\, along with special guest musicians) and uses a variety of prayers and language from traditional to inclusive and expansive\, drawing from Rite II of the 1979 Book of Common Prayer\, Enriching Our Worship\, and other sources. \nNote: In the summer\, coffee hour and Sunday School are on vacation!
URL:https://stjameshydepark.org/event/holy-eucharist-ii-summer-2023-3/
LOCATION:St. James’ Episcopal Church\, 4526 Albany Post Rd.\, Hyde Park\, NY\, 12538\, United States
CATEGORIES:Worship
END:VEVENT
BEGIN:VEVENT
DTSTART;TZID=America/New_York:20230806T183000
DTEND;TZID=America/New_York:20230806T210000
DTSTAMP:20260425T220629
CREATED:20230315T174027Z
LAST-MODIFIED:20231108T151435Z
UID:10001963-1691346600-1691355600@stjameshydepark.org
SUMMARY:AA Meeting (Parish Hall; Rm. 201)
DESCRIPTION:
URL:https://stjameshydepark.org/event/aa-meeting-parish-hall-rm-201/2023-08-06/
LOCATION:St. James’ Episcopal Church\, 4526 Albany Post Rd.\, Hyde Park\, NY\, 12538\, United States
END:VEVENT
BEGIN:VEVENT
DTSTART;VALUE=DATE:20230807
DTEND;VALUE=DATE:20230808
DTSTAMP:20260425T220629
CREATED:20220329T204444Z
LAST-MODIFIED:20230112T190336Z
UID:10001191-1691366400-1691452799@stjameshydepark.org
SUMMARY:Parish Office Closed
DESCRIPTION:
URL:https://stjameshydepark.org/event/parish-office-closed-2/2023-08-07/
LOCATION:NY
CATEGORIES:General
END:VEVENT
BEGIN:VEVENT
DTSTART;TZID=America/New_York:20230809T110000
DTEND;TZID=America/New_York:20230809T120000
DTSTAMP:20260425T220629
CREATED:20230803T153726Z
LAST-MODIFIED:20230803T153728Z
UID:10001718-1691578800-1691582400@stjameshydepark.org
SUMMARY:No Bible Study this week
DESCRIPTION:Weekly Zoom Bible study resumes on Wednesdays at 11 am beginning August 30th. 
URL:https://stjameshydepark.org/event/bible-study-2023-02-15-4/
LOCATION:Online
CATEGORIES:General
END:VEVENT
BEGIN:VEVENT
DTSTART;TZID=America/New_York:20230809T183000
DTEND;TZID=America/New_York:20230809T193000
DTSTAMP:20260425T220629
CREATED:20230112T192240Z
LAST-MODIFIED:20230926T155941Z
UID:10001811-1691605800-1691609400@stjameshydepark.org
SUMMARY:Evening Prayer (Remote)
DESCRIPTION:
URL:https://stjameshydepark.org/event/evening-prayer-remote-2/2023-08-09/
LOCATION:Online
CATEGORIES:Worship
END:VEVENT
BEGIN:VEVENT
DTSTART;TZID=America/New_York:20230811T190000
DTEND;TZID=America/New_York:20230811T203000
DTSTAMP:20260425T220629
CREATED:20230804T152432Z
LAST-MODIFIED:20230804T153303Z
UID:10002216-1691780400-1691785800@stjameshydepark.org
SUMMARY:Shakespeare in the Meditation Garden - "The Tempest"
DESCRIPTION:St. James’ hosts the New Deal Creative Arts Center’s production of Shakespeare’s The Tempest in our Meditation Garden. Details and tickets: https://www.simpletix.com/e/new-deal-presents-the-tempest-tickets-138367
URL:https://stjameshydepark.org/event/shakespeare-in-the-meditation-garden-the-tempest/2023-08-11/
LOCATION:St. James’ Episcopal Church\, 4526 Albany Post Rd.\, Hyde Park\, NY\, 12538\, United States
CATEGORIES:New Deal
ATTACH;FMTTYPE=image/jpeg:https://stjameshydepark.org/wp-content/uploads/2023/08/tempest.jpeg
END:VEVENT
BEGIN:VEVENT
DTSTART;TZID=America/New_York:20230812T120000
DTEND;TZID=America/New_York:20230812T150000
DTSTAMP:20260425T220629
CREATED:20230727T135803Z
LAST-MODIFIED:20230727T135803Z
UID:10002206-1691841600-1691852400@stjameshydepark.org
SUMMARY:Cooking for the Homeless (Parish Hall Kitchen)
DESCRIPTION:
URL:https://stjameshydepark.org/event/cooking-for-the-homeless-parish-hall-kitchen/
LOCATION:St. James’ Episcopal Church\, 4526 Albany Post Rd.\, Hyde Park\, NY\, 12538\, United States
CATEGORIES:Outreach
END:VEVENT
BEGIN:VEVENT
DTSTART;TZID=America/New_York:20230812T183000
DTEND;TZID=America/New_York:20230812T193000
DTSTAMP:20260425T220629
CREATED:20230112T191110Z
LAST-MODIFIED:20231102T135511Z
UID:10001629-1691865000-1691868600@stjameshydepark.org
SUMMARY:Compline (Remote)
DESCRIPTION:
URL:https://stjameshydepark.org/event/compline-remote-3-2023-01-07/2023-08-12/
LOCATION:Online
CATEGORIES:Worship
END:VEVENT
BEGIN:VEVENT
DTSTART;TZID=America/New_York:20230812T190000
DTEND;TZID=America/New_York:20230812T203000
DTSTAMP:20260425T220629
CREATED:20230804T152432Z
LAST-MODIFIED:20230804T153303Z
UID:10002217-1691866800-1691872200@stjameshydepark.org
SUMMARY:Shakespeare in the Meditation Garden - "The Tempest"
DESCRIPTION:St. James’ hosts the New Deal Creative Arts Center’s production of Shakespeare’s The Tempest in our Meditation Garden. Details and tickets: https://www.simpletix.com/e/new-deal-presents-the-tempest-tickets-138367
URL:https://stjameshydepark.org/event/shakespeare-in-the-meditation-garden-the-tempest/2023-08-12/
LOCATION:St. James’ Episcopal Church\, 4526 Albany Post Rd.\, Hyde Park\, NY\, 12538\, United States
CATEGORIES:New Deal
ATTACH;FMTTYPE=image/jpeg:https://stjameshydepark.org/wp-content/uploads/2023/08/tempest.jpeg
END:VEVENT
END:VCALENDAR