BEGIN:VCALENDAR
VERSION:2.0
PRODID:-//St. James&#039; Episcopal Church - ECPv6.15.20//NONSGML v1.0//EN
CALSCALE:GREGORIAN
METHOD:PUBLISH
X-WR-CALNAME:St. James&#039; Episcopal Church
X-ORIGINAL-URL:https://stjameshydepark.org
X-WR-CALDESC:Events for St. James&#039; Episcopal Church
REFRESH-INTERVAL;VALUE=DURATION:PT1H
X-Robots-Tag:noindex
X-PUBLISHED-TTL:PT1H
BEGIN:VTIMEZONE
TZID:America/New_York
BEGIN:DAYLIGHT
TZOFFSETFROM:-0500
TZOFFSETTO:-0400
TZNAME:EDT
DTSTART:20220313T070000
END:DAYLIGHT
BEGIN:STANDARD
TZOFFSETFROM:-0400
TZOFFSETTO:-0500
TZNAME:EST
DTSTART:20221106T060000
END:STANDARD
BEGIN:DAYLIGHT
TZOFFSETFROM:-0500
TZOFFSETTO:-0400
TZNAME:EDT
DTSTART:20230312T070000
END:DAYLIGHT
BEGIN:STANDARD
TZOFFSETFROM:-0400
TZOFFSETTO:-0500
TZNAME:EST
DTSTART:20231105T060000
END:STANDARD
BEGIN:DAYLIGHT
TZOFFSETFROM:-0500
TZOFFSETTO:-0400
TZNAME:EDT
DTSTART:20240310T070000
END:DAYLIGHT
BEGIN:STANDARD
TZOFFSETFROM:-0400
TZOFFSETTO:-0500
TZNAME:EST
DTSTART:20241103T060000
END:STANDARD
END:VTIMEZONE
BEGIN:VEVENT
DTSTART;TZID=America/New_York:20230702T080000
DTEND;TZID=America/New_York:20230702T090000
DTSTAMP:20260425T232210
CREATED:20230110T171732Z
LAST-MODIFIED:20230709T232408Z
UID:10001554-1688284800-1688288400@stjameshydepark.org
SUMMARY:Holy Eucharist (Rite I)
DESCRIPTION:Join us Sundays at 8:00 a.m. for a celebration of Holy Eucharist (Communion). This is a quiet service\, usually without music\, though we often have a soloist with acoustic guitar playing before and after the service. The service uses Rite 1 from the 1979 Book of Common Prayer\, with traditional language.
URL:https://stjameshydepark.org/event/holy-eucharist-rite-i-2023-05-28/2023-07-02/
LOCATION:St. James’ Episcopal Church\, 4526 Albany Post Rd.\, Hyde Park\, NY\, 12538\, United States
CATEGORIES:Worship
END:VEVENT
BEGIN:VEVENT
DTSTART;TZID=America/New_York:20230702T100000
DTEND;TZID=America/New_York:20230702T113000
DTSTAMP:20260425T232210
CREATED:20230709T233140Z
LAST-MODIFIED:20230709T233458Z
UID:10002142-1688292000-1688297400@stjameshydepark.org
SUMMARY:Holy Eucharist\, Rite II (Summer—Coffee Hour & Sunday School are on vacation!)
DESCRIPTION:Join us Sundays at 10:00 a.m. for a celebration of Holy Eucharist (Communion). This service has music (usually organ and choir\, along with special guest musicians) and uses a variety of prayers and language from traditional to inclusive and expansive\, drawing from Rite II of the 1979 Book of Common Prayer\, Enriching Our Worship\, and other sources. \nNote: In the summer\, coffee hour and Sunday School are on vacation!
URL:https://stjameshydepark.org/event/holy-eucharist-ii-summer-2023/2023-07-02/
LOCATION:St. James’ Episcopal Church\, 4526 Albany Post Rd.\, Hyde Park\, NY\, 12538\, United States
CATEGORIES:Worship
END:VEVENT
BEGIN:VEVENT
DTSTART;TZID=America/New_York:20230702T183000
DTEND;TZID=America/New_York:20230702T210000
DTSTAMP:20260425T232210
CREATED:20230315T174027Z
LAST-MODIFIED:20231108T151435Z
UID:10001959-1688322600-1688331600@stjameshydepark.org
SUMMARY:AA Meeting (Parish Hall; Rm. 201)
DESCRIPTION:
URL:https://stjameshydepark.org/event/aa-meeting-parish-hall-rm-201/2023-07-02/
LOCATION:St. James’ Episcopal Church\, 4526 Albany Post Rd.\, Hyde Park\, NY\, 12538\, United States
END:VEVENT
BEGIN:VEVENT
DTSTART;VALUE=DATE:20230703
DTEND;VALUE=DATE:20230704
DTSTAMP:20260425T232210
CREATED:20220329T204444Z
LAST-MODIFIED:20230112T190336Z
UID:10001186-1688342400-1688428799@stjameshydepark.org
SUMMARY:Parish Office Closed
DESCRIPTION:
URL:https://stjameshydepark.org/event/parish-office-closed-2/2023-07-03/
LOCATION:NY
CATEGORIES:General
END:VEVENT
BEGIN:VEVENT
DTSTART;VALUE=DATE:20230704
DTEND;VALUE=DATE:20230705
DTSTAMP:20260425T232210
CREATED:20230628T170804Z
LAST-MODIFIED:20230628T170829Z
UID:10002123-1688428800-1688515199@stjameshydepark.org
SUMMARY:Parish Office closed for Independence Day
DESCRIPTION:
URL:https://stjameshydepark.org/event/parish-office-closed-for-independence-day/
LOCATION:St. James’ Episcopal Church\, 4526 Albany Post Rd.\, Hyde Park\, NY\, 12538\, United States
CATEGORIES:General
END:VEVENT
BEGIN:VEVENT
DTSTART;TZID=America/New_York:20230705T110000
DTEND;TZID=America/New_York:20230705T120000
DTSTAMP:20260425T232210
CREATED:20230628T170646Z
LAST-MODIFIED:20230628T170725Z
UID:10001713-1688554800-1688558400@stjameshydepark.org
SUMMARY:No Bible Study on July 5\, 2023—See you next week!
DESCRIPTION:
URL:https://stjameshydepark.org/event/bible-study-2023-02-15-3/
LOCATION:Online
CATEGORIES:General
END:VEVENT
BEGIN:VEVENT
DTSTART;TZID=America/New_York:20230705T183000
DTEND;TZID=America/New_York:20230705T193000
DTSTAMP:20260425T232210
CREATED:20230112T192240Z
LAST-MODIFIED:20230926T155941Z
UID:10001806-1688581800-1688585400@stjameshydepark.org
SUMMARY:Evening Prayer (Remote)
DESCRIPTION:
URL:https://stjameshydepark.org/event/evening-prayer-remote-2/2023-07-05/
LOCATION:Online
CATEGORIES:Worship
END:VEVENT
BEGIN:VEVENT
DTSTART;TZID=America/New_York:20230707T080000
DTEND;TZID=America/New_York:20230709T170000
DTSTAMP:20260425T232210
CREATED:20230525T150017Z
LAST-MODIFIED:20230525T150041Z
UID:10002067-1688716800-1688922000@stjameshydepark.org
SUMMARY:Graduation Party (Off-site - borrow tables and chairs)
DESCRIPTION:
URL:https://stjameshydepark.org/event/graduation-party-borrow-tables-and-chairs/
LOCATION:St. James’ Episcopal Church\, 4526 Albany Post Rd.\, Hyde Park\, NY\, 12538\, United States
END:VEVENT
BEGIN:VEVENT
DTSTART;TZID=America/New_York:20230708T090000
DTEND;TZID=America/New_York:20230708T150000
DTSTAMP:20260425T232210
CREATED:20230526T131256Z
LAST-MODIFIED:20230926T155711Z
UID:10001915-1688806800-1688828400@stjameshydepark.org
SUMMARY:Yellow Chapel Emporium (Chapel Parking Lot)
DESCRIPTION:
URL:https://stjameshydepark.org/event/emporium-chapel-parking-lot-2/2023-07-08/
LOCATION:St. James’ Chapel\, 10 East Market Street\, Hyde Park\, NY\, 12567\, United States
CATEGORIES:Community Garden
END:VEVENT
BEGIN:VEVENT
DTSTART;TZID=America/New_York:20230708T183000
DTEND;TZID=America/New_York:20230708T193000
DTSTAMP:20260425T232210
CREATED:20230112T191110Z
LAST-MODIFIED:20231102T135511Z
UID:10001624-1688841000-1688844600@stjameshydepark.org
SUMMARY:Compline (Remote)
DESCRIPTION:
URL:https://stjameshydepark.org/event/compline-remote-3-2023-01-07/2023-07-08/
LOCATION:Online
CATEGORIES:Worship
END:VEVENT
END:VCALENDAR