BEGIN:VCALENDAR
VERSION:2.0
PRODID:-//St. James&#039; Episcopal Church - ECPv6.15.20//NONSGML v1.0//EN
CALSCALE:GREGORIAN
METHOD:PUBLISH
X-WR-CALNAME:St. James&#039; Episcopal Church
X-ORIGINAL-URL:https://stjameshydepark.org
X-WR-CALDESC:Events for St. James&#039; Episcopal Church
REFRESH-INTERVAL;VALUE=DURATION:PT1H
X-Robots-Tag:noindex
X-PUBLISHED-TTL:PT1H
BEGIN:VTIMEZONE
TZID:America/New_York
BEGIN:DAYLIGHT
TZOFFSETFROM:-0500
TZOFFSETTO:-0400
TZNAME:EDT
DTSTART:20250309T070000
END:DAYLIGHT
BEGIN:STANDARD
TZOFFSETFROM:-0400
TZOFFSETTO:-0500
TZNAME:EST
DTSTART:20251102T060000
END:STANDARD
BEGIN:DAYLIGHT
TZOFFSETFROM:-0500
TZOFFSETTO:-0400
TZNAME:EDT
DTSTART:20260308T070000
END:DAYLIGHT
BEGIN:STANDARD
TZOFFSETFROM:-0400
TZOFFSETTO:-0500
TZNAME:EST
DTSTART:20261101T060000
END:STANDARD
BEGIN:DAYLIGHT
TZOFFSETFROM:-0500
TZOFFSETTO:-0400
TZNAME:EDT
DTSTART:20270314T070000
END:DAYLIGHT
BEGIN:STANDARD
TZOFFSETFROM:-0400
TZOFFSETTO:-0500
TZNAME:EST
DTSTART:20271107T060000
END:STANDARD
END:VTIMEZONE
BEGIN:VEVENT
DTSTART;TZID=America/New_York:20260426T183000
DTEND;TZID=America/New_York:20260426T210000
DTSTAMP:20260423T120352
CREATED:20260410T125621Z
LAST-MODIFIED:20260410T125621Z
UID:10007923-1777228200-1777237200@stjameshydepark.org
SUMMARY:Hyde Park Group AA (Parish Hall\, Rm. 201)
DESCRIPTION:
URL:https://stjameshydepark.org/event/hyde-park-group-aa-parish-hall-rm-201-2/2026-04-26/
LOCATION:St. James’ Episcopal Church\, 4526 Albany Post Rd.\, Hyde Park\, NY\, 12538\, United States
END:VEVENT
BEGIN:VEVENT
DTSTART;TZID=America/New_York:20260503T183000
DTEND;TZID=America/New_York:20260503T210000
DTSTAMP:20260423T120352
CREATED:20260410T125621Z
LAST-MODIFIED:20260410T125621Z
UID:10007924-1777833000-1777842000@stjameshydepark.org
SUMMARY:Hyde Park Group AA (Parish Hall\, Rm. 201)
DESCRIPTION:
URL:https://stjameshydepark.org/event/hyde-park-group-aa-parish-hall-rm-201-2/2026-05-03/
LOCATION:St. James’ Episcopal Church\, 4526 Albany Post Rd.\, Hyde Park\, NY\, 12538\, United States
END:VEVENT
BEGIN:VEVENT
DTSTART;TZID=America/New_York:20260510T183000
DTEND;TZID=America/New_York:20260510T210000
DTSTAMP:20260423T120352
CREATED:20260410T125621Z
LAST-MODIFIED:20260410T125621Z
UID:10007925-1778437800-1778446800@stjameshydepark.org
SUMMARY:Hyde Park Group AA (Parish Hall\, Rm. 201)
DESCRIPTION:
URL:https://stjameshydepark.org/event/hyde-park-group-aa-parish-hall-rm-201-2/2026-05-10/
LOCATION:St. James’ Episcopal Church\, 4526 Albany Post Rd.\, Hyde Park\, NY\, 12538\, United States
END:VEVENT
BEGIN:VEVENT
DTSTART;TZID=America/New_York:20260517T183000
DTEND;TZID=America/New_York:20260517T210000
DTSTAMP:20260423T120352
CREATED:20260410T125621Z
LAST-MODIFIED:20260410T125621Z
UID:10007926-1779042600-1779051600@stjameshydepark.org
SUMMARY:Hyde Park Group AA (Parish Hall\, Rm. 201)
DESCRIPTION:
URL:https://stjameshydepark.org/event/hyde-park-group-aa-parish-hall-rm-201-2/2026-05-17/
LOCATION:St. James’ Episcopal Church\, 4526 Albany Post Rd.\, Hyde Park\, NY\, 12538\, United States
END:VEVENT
BEGIN:VEVENT
DTSTART;TZID=America/New_York:20260524T183000
DTEND;TZID=America/New_York:20260524T210000
DTSTAMP:20260423T120352
CREATED:20260410T125621Z
LAST-MODIFIED:20260410T125621Z
UID:10007927-1779647400-1779656400@stjameshydepark.org
SUMMARY:Hyde Park Group AA (Parish Hall\, Rm. 201)
DESCRIPTION:
URL:https://stjameshydepark.org/event/hyde-park-group-aa-parish-hall-rm-201-2/2026-05-24/
LOCATION:St. James’ Episcopal Church\, 4526 Albany Post Rd.\, Hyde Park\, NY\, 12538\, United States
END:VEVENT
BEGIN:VEVENT
DTSTART;TZID=America/New_York:20260531T183000
DTEND;TZID=America/New_York:20260531T210000
DTSTAMP:20260423T120352
CREATED:20260410T125621Z
LAST-MODIFIED:20260410T125621Z
UID:10007928-1780252200-1780261200@stjameshydepark.org
SUMMARY:Hyde Park Group AA (Parish Hall\, Rm. 201)
DESCRIPTION:
URL:https://stjameshydepark.org/event/hyde-park-group-aa-parish-hall-rm-201-2/2026-05-31/
LOCATION:St. James’ Episcopal Church\, 4526 Albany Post Rd.\, Hyde Park\, NY\, 12538\, United States
END:VEVENT
BEGIN:VEVENT
DTSTART;TZID=America/New_York:20260607T183000
DTEND;TZID=America/New_York:20260607T210000
DTSTAMP:20260423T120352
CREATED:20260410T125621Z
LAST-MODIFIED:20260410T125621Z
UID:10007929-1780857000-1780866000@stjameshydepark.org
SUMMARY:Hyde Park Group AA (Parish Hall\, Rm. 201)
DESCRIPTION:
URL:https://stjameshydepark.org/event/hyde-park-group-aa-parish-hall-rm-201-2/2026-06-07/
LOCATION:St. James’ Episcopal Church\, 4526 Albany Post Rd.\, Hyde Park\, NY\, 12538\, United States
END:VEVENT
BEGIN:VEVENT
DTSTART;TZID=America/New_York:20260614T183000
DTEND;TZID=America/New_York:20260614T210000
DTSTAMP:20260423T120352
CREATED:20260410T125621Z
LAST-MODIFIED:20260410T125621Z
UID:10007930-1781461800-1781470800@stjameshydepark.org
SUMMARY:Hyde Park Group AA (Parish Hall\, Rm. 201)
DESCRIPTION:
URL:https://stjameshydepark.org/event/hyde-park-group-aa-parish-hall-rm-201-2/2026-06-14/
LOCATION:St. James’ Episcopal Church\, 4526 Albany Post Rd.\, Hyde Park\, NY\, 12538\, United States
END:VEVENT
BEGIN:VEVENT
DTSTART;TZID=America/New_York:20260621T183000
DTEND;TZID=America/New_York:20260621T210000
DTSTAMP:20260423T120352
CREATED:20260410T125621Z
LAST-MODIFIED:20260410T125621Z
UID:10007931-1782066600-1782075600@stjameshydepark.org
SUMMARY:Hyde Park Group AA (Parish Hall\, Rm. 201)
DESCRIPTION:
URL:https://stjameshydepark.org/event/hyde-park-group-aa-parish-hall-rm-201-2/2026-06-21/
LOCATION:St. James’ Episcopal Church\, 4526 Albany Post Rd.\, Hyde Park\, NY\, 12538\, United States
END:VEVENT
BEGIN:VEVENT
DTSTART;TZID=America/New_York:20260628T183000
DTEND;TZID=America/New_York:20260628T210000
DTSTAMP:20260423T120352
CREATED:20260410T125621Z
LAST-MODIFIED:20260410T125621Z
UID:10007932-1782671400-1782680400@stjameshydepark.org
SUMMARY:Hyde Park Group AA (Parish Hall\, Rm. 201)
DESCRIPTION:
URL:https://stjameshydepark.org/event/hyde-park-group-aa-parish-hall-rm-201-2/2026-06-28/
LOCATION:St. James’ Episcopal Church\, 4526 Albany Post Rd.\, Hyde Park\, NY\, 12538\, United States
END:VEVENT
BEGIN:VEVENT
DTSTART;TZID=America/New_York:20260705T183000
DTEND;TZID=America/New_York:20260705T210000
DTSTAMP:20260423T120352
CREATED:20260410T125621Z
LAST-MODIFIED:20260410T125621Z
UID:10007933-1783276200-1783285200@stjameshydepark.org
SUMMARY:Hyde Park Group AA (Parish Hall\, Rm. 201)
DESCRIPTION:
URL:https://stjameshydepark.org/event/hyde-park-group-aa-parish-hall-rm-201-2/2026-07-05/
LOCATION:St. James’ Episcopal Church\, 4526 Albany Post Rd.\, Hyde Park\, NY\, 12538\, United States
END:VEVENT
BEGIN:VEVENT
DTSTART;TZID=America/New_York:20260712T183000
DTEND;TZID=America/New_York:20260712T210000
DTSTAMP:20260423T120352
CREATED:20260410T125621Z
LAST-MODIFIED:20260410T125621Z
UID:10007934-1783881000-1783890000@stjameshydepark.org
SUMMARY:Hyde Park Group AA (Parish Hall\, Rm. 201)
DESCRIPTION:
URL:https://stjameshydepark.org/event/hyde-park-group-aa-parish-hall-rm-201-2/2026-07-12/
LOCATION:St. James’ Episcopal Church\, 4526 Albany Post Rd.\, Hyde Park\, NY\, 12538\, United States
END:VEVENT
BEGIN:VEVENT
DTSTART;TZID=America/New_York:20260719T183000
DTEND;TZID=America/New_York:20260719T210000
DTSTAMP:20260423T120352
CREATED:20260410T125621Z
LAST-MODIFIED:20260410T125621Z
UID:10007935-1784485800-1784494800@stjameshydepark.org
SUMMARY:Hyde Park Group AA (Parish Hall\, Rm. 201)
DESCRIPTION:
URL:https://stjameshydepark.org/event/hyde-park-group-aa-parish-hall-rm-201-2/2026-07-19/
LOCATION:St. James’ Episcopal Church\, 4526 Albany Post Rd.\, Hyde Park\, NY\, 12538\, United States
END:VEVENT
BEGIN:VEVENT
DTSTART;TZID=America/New_York:20260802T183000
DTEND;TZID=America/New_York:20260802T210000
DTSTAMP:20260423T120352
CREATED:20260410T125621Z
LAST-MODIFIED:20260410T125621Z
UID:10007936-1785695400-1785704400@stjameshydepark.org
SUMMARY:Hyde Park Group AA (Parish Hall\, Rm. 201)
DESCRIPTION:
URL:https://stjameshydepark.org/event/hyde-park-group-aa-parish-hall-rm-201-2/2026-08-02/
LOCATION:St. James’ Episcopal Church\, 4526 Albany Post Rd.\, Hyde Park\, NY\, 12538\, United States
END:VEVENT
BEGIN:VEVENT
DTSTART;TZID=America/New_York:20260809T183000
DTEND;TZID=America/New_York:20260809T210000
DTSTAMP:20260423T120352
CREATED:20260410T125621Z
LAST-MODIFIED:20260410T125621Z
UID:10007937-1786300200-1786309200@stjameshydepark.org
SUMMARY:Hyde Park Group AA (Parish Hall\, Rm. 201)
DESCRIPTION:
URL:https://stjameshydepark.org/event/hyde-park-group-aa-parish-hall-rm-201-2/2026-08-09/
LOCATION:St. James’ Episcopal Church\, 4526 Albany Post Rd.\, Hyde Park\, NY\, 12538\, United States
END:VEVENT
BEGIN:VEVENT
DTSTART;TZID=America/New_York:20260816T183000
DTEND;TZID=America/New_York:20260816T210000
DTSTAMP:20260423T120352
CREATED:20260410T125621Z
LAST-MODIFIED:20260410T125621Z
UID:10007938-1786905000-1786914000@stjameshydepark.org
SUMMARY:Hyde Park Group AA (Parish Hall\, Rm. 201)
DESCRIPTION:
URL:https://stjameshydepark.org/event/hyde-park-group-aa-parish-hall-rm-201-2/2026-08-16/
LOCATION:St. James’ Episcopal Church\, 4526 Albany Post Rd.\, Hyde Park\, NY\, 12538\, United States
END:VEVENT
BEGIN:VEVENT
DTSTART;TZID=America/New_York:20260823T183000
DTEND;TZID=America/New_York:20260823T210000
DTSTAMP:20260423T120352
CREATED:20260410T125621Z
LAST-MODIFIED:20260410T125621Z
UID:10007939-1787509800-1787518800@stjameshydepark.org
SUMMARY:Hyde Park Group AA (Parish Hall\, Rm. 201)
DESCRIPTION:
URL:https://stjameshydepark.org/event/hyde-park-group-aa-parish-hall-rm-201-2/2026-08-23/
LOCATION:St. James’ Episcopal Church\, 4526 Albany Post Rd.\, Hyde Park\, NY\, 12538\, United States
END:VEVENT
BEGIN:VEVENT
DTSTART;TZID=America/New_York:20260830T183000
DTEND;TZID=America/New_York:20260830T210000
DTSTAMP:20260423T120352
CREATED:20260410T125621Z
LAST-MODIFIED:20260410T125621Z
UID:10007940-1788114600-1788123600@stjameshydepark.org
SUMMARY:Hyde Park Group AA (Parish Hall\, Rm. 201)
DESCRIPTION:
URL:https://stjameshydepark.org/event/hyde-park-group-aa-parish-hall-rm-201-2/2026-08-30/
LOCATION:St. James’ Episcopal Church\, 4526 Albany Post Rd.\, Hyde Park\, NY\, 12538\, United States
END:VEVENT
BEGIN:VEVENT
DTSTART;TZID=America/New_York:20260906T183000
DTEND;TZID=America/New_York:20260906T210000
DTSTAMP:20260423T120352
CREATED:20260410T125621Z
LAST-MODIFIED:20260410T125621Z
UID:10007941-1788719400-1788728400@stjameshydepark.org
SUMMARY:Hyde Park Group AA (Parish Hall\, Rm. 201)
DESCRIPTION:
URL:https://stjameshydepark.org/event/hyde-park-group-aa-parish-hall-rm-201-2/2026-09-06/
LOCATION:St. James’ Episcopal Church\, 4526 Albany Post Rd.\, Hyde Park\, NY\, 12538\, United States
END:VEVENT
BEGIN:VEVENT
DTSTART;TZID=America/New_York:20260913T183000
DTEND;TZID=America/New_York:20260913T210000
DTSTAMP:20260423T120352
CREATED:20260410T125621Z
LAST-MODIFIED:20260410T125621Z
UID:10007942-1789324200-1789333200@stjameshydepark.org
SUMMARY:Hyde Park Group AA (Parish Hall\, Rm. 201)
DESCRIPTION:
URL:https://stjameshydepark.org/event/hyde-park-group-aa-parish-hall-rm-201-2/2026-09-13/
LOCATION:St. James’ Episcopal Church\, 4526 Albany Post Rd.\, Hyde Park\, NY\, 12538\, United States
END:VEVENT
BEGIN:VEVENT
DTSTART;TZID=America/New_York:20260920T183000
DTEND;TZID=America/New_York:20260920T210000
DTSTAMP:20260423T120352
CREATED:20260410T125621Z
LAST-MODIFIED:20260410T125621Z
UID:10007943-1789929000-1789938000@stjameshydepark.org
SUMMARY:Hyde Park Group AA (Parish Hall\, Rm. 201)
DESCRIPTION:
URL:https://stjameshydepark.org/event/hyde-park-group-aa-parish-hall-rm-201-2/2026-09-20/
LOCATION:St. James’ Episcopal Church\, 4526 Albany Post Rd.\, Hyde Park\, NY\, 12538\, United States
END:VEVENT
BEGIN:VEVENT
DTSTART;TZID=America/New_York:20260927T183000
DTEND;TZID=America/New_York:20260927T210000
DTSTAMP:20260423T120352
CREATED:20260410T125621Z
LAST-MODIFIED:20260410T125621Z
UID:10007944-1790533800-1790542800@stjameshydepark.org
SUMMARY:Hyde Park Group AA (Parish Hall\, Rm. 201)
DESCRIPTION:
URL:https://stjameshydepark.org/event/hyde-park-group-aa-parish-hall-rm-201-2/2026-09-27/
LOCATION:St. James’ Episcopal Church\, 4526 Albany Post Rd.\, Hyde Park\, NY\, 12538\, United States
END:VEVENT
BEGIN:VEVENT
DTSTART;TZID=America/New_York:20261004T183000
DTEND;TZID=America/New_York:20261004T210000
DTSTAMP:20260423T120352
CREATED:20260410T125621Z
LAST-MODIFIED:20260410T125621Z
UID:10007945-1791138600-1791147600@stjameshydepark.org
SUMMARY:Hyde Park Group AA (Parish Hall\, Rm. 201)
DESCRIPTION:
URL:https://stjameshydepark.org/event/hyde-park-group-aa-parish-hall-rm-201-2/2026-10-04/
LOCATION:St. James’ Episcopal Church\, 4526 Albany Post Rd.\, Hyde Park\, NY\, 12538\, United States
END:VEVENT
BEGIN:VEVENT
DTSTART;TZID=America/New_York:20261011T183000
DTEND;TZID=America/New_York:20261011T210000
DTSTAMP:20260423T120352
CREATED:20260410T125621Z
LAST-MODIFIED:20260410T125621Z
UID:10007946-1791743400-1791752400@stjameshydepark.org
SUMMARY:Hyde Park Group AA (Parish Hall\, Rm. 201)
DESCRIPTION:
URL:https://stjameshydepark.org/event/hyde-park-group-aa-parish-hall-rm-201-2/2026-10-11/
LOCATION:St. James’ Episcopal Church\, 4526 Albany Post Rd.\, Hyde Park\, NY\, 12538\, United States
END:VEVENT
BEGIN:VEVENT
DTSTART;TZID=America/New_York:20261018T183000
DTEND;TZID=America/New_York:20261018T210000
DTSTAMP:20260423T120352
CREATED:20260410T125621Z
LAST-MODIFIED:20260410T125621Z
UID:10007947-1792348200-1792357200@stjameshydepark.org
SUMMARY:Hyde Park Group AA (Parish Hall\, Rm. 201)
DESCRIPTION:
URL:https://stjameshydepark.org/event/hyde-park-group-aa-parish-hall-rm-201-2/2026-10-18/
LOCATION:St. James’ Episcopal Church\, 4526 Albany Post Rd.\, Hyde Park\, NY\, 12538\, United States
END:VEVENT
BEGIN:VEVENT
DTSTART;TZID=America/New_York:20261025T183000
DTEND;TZID=America/New_York:20261025T210000
DTSTAMP:20260423T120352
CREATED:20260410T125621Z
LAST-MODIFIED:20260410T125621Z
UID:10007948-1792953000-1792962000@stjameshydepark.org
SUMMARY:Hyde Park Group AA (Parish Hall\, Rm. 201)
DESCRIPTION:
URL:https://stjameshydepark.org/event/hyde-park-group-aa-parish-hall-rm-201-2/2026-10-25/
LOCATION:St. James’ Episcopal Church\, 4526 Albany Post Rd.\, Hyde Park\, NY\, 12538\, United States
END:VEVENT
BEGIN:VEVENT
DTSTART;TZID=America/New_York:20261101T183000
DTEND;TZID=America/New_York:20261101T210000
DTSTAMP:20260423T120352
CREATED:20260410T125621Z
LAST-MODIFIED:20260410T125621Z
UID:10007949-1793557800-1793566800@stjameshydepark.org
SUMMARY:Hyde Park Group AA (Parish Hall\, Rm. 201)
DESCRIPTION:
URL:https://stjameshydepark.org/event/hyde-park-group-aa-parish-hall-rm-201-2/2026-11-01/
LOCATION:St. James’ Episcopal Church\, 4526 Albany Post Rd.\, Hyde Park\, NY\, 12538\, United States
END:VEVENT
BEGIN:VEVENT
DTSTART;TZID=America/New_York:20261108T183000
DTEND;TZID=America/New_York:20261108T210000
DTSTAMP:20260423T120352
CREATED:20260410T125621Z
LAST-MODIFIED:20260410T125621Z
UID:10007950-1794162600-1794171600@stjameshydepark.org
SUMMARY:Hyde Park Group AA (Parish Hall\, Rm. 201)
DESCRIPTION:
URL:https://stjameshydepark.org/event/hyde-park-group-aa-parish-hall-rm-201-2/2026-11-08/
LOCATION:St. James’ Episcopal Church\, 4526 Albany Post Rd.\, Hyde Park\, NY\, 12538\, United States
END:VEVENT
BEGIN:VEVENT
DTSTART;TZID=America/New_York:20261115T183000
DTEND;TZID=America/New_York:20261115T210000
DTSTAMP:20260423T120352
CREATED:20260410T125621Z
LAST-MODIFIED:20260410T125621Z
UID:10007951-1794767400-1794776400@stjameshydepark.org
SUMMARY:Hyde Park Group AA (Parish Hall\, Rm. 201)
DESCRIPTION:
URL:https://stjameshydepark.org/event/hyde-park-group-aa-parish-hall-rm-201-2/2026-11-15/
LOCATION:St. James’ Episcopal Church\, 4526 Albany Post Rd.\, Hyde Park\, NY\, 12538\, United States
END:VEVENT
BEGIN:VEVENT
DTSTART;TZID=America/New_York:20261122T183000
DTEND;TZID=America/New_York:20261122T210000
DTSTAMP:20260423T120352
CREATED:20260410T125621Z
LAST-MODIFIED:20260410T125621Z
UID:10007952-1795372200-1795381200@stjameshydepark.org
SUMMARY:Hyde Park Group AA (Parish Hall\, Rm. 201)
DESCRIPTION:
URL:https://stjameshydepark.org/event/hyde-park-group-aa-parish-hall-rm-201-2/2026-11-22/
LOCATION:St. James’ Episcopal Church\, 4526 Albany Post Rd.\, Hyde Park\, NY\, 12538\, United States
END:VEVENT
END:VCALENDAR