BEGIN:VCALENDAR
VERSION:2.0
PRODID:-//St. James&#039; Episcopal Church - ECPv6.15.20//NONSGML v1.0//EN
CALSCALE:GREGORIAN
METHOD:PUBLISH
X-WR-CALNAME:St. James&#039; Episcopal Church
X-ORIGINAL-URL:https://stjameshydepark.org
X-WR-CALDESC:Events for St. James&#039; Episcopal Church
REFRESH-INTERVAL;VALUE=DURATION:PT1H
X-Robots-Tag:noindex
X-PUBLISHED-TTL:PT1H
BEGIN:VTIMEZONE
TZID:America/New_York
BEGIN:DAYLIGHT
TZOFFSETFROM:-0500
TZOFFSETTO:-0400
TZNAME:EDT
DTSTART:20250309T070000
END:DAYLIGHT
BEGIN:STANDARD
TZOFFSETFROM:-0400
TZOFFSETTO:-0500
TZNAME:EST
DTSTART:20251102T060000
END:STANDARD
BEGIN:DAYLIGHT
TZOFFSETFROM:-0500
TZOFFSETTO:-0400
TZNAME:EDT
DTSTART:20260308T070000
END:DAYLIGHT
BEGIN:STANDARD
TZOFFSETFROM:-0400
TZOFFSETTO:-0500
TZNAME:EST
DTSTART:20261101T060000
END:STANDARD
BEGIN:DAYLIGHT
TZOFFSETFROM:-0500
TZOFFSETTO:-0400
TZNAME:EDT
DTSTART:20270314T070000
END:DAYLIGHT
BEGIN:STANDARD
TZOFFSETFROM:-0400
TZOFFSETTO:-0500
TZNAME:EST
DTSTART:20271107T060000
END:STANDARD
END:VTIMEZONE
BEGIN:VEVENT
DTSTART;TZID=America/New_York:20260425T183000
DTEND;TZID=America/New_York:20260425T190000
DTSTAMP:20260423T120934
CREATED:20260113T180750Z
LAST-MODIFIED:20260113T180750Z
UID:10007609-1777141800-1777143600@stjameshydepark.org
SUMMARY:Compline (Online)
DESCRIPTION:
URL:https://stjameshydepark.org/event/compline-online/2026-04-25/
LOCATION:St. James’ Episcopal Church\, 4526 Albany Post Rd.\, Hyde Park\, NY\, 12538\, United States
END:VEVENT
BEGIN:VEVENT
DTSTART;TZID=America/New_York:20260502T183000
DTEND;TZID=America/New_York:20260502T190000
DTSTAMP:20260423T120934
CREATED:20260113T180750Z
LAST-MODIFIED:20260113T180750Z
UID:10007610-1777746600-1777748400@stjameshydepark.org
SUMMARY:Compline (Online)
DESCRIPTION:
URL:https://stjameshydepark.org/event/compline-online/2026-05-02/
LOCATION:St. James’ Episcopal Church\, 4526 Albany Post Rd.\, Hyde Park\, NY\, 12538\, United States
END:VEVENT
BEGIN:VEVENT
DTSTART;TZID=America/New_York:20260509T183000
DTEND;TZID=America/New_York:20260509T190000
DTSTAMP:20260423T120934
CREATED:20260113T180750Z
LAST-MODIFIED:20260113T180750Z
UID:10007611-1778351400-1778353200@stjameshydepark.org
SUMMARY:Compline (Online)
DESCRIPTION:
URL:https://stjameshydepark.org/event/compline-online/2026-05-09/
LOCATION:St. James’ Episcopal Church\, 4526 Albany Post Rd.\, Hyde Park\, NY\, 12538\, United States
END:VEVENT
BEGIN:VEVENT
DTSTART;TZID=America/New_York:20260516T183000
DTEND;TZID=America/New_York:20260516T190000
DTSTAMP:20260423T120934
CREATED:20260113T180750Z
LAST-MODIFIED:20260113T180750Z
UID:10007612-1778956200-1778958000@stjameshydepark.org
SUMMARY:Compline (Online)
DESCRIPTION:
URL:https://stjameshydepark.org/event/compline-online/2026-05-16/
LOCATION:St. James’ Episcopal Church\, 4526 Albany Post Rd.\, Hyde Park\, NY\, 12538\, United States
END:VEVENT
BEGIN:VEVENT
DTSTART;TZID=America/New_York:20260523T183000
DTEND;TZID=America/New_York:20260523T190000
DTSTAMP:20260423T120934
CREATED:20260113T180750Z
LAST-MODIFIED:20260113T180750Z
UID:10007613-1779561000-1779562800@stjameshydepark.org
SUMMARY:Compline (Online)
DESCRIPTION:
URL:https://stjameshydepark.org/event/compline-online/2026-05-23/
LOCATION:St. James’ Episcopal Church\, 4526 Albany Post Rd.\, Hyde Park\, NY\, 12538\, United States
END:VEVENT
BEGIN:VEVENT
DTSTART;TZID=America/New_York:20260530T183000
DTEND;TZID=America/New_York:20260530T190000
DTSTAMP:20260423T120934
CREATED:20260113T180750Z
LAST-MODIFIED:20260113T180750Z
UID:10007614-1780165800-1780167600@stjameshydepark.org
SUMMARY:Compline (Online)
DESCRIPTION:
URL:https://stjameshydepark.org/event/compline-online/2026-05-30/
LOCATION:St. James’ Episcopal Church\, 4526 Albany Post Rd.\, Hyde Park\, NY\, 12538\, United States
END:VEVENT
BEGIN:VEVENT
DTSTART;TZID=America/New_York:20260606T183000
DTEND;TZID=America/New_York:20260606T190000
DTSTAMP:20260423T120934
CREATED:20260113T180750Z
LAST-MODIFIED:20260113T180750Z
UID:10007615-1780770600-1780772400@stjameshydepark.org
SUMMARY:Compline (Online)
DESCRIPTION:
URL:https://stjameshydepark.org/event/compline-online/2026-06-06/
LOCATION:St. James’ Episcopal Church\, 4526 Albany Post Rd.\, Hyde Park\, NY\, 12538\, United States
END:VEVENT
BEGIN:VEVENT
DTSTART;TZID=America/New_York:20260613T183000
DTEND;TZID=America/New_York:20260613T190000
DTSTAMP:20260423T120934
CREATED:20260113T180750Z
LAST-MODIFIED:20260113T180750Z
UID:10007616-1781375400-1781377200@stjameshydepark.org
SUMMARY:Compline (Online)
DESCRIPTION:
URL:https://stjameshydepark.org/event/compline-online/2026-06-13/
LOCATION:St. James’ Episcopal Church\, 4526 Albany Post Rd.\, Hyde Park\, NY\, 12538\, United States
END:VEVENT
BEGIN:VEVENT
DTSTART;TZID=America/New_York:20260620T183000
DTEND;TZID=America/New_York:20260620T190000
DTSTAMP:20260423T120934
CREATED:20260113T180750Z
LAST-MODIFIED:20260113T180750Z
UID:10007617-1781980200-1781982000@stjameshydepark.org
SUMMARY:Compline (Online)
DESCRIPTION:
URL:https://stjameshydepark.org/event/compline-online/2026-06-20/
LOCATION:St. James’ Episcopal Church\, 4526 Albany Post Rd.\, Hyde Park\, NY\, 12538\, United States
END:VEVENT
BEGIN:VEVENT
DTSTART;TZID=America/New_York:20260627T183000
DTEND;TZID=America/New_York:20260627T190000
DTSTAMP:20260423T120934
CREATED:20260113T180750Z
LAST-MODIFIED:20260113T180750Z
UID:10007618-1782585000-1782586800@stjameshydepark.org
SUMMARY:Compline (Online)
DESCRIPTION:
URL:https://stjameshydepark.org/event/compline-online/2026-06-27/
LOCATION:St. James’ Episcopal Church\, 4526 Albany Post Rd.\, Hyde Park\, NY\, 12538\, United States
END:VEVENT
BEGIN:VEVENT
DTSTART;TZID=America/New_York:20260704T183000
DTEND;TZID=America/New_York:20260704T190000
DTSTAMP:20260423T120934
CREATED:20260113T180750Z
LAST-MODIFIED:20260113T180750Z
UID:10007619-1783189800-1783191600@stjameshydepark.org
SUMMARY:Compline (Online)
DESCRIPTION:
URL:https://stjameshydepark.org/event/compline-online/2026-07-04/
LOCATION:St. James’ Episcopal Church\, 4526 Albany Post Rd.\, Hyde Park\, NY\, 12538\, United States
END:VEVENT
BEGIN:VEVENT
DTSTART;TZID=America/New_York:20260711T183000
DTEND;TZID=America/New_York:20260711T190000
DTSTAMP:20260423T120934
CREATED:20260113T180750Z
LAST-MODIFIED:20260113T180750Z
UID:10007620-1783794600-1783796400@stjameshydepark.org
SUMMARY:Compline (Online)
DESCRIPTION:
URL:https://stjameshydepark.org/event/compline-online/2026-07-11/
LOCATION:St. James’ Episcopal Church\, 4526 Albany Post Rd.\, Hyde Park\, NY\, 12538\, United States
END:VEVENT
BEGIN:VEVENT
DTSTART;TZID=America/New_York:20260718T183000
DTEND;TZID=America/New_York:20260718T190000
DTSTAMP:20260423T120934
CREATED:20260113T180750Z
LAST-MODIFIED:20260113T180750Z
UID:10007621-1784399400-1784401200@stjameshydepark.org
SUMMARY:Compline (Online)
DESCRIPTION:
URL:https://stjameshydepark.org/event/compline-online/2026-07-18/
LOCATION:St. James’ Episcopal Church\, 4526 Albany Post Rd.\, Hyde Park\, NY\, 12538\, United States
END:VEVENT
BEGIN:VEVENT
DTSTART;TZID=America/New_York:20260725T183000
DTEND;TZID=America/New_York:20260725T190000
DTSTAMP:20260423T120934
CREATED:20260113T180750Z
LAST-MODIFIED:20260113T180750Z
UID:10007622-1785004200-1785006000@stjameshydepark.org
SUMMARY:Compline (Online)
DESCRIPTION:
URL:https://stjameshydepark.org/event/compline-online/2026-07-25/
LOCATION:St. James’ Episcopal Church\, 4526 Albany Post Rd.\, Hyde Park\, NY\, 12538\, United States
END:VEVENT
BEGIN:VEVENT
DTSTART;TZID=America/New_York:20260801T183000
DTEND;TZID=America/New_York:20260801T190000
DTSTAMP:20260423T120934
CREATED:20260113T180750Z
LAST-MODIFIED:20260113T180750Z
UID:10007623-1785609000-1785610800@stjameshydepark.org
SUMMARY:Compline (Online)
DESCRIPTION:
URL:https://stjameshydepark.org/event/compline-online/2026-08-01/
LOCATION:St. James’ Episcopal Church\, 4526 Albany Post Rd.\, Hyde Park\, NY\, 12538\, United States
END:VEVENT
BEGIN:VEVENT
DTSTART;TZID=America/New_York:20260808T183000
DTEND;TZID=America/New_York:20260808T190000
DTSTAMP:20260423T120934
CREATED:20260113T180750Z
LAST-MODIFIED:20260113T180750Z
UID:10007624-1786213800-1786215600@stjameshydepark.org
SUMMARY:Compline (Online)
DESCRIPTION:
URL:https://stjameshydepark.org/event/compline-online/2026-08-08/
LOCATION:St. James’ Episcopal Church\, 4526 Albany Post Rd.\, Hyde Park\, NY\, 12538\, United States
END:VEVENT
BEGIN:VEVENT
DTSTART;TZID=America/New_York:20260815T183000
DTEND;TZID=America/New_York:20260815T190000
DTSTAMP:20260423T120934
CREATED:20260113T180750Z
LAST-MODIFIED:20260113T180750Z
UID:10007625-1786818600-1786820400@stjameshydepark.org
SUMMARY:Compline (Online)
DESCRIPTION:
URL:https://stjameshydepark.org/event/compline-online/2026-08-15/
LOCATION:St. James’ Episcopal Church\, 4526 Albany Post Rd.\, Hyde Park\, NY\, 12538\, United States
END:VEVENT
BEGIN:VEVENT
DTSTART;TZID=America/New_York:20260822T183000
DTEND;TZID=America/New_York:20260822T190000
DTSTAMP:20260423T120934
CREATED:20260113T180750Z
LAST-MODIFIED:20260113T180750Z
UID:10007626-1787423400-1787425200@stjameshydepark.org
SUMMARY:Compline (Online)
DESCRIPTION:
URL:https://stjameshydepark.org/event/compline-online/2026-08-22/
LOCATION:St. James’ Episcopal Church\, 4526 Albany Post Rd.\, Hyde Park\, NY\, 12538\, United States
END:VEVENT
BEGIN:VEVENT
DTSTART;TZID=America/New_York:20260829T183000
DTEND;TZID=America/New_York:20260829T190000
DTSTAMP:20260423T120934
CREATED:20260113T180750Z
LAST-MODIFIED:20260113T180750Z
UID:10007627-1788028200-1788030000@stjameshydepark.org
SUMMARY:Compline (Online)
DESCRIPTION:
URL:https://stjameshydepark.org/event/compline-online/2026-08-29/
LOCATION:St. James’ Episcopal Church\, 4526 Albany Post Rd.\, Hyde Park\, NY\, 12538\, United States
END:VEVENT
BEGIN:VEVENT
DTSTART;TZID=America/New_York:20260905T183000
DTEND;TZID=America/New_York:20260905T190000
DTSTAMP:20260423T120934
CREATED:20260113T180750Z
LAST-MODIFIED:20260113T180750Z
UID:10007628-1788633000-1788634800@stjameshydepark.org
SUMMARY:Compline (Online)
DESCRIPTION:
URL:https://stjameshydepark.org/event/compline-online/2026-09-05/
LOCATION:St. James’ Episcopal Church\, 4526 Albany Post Rd.\, Hyde Park\, NY\, 12538\, United States
END:VEVENT
BEGIN:VEVENT
DTSTART;TZID=America/New_York:20260912T183000
DTEND;TZID=America/New_York:20260912T190000
DTSTAMP:20260423T120934
CREATED:20260113T180750Z
LAST-MODIFIED:20260113T180750Z
UID:10007629-1789237800-1789239600@stjameshydepark.org
SUMMARY:Compline (Online)
DESCRIPTION:
URL:https://stjameshydepark.org/event/compline-online/2026-09-12/
LOCATION:St. James’ Episcopal Church\, 4526 Albany Post Rd.\, Hyde Park\, NY\, 12538\, United States
END:VEVENT
BEGIN:VEVENT
DTSTART;TZID=America/New_York:20260919T183000
DTEND;TZID=America/New_York:20260919T190000
DTSTAMP:20260423T120934
CREATED:20260113T180750Z
LAST-MODIFIED:20260113T180750Z
UID:10007630-1789842600-1789844400@stjameshydepark.org
SUMMARY:Compline (Online)
DESCRIPTION:
URL:https://stjameshydepark.org/event/compline-online/2026-09-19/
LOCATION:St. James’ Episcopal Church\, 4526 Albany Post Rd.\, Hyde Park\, NY\, 12538\, United States
END:VEVENT
BEGIN:VEVENT
DTSTART;TZID=America/New_York:20260926T183000
DTEND;TZID=America/New_York:20260926T190000
DTSTAMP:20260423T120934
CREATED:20260113T180750Z
LAST-MODIFIED:20260113T180750Z
UID:10007631-1790447400-1790449200@stjameshydepark.org
SUMMARY:Compline (Online)
DESCRIPTION:
URL:https://stjameshydepark.org/event/compline-online/2026-09-26/
LOCATION:St. James’ Episcopal Church\, 4526 Albany Post Rd.\, Hyde Park\, NY\, 12538\, United States
END:VEVENT
BEGIN:VEVENT
DTSTART;TZID=America/New_York:20261003T183000
DTEND;TZID=America/New_York:20261003T190000
DTSTAMP:20260423T120934
CREATED:20260113T180750Z
LAST-MODIFIED:20260113T180750Z
UID:10007632-1791052200-1791054000@stjameshydepark.org
SUMMARY:Compline (Online)
DESCRIPTION:
URL:https://stjameshydepark.org/event/compline-online/2026-10-03/
LOCATION:St. James’ Episcopal Church\, 4526 Albany Post Rd.\, Hyde Park\, NY\, 12538\, United States
END:VEVENT
BEGIN:VEVENT
DTSTART;TZID=America/New_York:20261010T183000
DTEND;TZID=America/New_York:20261010T190000
DTSTAMP:20260423T120934
CREATED:20260113T180750Z
LAST-MODIFIED:20260113T180750Z
UID:10007633-1791657000-1791658800@stjameshydepark.org
SUMMARY:Compline (Online)
DESCRIPTION:
URL:https://stjameshydepark.org/event/compline-online/2026-10-10/
LOCATION:St. James’ Episcopal Church\, 4526 Albany Post Rd.\, Hyde Park\, NY\, 12538\, United States
END:VEVENT
BEGIN:VEVENT
DTSTART;TZID=America/New_York:20261017T183000
DTEND;TZID=America/New_York:20261017T190000
DTSTAMP:20260423T120934
CREATED:20260113T180750Z
LAST-MODIFIED:20260113T180750Z
UID:10007634-1792261800-1792263600@stjameshydepark.org
SUMMARY:Compline (Online)
DESCRIPTION:
URL:https://stjameshydepark.org/event/compline-online/2026-10-17/
LOCATION:St. James’ Episcopal Church\, 4526 Albany Post Rd.\, Hyde Park\, NY\, 12538\, United States
END:VEVENT
BEGIN:VEVENT
DTSTART;TZID=America/New_York:20261024T183000
DTEND;TZID=America/New_York:20261024T190000
DTSTAMP:20260423T120934
CREATED:20260113T180750Z
LAST-MODIFIED:20260113T180750Z
UID:10007635-1792866600-1792868400@stjameshydepark.org
SUMMARY:Compline (Online)
DESCRIPTION:
URL:https://stjameshydepark.org/event/compline-online/2026-10-24/
LOCATION:St. James’ Episcopal Church\, 4526 Albany Post Rd.\, Hyde Park\, NY\, 12538\, United States
END:VEVENT
BEGIN:VEVENT
DTSTART;TZID=America/New_York:20261031T183000
DTEND;TZID=America/New_York:20261031T190000
DTSTAMP:20260423T120934
CREATED:20260113T180750Z
LAST-MODIFIED:20260113T180750Z
UID:10007636-1793471400-1793473200@stjameshydepark.org
SUMMARY:Compline (Online)
DESCRIPTION:
URL:https://stjameshydepark.org/event/compline-online/2026-10-31/
LOCATION:St. James’ Episcopal Church\, 4526 Albany Post Rd.\, Hyde Park\, NY\, 12538\, United States
END:VEVENT
BEGIN:VEVENT
DTSTART;TZID=America/New_York:20261107T183000
DTEND;TZID=America/New_York:20261107T190000
DTSTAMP:20260423T120934
CREATED:20260113T180750Z
LAST-MODIFIED:20260113T180750Z
UID:10007637-1794076200-1794078000@stjameshydepark.org
SUMMARY:Compline (Online)
DESCRIPTION:
URL:https://stjameshydepark.org/event/compline-online/2026-11-07/
LOCATION:St. James’ Episcopal Church\, 4526 Albany Post Rd.\, Hyde Park\, NY\, 12538\, United States
END:VEVENT
BEGIN:VEVENT
DTSTART;TZID=America/New_York:20261114T183000
DTEND;TZID=America/New_York:20261114T190000
DTSTAMP:20260423T120934
CREATED:20260113T180750Z
LAST-MODIFIED:20260113T180750Z
UID:10007638-1794681000-1794682800@stjameshydepark.org
SUMMARY:Compline (Online)
DESCRIPTION:
URL:https://stjameshydepark.org/event/compline-online/2026-11-14/
LOCATION:St. James’ Episcopal Church\, 4526 Albany Post Rd.\, Hyde Park\, NY\, 12538\, United States
END:VEVENT
END:VCALENDAR