BEGIN:VCALENDAR
VERSION:2.0
PRODID:-//St. James&#039; Episcopal Church - ECPv6.15.20//NONSGML v1.0//EN
CALSCALE:GREGORIAN
METHOD:PUBLISH
X-WR-CALNAME:St. James&#039; Episcopal Church
X-ORIGINAL-URL:https://stjameshydepark.org
X-WR-CALDESC:Events for St. James&#039; Episcopal Church
REFRESH-INTERVAL;VALUE=DURATION:PT1H
X-Robots-Tag:noindex
X-PUBLISHED-TTL:PT1H
BEGIN:VTIMEZONE
TZID:America/New_York
BEGIN:DAYLIGHT
TZOFFSETFROM:-0500
TZOFFSETTO:-0400
TZNAME:EDT
DTSTART:20250309T070000
END:DAYLIGHT
BEGIN:STANDARD
TZOFFSETFROM:-0400
TZOFFSETTO:-0500
TZNAME:EST
DTSTART:20251102T060000
END:STANDARD
BEGIN:DAYLIGHT
TZOFFSETFROM:-0500
TZOFFSETTO:-0400
TZNAME:EDT
DTSTART:20260308T070000
END:DAYLIGHT
BEGIN:STANDARD
TZOFFSETFROM:-0400
TZOFFSETTO:-0500
TZNAME:EST
DTSTART:20261101T060000
END:STANDARD
BEGIN:DAYLIGHT
TZOFFSETFROM:-0500
TZOFFSETTO:-0400
TZNAME:EDT
DTSTART:20270314T070000
END:DAYLIGHT
BEGIN:STANDARD
TZOFFSETFROM:-0400
TZOFFSETTO:-0500
TZNAME:EST
DTSTART:20271107T060000
END:STANDARD
END:VTIMEZONE
BEGIN:VEVENT
DTSTART;TZID=America/New_York:20260429T183000
DTEND;TZID=America/New_York:20260429T190000
DTSTAMP:20260423T120934
CREATED:20260113T180519Z
LAST-MODIFIED:20260113T180519Z
UID:10007559-1777487400-1777489200@stjameshydepark.org
SUMMARY:Evening Prayer (Online)
DESCRIPTION:
URL:https://stjameshydepark.org/event/evening-prayer-online/2026-04-29/
LOCATION:St. James’ Episcopal Church\, 4526 Albany Post Rd.\, Hyde Park\, NY\, 12538\, United States
END:VEVENT
BEGIN:VEVENT
DTSTART;TZID=America/New_York:20260506T183000
DTEND;TZID=America/New_York:20260506T190000
DTSTAMP:20260423T120934
CREATED:20260113T180519Z
LAST-MODIFIED:20260113T180519Z
UID:10007560-1778092200-1778094000@stjameshydepark.org
SUMMARY:Evening Prayer (Online)
DESCRIPTION:
URL:https://stjameshydepark.org/event/evening-prayer-online/2026-05-06/
LOCATION:St. James’ Episcopal Church\, 4526 Albany Post Rd.\, Hyde Park\, NY\, 12538\, United States
END:VEVENT
BEGIN:VEVENT
DTSTART;TZID=America/New_York:20260513T183000
DTEND;TZID=America/New_York:20260513T190000
DTSTAMP:20260423T120934
CREATED:20260113T180519Z
LAST-MODIFIED:20260113T180519Z
UID:10007561-1778697000-1778698800@stjameshydepark.org
SUMMARY:Evening Prayer (Online)
DESCRIPTION:
URL:https://stjameshydepark.org/event/evening-prayer-online/2026-05-13/
LOCATION:St. James’ Episcopal Church\, 4526 Albany Post Rd.\, Hyde Park\, NY\, 12538\, United States
END:VEVENT
BEGIN:VEVENT
DTSTART;TZID=America/New_York:20260520T183000
DTEND;TZID=America/New_York:20260520T190000
DTSTAMP:20260423T120934
CREATED:20260113T180519Z
LAST-MODIFIED:20260113T180519Z
UID:10007562-1779301800-1779303600@stjameshydepark.org
SUMMARY:Evening Prayer (Online)
DESCRIPTION:
URL:https://stjameshydepark.org/event/evening-prayer-online/2026-05-20/
LOCATION:St. James’ Episcopal Church\, 4526 Albany Post Rd.\, Hyde Park\, NY\, 12538\, United States
END:VEVENT
BEGIN:VEVENT
DTSTART;TZID=America/New_York:20260527T183000
DTEND;TZID=America/New_York:20260527T190000
DTSTAMP:20260423T120934
CREATED:20260113T180519Z
LAST-MODIFIED:20260113T180519Z
UID:10007563-1779906600-1779908400@stjameshydepark.org
SUMMARY:Evening Prayer (Online)
DESCRIPTION:
URL:https://stjameshydepark.org/event/evening-prayer-online/2026-05-27/
LOCATION:St. James’ Episcopal Church\, 4526 Albany Post Rd.\, Hyde Park\, NY\, 12538\, United States
END:VEVENT
BEGIN:VEVENT
DTSTART;TZID=America/New_York:20260603T183000
DTEND;TZID=America/New_York:20260603T190000
DTSTAMP:20260423T120934
CREATED:20260113T180519Z
LAST-MODIFIED:20260113T180519Z
UID:10007564-1780511400-1780513200@stjameshydepark.org
SUMMARY:Evening Prayer (Online)
DESCRIPTION:
URL:https://stjameshydepark.org/event/evening-prayer-online/2026-06-03/
LOCATION:St. James’ Episcopal Church\, 4526 Albany Post Rd.\, Hyde Park\, NY\, 12538\, United States
END:VEVENT
BEGIN:VEVENT
DTSTART;TZID=America/New_York:20260610T183000
DTEND;TZID=America/New_York:20260610T190000
DTSTAMP:20260423T120934
CREATED:20260113T180519Z
LAST-MODIFIED:20260113T180519Z
UID:10007565-1781116200-1781118000@stjameshydepark.org
SUMMARY:Evening Prayer (Online)
DESCRIPTION:
URL:https://stjameshydepark.org/event/evening-prayer-online/2026-06-10/
LOCATION:St. James’ Episcopal Church\, 4526 Albany Post Rd.\, Hyde Park\, NY\, 12538\, United States
END:VEVENT
BEGIN:VEVENT
DTSTART;TZID=America/New_York:20260617T183000
DTEND;TZID=America/New_York:20260617T190000
DTSTAMP:20260423T120934
CREATED:20260113T180519Z
LAST-MODIFIED:20260113T180519Z
UID:10007566-1781721000-1781722800@stjameshydepark.org
SUMMARY:Evening Prayer (Online)
DESCRIPTION:
URL:https://stjameshydepark.org/event/evening-prayer-online/2026-06-17/
LOCATION:St. James’ Episcopal Church\, 4526 Albany Post Rd.\, Hyde Park\, NY\, 12538\, United States
END:VEVENT
BEGIN:VEVENT
DTSTART;TZID=America/New_York:20260624T183000
DTEND;TZID=America/New_York:20260624T190000
DTSTAMP:20260423T120934
CREATED:20260113T180519Z
LAST-MODIFIED:20260113T180519Z
UID:10007567-1782325800-1782327600@stjameshydepark.org
SUMMARY:Evening Prayer (Online)
DESCRIPTION:
URL:https://stjameshydepark.org/event/evening-prayer-online/2026-06-24/
LOCATION:St. James’ Episcopal Church\, 4526 Albany Post Rd.\, Hyde Park\, NY\, 12538\, United States
END:VEVENT
BEGIN:VEVENT
DTSTART;TZID=America/New_York:20260701T183000
DTEND;TZID=America/New_York:20260701T190000
DTSTAMP:20260423T120934
CREATED:20260113T180519Z
LAST-MODIFIED:20260113T180519Z
UID:10007568-1782930600-1782932400@stjameshydepark.org
SUMMARY:Evening Prayer (Online)
DESCRIPTION:
URL:https://stjameshydepark.org/event/evening-prayer-online/2026-07-01/
LOCATION:St. James’ Episcopal Church\, 4526 Albany Post Rd.\, Hyde Park\, NY\, 12538\, United States
END:VEVENT
BEGIN:VEVENT
DTSTART;TZID=America/New_York:20260708T183000
DTEND;TZID=America/New_York:20260708T190000
DTSTAMP:20260423T120934
CREATED:20260113T180519Z
LAST-MODIFIED:20260113T180519Z
UID:10007569-1783535400-1783537200@stjameshydepark.org
SUMMARY:Evening Prayer (Online)
DESCRIPTION:
URL:https://stjameshydepark.org/event/evening-prayer-online/2026-07-08/
LOCATION:St. James’ Episcopal Church\, 4526 Albany Post Rd.\, Hyde Park\, NY\, 12538\, United States
END:VEVENT
BEGIN:VEVENT
DTSTART;TZID=America/New_York:20260715T183000
DTEND;TZID=America/New_York:20260715T190000
DTSTAMP:20260423T120934
CREATED:20260113T180519Z
LAST-MODIFIED:20260113T180519Z
UID:10007570-1784140200-1784142000@stjameshydepark.org
SUMMARY:Evening Prayer (Online)
DESCRIPTION:
URL:https://stjameshydepark.org/event/evening-prayer-online/2026-07-15/
LOCATION:St. James’ Episcopal Church\, 4526 Albany Post Rd.\, Hyde Park\, NY\, 12538\, United States
END:VEVENT
BEGIN:VEVENT
DTSTART;TZID=America/New_York:20260722T183000
DTEND;TZID=America/New_York:20260722T190000
DTSTAMP:20260423T120934
CREATED:20260113T180519Z
LAST-MODIFIED:20260113T180519Z
UID:10007571-1784745000-1784746800@stjameshydepark.org
SUMMARY:Evening Prayer (Online)
DESCRIPTION:
URL:https://stjameshydepark.org/event/evening-prayer-online/2026-07-22/
LOCATION:St. James’ Episcopal Church\, 4526 Albany Post Rd.\, Hyde Park\, NY\, 12538\, United States
END:VEVENT
BEGIN:VEVENT
DTSTART;TZID=America/New_York:20260729T183000
DTEND;TZID=America/New_York:20260729T190000
DTSTAMP:20260423T120934
CREATED:20260113T180519Z
LAST-MODIFIED:20260113T180519Z
UID:10007572-1785349800-1785351600@stjameshydepark.org
SUMMARY:Evening Prayer (Online)
DESCRIPTION:
URL:https://stjameshydepark.org/event/evening-prayer-online/2026-07-29/
LOCATION:St. James’ Episcopal Church\, 4526 Albany Post Rd.\, Hyde Park\, NY\, 12538\, United States
END:VEVENT
BEGIN:VEVENT
DTSTART;TZID=America/New_York:20260805T183000
DTEND;TZID=America/New_York:20260805T190000
DTSTAMP:20260423T120934
CREATED:20260113T180519Z
LAST-MODIFIED:20260113T180519Z
UID:10007573-1785954600-1785956400@stjameshydepark.org
SUMMARY:Evening Prayer (Online)
DESCRIPTION:
URL:https://stjameshydepark.org/event/evening-prayer-online/2026-08-05/
LOCATION:St. James’ Episcopal Church\, 4526 Albany Post Rd.\, Hyde Park\, NY\, 12538\, United States
END:VEVENT
BEGIN:VEVENT
DTSTART;TZID=America/New_York:20260812T183000
DTEND;TZID=America/New_York:20260812T190000
DTSTAMP:20260423T120934
CREATED:20260113T180519Z
LAST-MODIFIED:20260113T180519Z
UID:10007574-1786559400-1786561200@stjameshydepark.org
SUMMARY:Evening Prayer (Online)
DESCRIPTION:
URL:https://stjameshydepark.org/event/evening-prayer-online/2026-08-12/
LOCATION:St. James’ Episcopal Church\, 4526 Albany Post Rd.\, Hyde Park\, NY\, 12538\, United States
END:VEVENT
BEGIN:VEVENT
DTSTART;TZID=America/New_York:20260819T183000
DTEND;TZID=America/New_York:20260819T190000
DTSTAMP:20260423T120934
CREATED:20260113T180519Z
LAST-MODIFIED:20260113T180519Z
UID:10007575-1787164200-1787166000@stjameshydepark.org
SUMMARY:Evening Prayer (Online)
DESCRIPTION:
URL:https://stjameshydepark.org/event/evening-prayer-online/2026-08-19/
LOCATION:St. James’ Episcopal Church\, 4526 Albany Post Rd.\, Hyde Park\, NY\, 12538\, United States
END:VEVENT
BEGIN:VEVENT
DTSTART;TZID=America/New_York:20260826T183000
DTEND;TZID=America/New_York:20260826T190000
DTSTAMP:20260423T120934
CREATED:20260113T180519Z
LAST-MODIFIED:20260113T180519Z
UID:10007576-1787769000-1787770800@stjameshydepark.org
SUMMARY:Evening Prayer (Online)
DESCRIPTION:
URL:https://stjameshydepark.org/event/evening-prayer-online/2026-08-26/
LOCATION:St. James’ Episcopal Church\, 4526 Albany Post Rd.\, Hyde Park\, NY\, 12538\, United States
END:VEVENT
BEGIN:VEVENT
DTSTART;TZID=America/New_York:20260902T183000
DTEND;TZID=America/New_York:20260902T190000
DTSTAMP:20260423T120934
CREATED:20260113T180519Z
LAST-MODIFIED:20260113T180519Z
UID:10007577-1788373800-1788375600@stjameshydepark.org
SUMMARY:Evening Prayer (Online)
DESCRIPTION:
URL:https://stjameshydepark.org/event/evening-prayer-online/2026-09-02/
LOCATION:St. James’ Episcopal Church\, 4526 Albany Post Rd.\, Hyde Park\, NY\, 12538\, United States
END:VEVENT
BEGIN:VEVENT
DTSTART;TZID=America/New_York:20260909T183000
DTEND;TZID=America/New_York:20260909T190000
DTSTAMP:20260423T120934
CREATED:20260113T180519Z
LAST-MODIFIED:20260113T180519Z
UID:10007578-1788978600-1788980400@stjameshydepark.org
SUMMARY:Evening Prayer (Online)
DESCRIPTION:
URL:https://stjameshydepark.org/event/evening-prayer-online/2026-09-09/
LOCATION:St. James’ Episcopal Church\, 4526 Albany Post Rd.\, Hyde Park\, NY\, 12538\, United States
END:VEVENT
BEGIN:VEVENT
DTSTART;TZID=America/New_York:20260916T183000
DTEND;TZID=America/New_York:20260916T190000
DTSTAMP:20260423T120934
CREATED:20260113T180519Z
LAST-MODIFIED:20260113T180519Z
UID:10007579-1789583400-1789585200@stjameshydepark.org
SUMMARY:Evening Prayer (Online)
DESCRIPTION:
URL:https://stjameshydepark.org/event/evening-prayer-online/2026-09-16/
LOCATION:St. James’ Episcopal Church\, 4526 Albany Post Rd.\, Hyde Park\, NY\, 12538\, United States
END:VEVENT
BEGIN:VEVENT
DTSTART;TZID=America/New_York:20260923T183000
DTEND;TZID=America/New_York:20260923T190000
DTSTAMP:20260423T120934
CREATED:20260113T180519Z
LAST-MODIFIED:20260113T180519Z
UID:10007580-1790188200-1790190000@stjameshydepark.org
SUMMARY:Evening Prayer (Online)
DESCRIPTION:
URL:https://stjameshydepark.org/event/evening-prayer-online/2026-09-23/
LOCATION:St. James’ Episcopal Church\, 4526 Albany Post Rd.\, Hyde Park\, NY\, 12538\, United States
END:VEVENT
BEGIN:VEVENT
DTSTART;TZID=America/New_York:20260930T183000
DTEND;TZID=America/New_York:20260930T190000
DTSTAMP:20260423T120934
CREATED:20260113T180519Z
LAST-MODIFIED:20260113T180519Z
UID:10007581-1790793000-1790794800@stjameshydepark.org
SUMMARY:Evening Prayer (Online)
DESCRIPTION:
URL:https://stjameshydepark.org/event/evening-prayer-online/2026-09-30/
LOCATION:St. James’ Episcopal Church\, 4526 Albany Post Rd.\, Hyde Park\, NY\, 12538\, United States
END:VEVENT
BEGIN:VEVENT
DTSTART;TZID=America/New_York:20261007T183000
DTEND;TZID=America/New_York:20261007T190000
DTSTAMP:20260423T120934
CREATED:20260113T180519Z
LAST-MODIFIED:20260113T180519Z
UID:10007582-1791397800-1791399600@stjameshydepark.org
SUMMARY:Evening Prayer (Online)
DESCRIPTION:
URL:https://stjameshydepark.org/event/evening-prayer-online/2026-10-07/
LOCATION:St. James’ Episcopal Church\, 4526 Albany Post Rd.\, Hyde Park\, NY\, 12538\, United States
END:VEVENT
BEGIN:VEVENT
DTSTART;TZID=America/New_York:20261014T183000
DTEND;TZID=America/New_York:20261014T190000
DTSTAMP:20260423T120934
CREATED:20260113T180519Z
LAST-MODIFIED:20260113T180519Z
UID:10007583-1792002600-1792004400@stjameshydepark.org
SUMMARY:Evening Prayer (Online)
DESCRIPTION:
URL:https://stjameshydepark.org/event/evening-prayer-online/2026-10-14/
LOCATION:St. James’ Episcopal Church\, 4526 Albany Post Rd.\, Hyde Park\, NY\, 12538\, United States
END:VEVENT
BEGIN:VEVENT
DTSTART;TZID=America/New_York:20261021T183000
DTEND;TZID=America/New_York:20261021T190000
DTSTAMP:20260423T120934
CREATED:20260113T180519Z
LAST-MODIFIED:20260113T180519Z
UID:10007584-1792607400-1792609200@stjameshydepark.org
SUMMARY:Evening Prayer (Online)
DESCRIPTION:
URL:https://stjameshydepark.org/event/evening-prayer-online/2026-10-21/
LOCATION:St. James’ Episcopal Church\, 4526 Albany Post Rd.\, Hyde Park\, NY\, 12538\, United States
END:VEVENT
BEGIN:VEVENT
DTSTART;TZID=America/New_York:20261028T183000
DTEND;TZID=America/New_York:20261028T190000
DTSTAMP:20260423T120934
CREATED:20260113T180519Z
LAST-MODIFIED:20260113T180519Z
UID:10007585-1793212200-1793214000@stjameshydepark.org
SUMMARY:Evening Prayer (Online)
DESCRIPTION:
URL:https://stjameshydepark.org/event/evening-prayer-online/2026-10-28/
LOCATION:St. James’ Episcopal Church\, 4526 Albany Post Rd.\, Hyde Park\, NY\, 12538\, United States
END:VEVENT
BEGIN:VEVENT
DTSTART;TZID=America/New_York:20261104T183000
DTEND;TZID=America/New_York:20261104T190000
DTSTAMP:20260423T120934
CREATED:20260113T180519Z
LAST-MODIFIED:20260113T180519Z
UID:10007586-1793817000-1793818800@stjameshydepark.org
SUMMARY:Evening Prayer (Online)
DESCRIPTION:
URL:https://stjameshydepark.org/event/evening-prayer-online/2026-11-04/
LOCATION:St. James’ Episcopal Church\, 4526 Albany Post Rd.\, Hyde Park\, NY\, 12538\, United States
END:VEVENT
BEGIN:VEVENT
DTSTART;TZID=America/New_York:20261111T183000
DTEND;TZID=America/New_York:20261111T190000
DTSTAMP:20260423T120934
CREATED:20260113T180519Z
LAST-MODIFIED:20260113T180519Z
UID:10007587-1794421800-1794423600@stjameshydepark.org
SUMMARY:Evening Prayer (Online)
DESCRIPTION:
URL:https://stjameshydepark.org/event/evening-prayer-online/2026-11-11/
LOCATION:St. James’ Episcopal Church\, 4526 Albany Post Rd.\, Hyde Park\, NY\, 12538\, United States
END:VEVENT
BEGIN:VEVENT
DTSTART;TZID=America/New_York:20261118T183000
DTEND;TZID=America/New_York:20261118T190000
DTSTAMP:20260423T120934
CREATED:20260113T180519Z
LAST-MODIFIED:20260113T180519Z
UID:10007588-1795026600-1795028400@stjameshydepark.org
SUMMARY:Evening Prayer (Online)
DESCRIPTION:
URL:https://stjameshydepark.org/event/evening-prayer-online/2026-11-18/
LOCATION:St. James’ Episcopal Church\, 4526 Albany Post Rd.\, Hyde Park\, NY\, 12538\, United States
END:VEVENT
END:VCALENDAR