BEGIN:VCALENDAR
VERSION:2.0
PRODID:-//St. James&#039; Episcopal Church - ECPv6.15.20//NONSGML v1.0//EN
CALSCALE:GREGORIAN
METHOD:PUBLISH
X-ORIGINAL-URL:https://stjameshydepark.org
X-WR-CALDESC:Events for St. James&#039; Episcopal Church
REFRESH-INTERVAL;VALUE=DURATION:PT1H
X-Robots-Tag:noindex
X-PUBLISHED-TTL:PT1H
BEGIN:VTIMEZONE
TZID:America/New_York
BEGIN:DAYLIGHT
TZOFFSETFROM:-0500
TZOFFSETTO:-0400
TZNAME:EDT
DTSTART:20260308T070000
END:DAYLIGHT
BEGIN:STANDARD
TZOFFSETFROM:-0400
TZOFFSETTO:-0500
TZNAME:EST
DTSTART:20261101T060000
END:STANDARD
BEGIN:DAYLIGHT
TZOFFSETFROM:-0500
TZOFFSETTO:-0400
TZNAME:EDT
DTSTART:20270314T070000
END:DAYLIGHT
BEGIN:STANDARD
TZOFFSETFROM:-0400
TZOFFSETTO:-0500
TZNAME:EST
DTSTART:20271107T060000
END:STANDARD
BEGIN:DAYLIGHT
TZOFFSETFROM:-0500
TZOFFSETTO:-0400
TZNAME:EDT
DTSTART:20280312T070000
END:DAYLIGHT
BEGIN:STANDARD
TZOFFSETFROM:-0400
TZOFFSETTO:-0500
TZNAME:EST
DTSTART:20281105T060000
END:STANDARD
END:VTIMEZONE
BEGIN:VEVENT
DTSTART;TZID=America/New_York:20270103T080000
DTEND;TZID=America/New_York:20270103T090000
DTSTAMP:20260424T014816
CREATED:20241219T191649Z
LAST-MODIFIED:20250325T172434Z
UID:10004635-1798963200-1798966800@stjameshydepark.org
SUMMARY:Sunday Worship—Holy Eucharist\, Rite I
DESCRIPTION:Join us Sundays at 8:00 a.m. for a celebration of Holy Eucharist (Communion). This is a quiet service\, usually without music\, though we often have a soloist with acoustic guitar playing before and after the service. The service uses Rite 1 from the 1979 Book of Common Prayer\, with traditional language.
URL:https://stjameshydepark.org/event/sunday-8am-2025/2027-01-03/
LOCATION:St. James’ Episcopal Church\, 4526 Albany Post Rd.\, Hyde Park\, NY\, 12538\, United States
CATEGORIES:Worship
END:VEVENT
BEGIN:VEVENT
DTSTART;TZID=America/New_York:20270105T190000
DTEND;TZID=America/New_York:20270105T203000
DTSTAMP:20260424T014816
CREATED:20250107T191135Z
LAST-MODIFIED:20250107T191355Z
UID:10006119-1799175600-1799181000@stjameshydepark.org
SUMMARY:Boy Scout Troop 80 (Wilks Room)
DESCRIPTION:
URL:https://stjameshydepark.org/event/boy-scout-troop-80-wilks-room/2027-01-05/
LOCATION:St. James’ Episcopal Church\, 4526 Albany Post Rd.\, Hyde Park\, NY\, 12538\, United States
END:VEVENT
BEGIN:VEVENT
DTSTART;TZID=America/New_York:20270110T080000
DTEND;TZID=America/New_York:20270110T090000
DTSTAMP:20260424T014816
CREATED:20241219T191649Z
LAST-MODIFIED:20250325T172434Z
UID:10004636-1799568000-1799571600@stjameshydepark.org
SUMMARY:Sunday Worship—Holy Eucharist\, Rite I
DESCRIPTION:Join us Sundays at 8:00 a.m. for a celebration of Holy Eucharist (Communion). This is a quiet service\, usually without music\, though we often have a soloist with acoustic guitar playing before and after the service. The service uses Rite 1 from the 1979 Book of Common Prayer\, with traditional language.
URL:https://stjameshydepark.org/event/sunday-8am-2025/2027-01-10/
LOCATION:St. James’ Episcopal Church\, 4526 Albany Post Rd.\, Hyde Park\, NY\, 12538\, United States
CATEGORIES:Worship
END:VEVENT
BEGIN:VEVENT
DTSTART;TZID=America/New_York:20270117T080000
DTEND;TZID=America/New_York:20270117T090000
DTSTAMP:20260424T014816
CREATED:20241219T191649Z
LAST-MODIFIED:20250325T172434Z
UID:10004637-1800172800-1800176400@stjameshydepark.org
SUMMARY:Sunday Worship—Holy Eucharist\, Rite I
DESCRIPTION:Join us Sundays at 8:00 a.m. for a celebration of Holy Eucharist (Communion). This is a quiet service\, usually without music\, though we often have a soloist with acoustic guitar playing before and after the service. The service uses Rite 1 from the 1979 Book of Common Prayer\, with traditional language.
URL:https://stjameshydepark.org/event/sunday-8am-2025/2027-01-17/
LOCATION:St. James’ Episcopal Church\, 4526 Albany Post Rd.\, Hyde Park\, NY\, 12538\, United States
CATEGORIES:Worship
END:VEVENT
BEGIN:VEVENT
DTSTART;TZID=America/New_York:20270124T080000
DTEND;TZID=America/New_York:20270124T090000
DTSTAMP:20260424T014816
CREATED:20241219T191649Z
LAST-MODIFIED:20250325T172434Z
UID:10004638-1800777600-1800781200@stjameshydepark.org
SUMMARY:Sunday Worship—Holy Eucharist\, Rite I
DESCRIPTION:Join us Sundays at 8:00 a.m. for a celebration of Holy Eucharist (Communion). This is a quiet service\, usually without music\, though we often have a soloist with acoustic guitar playing before and after the service. The service uses Rite 1 from the 1979 Book of Common Prayer\, with traditional language.
URL:https://stjameshydepark.org/event/sunday-8am-2025/2027-01-24/
LOCATION:St. James’ Episcopal Church\, 4526 Albany Post Rd.\, Hyde Park\, NY\, 12538\, United States
CATEGORIES:Worship
END:VEVENT
BEGIN:VEVENT
DTSTART;TZID=America/New_York:20270127T190000
DTEND;TZID=America/New_York:20270127T210000
DTSTAMP:20260424T014816
CREATED:20251224T173132Z
LAST-MODIFIED:20251224T173132Z
UID:10007432-1801076400-1801083600@stjameshydepark.org
SUMMARY:Vestry Meeting (Wilks Room)
DESCRIPTION:
URL:https://stjameshydepark.org/event/vestry-meeting-wilks-room-5/
LOCATION:St. James’ Episcopal Church\, 4526 Albany Post Rd.\, Hyde Park\, NY\, 12538\, United States
END:VEVENT
BEGIN:VEVENT
DTSTART;TZID=America/New_York:20270131T080000
DTEND;TZID=America/New_York:20270131T090000
DTSTAMP:20260424T014816
CREATED:20241219T191649Z
LAST-MODIFIED:20250325T172434Z
UID:10004639-1801382400-1801386000@stjameshydepark.org
SUMMARY:Sunday Worship—Holy Eucharist\, Rite I
DESCRIPTION:Join us Sundays at 8:00 a.m. for a celebration of Holy Eucharist (Communion). This is a quiet service\, usually without music\, though we often have a soloist with acoustic guitar playing before and after the service. The service uses Rite 1 from the 1979 Book of Common Prayer\, with traditional language.
URL:https://stjameshydepark.org/event/sunday-8am-2025/2027-01-31/
LOCATION:St. James’ Episcopal Church\, 4526 Albany Post Rd.\, Hyde Park\, NY\, 12538\, United States
CATEGORIES:Worship
END:VEVENT
BEGIN:VEVENT
DTSTART;TZID=America/New_York:20270131T113000
DTEND;TZID=America/New_York:20270131T130000
DTSTAMP:20260424T014816
CREATED:20251224T173235Z
LAST-MODIFIED:20251224T173235Z
UID:10007433-1801395000-1801400400@stjameshydepark.org
SUMMARY:Annual Meeting (following 10 am worship)
DESCRIPTION:
URL:https://stjameshydepark.org/event/annual-meeting-following-10-am-worship/
LOCATION:St. James’ Episcopal Church\, 4526 Albany Post Rd.\, Hyde Park\, NY\, 12538\, United States
END:VEVENT
END:VCALENDAR