BEGIN:VCALENDAR
VERSION:2.0
PRODID:-//St. James&#039; Episcopal Church - ECPv6.15.20//NONSGML v1.0//EN
CALSCALE:GREGORIAN
METHOD:PUBLISH
X-ORIGINAL-URL:https://stjameshydepark.org
X-WR-CALDESC:Events for St. James&#039; Episcopal Church
REFRESH-INTERVAL;VALUE=DURATION:PT1H
X-Robots-Tag:noindex
X-PUBLISHED-TTL:PT1H
BEGIN:VTIMEZONE
TZID:America/New_York
BEGIN:DAYLIGHT
TZOFFSETFROM:-0500
TZOFFSETTO:-0400
TZNAME:EDT
DTSTART:20250309T070000
END:DAYLIGHT
BEGIN:STANDARD
TZOFFSETFROM:-0400
TZOFFSETTO:-0500
TZNAME:EST
DTSTART:20251102T060000
END:STANDARD
BEGIN:DAYLIGHT
TZOFFSETFROM:-0500
TZOFFSETTO:-0400
TZNAME:EDT
DTSTART:20260308T070000
END:DAYLIGHT
BEGIN:STANDARD
TZOFFSETFROM:-0400
TZOFFSETTO:-0500
TZNAME:EST
DTSTART:20261101T060000
END:STANDARD
BEGIN:DAYLIGHT
TZOFFSETFROM:-0500
TZOFFSETTO:-0400
TZNAME:EDT
DTSTART:20270314T070000
END:DAYLIGHT
BEGIN:STANDARD
TZOFFSETFROM:-0400
TZOFFSETTO:-0500
TZNAME:EST
DTSTART:20271107T060000
END:STANDARD
END:VTIMEZONE
BEGIN:VEVENT
DTSTART;TZID=America/New_York:20260201T080000
DTEND;TZID=America/New_York:20260201T090000
DTSTAMP:20260423T195722
CREATED:20241219T191649Z
LAST-MODIFIED:20250325T172434Z
UID:10004587-1769932800-1769936400@stjameshydepark.org
SUMMARY:Sunday Worship—Holy Eucharist\, Rite I
DESCRIPTION:Join us Sundays at 8:00 a.m. for a celebration of Holy Eucharist (Communion). This is a quiet service\, usually without music\, though we often have a soloist with acoustic guitar playing before and after the service. The service uses Rite 1 from the 1979 Book of Common Prayer\, with traditional language.
URL:https://stjameshydepark.org/event/sunday-8am-2025/2026-02-01/
LOCATION:St. James’ Episcopal Church\, 4526 Albany Post Rd.\, Hyde Park\, NY\, 12538\, United States
CATEGORIES:Worship
END:VEVENT
BEGIN:VEVENT
DTSTART;TZID=America/New_York:20260201T100000
DTEND;TZID=America/New_York:20260201T113000
DTSTAMP:20260423T195722
CREATED:20251220T015723Z
LAST-MODIFIED:20260402T145034Z
UID:10007288-1769940000-1769945400@stjameshydepark.org
SUMMARY:Sunday Worship—Holy Eucharist\, Rite II with Sunday School and Coffee Hour
DESCRIPTION:Join us Sundays at 10:00 a.m. for a celebration of Holy Eucharist (Communion). This service has music (usually organ and choir\, along with special guest musicians) and uses a variety of prayers and language from traditional to inclusive and expansive\, drawing from Rite II of the 1979 Book of Common Prayer\, Enriching Our Worship\, and other sources. \nCoffee hour in the Parish House usually follows this service. \nSunday School for kindergarten and up meets today on the second floor of the Parish House at 10:00 a.m. Students will rejoin the congregation just before Holy Communion. New to St. James’ Church? Your kids are welcome to Sunday School any Sunday. More details about St. James’ Sunday School at: https://stjameshydepark.org/for-children/
URL:https://stjameshydepark.org/event/sunday-worship-holy-eucharist-rite-ii-with-sunday-school-and-coffee-hour/2026-02-01/
LOCATION:St. James’ Episcopal Church\, 4526 Albany Post Rd.\, Hyde Park\, NY\, 12538\, United States
CATEGORIES:Worship
END:VEVENT
BEGIN:VEVENT
DTSTART;TZID=America/New_York:20260201T100000
DTEND;TZID=America/New_York:20260201T140000
DTSTAMP:20260423T195722
CREATED:20251104T151409Z
LAST-MODIFIED:20251209T150151Z
UID:10007093-1769940000-1769954400@stjameshydepark.org
SUMMARY:Fresh Manna Church (Chapel and Reading Room)
DESCRIPTION:
URL:https://stjameshydepark.org/event/fresh-manna-church-chapel-and-reading-room/2026-02-01/
LOCATION:St. James’ Chapel\, 10 East Market Street\, Hyde Park\, NY\, 12567\, United States
END:VEVENT
BEGIN:VEVENT
DTSTART;TZID=America/New_York:20260201T113000
DTEND;TZID=America/New_York:20260201T130000
DTSTAMP:20260423T195722
CREATED:20251216T190021Z
LAST-MODIFIED:20260129T153553Z
UID:10007232-1769945400-1769950800@stjameshydepark.org
SUMMARY:2026 Annual Meeting (Parish Hall) followed by brief Vestry Meeting
DESCRIPTION:St. James’ 2026 Annual Meeting will take place on Sunday\, February 1\, 2026 (rescheduled from January 25 due to snow)\, in the Parish Hall following the 10:00 am Holy Eucharist. \nSchedule\n\n10:00 am – Polls open; Holy Eucharist\n11:15 am – All-Church photo\n11:30 am – Annual Meeting in the Parish Hall\n\nElections at the Annual Meeting\nElections will be held at this Annual Meeting to fill the following terms of office: \n\nWarden\, two-year term (Russell Urban-Mead standing for election)\nThree Vestry members\, three-year terms (Regina Dahlgren\, Joanne Lown\, and Anne McGrath standing for election)\nTwo Vestry members\, one-year terms — vacancies created as a result of Russell Urban-Mead being nominated for Warden and Deb Belding stepping down after the second year of a three-year term (Jeff Crutcher and Kathleen Ferreira standing for election)\n\nYou can read candidates’ personal statements in the Nominating Committee Report. \nPolls will be open beginning at 10:00 am. \nAnnual Meeting Materials\nThe 2026 Annual Meeting Packet includes the 2025 annual reports for our leaders and ministries and the 2026 Operating Budget. Printed copies will be available at the Annual Meeting. \nSt. James’ Medals\nThe St. James’ Medal is awarded at the Annual Meeting. Those who have received the medal in years past are encouraged to wear it on Annual Meeting day.
URL:https://stjameshydepark.org/event/annual-meeting-2026/
LOCATION:St. James’ Episcopal Church\, 4526 Albany Post Rd.\, Hyde Park\, NY\, 12538\, United States
CATEGORIES:Governance
ATTACH;FMTTYPE=image/png:https://stjameshydepark.org/wp-content/uploads/2026/01/Annual-Meeting-2026.png
END:VEVENT
BEGIN:VEVENT
DTSTART;TZID=America/New_York:20260201T183000
DTEND;TZID=America/New_York:20260201T210000
DTSTAMP:20260423T195722
CREATED:20260410T125621Z
LAST-MODIFIED:20260410T125621Z
UID:10007911-1769970600-1769979600@stjameshydepark.org
SUMMARY:Hyde Park Group AA (Parish Hall\, Rm. 201)
DESCRIPTION:
URL:https://stjameshydepark.org/event/hyde-park-group-aa-parish-hall-rm-201-2/2026-02-01/
LOCATION:St. James’ Episcopal Church\, 4526 Albany Post Rd.\, Hyde Park\, NY\, 12538\, United States
END:VEVENT
BEGIN:VEVENT
DTSTART;TZID=America/New_York:20260202T130000
DTEND;TZID=America/New_York:20260202T150000
DTSTAMP:20260423T195722
CREATED:20260113T175431Z
LAST-MODIFIED:20260123T215934Z
UID:10007444-1770037200-1770044400@stjameshydepark.org
SUMMARY:Knit + Craft + Chat (Wilks Room)
DESCRIPTION:A community of crafters and conversationalists meets Mondays from 1-3 pm (drop-in)—at St. James’ Episcopal Church in the Wilks Room of our Parish House. We are a friendly group: knitters\, embroiderers\, crocheters\, conversationalists and miscellaneous other activities. All are welcome; no previous skill is required.
URL:https://stjameshydepark.org/event/knit-craft-chat-2026/2026-02-02/
LOCATION:St. James’ Episcopal Church\, 4526 Albany Post Rd.\, Hyde Park\, NY\, 12538\, United States
CATEGORIES:Fun
ATTACH;FMTTYPE=image/png:https://stjameshydepark.org/wp-content/uploads/2024/09/Knit-Craft-Chat.png
END:VEVENT
BEGIN:VEVENT
DTSTART;TZID=America/New_York:20260203T190000
DTEND;TZID=America/New_York:20260203T203000
DTSTAMP:20260423T195722
CREATED:20250107T191135Z
LAST-MODIFIED:20250107T191355Z
UID:10006108-1770145200-1770150600@stjameshydepark.org
SUMMARY:Boy Scout Troop 80 (Wilks Room)
DESCRIPTION:
URL:https://stjameshydepark.org/event/boy-scout-troop-80-wilks-room/2026-02-03/
LOCATION:St. James’ Episcopal Church\, 4526 Albany Post Rd.\, Hyde Park\, NY\, 12538\, United States
END:VEVENT
BEGIN:VEVENT
DTSTART;TZID=America/New_York:20260203T190000
DTEND;TZID=America/New_York:20260203T203000
DTSTAMP:20260423T195722
CREATED:20260410T130119Z
LAST-MODIFIED:20260410T130329Z
UID:10007963-1770145200-1770150600@stjameshydepark.org
SUMMARY:Boy Scout Troop 80 (Parish Hall)
DESCRIPTION:
URL:https://stjameshydepark.org/event/boyr-scout-troop-80-parish-hall/2026-02-03/
LOCATION:St. James’ Episcopal Church\, 4526 Albany Post Rd.\, Hyde Park\, NY\, 12538\, United States
END:VEVENT
BEGIN:VEVENT
DTSTART;VALUE=DATE:20260204
DTEND;VALUE=DATE:20260205
DTSTAMP:20260423T195722
CREATED:20251104T151721Z
LAST-MODIFIED:20251104T151721Z
UID:10007119-1770163200-1770249599@stjameshydepark.org
SUMMARY:Fresh Manna Church Evening Prayer and Bible Study (Chapel and Reading Room)
DESCRIPTION:
URL:https://stjameshydepark.org/event/fresh-manna-church-evening-prayer-and-bible-study-chapel-and-reading-room/2026-02-04/
LOCATION:St. James’ Chapel\, 10 East Market Street\, Hyde Park\, NY\, 12567\, United States
END:VEVENT
BEGIN:VEVENT
DTSTART;TZID=America/New_York:20260204T110000
DTEND;TZID=America/New_York:20260204T121500
DTSTAMP:20260423T195722
CREATED:20260113T175632Z
LAST-MODIFIED:20260206T005925Z
UID:10007495-1770202800-1770207300@stjameshydepark.org
SUMMARY:Bible Study (Online)
DESCRIPTION:Our weekly Bible study on Zoom usually focuses on the Gospel for the upcoming Sunday and is led by Mtr. Meredith. We practice a contemplative\, prayerful style of Bible study that focuses on how God is speaking to us through our questions\, responses\, curiosities and doubts as we engage Scripture. \nThe study is followed by a brief\, optional service of noonday prayer. \nJoin in any Wednesday at 11 am. No previous preparation is required. The Zoom link is distributed via our weekly email newsletter (or contact the parish office).
URL:https://stjameshydepark.org/event/bible-study-online/2026-02-04/
LOCATION:St. James’ Episcopal Church\, 4526 Albany Post Rd.\, Hyde Park\, NY\, 12538\, United States
CATEGORIES:Christian Formation
END:VEVENT
BEGIN:VEVENT
DTSTART;TZID=America/New_York:20260204T183000
DTEND;TZID=America/New_York:20260204T190000
DTSTAMP:20260423T195722
CREATED:20260113T180519Z
LAST-MODIFIED:20260113T180519Z
UID:10007547-1770229800-1770231600@stjameshydepark.org
SUMMARY:Evening Prayer (Online)
DESCRIPTION:
URL:https://stjameshydepark.org/event/evening-prayer-online/2026-02-04/
LOCATION:St. James’ Episcopal Church\, 4526 Albany Post Rd.\, Hyde Park\, NY\, 12538\, United States
END:VEVENT
BEGIN:VEVENT
DTSTART;TZID=America/New_York:20260204T190000
DTEND;TZID=America/New_York:20260204T200000
DTSTAMP:20260423T195722
CREATED:20260127T155655Z
LAST-MODIFIED:20260127T155655Z
UID:10007668-1770231600-1770235200@stjameshydepark.org
SUMMARY:Eleanor Roosevelt’s Nightly Prayer Book Study (Wilks Room)
DESCRIPTION:
URL:https://stjameshydepark.org/event/eleanor-roosevelts-nightly-prayer-book-study-wilks-room/2026-02-04/
LOCATION:St. James’ Episcopal Church\, 4526 Albany Post Rd.\, Hyde Park\, NY\, 12538\, United States
END:VEVENT
BEGIN:VEVENT
DTSTART;TZID=America/New_York:20260207T183000
DTEND;TZID=America/New_York:20260207T190000
DTSTAMP:20260423T195722
CREATED:20260113T180750Z
LAST-MODIFIED:20260113T180750Z
UID:10007598-1770489000-1770490800@stjameshydepark.org
SUMMARY:Compline (Online)
DESCRIPTION:
URL:https://stjameshydepark.org/event/compline-online/2026-02-07/
LOCATION:St. James’ Episcopal Church\, 4526 Albany Post Rd.\, Hyde Park\, NY\, 12538\, United States
END:VEVENT
BEGIN:VEVENT
DTSTART;TZID=America/New_York:20260208T080000
DTEND;TZID=America/New_York:20260208T090000
DTSTAMP:20260423T195722
CREATED:20241219T191649Z
LAST-MODIFIED:20250325T172434Z
UID:10004588-1770537600-1770541200@stjameshydepark.org
SUMMARY:Sunday Worship—Holy Eucharist\, Rite I
DESCRIPTION:Join us Sundays at 8:00 a.m. for a celebration of Holy Eucharist (Communion). This is a quiet service\, usually without music\, though we often have a soloist with acoustic guitar playing before and after the service. The service uses Rite 1 from the 1979 Book of Common Prayer\, with traditional language.
URL:https://stjameshydepark.org/event/sunday-8am-2025/2026-02-08/
LOCATION:St. James’ Episcopal Church\, 4526 Albany Post Rd.\, Hyde Park\, NY\, 12538\, United States
CATEGORIES:Worship
END:VEVENT
BEGIN:VEVENT
DTSTART;TZID=America/New_York:20260208T100000
DTEND;TZID=America/New_York:20260208T113000
DTSTAMP:20260423T195722
CREATED:20251220T015723Z
LAST-MODIFIED:20260402T145034Z
UID:10007289-1770544800-1770550200@stjameshydepark.org
SUMMARY:Sunday Worship—Holy Eucharist\, Rite II with Sunday School and Coffee Hour
DESCRIPTION:Join us Sundays at 10:00 a.m. for a celebration of Holy Eucharist (Communion). This service has music (usually organ and choir\, along with special guest musicians) and uses a variety of prayers and language from traditional to inclusive and expansive\, drawing from Rite II of the 1979 Book of Common Prayer\, Enriching Our Worship\, and other sources. \nCoffee hour in the Parish House usually follows this service. \nSunday School for kindergarten and up meets today on the second floor of the Parish House at 10:00 a.m. Students will rejoin the congregation just before Holy Communion. New to St. James’ Church? Your kids are welcome to Sunday School any Sunday. More details about St. James’ Sunday School at: https://stjameshydepark.org/for-children/
URL:https://stjameshydepark.org/event/sunday-worship-holy-eucharist-rite-ii-with-sunday-school-and-coffee-hour/2026-02-08/
LOCATION:St. James’ Episcopal Church\, 4526 Albany Post Rd.\, Hyde Park\, NY\, 12538\, United States
CATEGORIES:Worship
END:VEVENT
BEGIN:VEVENT
DTSTART;TZID=America/New_York:20260208T100000
DTEND;TZID=America/New_York:20260208T140000
DTSTAMP:20260423T195722
CREATED:20251104T151409Z
LAST-MODIFIED:20251209T150151Z
UID:10007094-1770544800-1770559200@stjameshydepark.org
SUMMARY:Fresh Manna Church (Chapel and Reading Room)
DESCRIPTION:
URL:https://stjameshydepark.org/event/fresh-manna-church-chapel-and-reading-room/2026-02-08/
LOCATION:St. James’ Chapel\, 10 East Market Street\, Hyde Park\, NY\, 12567\, United States
END:VEVENT
BEGIN:VEVENT
DTSTART;TZID=America/New_York:20260208T110000
DTEND;TZID=America/New_York:20260208T130000
DTSTAMP:20260423T195722
CREATED:20260203T134420Z
LAST-MODIFIED:20260203T134420Z
UID:10007671-1770548400-1770555600@stjameshydepark.org
SUMMARY:Outreach Meeting (Wilks Room)
DESCRIPTION:
URL:https://stjameshydepark.org/event/outreach-meeting-wilks-room-5/
LOCATION:St. James’ Episcopal Church\, 4526 Albany Post Rd.\, Hyde Park\, NY\, 12538\, United States
END:VEVENT
BEGIN:VEVENT
DTSTART;TZID=America/New_York:20260208T183000
DTEND;TZID=America/New_York:20260208T210000
DTSTAMP:20260423T195722
CREATED:20260410T125621Z
LAST-MODIFIED:20260410T125621Z
UID:10007912-1770575400-1770584400@stjameshydepark.org
SUMMARY:Hyde Park Group AA (Parish Hall\, Rm. 201)
DESCRIPTION:
URL:https://stjameshydepark.org/event/hyde-park-group-aa-parish-hall-rm-201-2/2026-02-08/
LOCATION:St. James’ Episcopal Church\, 4526 Albany Post Rd.\, Hyde Park\, NY\, 12538\, United States
END:VEVENT
BEGIN:VEVENT
DTSTART;TZID=America/New_York:20260209T130000
DTEND;TZID=America/New_York:20260209T150000
DTSTAMP:20260423T195722
CREATED:20260113T175431Z
LAST-MODIFIED:20260123T215934Z
UID:10007445-1770642000-1770649200@stjameshydepark.org
SUMMARY:Knit + Craft + Chat (Wilks Room)
DESCRIPTION:A community of crafters and conversationalists meets Mondays from 1-3 pm (drop-in)—at St. James’ Episcopal Church in the Wilks Room of our Parish House. We are a friendly group: knitters\, embroiderers\, crocheters\, conversationalists and miscellaneous other activities. All are welcome; no previous skill is required.
URL:https://stjameshydepark.org/event/knit-craft-chat-2026/2026-02-09/
LOCATION:St. James’ Episcopal Church\, 4526 Albany Post Rd.\, Hyde Park\, NY\, 12538\, United States
CATEGORIES:Fun
ATTACH;FMTTYPE=image/png:https://stjameshydepark.org/wp-content/uploads/2024/09/Knit-Craft-Chat.png
END:VEVENT
BEGIN:VEVENT
DTSTART;TZID=America/New_York:20260210T180000
DTEND;TZID=America/New_York:20260210T200000
DTSTAMP:20260423T195722
CREATED:20260210T145034Z
LAST-MODIFIED:20260210T145036Z
UID:10007191-1770746400-1770753600@stjameshydepark.org
SUMMARY:Women's Group Dinner CANCELED due to weather advisory (February 2026 only)
DESCRIPTION:
URL:https://stjameshydepark.org/event/womens-group-antonellas-3-2/
LOCATION:Antonella’s Restaurant\, Hyde Park\, NY\, 4246 Albany Post Rd #1700\, Hyde Park\, NY\, 12538\, United States
END:VEVENT
BEGIN:VEVENT
DTSTART;TZID=America/New_York:20260210T190000
DTEND;TZID=America/New_York:20260210T203000
DTSTAMP:20260423T195722
CREATED:20260410T130119Z
LAST-MODIFIED:20260410T130329Z
UID:10007964-1770750000-1770755400@stjameshydepark.org
SUMMARY:Boy Scout Troop 80 (Parish Hall)
DESCRIPTION:
URL:https://stjameshydepark.org/event/boyr-scout-troop-80-parish-hall/2026-02-10/
LOCATION:St. James’ Episcopal Church\, 4526 Albany Post Rd.\, Hyde Park\, NY\, 12538\, United States
END:VEVENT
BEGIN:VEVENT
DTSTART;VALUE=DATE:20260211
DTEND;VALUE=DATE:20260212
DTSTAMP:20260423T195722
CREATED:20251104T151721Z
LAST-MODIFIED:20251104T151721Z
UID:10007120-1770768000-1770854399@stjameshydepark.org
SUMMARY:Fresh Manna Church Evening Prayer and Bible Study (Chapel and Reading Room)
DESCRIPTION:
URL:https://stjameshydepark.org/event/fresh-manna-church-evening-prayer-and-bible-study-chapel-and-reading-room/2026-02-11/
LOCATION:St. James’ Chapel\, 10 East Market Street\, Hyde Park\, NY\, 12567\, United States
END:VEVENT
BEGIN:VEVENT
DTSTART;TZID=America/New_York:20260211T110000
DTEND;TZID=America/New_York:20260211T121500
DTSTAMP:20260423T195722
CREATED:20260113T175632Z
LAST-MODIFIED:20260206T005925Z
UID:10007496-1770807600-1770812100@stjameshydepark.org
SUMMARY:Bible Study (Online)
DESCRIPTION:Our weekly Bible study on Zoom usually focuses on the Gospel for the upcoming Sunday and is led by Mtr. Meredith. We practice a contemplative\, prayerful style of Bible study that focuses on how God is speaking to us through our questions\, responses\, curiosities and doubts as we engage Scripture. \nThe study is followed by a brief\, optional service of noonday prayer. \nJoin in any Wednesday at 11 am. No previous preparation is required. The Zoom link is distributed via our weekly email newsletter (or contact the parish office).
URL:https://stjameshydepark.org/event/bible-study-online/2026-02-11/
LOCATION:St. James’ Episcopal Church\, 4526 Albany Post Rd.\, Hyde Park\, NY\, 12538\, United States
CATEGORIES:Christian Formation
END:VEVENT
BEGIN:VEVENT
DTSTART;TZID=America/New_York:20260211T150000
DTEND;TZID=America/New_York:20260211T170000
DTSTAMP:20260423T195722
CREATED:20260120T164432Z
LAST-MODIFIED:20260120T164432Z
UID:10007655-1770822000-1770829200@stjameshydepark.org
SUMMARY:Finance Committee Meeting (Wilks Room)
DESCRIPTION:
URL:https://stjameshydepark.org/event/finance-committee-meeting-wilks-room-11/
LOCATION:St. James’ Episcopal Church\, 4526 Albany Post Rd.\, Hyde Park\, NY\, 12538\, United States
END:VEVENT
BEGIN:VEVENT
DTSTART;TZID=America/New_York:20260211T183000
DTEND;TZID=America/New_York:20260211T190000
DTSTAMP:20260423T195722
CREATED:20260113T180519Z
LAST-MODIFIED:20260113T180519Z
UID:10007548-1770834600-1770836400@stjameshydepark.org
SUMMARY:Evening Prayer (Online)
DESCRIPTION:
URL:https://stjameshydepark.org/event/evening-prayer-online/2026-02-11/
LOCATION:St. James’ Episcopal Church\, 4526 Albany Post Rd.\, Hyde Park\, NY\, 12538\, United States
END:VEVENT
BEGIN:VEVENT
DTSTART;TZID=America/New_York:20260211T190000
DTEND;TZID=America/New_York:20260211T200000
DTSTAMP:20260423T195722
CREATED:20260127T155655Z
LAST-MODIFIED:20260127T155655Z
UID:10007669-1770836400-1770840000@stjameshydepark.org
SUMMARY:Eleanor Roosevelt’s Nightly Prayer Book Study (Wilks Room)
DESCRIPTION:
URL:https://stjameshydepark.org/event/eleanor-roosevelts-nightly-prayer-book-study-wilks-room/2026-02-11/
LOCATION:St. James’ Episcopal Church\, 4526 Albany Post Rd.\, Hyde Park\, NY\, 12538\, United States
END:VEVENT
BEGIN:VEVENT
DTSTART;TZID=America/New_York:20260212T170000
DTEND;TZID=America/New_York:20260212T210000
DTSTAMP:20260423T195722
CREATED:20260113T182252Z
LAST-MODIFIED:20260113T182252Z
UID:10007651-1770915600-1770930000@stjameshydepark.org
SUMMARY:[New Deal] Setup for Event (Parish Hall)
DESCRIPTION:
URL:https://stjameshydepark.org/event/new-deal-setup-for-event-parish-hall-2/
LOCATION:St. James’ Episcopal Church\, 4526 Albany Post Rd.\, Hyde Park\, NY\, 12538\, United States
END:VEVENT
BEGIN:VEVENT
DTSTART;VALUE=DATE:20260213
DTEND;VALUE=DATE:20260214
DTSTAMP:20260423T195722
CREATED:20260113T182144Z
LAST-MODIFIED:20260113T182144Z
UID:10007650-1770940800-1771027199@stjameshydepark.org
SUMMARY:[New Deal] Valentine's Cabaret (Parish Hall)
DESCRIPTION:
URL:https://stjameshydepark.org/event/new-deal-valentines-cabaret-parish-hall/
LOCATION:St. James’ Episcopal Church\, 4526 Albany Post Rd.\, Hyde Park\, NY\, 12538\, United States
END:VEVENT
BEGIN:VEVENT
DTSTART;TZID=America/New_York:20260213T173000
DTEND;TZID=America/New_York:20260213T190000
DTSTAMP:20260423T195722
CREATED:20251205T134804Z
LAST-MODIFIED:20260421T145747Z
UID:10007180-1771003800-1771009200@stjameshydepark.org
SUMMARY:Youth Confirmation Class (2025-2026)
DESCRIPTION:~ Youth Confirmation Class ~  \nSpring 2026 Dates \n5:30-7 PM \npizza served \n\nSecond Fridays of the Month\nFriday\, January 9\, 2026\nFriday\, February 13\, 2026\nFriday\, March 13\, 2026\nFriday\, April 10 24\, 2026 at St. James’ Hyde Park\nFriday\, May 8\, 2026 at St. Paul’s Pleasant Valley \nNightwatch at St. John the Divine\nFriday\, February 27—Saturday\, February 28 \n\nHost location rotates: \nSt. James’ Episcopal Church\n4526 Albany Post Road\, Hyde Park \nSt. Paul’s Episcopal Church\n808 Traver Road\, Pleasant Valley \nSt. Paul’s Episcopal Church\n161 Mansion Street\, Poughkeepsie
URL:https://stjameshydepark.org/event/youth-confirmation-2026/2026-02-13/
LOCATION:NY
CATEGORIES:Christian Formation,Kids & Youth
END:VEVENT
BEGIN:VEVENT
DTSTART;TZID=America/New_York:20260214T090000
DTEND;TZID=America/New_York:20260214T140000
DTSTAMP:20260423T195722
CREATED:20260212T133724Z
LAST-MODIFIED:20260212T133740Z
UID:10007679-1771059600-1771077600@stjameshydepark.org
SUMMARY:Discernment Committee (Wilks Room)
DESCRIPTION:
URL:https://stjameshydepark.org/event/discernment-committee-wilks-room/
LOCATION:St. James’ Episcopal Church\, 4526 Albany Post Rd.\, Hyde Park\, NY\, 12538\, United States
END:VEVENT
END:VCALENDAR