BEGIN:VCALENDAR
VERSION:2.0
PRODID:-//St. James&#039; Episcopal Church - ECPv6.15.20//NONSGML v1.0//EN
CALSCALE:GREGORIAN
METHOD:PUBLISH
X-ORIGINAL-URL:https://stjameshydepark.org
X-WR-CALDESC:Events for St. James&#039; Episcopal Church
REFRESH-INTERVAL;VALUE=DURATION:PT1H
X-Robots-Tag:noindex
X-PUBLISHED-TTL:PT1H
BEGIN:VTIMEZONE
TZID:America/New_York
BEGIN:DAYLIGHT
TZOFFSETFROM:-0500
TZOFFSETTO:-0400
TZNAME:EDT
DTSTART:20240310T070000
END:DAYLIGHT
BEGIN:STANDARD
TZOFFSETFROM:-0400
TZOFFSETTO:-0500
TZNAME:EST
DTSTART:20241103T060000
END:STANDARD
BEGIN:DAYLIGHT
TZOFFSETFROM:-0500
TZOFFSETTO:-0400
TZNAME:EDT
DTSTART:20250309T070000
END:DAYLIGHT
BEGIN:STANDARD
TZOFFSETFROM:-0400
TZOFFSETTO:-0500
TZNAME:EST
DTSTART:20251102T060000
END:STANDARD
BEGIN:DAYLIGHT
TZOFFSETFROM:-0500
TZOFFSETTO:-0400
TZNAME:EDT
DTSTART:20260308T070000
END:DAYLIGHT
BEGIN:STANDARD
TZOFFSETFROM:-0400
TZOFFSETTO:-0500
TZNAME:EST
DTSTART:20261101T060000
END:STANDARD
END:VTIMEZONE
BEGIN:VEVENT
DTSTART;TZID=America/New_York:20250401T103000
DTEND;TZID=America/New_York:20250401T113000
DTSTAMP:20260424T113653
CREATED:20250131T164022Z
LAST-MODIFIED:20250222T021843Z
UID:10006307-1743503400-1743507000@stjameshydepark.org
SUMMARY:Lenten Book Study: Julian of Norwich (Wilks Room)
DESCRIPTION:Julian of Norwich\, an anchoress in the 14th century\, was a mystic\, teacher and mentor. After a grave illness in which she had visions of Christ\, Julian penned her experiences—the first recorded works by a woman in English. We will take a look at a new translation of her “Revelations” in Mirabai Starr’s “Showings” (available at abe books\, used; and Amazon\, new). Come and join us as we seek to deepen our relationship with God. We will meet in the Wilks room from 10:30 to 11:30 during the Tuesdays of Lent.\n(Co-hosts\, Megan Bean and Bobbie Wells)
URL:https://stjameshydepark.org/event/lent-book-study-julian/2025-04-01/
LOCATION:St. James’ Episcopal Church\, 4526 Albany Post Rd.\, Hyde Park\, NY\, 12538\, United States
CATEGORIES:Christian Formation,Lent
ATTACH;FMTTYPE=image/png:https://stjameshydepark.org/wp-content/uploads/2025/01/Julian-Book-Study-2025.png
END:VEVENT
BEGIN:VEVENT
DTSTART;TZID=America/New_York:20250401T110000
DTEND;TZID=America/New_York:20250401T113000
DTSTAMP:20260424T113653
CREATED:20250321T155947Z
LAST-MODIFIED:20250321T155947Z
UID:10006435-1743505200-1743507000@stjameshydepark.org
SUMMARY:Staff Meeting (Wilks Room)
DESCRIPTION:
URL:https://stjameshydepark.org/event/staff-meeting-wilks-room/2025-04-01/
LOCATION:St. James’ Episcopal Church\, 4526 Albany Post Rd.\, Hyde Park\, NY\, 12538\, United States
END:VEVENT
BEGIN:VEVENT
DTSTART;TZID=America/New_York:20250401T113000
DTEND;TZID=America/New_York:20250401T120000
DTSTAMP:20260424T113653
CREATED:20241008T150243Z
LAST-MODIFIED:20241008T150243Z
UID:10004182-1743507000-1743508800@stjameshydepark.org
SUMMARY:ARC Lunch
DESCRIPTION:
URL:https://stjameshydepark.org/event/arc-lunch/2025-04-01/
LOCATION:St. James’ Episcopal Church\, 4526 Albany Post Rd.\, Hyde Park\, NY\, 12538\, United States
END:VEVENT
BEGIN:VEVENT
DTSTART;TZID=America/New_York:20250401T180000
DTEND;TZID=America/New_York:20250401T183000
DTSTAMP:20260424T113653
CREATED:20250221T213426Z
LAST-MODIFIED:20250222T022927Z
UID:10006399-1743530400-1743532200@stjameshydepark.org
SUMMARY:Centering Prayer (Church)
DESCRIPTION:Centering prayer is a type of meditation with a long history in the Christian tradition\, beginning with the 14th century English monk who wrote The Cloud of Unknowing. But you don’t need to be a monk or a mystic to practice centering prayer and experience its benefits. Lent is the perfect time to enter the quiet of this practice. Beginners welcome. Sessions will last about 30 minutes. Tuesdays in Lent at 6 pm in the church (starting March 18th). \nLed by Tessa Kale\, who has taken many retreats on centering prayer with Cynthia Bourgeault and is a participant in her Wisdom School.
URL:https://stjameshydepark.org/event/centering-prayer-2025/2025-04-01/
LOCATION:St. James’ Episcopal Church\, 4526 Albany Post Rd.\, Hyde Park\, NY\, 12538\, United States
CATEGORIES:Christian Formation,Lent
ATTACH;FMTTYPE=image/png:https://stjameshydepark.org/wp-content/uploads/2025/02/Centering-Prayer-2025.png
END:VEVENT
BEGIN:VEVENT
DTSTART;TZID=America/New_York:20250401T190000
DTEND;TZID=America/New_York:20250401T203000
DTSTAMP:20260424T113653
CREATED:20250107T190949Z
LAST-MODIFIED:20250107T190949Z
UID:10006010-1743534000-1743539400@stjameshydepark.org
SUMMARY:Boy Scout Troop 80 (Parish Hall)
DESCRIPTION:
URL:https://stjameshydepark.org/event/boy-scout-troop-80-parish-hall/2025-04-01/
LOCATION:St. James’ Episcopal Church\, 4526 Albany Post Rd.\, Hyde Park\, NY\, 12538\, United States
END:VEVENT
BEGIN:VEVENT
DTSTART;TZID=America/New_York:20250401T190000
DTEND;TZID=America/New_York:20250401T203000
DTSTAMP:20260424T113653
CREATED:20250107T191135Z
LAST-MODIFIED:20250107T191355Z
UID:10006101-1743534000-1743539400@stjameshydepark.org
SUMMARY:Boy Scout Troop 80 (Wilks Room)
DESCRIPTION:
URL:https://stjameshydepark.org/event/boy-scout-troop-80-wilks-room/2025-04-01/
LOCATION:St. James’ Episcopal Church\, 4526 Albany Post Rd.\, Hyde Park\, NY\, 12538\, United States
END:VEVENT
BEGIN:VEVENT
DTSTART;TZID=America/New_York:20250402T110000
DTEND;TZID=America/New_York:20250402T121500
DTSTAMP:20260424T113653
CREATED:20241120T172057Z
LAST-MODIFIED:20250424T151851Z
UID:10006332-1743591600-1743596100@stjameshydepark.org
SUMMARY:Bible Study (Online)
DESCRIPTION:Our weekly Bible study on Zoom usually focuses on the Gospel for the upcoming Sunday and is led by Mtr. Meredith. We practice a contemplative\, prayerful style of Bible study that focuses on how God is speaking to us through our questions\, responses\, curiosities and doubts as we engage Scripture.  \nThe study is followed by a brief\, optional service of noonday prayer. \nJoin in any Wednesday at 11 am. No previous preparation is required. The Zoom link is distributed via our weekly email newsletter (or contact the parish office).
URL:https://stjameshydepark.org/event/bible-study-2025/2025-04-02/
LOCATION:Online
CATEGORIES:Christian Formation
END:VEVENT
BEGIN:VEVENT
DTSTART;TZID=America/New_York:20250402T180000
DTEND;TZID=America/New_York:20250402T210000
DTSTAMP:20260424T113653
CREATED:20250402T144625Z
LAST-MODIFIED:20250402T144625Z
UID:10006465-1743616800-1743627600@stjameshydepark.org
SUMMARY:[New Deal] (Parish Hall)
DESCRIPTION:
URL:https://stjameshydepark.org/event/new-deal-parish-hall-2/2025-04-02/
LOCATION:St. James’ Episcopal Church\, 4526 Albany Post Rd.\, Hyde Park\, NY\, 12538\, United States
END:VEVENT
BEGIN:VEVENT
DTSTART;TZID=America/New_York:20250402T183000
DTEND;TZID=America/New_York:20250402T190000
DTSTAMP:20260424T113653
CREATED:20241219T190934Z
LAST-MODIFIED:20241219T190934Z
UID:10004327-1743618600-1743620400@stjameshydepark.org
SUMMARY:Evening Prayer (Online)
DESCRIPTION:Join us online every Wednesday at 6:30 pm for a brief service of Evening Prayer led by Deacon Gail. Please email the parish office at stjames.hydepark@gmail.com to request the Zoom link.
URL:https://stjameshydepark.org/event/evening-prayer-2025/2025-04-02/
LOCATION:Online
CATEGORIES:Worship
END:VEVENT
BEGIN:VEVENT
DTSTART;TZID=America/New_York:20250402T183000
DTEND;TZID=America/New_York:20250402T193000
DTSTAMP:20260424T113653
CREATED:20250401T153357Z
LAST-MODIFIED:20250401T153357Z
UID:10006463-1743618600-1743622200@stjameshydepark.org
SUMMARY:Community of Hope International Meeting (Wilks Room)
DESCRIPTION:
URL:https://stjameshydepark.org/event/community-of-hope-international-meeting-wilks-room/
LOCATION:St. James’ Episcopal Church\, 4526 Albany Post Rd.\, Hyde Park\, NY\, 12538\, United States
END:VEVENT
BEGIN:VEVENT
DTSTART;TZID=America/New_York:20250403T173000
DTEND;TZID=America/New_York:20250403T183000
DTSTAMP:20260424T113653
CREATED:20250218T134905Z
LAST-MODIFIED:20250218T135029Z
UID:10006382-1743701400-1743705000@stjameshydepark.org
SUMMARY:[New Deal] Zumba Broadway Class (Parish Hall)
DESCRIPTION:
URL:https://stjameshydepark.org/event/zumba-broadway-class-parish-hall-new-deal/2025-04-03/
LOCATION:St. James’ Episcopal Church\, 4526 Albany Post Rd.\, Hyde Park\, NY\, 12538\, United States
END:VEVENT
BEGIN:VEVENT
DTSTART;TZID=America/New_York:20250403T190000
DTEND;TZID=America/New_York:20250403T201500
DTSTAMP:20260424T113653
CREATED:20250131T170124Z
LAST-MODIFIED:20250221T213225Z
UID:10006313-1743706800-1743711300@stjameshydepark.org
SUMMARY:Lenten Study: Exploring Holy Week and Easter (Wilks Room and Parish Hall)
DESCRIPTION:Rowan Williams\, past Archbishop of Canterbury\, has said of Holy Week: It is “a week when we discover in a way we don’t at any other time just who we are and who God is.” \nThis four-week series\, led by Mother Meredith\, will explore the services of Holy Week and the Great Vigil of Easter\, preparing you to more fully take part in this rich experience that expresses the heart of our life and faith. Together we’ll explore Scripture\, our prayer book\, and some sermons\, art\, and poetry inspired by Holy Week. \nThis study meets in the Wilks Room on Thursday evenings at 7 pm\, beginning March 13th. Each evening will conclude with Compline (the Church’s night prayer) at 8 pm. \nMarch 13: Exploring Palm/Passion Sunday \nMarch 20: Exploring Maundy Thursday \nMarch 27: Exploring Good Friday & Holy Saturday \nApril 3: Exploring The Great Vigil of Easter \n  \n  \n 
URL:https://stjameshydepark.org/event/exploring-holy-week/2025-04-03/
LOCATION:St. James’ Episcopal Church\, 4526 Albany Post Rd.\, Hyde Park\, NY\, 12538\, United States
CATEGORIES:Christian Formation,Lent
ATTACH;FMTTYPE=image/png:https://stjameshydepark.org/wp-content/uploads/2025/02/Exploring-Holy-Week-Easter-2025.png
END:VEVENT
BEGIN:VEVENT
DTSTART;TZID=America/New_York:20250404T180000
DTEND;TZID=America/New_York:20250404T210000
DTSTAMP:20260424T113653
CREATED:20250402T144625Z
LAST-MODIFIED:20250402T144625Z
UID:10006466-1743789600-1743800400@stjameshydepark.org
SUMMARY:[New Deal] (Parish Hall)
DESCRIPTION:
URL:https://stjameshydepark.org/event/new-deal-parish-hall-2/2025-04-04/
LOCATION:St. James’ Episcopal Church\, 4526 Albany Post Rd.\, Hyde Park\, NY\, 12538\, United States
END:VEVENT
BEGIN:VEVENT
DTSTART;TZID=America/New_York:20250405T183000
DTEND;TZID=America/New_York:20250405T190000
DTSTAMP:20260424T113653
CREATED:20241219T191054Z
LAST-MODIFIED:20241219T191054Z
UID:10004380-1743877800-1743879600@stjameshydepark.org
SUMMARY:Compline (Online)
DESCRIPTION:Join us online every Saturday at 6:30 pm for a brief service of Compline (Night Prayer) facilitated by Deacon Gail. Please email the parish office at stjames.hydepark@gmail.com to request the Zoom link.
URL:https://stjameshydepark.org/event/compline-2025/2025-04-05/
LOCATION:Online
CATEGORIES:Worship
END:VEVENT
BEGIN:VEVENT
DTSTART;TZID=America/New_York:20250406T080000
DTEND;TZID=America/New_York:20250406T090000
DTSTAMP:20260424T113653
CREATED:20241219T191649Z
LAST-MODIFIED:20250325T172434Z
UID:10004544-1743926400-1743930000@stjameshydepark.org
SUMMARY:Sunday Worship—Holy Eucharist\, Rite I
DESCRIPTION:Join us Sundays at 8:00 a.m. for a celebration of Holy Eucharist (Communion). This is a quiet service\, usually without music\, though we often have a soloist with acoustic guitar playing before and after the service. The service uses Rite 1 from the 1979 Book of Common Prayer\, with traditional language.
URL:https://stjameshydepark.org/event/sunday-8am-2025/2025-04-06/
LOCATION:St. James’ Episcopal Church\, 4526 Albany Post Rd.\, Hyde Park\, NY\, 12538\, United States
CATEGORIES:Worship
END:VEVENT
BEGIN:VEVENT
DTSTART;TZID=America/New_York:20250406T090000
DTEND;TZID=America/New_York:20250406T100000
DTSTAMP:20260424T113653
CREATED:20250222T024918Z
LAST-MODIFIED:20250222T030127Z
UID:10006410-1743930000-1743933600@stjameshydepark.org
SUMMARY:Lenten Breakfast (Parish Hall)
DESCRIPTION:Sundays in Lent are little feasts—let’s break our fasts together with our beloved Lenten Breakfasts! \nJoin us in the Parish Hall for a delicious hot breakfast and good company at 9 am on Sundays in Lent\, March 16 through April 6th.  There will be no Coffee Hour after the 10 am service on these Sundays. \nThanks to the Vestry and other volunteers for sponsoring these breakfasts!
URL:https://stjameshydepark.org/event/lenten-breakfasts-2025/2025-04-06/
LOCATION:St. James’ Episcopal Church\, 4526 Albany Post Rd.\, Hyde Park\, NY\, 12538\, United States
CATEGORIES:Fun,Lent
ATTACH;FMTTYPE=image/png:https://stjameshydepark.org/wp-content/uploads/2025/02/Lenten-Breakfasts-2025.png
END:VEVENT
BEGIN:VEVENT
DTSTART;TZID=America/New_York:20250406T100000
DTEND;TZID=America/New_York:20250406T113000
DTSTAMP:20260424T113653
CREATED:20250222T025539Z
LAST-MODIFIED:20250222T025540Z
UID:10004492-1743933600-1743939000@stjameshydepark.org
SUMMARY:Sunday Worship—Holy Eucharist\, Rite II with Sunday School (no Coffee Hour)
DESCRIPTION:Join us Sundays at 10:00 a.m. for a celebration of Holy Eucharist (Communion). This service has music (usually organ and choir\, along with special guest musicians) and uses a variety of prayers and language from traditional to inclusive and expansive\, drawing from Rite II of the 1979 Book of Common Prayer\, Enriching Our Worship\, and other sources. \nThere is no coffee hour on Sundays in Lent—please join us for our weekly Lenten Breakfasts at 9 am! \nSunday School for kindergarten and up meets today on the second floor of the Parish House at 10:00 a.m. Students will rejoin the congregation just before Holy Communion. New to St. James’ Church? Your kids are welcome to Sunday School any Sunday. More details about St. James’ Sunday School at: https://stjameshydepark.org/for-children/
URL:https://stjameshydepark.org/event/sunday-10am-2025-04-06/
LOCATION:St. James’ Episcopal Church\, 4526 Albany Post Rd.\, Hyde Park\, NY\, 12538\, United States
CATEGORIES:Worship
END:VEVENT
BEGIN:VEVENT
DTSTART;TZID=America/New_York:20250406T183000
DTEND;TZID=America/New_York:20250406T210000
DTSTAMP:20260424T113653
CREATED:20250107T185818Z
LAST-MODIFIED:20250107T190058Z
UID:10005958-1743964200-1743973200@stjameshydepark.org
SUMMARY:Hyde Park Group AA (Parish Hall\, Rm. 201)
DESCRIPTION:
URL:https://stjameshydepark.org/event/hyde-park-group-aa-parish-hall-rm-201/2025-04-06/
LOCATION:St. James’ Episcopal Church\, 4526 Albany Post Rd.\, Hyde Park\, NY\, 12538\, United States
END:VEVENT
BEGIN:VEVENT
DTSTART;TZID=America/New_York:20250407T133000
DTEND;TZID=America/New_York:20250407T153000
DTSTAMP:20260424T113653
CREATED:20241110T012408Z
LAST-MODIFIED:20250708T131754Z
UID:10006855-1744032600-1744039800@stjameshydepark.org
SUMMARY:Knit+Craft+Chat (Wilks Room)
DESCRIPTION:A community of crafters and conversationalists meets Mondays from 2-4 pm (drop-in) at St. James’ Episcopal Church in the Wilks Room of our Parish House. We are a friendly group: knitters\, embroiderers\, crocheters\, conversationalists and miscellaneous other activities. All are welcome; no previous skill is required.
URL:https://stjameshydepark.org/event/knit-craft-chat-2/2025-04-07/
LOCATION:St. James’ Episcopal Church\, 4526 Albany Post Rd.\, Hyde Park\, NY\, 12538\, United States
END:VEVENT
BEGIN:VEVENT
DTSTART;TZID=America/New_York:20250408T100000
DTEND;TZID=America/New_York:20250408T110000
DTSTAMP:20260424T113653
CREATED:20250404T130518Z
LAST-MODIFIED:20250404T130558Z
UID:10006308-1744106400-1744110000@stjameshydepark.org
SUMMARY:Lenten Book Study: Julian of Norwich (Wilks Room)
DESCRIPTION:Julian of Norwich\, an anchoress in the 14th century\, was a mystic\, teacher and mentor. After a grave illness in which she had visions of Christ\, Julian penned her experiences—the first recorded works by a woman in English. We will take a look at a new translation of her “Revelations” in Mirabai Starr’s “Showings” (available at abe books\, used; and Amazon\, new). Come and join us as we seek to deepen our relationship with God.\n(Co-hosts\, Megan Bean and Bobbie Wells) \nThe final meeting of this study group on Tuesday\, April 8th (in the Wilks Room) will take place at 10 am rather than 10:30 am.
URL:https://stjameshydepark.org/event/lent-book-study-julian-last-session/
LOCATION:St. James’ Episcopal Church\, 4526 Albany Post Rd.\, Hyde Park\, NY\, 12538\, United States
CATEGORIES:Christian Formation,Lent
ATTACH;FMTTYPE=image/png:https://stjameshydepark.org/wp-content/uploads/2025/01/Julian-Book-Study-2025.png
END:VEVENT
BEGIN:VEVENT
DTSTART;TZID=America/New_York:20250408T110000
DTEND;TZID=America/New_York:20250408T113000
DTSTAMP:20260424T113653
CREATED:20250321T155947Z
LAST-MODIFIED:20250321T155947Z
UID:10006436-1744110000-1744111800@stjameshydepark.org
SUMMARY:Staff Meeting (Wilks Room)
DESCRIPTION:
URL:https://stjameshydepark.org/event/staff-meeting-wilks-room/2025-04-08/
LOCATION:St. James’ Episcopal Church\, 4526 Albany Post Rd.\, Hyde Park\, NY\, 12538\, United States
END:VEVENT
BEGIN:VEVENT
DTSTART;TZID=America/New_York:20250408T113000
DTEND;TZID=America/New_York:20250408T120000
DTSTAMP:20260424T113653
CREATED:20241008T150243Z
LAST-MODIFIED:20241008T150243Z
UID:10004183-1744111800-1744113600@stjameshydepark.org
SUMMARY:ARC Lunch
DESCRIPTION:
URL:https://stjameshydepark.org/event/arc-lunch/2025-04-08/
LOCATION:St. James’ Episcopal Church\, 4526 Albany Post Rd.\, Hyde Park\, NY\, 12538\, United States
END:VEVENT
BEGIN:VEVENT
DTSTART;TZID=America/New_York:20250408T180000
DTEND;TZID=America/New_York:20250408T183000
DTSTAMP:20260424T113653
CREATED:20250221T213426Z
LAST-MODIFIED:20250222T022927Z
UID:10006400-1744135200-1744137000@stjameshydepark.org
SUMMARY:Centering Prayer (Church)
DESCRIPTION:Centering prayer is a type of meditation with a long history in the Christian tradition\, beginning with the 14th century English monk who wrote The Cloud of Unknowing. But you don’t need to be a monk or a mystic to practice centering prayer and experience its benefits. Lent is the perfect time to enter the quiet of this practice. Beginners welcome. Sessions will last about 30 minutes. Tuesdays in Lent at 6 pm in the church (starting March 18th). \nLed by Tessa Kale\, who has taken many retreats on centering prayer with Cynthia Bourgeault and is a participant in her Wisdom School.
URL:https://stjameshydepark.org/event/centering-prayer-2025/2025-04-08/
LOCATION:St. James’ Episcopal Church\, 4526 Albany Post Rd.\, Hyde Park\, NY\, 12538\, United States
CATEGORIES:Christian Formation,Lent
ATTACH;FMTTYPE=image/png:https://stjameshydepark.org/wp-content/uploads/2025/02/Centering-Prayer-2025.png
END:VEVENT
BEGIN:VEVENT
DTSTART;TZID=America/New_York:20250408T180000
DTEND;TZID=America/New_York:20250408T190000
DTSTAMP:20260424T113653
CREATED:20250408T125422Z
LAST-MODIFIED:20250408T125422Z
UID:10006472-1744135200-1744138800@stjameshydepark.org
SUMMARY:Cub Scouts (Parish Hall)
DESCRIPTION:
URL:https://stjameshydepark.org/event/cub-scouts-parish-hall/
LOCATION:St. James’ Episcopal Church\, 4526 Albany Post Rd.\, Hyde Park\, NY\, 12538\, United States
END:VEVENT
BEGIN:VEVENT
DTSTART;TZID=America/New_York:20250408T183000
DTEND;TZID=America/New_York:20250408T200000
DTSTAMP:20260424T113653
CREATED:20250313T173503Z
LAST-MODIFIED:20250313T173503Z
UID:10006430-1744137000-1744142400@stjameshydepark.org
SUMMARY:Nursery School Committee Meeting
DESCRIPTION:
URL:https://stjameshydepark.org/event/nursery-school-committee-meeting/
LOCATION:St. James’ Episcopal Church\, 4526 Albany Post Rd.\, Hyde Park\, NY\, 12538\, United States
END:VEVENT
BEGIN:VEVENT
DTSTART;TZID=America/New_York:20250408T190000
DTEND;TZID=America/New_York:20250408T203000
DTSTAMP:20260424T113653
CREATED:20250107T190949Z
LAST-MODIFIED:20250107T190949Z
UID:10006011-1744138800-1744144200@stjameshydepark.org
SUMMARY:Boy Scout Troop 80 (Parish Hall)
DESCRIPTION:
URL:https://stjameshydepark.org/event/boy-scout-troop-80-parish-hall/2025-04-08/
LOCATION:St. James’ Episcopal Church\, 4526 Albany Post Rd.\, Hyde Park\, NY\, 12538\, United States
END:VEVENT
BEGIN:VEVENT
DTSTART;TZID=America/New_York:20250409T110000
DTEND;TZID=America/New_York:20250409T121500
DTSTAMP:20260424T113653
CREATED:20241120T172057Z
LAST-MODIFIED:20250424T151851Z
UID:10006333-1744196400-1744200900@stjameshydepark.org
SUMMARY:Bible Study (Online)
DESCRIPTION:Our weekly Bible study on Zoom usually focuses on the Gospel for the upcoming Sunday and is led by Mtr. Meredith. We practice a contemplative\, prayerful style of Bible study that focuses on how God is speaking to us through our questions\, responses\, curiosities and doubts as we engage Scripture.  \nThe study is followed by a brief\, optional service of noonday prayer. \nJoin in any Wednesday at 11 am. No previous preparation is required. The Zoom link is distributed via our weekly email newsletter (or contact the parish office).
URL:https://stjameshydepark.org/event/bible-study-2025/2025-04-09/
LOCATION:Online
CATEGORIES:Christian Formation
END:VEVENT
BEGIN:VEVENT
DTSTART;TZID=America/New_York:20250409T180000
DTEND;TZID=America/New_York:20250409T200000
DTSTAMP:20260424T113653
CREATED:20250408T134611Z
LAST-MODIFIED:20250408T134611Z
UID:10006473-1744221600-1744228800@stjameshydepark.org
SUMMARY:Women's Group Dinner (Antonella's)
DESCRIPTION:St. James’ Women’s Group will meet in the back room of Antonella’s at 6:00 on Wednesday\, March 12th. \nNo RSVP is necessary. Antonella’s graciously provides us with separate checks. \nPlease see Dyan in the Parish Office if you would like to have your meal privately covered.
URL:https://stjameshydepark.org/event/womens-group-2025-apr/
LOCATION:Antonella’s Restaurant\, Hyde Park\, NY\, 4246 Albany Post Rd #1700\, Hyde Park\, NY\, 12538\, United States
CATEGORIES:Fun,Women's Group
END:VEVENT
BEGIN:VEVENT
DTSTART;TZID=America/New_York:20250409T183000
DTEND;TZID=America/New_York:20250409T190000
DTSTAMP:20260424T113653
CREATED:20241219T190934Z
LAST-MODIFIED:20241219T190934Z
UID:10004328-1744223400-1744225200@stjameshydepark.org
SUMMARY:Evening Prayer (Online)
DESCRIPTION:Join us online every Wednesday at 6:30 pm for a brief service of Evening Prayer led by Deacon Gail. Please email the parish office at stjames.hydepark@gmail.com to request the Zoom link.
URL:https://stjameshydepark.org/event/evening-prayer-2025/2025-04-09/
LOCATION:Online
CATEGORIES:Worship
END:VEVENT
BEGIN:VEVENT
DTSTART;TZID=America/New_York:20250409T183000
DTEND;TZID=America/New_York:20250409T203000
DTSTAMP:20260424T113653
CREATED:20250403T143507Z
LAST-MODIFIED:20250403T143507Z
UID:10006468-1744223400-1744230600@stjameshydepark.org
SUMMARY:[New Deal] (Parish Hall)
DESCRIPTION:
URL:https://stjameshydepark.org/event/new-deal-parish-hall-3/2025-04-09/
LOCATION:St. James’ Episcopal Church\, 4526 Albany Post Rd.\, Hyde Park\, NY\, 12538\, United States
END:VEVENT
END:VCALENDAR