BEGIN:VCALENDAR
VERSION:2.0
PRODID:-//St. James&#039; Episcopal Church - ECPv6.15.20//NONSGML v1.0//EN
CALSCALE:GREGORIAN
METHOD:PUBLISH
X-WR-CALNAME:St. James&#039; Episcopal Church
X-ORIGINAL-URL:https://stjameshydepark.org
X-WR-CALDESC:Events for St. James&#039; Episcopal Church
REFRESH-INTERVAL;VALUE=DURATION:PT1H
X-Robots-Tag:noindex
X-PUBLISHED-TTL:PT1H
BEGIN:VTIMEZONE
TZID:America/New_York
BEGIN:DAYLIGHT
TZOFFSETFROM:-0500
TZOFFSETTO:-0400
TZNAME:EDT
DTSTART:20230312T070000
END:DAYLIGHT
BEGIN:STANDARD
TZOFFSETFROM:-0400
TZOFFSETTO:-0500
TZNAME:EST
DTSTART:20231105T060000
END:STANDARD
BEGIN:DAYLIGHT
TZOFFSETFROM:-0500
TZOFFSETTO:-0400
TZNAME:EDT
DTSTART:20240310T070000
END:DAYLIGHT
BEGIN:STANDARD
TZOFFSETFROM:-0400
TZOFFSETTO:-0500
TZNAME:EST
DTSTART:20241103T060000
END:STANDARD
BEGIN:DAYLIGHT
TZOFFSETFROM:-0500
TZOFFSETTO:-0400
TZNAME:EDT
DTSTART:20250309T070000
END:DAYLIGHT
BEGIN:STANDARD
TZOFFSETFROM:-0400
TZOFFSETTO:-0500
TZNAME:EST
DTSTART:20251102T060000
END:STANDARD
END:VTIMEZONE
BEGIN:VEVENT
DTSTART;TZID=America/New_York:20240102T190000
DTEND;TZID=America/New_York:20240102T200000
DTSTAMP:20260425T124128
CREATED:20240112T173004Z
LAST-MODIFIED:20240829T144849Z
UID:10002694-1704222000-1704225600@stjameshydepark.org
SUMMARY:Boy Scouts (Wilks Room)
DESCRIPTION:
URL:https://stjameshydepark.org/event/boy-scouts-wilks-room-2/2024-01-02/
LOCATION:St. James’ Episcopal Church\, 4526 Albany Post Rd.\, Hyde Park\, NY\, 12538\, United States
CATEGORIES:General
END:VEVENT
BEGIN:VEVENT
DTSTART;TZID=America/New_York:20240102T190000
DTEND;TZID=America/New_York:20240102T200000
DTSTAMP:20260425T124129
CREATED:20240112T173633Z
LAST-MODIFIED:20240216T165320Z
UID:10001893-1704222000-1704225600@stjameshydepark.org
SUMMARY:Boy Scouts Troop 80 (Parish Hall)
DESCRIPTION:
URL:https://stjameshydepark.org/event/boy-scouts-troop-80-parish-hall-rm-203-2-2/2024-01-02/
LOCATION:St. James’ Episcopal Church\, 4526 Albany Post Rd.\, Hyde Park\, NY\, 12538\, United States
CATEGORIES:General
END:VEVENT
BEGIN:VEVENT
DTSTART;TZID=America/New_York:20240103T110000
DTEND;TZID=America/New_York:20240103T120000
DTSTAMP:20260425T124129
CREATED:20240203T231706Z
LAST-MODIFIED:20240508T020856Z
UID:10003401-1704279600-1704283200@stjameshydepark.org
SUMMARY:Bible Study
DESCRIPTION:Our weekly Bible study on Zoom usually focuses on the Gospel for the upcoming Sunday and is led by Mtr. Meredith. We practice a contemplative\, prayerful style of Bible study that focuses on how God is speaking to us through our questions\, responses\, curiosities and doubts as we engage Scripture.  \nThe study is followed by a brief\, optional service of noonday prayer. \nJoin in any Wednesday at 11 am. No previous preparation is required. The Zoom link is distributed via our weekly email newsletter (or contact the parish office). \n 
URL:https://stjameshydepark.org/event/bible-study-2024/2024-01-03/
LOCATION:Online
CATEGORIES:Christian Formation
ATTACH;FMTTYPE=image/png:https://stjameshydepark.org/wp-content/uploads/2024/05/Bible-Study.png
END:VEVENT
BEGIN:VEVENT
DTSTART;TZID=America/New_York:20240103T183000
DTEND;TZID=America/New_York:20240103T193000
DTSTAMP:20260425T124129
CREATED:20240112T175112Z
LAST-MODIFIED:20240112T175307Z
UID:10001831-1704306600-1704310200@stjameshydepark.org
SUMMARY:Evening Prayer (Remote)
DESCRIPTION:
URL:https://stjameshydepark.org/event/evening-prayer-remote-2-2/2024-01-03/
LOCATION:Online
CATEGORIES:Worship
END:VEVENT
BEGIN:VEVENT
DTSTART;VALUE=DATE:20240104
DTEND;VALUE=DATE:20240105
DTSTAMP:20260425T124129
CREATED:20231219T180421Z
LAST-MODIFIED:20231219T180421Z
UID:10002727-1704326400-1704412799@stjameshydepark.org
SUMMARY:Crown Gas (Parish Kitchen)
DESCRIPTION:
URL:https://stjameshydepark.org/event/crown-gas-parish-kitchen/
LOCATION:St. James’ Episcopal Church\, 4526 Albany Post Rd.\, Hyde Park\, NY\, 12538\, United States
CATEGORIES:General
END:VEVENT
BEGIN:VEVENT
DTSTART;TZID=America/New_York:20240106T110000
DTEND;TZID=America/New_York:20240106T130000
DTSTAMP:20260425T124129
CREATED:20231208T134512Z
LAST-MODIFIED:20240104T180943Z
UID:10002725-1704538800-1704546000@stjameshydepark.org
SUMMARY:Celebration of New Ministry
DESCRIPTION:When a parish calls a priest\, there is a formal ceremony called an “installation” or “Celebration of New Ministry.” \nBishop Mary Glasspool will preside at Mother Meredith’s installation at St. James’ on the Feast of the Epiphany\, Saturday\, January 6th at 11 am. This is a joyful service—an opportunity for us all to celebrate our ministry together over the past 13 months as we look to the future with hope. We’ll invite clergy from the wider diocese and from other Hyde Park churches. \nIf you can’t make it in-person… \nPlease join us live on YouTube: https://www.youtube.com/channel/UCNWZHboXxsNRa339M1TEVaw/streams  \nDownload Worship Bulletin \nA festive potluck reception will follow in the Parish Hall. \nSt. James’ Medal recipients are encouraged to wear their medal to the service and reception.
URL:https://stjameshydepark.org/event/installation/
LOCATION:St. James’ Episcopal Church\, 4526 Albany Post Rd.\, Hyde Park\, NY\, 12538\, United States
CATEGORIES:Fun,Worship
ATTACH;FMTTYPE=image/png:https://stjameshydepark.org/wp-content/uploads/2023/12/Installation-1.png
END:VEVENT
BEGIN:VEVENT
DTSTART;TZID=America/New_York:20240106T183000
DTEND;TZID=America/New_York:20240106T193000
DTSTAMP:20260425T124129
CREATED:20240112T175527Z
LAST-MODIFIED:20240112T175653Z
UID:10001649-1704565800-1704569400@stjameshydepark.org
SUMMARY:Compline (Remote)
DESCRIPTION:
URL:https://stjameshydepark.org/event/compline-remote-3-2023-01-07-2/2024-01-06/
LOCATION:Online
CATEGORIES:Worship
END:VEVENT
BEGIN:VEVENT
DTSTART;TZID=America/New_York:20240107T080000
DTEND;TZID=America/New_York:20240107T090000
DTSTAMP:20260425T124129
CREATED:20231222T015421Z
LAST-MODIFIED:20241213T230031Z
UID:10002832-1704614400-1704618000@stjameshydepark.org
SUMMARY:Holy Eucharist (Rite I)
DESCRIPTION:Join us Sundays at 8:00 a.m. for a celebration of Holy Eucharist (Communion). This is a quiet service\, usually without music\, though we often have a soloist with acoustic guitar playing before and after the service. The service uses Rite 1 from the 1979 Book of Common Prayer\, with traditional language.
URL:https://stjameshydepark.org/event/2024-eucharist-8am/2024-01-07/
LOCATION:St. James’ Episcopal Church\, 4526 Albany Post Rd.\, Hyde Park\, NY\, 12538\, United States
CATEGORIES:Worship
END:VEVENT
BEGIN:VEVENT
DTSTART;TZID=America/New_York:20240107T100000
DTEND;TZID=America/New_York:20240107T113000
DTSTAMP:20260425T124129
CREATED:20240104T115233Z
LAST-MODIFIED:20240104T150408Z
UID:10002728-1704621600-1704627000@stjameshydepark.org
SUMMARY:Holy Eucharist (Rite II) (No Sunday School or Coffee Hour Today)
DESCRIPTION:Join us Sundays at 10:00 a.m. for a celebration of Holy Eucharist (Communion). This service has music (usually organ and choir\, along with special guest musicians) and uses a variety of prayers and language from traditional to inclusive and expansive\, drawing from Rite II of the 1979 Book of Common Prayer\, Enriching Our Worship\, and other sources. \nThere is no Coffee Hour scheduled on Sunday\, January 7th due to inclement weather predictions.  \nThere is no Sunday School on Sunday\, January 7th due to inclement weather predictions. See you on January 14th for our Epiphany party! About Sunday School: https://stjameshydepark.org/for-children/
URL:https://stjameshydepark.org/event/2024-eucharist-rite-ii-jan-7/
LOCATION:St. James’ Episcopal Church\, 4526 Albany Post Rd.\, Hyde Park\, NY\, 12538\, United States
CATEGORIES:Worship
END:VEVENT
BEGIN:VEVENT
DTSTART;TZID=America/New_York:20240107T183000
DTEND;TZID=America/New_York:20240107T210000
DTSTAMP:20260425T124129
CREATED:20240112T181055Z
LAST-MODIFIED:20241001T152045Z
UID:10003227-1704652200-1704661200@stjameshydepark.org
SUMMARY:AA Meeting (Parish Hall; Rm. 201)
DESCRIPTION:
URL:https://stjameshydepark.org/event/aa-meeting-parish-hall-rm-201-2/2024-01-07/
LOCATION:St. James’ Episcopal Church\, 4526 Albany Post Rd.\, Hyde Park\, NY\, 12538\, United States
CATEGORIES:General
END:VEVENT
BEGIN:VEVENT
DTSTART;TZID=America/New_York:20240109T190000
DTEND;TZID=America/New_York:20240109T200000
DTSTAMP:20260425T124129
CREATED:20240112T173633Z
LAST-MODIFIED:20240216T165320Z
UID:10003013-1704826800-1704830400@stjameshydepark.org
SUMMARY:Boy Scouts Troop 80 (Parish Hall)
DESCRIPTION:
URL:https://stjameshydepark.org/event/boy-scouts-troop-80-parish-hall-rm-203-2-2/2024-01-09/
LOCATION:St. James’ Episcopal Church\, 4526 Albany Post Rd.\, Hyde Park\, NY\, 12538\, United States
CATEGORIES:General
END:VEVENT
BEGIN:VEVENT
DTSTART;TZID=America/New_York:20240110T110000
DTEND;TZID=America/New_York:20240110T120000
DTSTAMP:20260425T124129
CREATED:20240203T231706Z
LAST-MODIFIED:20240508T020856Z
UID:10003402-1704884400-1704888000@stjameshydepark.org
SUMMARY:Bible Study
DESCRIPTION:Our weekly Bible study on Zoom usually focuses on the Gospel for the upcoming Sunday and is led by Mtr. Meredith. We practice a contemplative\, prayerful style of Bible study that focuses on how God is speaking to us through our questions\, responses\, curiosities and doubts as we engage Scripture.  \nThe study is followed by a brief\, optional service of noonday prayer. \nJoin in any Wednesday at 11 am. No previous preparation is required. The Zoom link is distributed via our weekly email newsletter (or contact the parish office). \n 
URL:https://stjameshydepark.org/event/bible-study-2024/2024-01-10/
LOCATION:Online
CATEGORIES:Christian Formation
ATTACH;FMTTYPE=image/png:https://stjameshydepark.org/wp-content/uploads/2024/05/Bible-Study.png
END:VEVENT
BEGIN:VEVENT
DTSTART;TZID=America/New_York:20240110T183000
DTEND;TZID=America/New_York:20240110T193000
DTSTAMP:20260425T124129
CREATED:20240112T175112Z
LAST-MODIFIED:20240112T175307Z
UID:10003065-1704911400-1704915000@stjameshydepark.org
SUMMARY:Evening Prayer (Remote)
DESCRIPTION:
URL:https://stjameshydepark.org/event/evening-prayer-remote-2-2/2024-01-10/
LOCATION:Online
CATEGORIES:Worship
END:VEVENT
BEGIN:VEVENT
DTSTART;TZID=America/New_York:20240111T173000
DTEND;TZID=America/New_York:20240111T183000
DTSTAMP:20260425T124129
CREATED:20231224T111840Z
LAST-MODIFIED:20240203T024014Z
UID:10002884-1704994200-1704997800@stjameshydepark.org
SUMMARY:The Good Book Club: Genesis (Wilks Room)
DESCRIPTION:The Good Book Club: Reading Genesis together \nSt. James’ will join our whole church in reading Genesis together in the season after the Epiphany! \nWe start on January 6th and continue through Ash Wednesday\, February 14th. Here’s how it works: \n\nAt home\, you can follow the reading schedule here: goodbookclub.org/readings\nSign up for a daily Good Book Club email (with reading reminders and more) at goodbookclub.org/readings.\nWe’ll meet on Thursdays\, 5:30-6:30 pm\, in the Wilks Room to discuss what we’re reading. We’ll start January 11th and wrap up on February 8th. Come as often as you can\, and don’t worry if you have to miss a week!\n\nThere’s more! \n\nOptional: You can add daily reflections to your scripture reading by getting a copy of Journey Through Genesis\nOptional: ChurchNext (a ministry associated with The Episcopal Church) is offering a free companion class on Genesis at 8 pm Tuesdays via Zoom\, starting January 9th. Sign up here: https://www.churchnext.tv/library/live-course-the-book-of-genesis-with-vicki-garvey-210550/553506/about/
URL:https://stjameshydepark.org/event/good-book-club-genesis/2024-01-11/
LOCATION:St. James’ Episcopal Church\, 4526 Albany Post Rd.\, Hyde Park\, NY\, 12538\, United States
CATEGORIES:Christian Formation
ATTACH;FMTTYPE=image/png:https://stjameshydepark.org/wp-content/uploads/2023/12/Good-Book-Club.png
END:VEVENT
BEGIN:VEVENT
DTSTART;TZID=America/New_York:20240113T183000
DTEND;TZID=America/New_York:20240113T193000
DTSTAMP:20260425T124129
CREATED:20240112T175527Z
LAST-MODIFIED:20240112T175653Z
UID:10003114-1705170600-1705174200@stjameshydepark.org
SUMMARY:Compline (Remote)
DESCRIPTION:
URL:https://stjameshydepark.org/event/compline-remote-3-2023-01-07-2/2024-01-13/
LOCATION:Online
CATEGORIES:Worship
END:VEVENT
BEGIN:VEVENT
DTSTART;TZID=America/New_York:20240114T080000
DTEND;TZID=America/New_York:20240114T090000
DTSTAMP:20260425T124129
CREATED:20231222T015421Z
LAST-MODIFIED:20241213T230031Z
UID:10002833-1705219200-1705222800@stjameshydepark.org
SUMMARY:Holy Eucharist (Rite I)
DESCRIPTION:Join us Sundays at 8:00 a.m. for a celebration of Holy Eucharist (Communion). This is a quiet service\, usually without music\, though we often have a soloist with acoustic guitar playing before and after the service. The service uses Rite 1 from the 1979 Book of Common Prayer\, with traditional language.
URL:https://stjameshydepark.org/event/2024-eucharist-8am/2024-01-14/
LOCATION:St. James’ Episcopal Church\, 4526 Albany Post Rd.\, Hyde Park\, NY\, 12538\, United States
CATEGORIES:Worship
END:VEVENT
BEGIN:VEVENT
DTSTART;TZID=America/New_York:20240114T100000
DTEND;TZID=America/New_York:20240114T113000
DTSTAMP:20260425T124129
CREATED:20231222T014951Z
LAST-MODIFIED:20231222T014951Z
UID:10002729-1705226400-1705231800@stjameshydepark.org
SUMMARY:Holy Eucharist (Rite II) with Sunday School and Coffee Hour
DESCRIPTION:Join us Sundays at 10:00 a.m. for a celebration of Holy Eucharist (Communion). This service has music (usually organ and choir\, along with special guest musicians) and uses a variety of prayers and language from traditional to inclusive and expansive\, drawing from Rite II of the 1979 Book of Common Prayer\, Enriching Our Worship\, and other sources. \nCoffee hour in the Parish House usually follows this service. \nSunday School for kindergarten and up meets today on the second floor of the Parish House at 10:00 a.m. Students will rejoin the congregation just before Holy Communion. New to St. James’ Church? Your kids are welcome to Sunday School any Sunday. More details about St. James’ Sunday School at: https://stjameshydepark.org/for-children/
URL:https://stjameshydepark.org/event/2024-eucharist-rite-ii/2024-01-14/
LOCATION:St. James’ Episcopal Church\, 4526 Albany Post Rd.\, Hyde Park\, NY\, 12538\, United States
CATEGORIES:Worship
END:VEVENT
BEGIN:VEVENT
DTSTART;TZID=America/New_York:20240114T183000
DTEND;TZID=America/New_York:20240114T210000
DTSTAMP:20260425T124129
CREATED:20240112T181055Z
LAST-MODIFIED:20241001T152045Z
UID:10003228-1705257000-1705266000@stjameshydepark.org
SUMMARY:AA Meeting (Parish Hall; Rm. 201)
DESCRIPTION:
URL:https://stjameshydepark.org/event/aa-meeting-parish-hall-rm-201-2/2024-01-14/
LOCATION:St. James’ Episcopal Church\, 4526 Albany Post Rd.\, Hyde Park\, NY\, 12538\, United States
CATEGORIES:General
END:VEVENT
BEGIN:VEVENT
DTSTART;VALUE=DATE:20240115
DTEND;VALUE=DATE:20240116
DTSTAMP:20260425T124129
CREATED:20240112T172541Z
LAST-MODIFIED:20240112T172541Z
UID:10002951-1705276800-1705363199@stjameshydepark.org
SUMMARY:Parish Office Closed
DESCRIPTION:
URL:https://stjameshydepark.org/event/parish-office-closed-4/2024-01-15/
LOCATION:St. James’ Episcopal Church\, 4526 Albany Post Rd.\, Hyde Park\, NY\, 12538\, United States
CATEGORIES:General
END:VEVENT
BEGIN:VEVENT
DTSTART;TZID=America/New_York:20240116T190000
DTEND;TZID=America/New_York:20240116T200000
DTSTAMP:20260425T124129
CREATED:20240112T173633Z
LAST-MODIFIED:20240216T165320Z
UID:10003014-1705431600-1705435200@stjameshydepark.org
SUMMARY:Boy Scouts Troop 80 (Parish Hall)
DESCRIPTION:
URL:https://stjameshydepark.org/event/boy-scouts-troop-80-parish-hall-rm-203-2-2/2024-01-16/
LOCATION:St. James’ Episcopal Church\, 4526 Albany Post Rd.\, Hyde Park\, NY\, 12538\, United States
CATEGORIES:General
END:VEVENT
BEGIN:VEVENT
DTSTART;TZID=America/New_York:20240116T190000
DTEND;TZID=America/New_York:20240116T210000
DTSTAMP:20260425T124129
CREATED:20240112T175901Z
LAST-MODIFIED:20240112T180055Z
UID:10003165-1705431600-1705438800@stjameshydepark.org
SUMMARY:Vestry Meeting (Wilks Room)
DESCRIPTION:
URL:https://stjameshydepark.org/event/vestry-meeting-3/
LOCATION:St. James’ Episcopal Church\, 4526 Albany Post Rd.\, Hyde Park\, NY\, 12538\, United States
CATEGORIES:General
END:VEVENT
BEGIN:VEVENT
DTSTART;TZID=America/New_York:20240117T110000
DTEND;TZID=America/New_York:20240117T120000
DTSTAMP:20260425T124129
CREATED:20240203T231706Z
LAST-MODIFIED:20240508T020856Z
UID:10003403-1705489200-1705492800@stjameshydepark.org
SUMMARY:Bible Study
DESCRIPTION:Our weekly Bible study on Zoom usually focuses on the Gospel for the upcoming Sunday and is led by Mtr. Meredith. We practice a contemplative\, prayerful style of Bible study that focuses on how God is speaking to us through our questions\, responses\, curiosities and doubts as we engage Scripture.  \nThe study is followed by a brief\, optional service of noonday prayer. \nJoin in any Wednesday at 11 am. No previous preparation is required. The Zoom link is distributed via our weekly email newsletter (or contact the parish office). \n 
URL:https://stjameshydepark.org/event/bible-study-2024/2024-01-17/
LOCATION:Online
CATEGORIES:Christian Formation
ATTACH;FMTTYPE=image/png:https://stjameshydepark.org/wp-content/uploads/2024/05/Bible-Study.png
END:VEVENT
BEGIN:VEVENT
DTSTART;TZID=America/New_York:20240117T183000
DTEND;TZID=America/New_York:20240117T193000
DTSTAMP:20260425T124129
CREATED:20240112T175112Z
LAST-MODIFIED:20240112T175307Z
UID:10003066-1705516200-1705519800@stjameshydepark.org
SUMMARY:Evening Prayer (Remote)
DESCRIPTION:
URL:https://stjameshydepark.org/event/evening-prayer-remote-2-2/2024-01-17/
LOCATION:Online
CATEGORIES:Worship
END:VEVENT
BEGIN:VEVENT
DTSTART;VALUE=DATE:20240118
DTEND;VALUE=DATE:20240119
DTSTAMP:20260425T124129
CREATED:20240117T140324Z
LAST-MODIFIED:20240117T140324Z
UID:10003330-1705536000-1705622399@stjameshydepark.org
SUMMARY:Organ Tuning (Church)
DESCRIPTION:
URL:https://stjameshydepark.org/event/organ-tuning-church/
LOCATION:St. James’ Episcopal Church\, 4526 Albany Post Rd.\, Hyde Park\, NY\, 12538\, United States
CATEGORIES:General
END:VEVENT
BEGIN:VEVENT
DTSTART;TZID=America/New_York:20240118T093000
DTEND;TZID=America/New_York:20240118T110000
DTSTAMP:20260425T124129
CREATED:20240117T150452Z
LAST-MODIFIED:20240117T150452Z
UID:10003332-1705570200-1705575600@stjameshydepark.org
SUMMARY:HP Food Pantry Meeting (Wilks Room)
DESCRIPTION:
URL:https://stjameshydepark.org/event/hp-food-pantry-meeting-wilks-room/
LOCATION:St. James’ Episcopal Church\, 4526 Albany Post Rd.\, Hyde Park\, NY\, 12538\, United States
CATEGORIES:General
END:VEVENT
BEGIN:VEVENT
DTSTART;TZID=America/New_York:20240118T130000
DTEND;TZID=America/New_York:20240118T133000
DTSTAMP:20260425T124129
CREATED:20240117T140458Z
LAST-MODIFIED:20240117T140458Z
UID:10003331-1705582800-1705584600@stjameshydepark.org
SUMMARY:Look at Parish Hall for Upcoming Event
DESCRIPTION:
URL:https://stjameshydepark.org/event/look-at-parish-hall-for-upcoming-event/
LOCATION:St. James’ Episcopal Church\, 4526 Albany Post Rd.\, Hyde Park\, NY\, 12538\, United States
CATEGORIES:General
END:VEVENT
BEGIN:VEVENT
DTSTART;TZID=America/New_York:20240118T173000
DTEND;TZID=America/New_York:20240118T183000
DTSTAMP:20260425T124129
CREATED:20231224T111840Z
LAST-MODIFIED:20240203T024014Z
UID:10002885-1705599000-1705602600@stjameshydepark.org
SUMMARY:The Good Book Club: Genesis (Wilks Room)
DESCRIPTION:The Good Book Club: Reading Genesis together \nSt. James’ will join our whole church in reading Genesis together in the season after the Epiphany! \nWe start on January 6th and continue through Ash Wednesday\, February 14th. Here’s how it works: \n\nAt home\, you can follow the reading schedule here: goodbookclub.org/readings\nSign up for a daily Good Book Club email (with reading reminders and more) at goodbookclub.org/readings.\nWe’ll meet on Thursdays\, 5:30-6:30 pm\, in the Wilks Room to discuss what we’re reading. We’ll start January 11th and wrap up on February 8th. Come as often as you can\, and don’t worry if you have to miss a week!\n\nThere’s more! \n\nOptional: You can add daily reflections to your scripture reading by getting a copy of Journey Through Genesis\nOptional: ChurchNext (a ministry associated with The Episcopal Church) is offering a free companion class on Genesis at 8 pm Tuesdays via Zoom\, starting January 9th. Sign up here: https://www.churchnext.tv/library/live-course-the-book-of-genesis-with-vicki-garvey-210550/553506/about/
URL:https://stjameshydepark.org/event/good-book-club-genesis/2024-01-18/
LOCATION:St. James’ Episcopal Church\, 4526 Albany Post Rd.\, Hyde Park\, NY\, 12538\, United States
CATEGORIES:Christian Formation
ATTACH;FMTTYPE=image/png:https://stjameshydepark.org/wp-content/uploads/2023/12/Good-Book-Club.png
END:VEVENT
BEGIN:VEVENT
DTSTART;TZID=America/New_York:20240120T183000
DTEND;TZID=America/New_York:20240120T193000
DTSTAMP:20260425T124129
CREATED:20240112T175527Z
LAST-MODIFIED:20240112T175653Z
UID:10003115-1705775400-1705779000@stjameshydepark.org
SUMMARY:Compline (Remote)
DESCRIPTION:
URL:https://stjameshydepark.org/event/compline-remote-3-2023-01-07-2/2024-01-20/
LOCATION:Online
CATEGORIES:Worship
END:VEVENT
BEGIN:VEVENT
DTSTART;TZID=America/New_York:20240121T080000
DTEND;TZID=America/New_York:20240121T090000
DTSTAMP:20260425T124129
CREATED:20231222T015421Z
LAST-MODIFIED:20241213T230031Z
UID:10002834-1705824000-1705827600@stjameshydepark.org
SUMMARY:Holy Eucharist (Rite I)
DESCRIPTION:Join us Sundays at 8:00 a.m. for a celebration of Holy Eucharist (Communion). This is a quiet service\, usually without music\, though we often have a soloist with acoustic guitar playing before and after the service. The service uses Rite 1 from the 1979 Book of Common Prayer\, with traditional language.
URL:https://stjameshydepark.org/event/2024-eucharist-8am/2024-01-21/
LOCATION:St. James’ Episcopal Church\, 4526 Albany Post Rd.\, Hyde Park\, NY\, 12538\, United States
CATEGORIES:Worship
END:VEVENT
BEGIN:VEVENT
DTSTART;TZID=America/New_York:20240121T100000
DTEND;TZID=America/New_York:20240121T113000
DTSTAMP:20260425T124129
CREATED:20240102T013020Z
LAST-MODIFIED:20240117T150936Z
UID:10002730-1705831200-1705836600@stjameshydepark.org
SUMMARY:Holy Eucharist (Rite II)\, Sunday School\, and Coffee Hour AT ST. MARGARET'S
DESCRIPTION:On Sunday\, January 21st we’ll join our neighbors at St. Margaret’s\, Staatsburg for a special combined service. The Rev. Meredith Sanderson will preach and preside. Please join in at the corner of Old Post Road and East Elm in Staatsburg! \nSunday School will meet in the Fellowship Room of St. Margaret’s Church. \nCoffee hour in the fellowship room will follow this service. \n 
URL:https://stjameshydepark.org/event/2024-eucharist-rite-ii-jan-21/
LOCATION:St. Margaret’s Church\, E. Elm Ave.\, Staatsburg\, NY\, 12580\, United States
CATEGORIES:Worship
END:VEVENT
END:VCALENDAR