BEGIN:VCALENDAR
VERSION:2.0
PRODID:-//St. James&#039; Episcopal Church - ECPv6.15.20//NONSGML v1.0//EN
CALSCALE:GREGORIAN
METHOD:PUBLISH
X-ORIGINAL-URL:https://stjameshydepark.org
X-WR-CALDESC:Events for St. James&#039; Episcopal Church
REFRESH-INTERVAL;VALUE=DURATION:PT1H
X-Robots-Tag:noindex
X-PUBLISHED-TTL:PT1H
BEGIN:VTIMEZONE
TZID:America/New_York
BEGIN:DAYLIGHT
TZOFFSETFROM:-0500
TZOFFSETTO:-0400
TZNAME:EDT
DTSTART:20220313T070000
END:DAYLIGHT
BEGIN:STANDARD
TZOFFSETFROM:-0400
TZOFFSETTO:-0500
TZNAME:EST
DTSTART:20221106T060000
END:STANDARD
BEGIN:DAYLIGHT
TZOFFSETFROM:-0500
TZOFFSETTO:-0400
TZNAME:EDT
DTSTART:20230312T070000
END:DAYLIGHT
BEGIN:STANDARD
TZOFFSETFROM:-0400
TZOFFSETTO:-0500
TZNAME:EST
DTSTART:20231105T060000
END:STANDARD
BEGIN:DAYLIGHT
TZOFFSETFROM:-0500
TZOFFSETTO:-0400
TZNAME:EDT
DTSTART:20240310T070000
END:DAYLIGHT
BEGIN:STANDARD
TZOFFSETFROM:-0400
TZOFFSETTO:-0500
TZNAME:EST
DTSTART:20241103T060000
END:STANDARD
END:VTIMEZONE
BEGIN:VEVENT
DTSTART;TZID=America/New_York:20230902T090000
DTEND;TZID=America/New_York:20230902T150000
DTSTAMP:20260425T180313
CREATED:20230808T132409Z
LAST-MODIFIED:20230808T132409Z
UID:10002222-1693645200-1693666800@stjameshydepark.org
SUMMARY:Roots & Branches Annual Advisory Board Meeting (Chapel)
DESCRIPTION:
URL:https://stjameshydepark.org/event/roots-branches-annual-advisory-board-meeting-chapel/
LOCATION:St. James’ Chapel\, 10 East Market Street\, Hyde Park\, NY\, 12567\, United States
CATEGORIES:One Time Event
END:VEVENT
BEGIN:VEVENT
DTSTART;TZID=America/New_York:20230902T183000
DTEND;TZID=America/New_York:20230902T193000
DTSTAMP:20260425T180313
CREATED:20230112T191110Z
LAST-MODIFIED:20231102T135511Z
UID:10001632-1693679400-1693683000@stjameshydepark.org
SUMMARY:Compline (Remote)
DESCRIPTION:
URL:https://stjameshydepark.org/event/compline-remote-3-2023-01-07/2023-09-02/
LOCATION:Online
CATEGORIES:Worship
END:VEVENT
BEGIN:VEVENT
DTSTART;TZID=America/New_York:20230903T080000
DTEND;TZID=America/New_York:20230903T090000
DTSTAMP:20260425T180313
CREATED:20230110T171732Z
LAST-MODIFIED:20230709T232408Z
UID:10001563-1693728000-1693731600@stjameshydepark.org
SUMMARY:Holy Eucharist (Rite I)
DESCRIPTION:Join us Sundays at 8:00 a.m. for a celebration of Holy Eucharist (Communion). This is a quiet service\, usually without music\, though we often have a soloist with acoustic guitar playing before and after the service. The service uses Rite 1 from the 1979 Book of Common Prayer\, with traditional language.
URL:https://stjameshydepark.org/event/holy-eucharist-rite-i-2023-05-28/2023-09-03/
LOCATION:St. James’ Episcopal Church\, 4526 Albany Post Rd.\, Hyde Park\, NY\, 12538\, United States
CATEGORIES:Worship
END:VEVENT
BEGIN:VEVENT
DTSTART;TZID=America/New_York:20230903T100000
DTEND;TZID=America/New_York:20230903T113000
DTSTAMP:20260425T180313
CREATED:20230709T233140Z
LAST-MODIFIED:20230709T233458Z
UID:10002151-1693735200-1693740600@stjameshydepark.org
SUMMARY:Holy Eucharist\, Rite II (Summer—Coffee Hour & Sunday School are on vacation!)
DESCRIPTION:Join us Sundays at 10:00 a.m. for a celebration of Holy Eucharist (Communion). This service has music (usually organ and choir\, along with special guest musicians) and uses a variety of prayers and language from traditional to inclusive and expansive\, drawing from Rite II of the 1979 Book of Common Prayer\, Enriching Our Worship\, and other sources. \nNote: In the summer\, coffee hour and Sunday School are on vacation!
URL:https://stjameshydepark.org/event/holy-eucharist-ii-summer-2023/2023-09-03/
LOCATION:St. James’ Episcopal Church\, 4526 Albany Post Rd.\, Hyde Park\, NY\, 12538\, United States
CATEGORIES:Worship
END:VEVENT
BEGIN:VEVENT
DTSTART;TZID=America/New_York:20230903T183000
DTEND;TZID=America/New_York:20230903T210000
DTSTAMP:20260425T180313
CREATED:20230315T174027Z
LAST-MODIFIED:20231108T151435Z
UID:10001967-1693765800-1693774800@stjameshydepark.org
SUMMARY:AA Meeting (Parish Hall; Rm. 201)
DESCRIPTION:
URL:https://stjameshydepark.org/event/aa-meeting-parish-hall-rm-201/2023-09-03/
LOCATION:St. James’ Episcopal Church\, 4526 Albany Post Rd.\, Hyde Park\, NY\, 12538\, United States
END:VEVENT
BEGIN:VEVENT
DTSTART;VALUE=DATE:20230904
DTEND;VALUE=DATE:20230905
DTSTAMP:20260425T180313
CREATED:20220329T204444Z
LAST-MODIFIED:20230112T190336Z
UID:10001195-1693785600-1693871999@stjameshydepark.org
SUMMARY:Parish Office Closed
DESCRIPTION:
URL:https://stjameshydepark.org/event/parish-office-closed-2/2023-09-04/
LOCATION:NY
CATEGORIES:General
END:VEVENT
BEGIN:VEVENT
DTSTART;TZID=America/New_York:20230905T190000
DTEND;TZID=America/New_York:20230905T200000
DTSTAMP:20260425T180313
CREATED:20230113T151213Z
LAST-MODIFIED:20230316T161002Z
UID:10001877-1693940400-1693944000@stjameshydepark.org
SUMMARY:Boy Scouts Troop 80 (Parish Hall; Rm. 203)
DESCRIPTION:
URL:https://stjameshydepark.org/event/boy-scouts-troop-80-parish-hall-rm-203-2/2023-09-05/
LOCATION:St. James’ Episcopal Church\, 4526 Albany Post Rd.\, Hyde Park\, NY\, 12538\, United States
END:VEVENT
BEGIN:VEVENT
DTSTART;TZID=America/New_York:20230906T100000
DTEND;TZID=America/New_York:20230906T110000
DTSTAMP:20260425T180313
CREATED:20230803T160202Z
LAST-MODIFIED:20230803T160202Z
UID:10002214-1693994400-1693998000@stjameshydepark.org
SUMMARY:Nursery School Ice Cream Social
DESCRIPTION:
URL:https://stjameshydepark.org/event/nursery-school-ice-cream-social/
LOCATION:St. James’ Episcopal Church\, 4526 Albany Post Rd.\, Hyde Park\, NY\, 12538\, United States
CATEGORIES:Nursery School
END:VEVENT
BEGIN:VEVENT
DTSTART;TZID=America/New_York:20230906T110000
DTEND;TZID=America/New_York:20230906T120000
DTSTAMP:20260425T180313
CREATED:20220329T172814Z
LAST-MODIFIED:20230214T222810Z
UID:10001722-1693998000-1694001600@stjameshydepark.org
SUMMARY:Bible Study (Zoom)
DESCRIPTION:Our weekly Bible study takes place on Zoom! Join in every Wednesday at 11 a.m. for prayer\, conversation and reflection on the readings for the upcoming Sunday. The Zoom link will be distributed via our Google Group\, or contact the parish office. 
URL:https://stjameshydepark.org/event/bible-study-2023-02-15/2023-09-06/
LOCATION:Online
CATEGORIES:General
END:VEVENT
BEGIN:VEVENT
DTSTART;TZID=America/New_York:20230906T183000
DTEND;TZID=America/New_York:20230906T193000
DTSTAMP:20260425T180313
CREATED:20230112T192240Z
LAST-MODIFIED:20230926T155941Z
UID:10001815-1694025000-1694028600@stjameshydepark.org
SUMMARY:Evening Prayer (Remote)
DESCRIPTION:
URL:https://stjameshydepark.org/event/evening-prayer-remote-2/2023-09-06/
LOCATION:Online
CATEGORIES:Worship
END:VEVENT
BEGIN:VEVENT
DTSTART;TZID=America/New_York:20230909T090000
DTEND;TZID=America/New_York:20230909T150000
DTSTAMP:20260425T180313
CREATED:20230526T131256Z
LAST-MODIFIED:20230926T155711Z
UID:10001916-1694250000-1694271600@stjameshydepark.org
SUMMARY:Yellow Chapel Emporium (Chapel Parking Lot)
DESCRIPTION:
URL:https://stjameshydepark.org/event/emporium-chapel-parking-lot-2/2023-09-09/
LOCATION:St. James’ Chapel\, 10 East Market Street\, Hyde Park\, NY\, 12567\, United States
CATEGORIES:Community Garden
END:VEVENT
BEGIN:VEVENT
DTSTART;TZID=America/New_York:20230909T183000
DTEND;TZID=America/New_York:20230909T193000
DTSTAMP:20260425T180313
CREATED:20230112T191110Z
LAST-MODIFIED:20231102T135511Z
UID:10001633-1694284200-1694287800@stjameshydepark.org
SUMMARY:Compline (Remote)
DESCRIPTION:
URL:https://stjameshydepark.org/event/compline-remote-3-2023-01-07/2023-09-09/
LOCATION:Online
CATEGORIES:Worship
END:VEVENT
BEGIN:VEVENT
DTSTART;TZID=America/New_York:20230910T080000
DTEND;TZID=America/New_York:20230910T090000
DTSTAMP:20260425T180313
CREATED:20230110T171732Z
LAST-MODIFIED:20230709T232408Z
UID:10001564-1694332800-1694336400@stjameshydepark.org
SUMMARY:Holy Eucharist (Rite I)
DESCRIPTION:Join us Sundays at 8:00 a.m. for a celebration of Holy Eucharist (Communion). This is a quiet service\, usually without music\, though we often have a soloist with acoustic guitar playing before and after the service. The service uses Rite 1 from the 1979 Book of Common Prayer\, with traditional language.
URL:https://stjameshydepark.org/event/holy-eucharist-rite-i-2023-05-28/2023-09-10/
LOCATION:St. James’ Episcopal Church\, 4526 Albany Post Rd.\, Hyde Park\, NY\, 12538\, United States
CATEGORIES:Worship
END:VEVENT
BEGIN:VEVENT
DTSTART;TZID=America/New_York:20230910T100000
DTEND;TZID=America/New_York:20230910T110000
DTSTAMP:20260425T180313
CREATED:20230803T154400Z
LAST-MODIFIED:20230803T154401Z
UID:10001747-1694340000-1694343600@stjameshydepark.org
SUMMARY:Holy Eucharist (Rite II) with Sunday School and Coffee Hour
DESCRIPTION:Join us Sundays at 10:00 a.m. for a celebration of Holy Eucharist (Communion). This service has music (usually organ and choir\, along with special guest musicians) and uses a variety of prayers and language from traditional to inclusive and expansive\, drawing from Rite II of the 1979 Book of Common Prayer\, Enriching Our Worship\, and other sources. Coffee hour in the Parish House usually follows this service. \nSunday School for kindergarten and up meets today on the second floor of the Parish House at 10:00 a.m. \nSunday\, September 10th is the first day of Sunday School for the new school year! This day will be an open house and sign-up; classes will start on the 17th. \nStudents will rejoin the congregation just before Holy Communion. New to St. James’? Your kids are welcome to Sunday School any Sunday. More details about St. James’ Sunday School at: https://stjameshydepark.org/for-children/ \n  \n 
URL:https://stjameshydepark.org/event/holy-eucharist-ii-fall-2023-2/
LOCATION:St. James’ Episcopal Church\, 4526 Albany Post Rd.\, Hyde Park\, NY\, 12538\, United States
CATEGORIES:Worship
END:VEVENT
BEGIN:VEVENT
DTSTART;TZID=America/New_York:20230910T183000
DTEND;TZID=America/New_York:20230910T210000
DTSTAMP:20260425T180313
CREATED:20230315T174027Z
LAST-MODIFIED:20231108T151435Z
UID:10001968-1694370600-1694379600@stjameshydepark.org
SUMMARY:AA Meeting (Parish Hall; Rm. 201)
DESCRIPTION:
URL:https://stjameshydepark.org/event/aa-meeting-parish-hall-rm-201/2023-09-10/
LOCATION:St. James’ Episcopal Church\, 4526 Albany Post Rd.\, Hyde Park\, NY\, 12538\, United States
END:VEVENT
BEGIN:VEVENT
DTSTART;VALUE=DATE:20230911
DTEND;VALUE=DATE:20230912
DTSTAMP:20260425T180313
CREATED:20220329T204444Z
LAST-MODIFIED:20230112T190336Z
UID:10001196-1694390400-1694476799@stjameshydepark.org
SUMMARY:Parish Office Closed
DESCRIPTION:
URL:https://stjameshydepark.org/event/parish-office-closed-2/2023-09-11/
LOCATION:NY
CATEGORIES:General
END:VEVENT
BEGIN:VEVENT
DTSTART;VALUE=DATE:20230911
DTEND;VALUE=DATE:20230912
DTSTAMP:20260425T180313
CREATED:20230803T160242Z
LAST-MODIFIED:20230803T160242Z
UID:10002215-1694390400-1694476799@stjameshydepark.org
SUMMARY:Nursery School Begins
DESCRIPTION:
URL:https://stjameshydepark.org/event/nursery-school-begins/
LOCATION:HP Farmers Market
CATEGORIES:Nursery School
END:VEVENT
BEGIN:VEVENT
DTSTART;TZID=America/New_York:20230912T190000
DTEND;TZID=America/New_York:20230912T200000
DTSTAMP:20260425T180313
CREATED:20230113T151213Z
LAST-MODIFIED:20230316T161002Z
UID:10001878-1694545200-1694548800@stjameshydepark.org
SUMMARY:Boy Scouts Troop 80 (Parish Hall; Rm. 203)
DESCRIPTION:
URL:https://stjameshydepark.org/event/boy-scouts-troop-80-parish-hall-rm-203-2/2023-09-12/
LOCATION:St. James’ Episcopal Church\, 4526 Albany Post Rd.\, Hyde Park\, NY\, 12538\, United States
END:VEVENT
BEGIN:VEVENT
DTSTART;TZID=America/New_York:20230913T110000
DTEND;TZID=America/New_York:20230913T120000
DTSTAMP:20260425T180313
CREATED:20220329T172814Z
LAST-MODIFIED:20230112T193257Z
UID:10001835-1694602800-1694606400@stjameshydepark.org
SUMMARY:Bible Study (Zoom)
DESCRIPTION:Our weekly Bible study takes place on Zoom! Join in every Wednesday at 11 a.m. for prayer\, conversation and reflection on the readings for the upcoming Sunday. The Zoom link will be distributed via our Google Group\, or contact the parish office. 
URL:https://stjameshydepark.org/event/bible-study-2023-02-15-2023-09-13/2023-09-13/
LOCATION:Online
CATEGORIES:General
END:VEVENT
BEGIN:VEVENT
DTSTART;TZID=America/New_York:20230913T110000
DTEND;TZID=America/New_York:20230913T120000
DTSTAMP:20260425T180313
CREATED:20220329T172814Z
LAST-MODIFIED:20230214T222810Z
UID:10001723-1694602800-1694606400@stjameshydepark.org
SUMMARY:Bible Study (Zoom)
DESCRIPTION:Our weekly Bible study takes place on Zoom! Join in every Wednesday at 11 a.m. for prayer\, conversation and reflection on the readings for the upcoming Sunday. The Zoom link will be distributed via our Google Group\, or contact the parish office. 
URL:https://stjameshydepark.org/event/bible-study-2023-02-15/2023-09-13/
LOCATION:Online
CATEGORIES:General
END:VEVENT
BEGIN:VEVENT
DTSTART;TZID=America/New_York:20230913T180000
DTEND;TZID=America/New_York:20230913T200000
DTSTAMP:20260425T180313
CREATED:20230825T155543Z
LAST-MODIFIED:20230926T163608Z
UID:10002655-1694628000-1694635200@stjameshydepark.org
SUMMARY:Womens' Group (Antonella's)
DESCRIPTION:
URL:https://stjameshydepark.org/event/womens-group-antonellas/2023-09-13/
LOCATION:Antonella’s Restaurant\, Hyde Park\, NY\, 4246 Albany Post Rd #1700\, Hyde Park\, NY\, 12538\, United States
CATEGORIES:Women's Group
END:VEVENT
BEGIN:VEVENT
DTSTART;TZID=America/New_York:20230913T183000
DTEND;TZID=America/New_York:20230913T193000
DTSTAMP:20260425T180313
CREATED:20230112T192240Z
LAST-MODIFIED:20230926T155941Z
UID:10001816-1694629800-1694633400@stjameshydepark.org
SUMMARY:Evening Prayer (Remote)
DESCRIPTION:
URL:https://stjameshydepark.org/event/evening-prayer-remote-2/2023-09-13/
LOCATION:Online
CATEGORIES:Worship
END:VEVENT
BEGIN:VEVENT
DTSTART;TZID=America/New_York:20230916T090000
DTEND;TZID=America/New_York:20230916T120000
DTSTAMP:20260425T180313
CREATED:20230914T122939Z
LAST-MODIFIED:20230914T154455Z
UID:10002666-1694854800-1694865600@stjameshydepark.org
SUMMARY:Hyde Park Food Pantry Board Meeting (Chapel)
DESCRIPTION:
URL:https://stjameshydepark.org/event/hyde-park-food-pantry-board-meeting-chapel/
LOCATION:St. James’ Episcopal Church\, 4526 Albany Post Rd.\, Hyde Park\, NY\, 12538\, United States
CATEGORIES:General
END:VEVENT
BEGIN:VEVENT
DTSTART;TZID=America/New_York:20230916T183000
DTEND;TZID=America/New_York:20230916T193000
DTSTAMP:20260425T180313
CREATED:20230112T191110Z
LAST-MODIFIED:20231102T135511Z
UID:10001634-1694889000-1694892600@stjameshydepark.org
SUMMARY:Compline (Remote)
DESCRIPTION:
URL:https://stjameshydepark.org/event/compline-remote-3-2023-01-07/2023-09-16/
LOCATION:Online
CATEGORIES:Worship
END:VEVENT
BEGIN:VEVENT
DTSTART;TZID=America/New_York:20230917T080000
DTEND;TZID=America/New_York:20230917T090000
DTSTAMP:20260425T180313
CREATED:20230110T171732Z
LAST-MODIFIED:20230709T232408Z
UID:10001565-1694937600-1694941200@stjameshydepark.org
SUMMARY:Holy Eucharist (Rite I)
DESCRIPTION:Join us Sundays at 8:00 a.m. for a celebration of Holy Eucharist (Communion). This is a quiet service\, usually without music\, though we often have a soloist with acoustic guitar playing before and after the service. The service uses Rite 1 from the 1979 Book of Common Prayer\, with traditional language.
URL:https://stjameshydepark.org/event/holy-eucharist-rite-i-2023-05-28/2023-09-17/
LOCATION:St. James’ Episcopal Church\, 4526 Albany Post Rd.\, Hyde Park\, NY\, 12538\, United States
CATEGORIES:Worship
END:VEVENT
BEGIN:VEVENT
DTSTART;TZID=America/New_York:20230917T100000
DTEND;TZID=America/New_York:20230917T110000
DTSTAMP:20260425T180313
CREATED:20230709T232511Z
LAST-MODIFIED:20231025T142412Z
UID:10002125-1694944800-1694948400@stjameshydepark.org
SUMMARY:Holy Eucharist (Rite II) with Sunday School and Coffee Hour
DESCRIPTION:Join us Sundays at 10:00 a.m. for a celebration of Holy Eucharist (Communion). This service has music (usually organ and choir\, along with special guest musicians) and uses a variety of prayers and language from traditional to inclusive and expansive\, drawing from Rite II of the 1979 Book of Common Prayer\, Enriching Our Worship\, and other sources. Coffee hour in the Parish House usually follows this service. \nSunday School for kindergarten and up meets today on the second floor of the Parish House at 10:00 a.m. Students will rejoin the congregation just before Holy Communion. New to St. James’? Your kids are welcome to Sunday School any Sunday. More details about St. James’ Sunday School at: https://stjameshydepark.org/for-children/
URL:https://stjameshydepark.org/event/holy-eucharist-ii-fall-2023/2023-09-17/
LOCATION:St. James’ Episcopal Church\, 4526 Albany Post Rd.\, Hyde Park\, NY\, 12538\, United States
CATEGORIES:Worship
END:VEVENT
BEGIN:VEVENT
DTSTART;TZID=America/New_York:20230917T183000
DTEND;TZID=America/New_York:20230917T210000
DTSTAMP:20260425T180313
CREATED:20230315T174027Z
LAST-MODIFIED:20231108T151435Z
UID:10001969-1694975400-1694984400@stjameshydepark.org
SUMMARY:AA Meeting (Parish Hall; Rm. 201)
DESCRIPTION:
URL:https://stjameshydepark.org/event/aa-meeting-parish-hall-rm-201/2023-09-17/
LOCATION:St. James’ Episcopal Church\, 4526 Albany Post Rd.\, Hyde Park\, NY\, 12538\, United States
END:VEVENT
BEGIN:VEVENT
DTSTART;VALUE=DATE:20230918
DTEND;VALUE=DATE:20230919
DTSTAMP:20260425T180313
CREATED:20220329T204444Z
LAST-MODIFIED:20230112T190336Z
UID:10001197-1694995200-1695081599@stjameshydepark.org
SUMMARY:Parish Office Closed
DESCRIPTION:
URL:https://stjameshydepark.org/event/parish-office-closed-2/2023-09-18/
LOCATION:NY
CATEGORIES:General
END:VEVENT
BEGIN:VEVENT
DTSTART;TZID=America/New_York:20230918T080000
DTEND;TZID=America/New_York:20230918T170000
DTSTAMP:20260425T180313
CREATED:20220220T004423Z
LAST-MODIFIED:20240124T135234Z
UID:10002712-1695024000-1695056400@stjameshydepark.org
SUMMARY:Girl Scout Troop 10015 Meeting (Parish Hall)
DESCRIPTION:
URL:https://stjameshydepark.org/event/girl-scout-troop-10015-meeting-parish-hall/2023-09-18/1/
LOCATION:St. James’ Episcopal Church\, 4526 Albany Post Rd.\, Hyde Park\, NY\, 12538\, United States
CATEGORIES:General
END:VEVENT
BEGIN:VEVENT
DTSTART;TZID=America/New_York:20230918T193000
DTEND;TZID=America/New_York:20230918T210000
DTSTAMP:20260425T180313
CREATED:20220220T004423Z
LAST-MODIFIED:20240124T135234Z
UID:10002704-1695065400-1695070800@stjameshydepark.org
SUMMARY:Girl Scout Troop 10015 Meeting (Parish Hall)
DESCRIPTION:
URL:https://stjameshydepark.org/event/girl-scout-troop-10015-meeting-parish-hall/2023-09-18/2/
LOCATION:St. James’ Episcopal Church\, 4526 Albany Post Rd.\, Hyde Park\, NY\, 12538\, United States
CATEGORIES:General
END:VEVENT
END:VCALENDAR