BEGIN:VCALENDAR
VERSION:2.0
PRODID:-//St. James&#039; Episcopal Church - ECPv6.15.20//NONSGML v1.0//EN
CALSCALE:GREGORIAN
METHOD:PUBLISH
X-ORIGINAL-URL:https://stjameshydepark.org
X-WR-CALDESC:Events for St. James&#039; Episcopal Church
REFRESH-INTERVAL;VALUE=DURATION:PT1H
X-Robots-Tag:noindex
X-PUBLISHED-TTL:PT1H
BEGIN:VTIMEZONE
TZID:America/New_York
BEGIN:DAYLIGHT
TZOFFSETFROM:-0500
TZOFFSETTO:-0400
TZNAME:EDT
DTSTART:20240310T070000
END:DAYLIGHT
BEGIN:STANDARD
TZOFFSETFROM:-0400
TZOFFSETTO:-0500
TZNAME:EST
DTSTART:20241103T060000
END:STANDARD
BEGIN:DAYLIGHT
TZOFFSETFROM:-0500
TZOFFSETTO:-0400
TZNAME:EDT
DTSTART:20250309T070000
END:DAYLIGHT
BEGIN:STANDARD
TZOFFSETFROM:-0400
TZOFFSETTO:-0500
TZNAME:EST
DTSTART:20251102T060000
END:STANDARD
BEGIN:DAYLIGHT
TZOFFSETFROM:-0500
TZOFFSETTO:-0400
TZNAME:EDT
DTSTART:20260308T070000
END:DAYLIGHT
BEGIN:STANDARD
TZOFFSETFROM:-0400
TZOFFSETTO:-0500
TZNAME:EST
DTSTART:20261101T060000
END:STANDARD
END:VTIMEZONE
BEGIN:VEVENT
DTSTART;TZID=America/New_York:20250204T190000
DTEND;TZID=America/New_York:20250204T203000
DTSTAMP:20260425T083331
CREATED:20250107T191135Z
LAST-MODIFIED:20250107T191355Z
UID:10006099-1738695600-1738701000@stjameshydepark.org
SUMMARY:Boy Scout Troop 80 (Wilks Room)
DESCRIPTION:
URL:https://stjameshydepark.org/event/boy-scout-troop-80-wilks-room/2025-02-04/
LOCATION:St. James’ Episcopal Church\, 4526 Albany Post Rd.\, Hyde Park\, NY\, 12538\, United States
END:VEVENT
BEGIN:VEVENT
DTSTART;TZID=America/New_York:20250205T110000
DTEND;TZID=America/New_York:20250205T121500
DTSTAMP:20260425T083331
CREATED:20241120T172057Z
LAST-MODIFIED:20250424T151851Z
UID:10006324-1738753200-1738757700@stjameshydepark.org
SUMMARY:Bible Study (Online)
DESCRIPTION:Our weekly Bible study on Zoom usually focuses on the Gospel for the upcoming Sunday and is led by Mtr. Meredith. We practice a contemplative\, prayerful style of Bible study that focuses on how God is speaking to us through our questions\, responses\, curiosities and doubts as we engage Scripture.  \nThe study is followed by a brief\, optional service of noonday prayer. \nJoin in any Wednesday at 11 am. No previous preparation is required. The Zoom link is distributed via our weekly email newsletter (or contact the parish office).
URL:https://stjameshydepark.org/event/bible-study-2025/2025-02-05/
LOCATION:Online
CATEGORIES:Christian Formation
END:VEVENT
BEGIN:VEVENT
DTSTART;TZID=America/New_York:20250205T183000
DTEND;TZID=America/New_York:20250205T190000
DTSTAMP:20260425T083331
CREATED:20241219T190934Z
LAST-MODIFIED:20241219T190934Z
UID:10004319-1738780200-1738782000@stjameshydepark.org
SUMMARY:Evening Prayer (Online)
DESCRIPTION:Join us online every Wednesday at 6:30 pm for a brief service of Evening Prayer led by Deacon Gail. Please email the parish office at stjames.hydepark@gmail.com to request the Zoom link.
URL:https://stjameshydepark.org/event/evening-prayer-2025/2025-02-05/
LOCATION:Online
CATEGORIES:Worship
END:VEVENT
BEGIN:VEVENT
DTSTART;TZID=America/New_York:20250208T183000
DTEND;TZID=America/New_York:20250208T190000
DTSTAMP:20260425T083331
CREATED:20241219T191054Z
LAST-MODIFIED:20241219T191054Z
UID:10004372-1739039400-1739041200@stjameshydepark.org
SUMMARY:Compline (Online)
DESCRIPTION:Join us online every Saturday at 6:30 pm for a brief service of Compline (Night Prayer) facilitated by Deacon Gail. Please email the parish office at stjames.hydepark@gmail.com to request the Zoom link.
URL:https://stjameshydepark.org/event/compline-2025/2025-02-08/
LOCATION:Online
CATEGORIES:Worship
END:VEVENT
BEGIN:VEVENT
DTSTART;TZID=America/New_York:20250209T080000
DTEND;TZID=America/New_York:20250209T090000
DTSTAMP:20260425T083331
CREATED:20241219T191649Z
LAST-MODIFIED:20250325T172434Z
UID:10004536-1739088000-1739091600@stjameshydepark.org
SUMMARY:Sunday Worship—Holy Eucharist\, Rite I
DESCRIPTION:Join us Sundays at 8:00 a.m. for a celebration of Holy Eucharist (Communion). This is a quiet service\, usually without music\, though we often have a soloist with acoustic guitar playing before and after the service. The service uses Rite 1 from the 1979 Book of Common Prayer\, with traditional language.
URL:https://stjameshydepark.org/event/sunday-8am-2025/2025-02-09/
LOCATION:St. James’ Episcopal Church\, 4526 Albany Post Rd.\, Hyde Park\, NY\, 12538\, United States
CATEGORIES:Worship
END:VEVENT
BEGIN:VEVENT
DTSTART;TZID=America/New_York:20250209T100000
DTEND;TZID=America/New_York:20250209T113000
DTSTAMP:20260425T083331
CREATED:20241219T191432Z
LAST-MODIFIED:20251209T135212Z
UID:10004484-1739095200-1739100600@stjameshydepark.org
SUMMARY:Sunday Worship—Holy Eucharist\, Rite II with Sunday School and Coffee Hour
DESCRIPTION:Join us Sundays at 10:00 a.m. for a celebration of Holy Eucharist (Communion). This service has music (usually organ and choir\, along with special guest musicians) and uses a variety of prayers and language from traditional to inclusive and expansive\, drawing from Rite II of the 1979 Book of Common Prayer\, Enriching Our Worship\, and other sources. \nCoffee hour in the Parish House usually follows this service. \nSunday School for kindergarten and up meets today on the second floor of the Parish House at 10:00 a.m. Students will rejoin the congregation just before Holy Communion. New to St. James’ Church? Your kids are welcome to Sunday School any Sunday. More details about St. James’ Sunday School at: https://stjameshydepark.org/for-children/
URL:https://stjameshydepark.org/event/sunday-10am-2025/2025-02-09/
LOCATION:St. James’ Episcopal Church\, 4526 Albany Post Rd.\, Hyde Park\, NY\, 12538\, United States
CATEGORIES:Worship
END:VEVENT
BEGIN:VEVENT
DTSTART;TZID=America/New_York:20250209T183000
DTEND;TZID=America/New_York:20250209T210000
DTSTAMP:20260425T083331
CREATED:20250107T185818Z
LAST-MODIFIED:20250107T190058Z
UID:10005950-1739125800-1739134800@stjameshydepark.org
SUMMARY:Hyde Park Group AA (Parish Hall\, Rm. 201)
DESCRIPTION:
URL:https://stjameshydepark.org/event/hyde-park-group-aa-parish-hall-rm-201/2025-02-09/
LOCATION:St. James’ Episcopal Church\, 4526 Albany Post Rd.\, Hyde Park\, NY\, 12538\, United States
END:VEVENT
BEGIN:VEVENT
DTSTART;TZID=America/New_York:20250210T133000
DTEND;TZID=America/New_York:20250210T153000
DTSTAMP:20260425T083331
CREATED:20241110T012408Z
LAST-MODIFIED:20250708T131754Z
UID:10006847-1739194200-1739201400@stjameshydepark.org
SUMMARY:Knit+Craft+Chat (Wilks Room)
DESCRIPTION:A community of crafters and conversationalists meets Mondays from 2-4 pm (drop-in) at St. James’ Episcopal Church in the Wilks Room of our Parish House. We are a friendly group: knitters\, embroiderers\, crocheters\, conversationalists and miscellaneous other activities. All are welcome; no previous skill is required.
URL:https://stjameshydepark.org/event/knit-craft-chat-2/2025-02-10/
LOCATION:St. James’ Episcopal Church\, 4526 Albany Post Rd.\, Hyde Park\, NY\, 12538\, United States
END:VEVENT
BEGIN:VEVENT
DTSTART;TZID=America/New_York:20250211T113000
DTEND;TZID=America/New_York:20250211T120000
DTSTAMP:20260425T083331
CREATED:20241008T150243Z
LAST-MODIFIED:20241008T150243Z
UID:10004175-1739273400-1739275200@stjameshydepark.org
SUMMARY:ARC Lunch
DESCRIPTION:
URL:https://stjameshydepark.org/event/arc-lunch/2025-02-11/
LOCATION:St. James’ Episcopal Church\, 4526 Albany Post Rd.\, Hyde Park\, NY\, 12538\, United States
END:VEVENT
BEGIN:VEVENT
DTSTART;TZID=America/New_York:20250211T173000
DTEND;TZID=America/New_York:20250211T190000
DTSTAMP:20260425T083331
CREATED:20250115T145206Z
LAST-MODIFIED:20250115T145206Z
UID:10006300-1739295000-1739300400@stjameshydepark.org
SUMMARY:Nursery School Open House
DESCRIPTION:
URL:https://stjameshydepark.org/event/nursery-school-open-house-2/
LOCATION:St. James’ Episcopal Church\, 4526 Albany Post Rd.\, Hyde Park\, NY\, 12538\, United States
END:VEVENT
BEGIN:VEVENT
DTSTART;TZID=America/New_York:20250211T183000
DTEND;TZID=America/New_York:20250211T200000
DTSTAMP:20260425T083331
CREATED:20250205T152717Z
LAST-MODIFIED:20250205T152717Z
UID:10006319-1739298600-1739304000@stjameshydepark.org
SUMMARY:Nursery School Committee Meeting (Wilks Room)
DESCRIPTION:
URL:https://stjameshydepark.org/event/nursery-school-committee-meeting-wilks-room-2/
LOCATION:St. James’ Episcopal Church\, 4526 Albany Post Rd.\, Hyde Park\, NY\, 12538\, United States
END:VEVENT
BEGIN:VEVENT
DTSTART;TZID=America/New_York:20250211T190000
DTEND;TZID=America/New_York:20250211T203000
DTSTAMP:20260425T083331
CREATED:20250107T190949Z
LAST-MODIFIED:20250107T190949Z
UID:10006003-1739300400-1739305800@stjameshydepark.org
SUMMARY:Boy Scout Troop 80 (Parish Hall)
DESCRIPTION:
URL:https://stjameshydepark.org/event/boy-scout-troop-80-parish-hall/2025-02-11/
LOCATION:St. James’ Episcopal Church\, 4526 Albany Post Rd.\, Hyde Park\, NY\, 12538\, United States
END:VEVENT
BEGIN:VEVENT
DTSTART;TZID=America/New_York:20250212T110000
DTEND;TZID=America/New_York:20250212T121500
DTSTAMP:20260425T083331
CREATED:20241120T172057Z
LAST-MODIFIED:20250424T151851Z
UID:10006325-1739358000-1739362500@stjameshydepark.org
SUMMARY:Bible Study (Online)
DESCRIPTION:Our weekly Bible study on Zoom usually focuses on the Gospel for the upcoming Sunday and is led by Mtr. Meredith. We practice a contemplative\, prayerful style of Bible study that focuses on how God is speaking to us through our questions\, responses\, curiosities and doubts as we engage Scripture.  \nThe study is followed by a brief\, optional service of noonday prayer. \nJoin in any Wednesday at 11 am. No previous preparation is required. The Zoom link is distributed via our weekly email newsletter (or contact the parish office).
URL:https://stjameshydepark.org/event/bible-study-2025/2025-02-12/
LOCATION:Online
CATEGORIES:Christian Formation
END:VEVENT
BEGIN:VEVENT
DTSTART;TZID=America/New_York:20250212T180000
DTEND;TZID=America/New_York:20250212T200000
DTSTAMP:20260425T083331
CREATED:20250204T135840Z
LAST-MODIFIED:20250207T145150Z
UID:10006318-1739383200-1739390400@stjameshydepark.org
SUMMARY:Gal-entine's Women's Group Dinner (Antonella's)
DESCRIPTION:Come ready to celebrate Gal-entine’s Day with your St. James’ Gal Pals! \nWe will meet in the back room of Antonella’s at 6:00 on Wednesday\, February 12th. \nBring books to swap (or get rid of). Any unclaimed books will be brought to a local donation site! \nNo RSVP is necessary. Antonella’s graciously provides us with separate checks.  \nPlease see Dyan in the Parish Office if you would like to have your meal privately covered.
URL:https://stjameshydepark.org/event/gal-entines-womens-group-dinner-antonellas/
LOCATION:Antonella’s Restaurant\, Hyde Park\, NY\, 4246 Albany Post Rd #1700\, Hyde Park\, NY\, 12538\, United States
CATEGORIES:Fun,Women's Group
END:VEVENT
BEGIN:VEVENT
DTSTART;TZID=America/New_York:20250212T183000
DTEND;TZID=America/New_York:20250212T190000
DTSTAMP:20260425T083331
CREATED:20241219T190934Z
LAST-MODIFIED:20241219T190934Z
UID:10004320-1739385000-1739386800@stjameshydepark.org
SUMMARY:Evening Prayer (Online)
DESCRIPTION:Join us online every Wednesday at 6:30 pm for a brief service of Evening Prayer led by Deacon Gail. Please email the parish office at stjames.hydepark@gmail.com to request the Zoom link.
URL:https://stjameshydepark.org/event/evening-prayer-2025/2025-02-12/
LOCATION:Online
CATEGORIES:Worship
END:VEVENT
BEGIN:VEVENT
DTSTART;TZID=America/New_York:20250214T100000
DTEND;TZID=America/New_York:20250214T110000
DTSTAMP:20260425T083331
CREATED:20250211T171452Z
LAST-MODIFIED:20250211T171452Z
UID:10006374-1739527200-1739530800@stjameshydepark.org
SUMMARY:Burial (Burke)
DESCRIPTION:
URL:https://stjameshydepark.org/event/burial-burke/
LOCATION:St. James’ Episcopal Church\, 4526 Albany Post Rd.\, Hyde Park\, NY\, 12538\, United States
END:VEVENT
BEGIN:VEVENT
DTSTART;TZID=America/New_York:20250215T160000
DTEND;TZID=America/New_York:20250215T180000
DTSTAMP:20260425T083331
CREATED:20250107T212102Z
LAST-MODIFIED:20251107T134209Z
UID:10007069-1739635200-1739642400@stjameshydepark.org
SUMMARY:Finance Committee Meeting (Wilks Room)
DESCRIPTION:
URL:https://stjameshydepark.org/event/finance-committee-2025/2025-02-15/
LOCATION:St. James’ Episcopal Church\, 4526 Albany Post Rd.\, Hyde Park\, NY\, 12538\, United States
CATEGORIES:Governance
END:VEVENT
BEGIN:VEVENT
DTSTART;TZID=America/New_York:20250215T170000
DTEND;TZID=America/New_York:20250215T210000
DTSTAMP:20260425T083332
CREATED:20241113T152139Z
LAST-MODIFIED:20250115T134034Z
UID:10004243-1739638800-1739653200@stjameshydepark.org
SUMMARY:[New Deal] Valentine's Day Cabaret (Parish Hall)
DESCRIPTION:
URL:https://stjameshydepark.org/event/new-deal-valentines-day-cabaret-parish-hall/
LOCATION:St. James’ Episcopal Church\, 4526 Albany Post Rd.\, Hyde Park\, NY\, 12538\, United States
CATEGORIES:New Deal
END:VEVENT
BEGIN:VEVENT
DTSTART;TZID=America/New_York:20250215T183000
DTEND;TZID=America/New_York:20250215T190000
DTSTAMP:20260425T083332
CREATED:20241219T191054Z
LAST-MODIFIED:20241219T191054Z
UID:10004373-1739644200-1739646000@stjameshydepark.org
SUMMARY:Compline (Online)
DESCRIPTION:Join us online every Saturday at 6:30 pm for a brief service of Compline (Night Prayer) facilitated by Deacon Gail. Please email the parish office at stjames.hydepark@gmail.com to request the Zoom link.
URL:https://stjameshydepark.org/event/compline-2025/2025-02-15/
LOCATION:Online
CATEGORIES:Worship
END:VEVENT
BEGIN:VEVENT
DTSTART;TZID=America/New_York:20250216T080000
DTEND;TZID=America/New_York:20250216T090000
DTSTAMP:20260425T083332
CREATED:20241219T191649Z
LAST-MODIFIED:20250325T172434Z
UID:10004537-1739692800-1739696400@stjameshydepark.org
SUMMARY:Sunday Worship—Holy Eucharist\, Rite I
DESCRIPTION:Join us Sundays at 8:00 a.m. for a celebration of Holy Eucharist (Communion). This is a quiet service\, usually without music\, though we often have a soloist with acoustic guitar playing before and after the service. The service uses Rite 1 from the 1979 Book of Common Prayer\, with traditional language.
URL:https://stjameshydepark.org/event/sunday-8am-2025/2025-02-16/
LOCATION:St. James’ Episcopal Church\, 4526 Albany Post Rd.\, Hyde Park\, NY\, 12538\, United States
CATEGORIES:Worship
END:VEVENT
BEGIN:VEVENT
DTSTART;TZID=America/New_York:20250216T100000
DTEND;TZID=America/New_York:20250216T113000
DTSTAMP:20260425T083332
CREATED:20241219T191432Z
LAST-MODIFIED:20251209T135212Z
UID:10004485-1739700000-1739705400@stjameshydepark.org
SUMMARY:Sunday Worship—Holy Eucharist\, Rite II with Sunday School and Coffee Hour
DESCRIPTION:Join us Sundays at 10:00 a.m. for a celebration of Holy Eucharist (Communion). This service has music (usually organ and choir\, along with special guest musicians) and uses a variety of prayers and language from traditional to inclusive and expansive\, drawing from Rite II of the 1979 Book of Common Prayer\, Enriching Our Worship\, and other sources. \nCoffee hour in the Parish House usually follows this service. \nSunday School for kindergarten and up meets today on the second floor of the Parish House at 10:00 a.m. Students will rejoin the congregation just before Holy Communion. New to St. James’ Church? Your kids are welcome to Sunday School any Sunday. More details about St. James’ Sunday School at: https://stjameshydepark.org/for-children/
URL:https://stjameshydepark.org/event/sunday-10am-2025/2025-02-16/
LOCATION:St. James’ Episcopal Church\, 4526 Albany Post Rd.\, Hyde Park\, NY\, 12538\, United States
CATEGORIES:Worship
END:VEVENT
BEGIN:VEVENT
DTSTART;TZID=America/New_York:20250216T183000
DTEND;TZID=America/New_York:20250216T210000
DTSTAMP:20260425T083332
CREATED:20250107T185818Z
LAST-MODIFIED:20250107T190058Z
UID:10005951-1739730600-1739739600@stjameshydepark.org
SUMMARY:Hyde Park Group AA (Parish Hall\, Rm. 201)
DESCRIPTION:
URL:https://stjameshydepark.org/event/hyde-park-group-aa-parish-hall-rm-201/2025-02-16/
LOCATION:St. James’ Episcopal Church\, 4526 Albany Post Rd.\, Hyde Park\, NY\, 12538\, United States
END:VEVENT
BEGIN:VEVENT
DTSTART;TZID=America/New_York:20250217T090000
DTEND;TZID=America/New_York:20250217T160000
DTSTAMP:20260425T083332
CREATED:20250107T182041Z
LAST-MODIFIED:20251113T143645Z
UID:10004813-1739782800-1739808000@stjameshydepark.org
SUMMARY:[New Deal] (Parish Hall)
DESCRIPTION:
URL:https://stjameshydepark.org/event/new-deal-parish-hall/2025-02-17/
LOCATION:St. James’ Episcopal Church\, 4526 Albany Post Rd.\, Hyde Park\, NY\, 12538\, United States
CATEGORIES:New Deal
END:VEVENT
BEGIN:VEVENT
DTSTART;TZID=America/New_York:20250217T133000
DTEND;TZID=America/New_York:20250217T153000
DTSTAMP:20260425T083332
CREATED:20241110T012408Z
LAST-MODIFIED:20250708T131754Z
UID:10006848-1739799000-1739806200@stjameshydepark.org
SUMMARY:Knit+Craft+Chat (Wilks Room)
DESCRIPTION:A community of crafters and conversationalists meets Mondays from 2-4 pm (drop-in) at St. James’ Episcopal Church in the Wilks Room of our Parish House. We are a friendly group: knitters\, embroiderers\, crocheters\, conversationalists and miscellaneous other activities. All are welcome; no previous skill is required.
URL:https://stjameshydepark.org/event/knit-craft-chat-2/2025-02-17/
LOCATION:St. James’ Episcopal Church\, 4526 Albany Post Rd.\, Hyde Park\, NY\, 12538\, United States
END:VEVENT
BEGIN:VEVENT
DTSTART;TZID=America/New_York:20250217T180000
DTEND;TZID=America/New_York:20250217T200000
DTSTAMP:20260425T083332
CREATED:20250211T135209Z
LAST-MODIFIED:20250211T204350Z
UID:10006370-1739815200-1739822400@stjameshydepark.org
SUMMARY:Men's Gathering at Antonella's
DESCRIPTION:All welcome! Join in Monday\, February 17th at 6 pm in the back room of Antonella’s Restaurant.
URL:https://stjameshydepark.org/event/mens-gathering-2025-02/
LOCATION:Antonella’s Restaurant\, Hyde Park\, NY\, 4246 Albany Post Rd #1700\, Hyde Park\, NY\, 12538\, United States
CATEGORIES:Fun
END:VEVENT
BEGIN:VEVENT
DTSTART;TZID=America/New_York:20250218T113000
DTEND;TZID=America/New_York:20250218T120000
DTSTAMP:20260425T083332
CREATED:20241008T150243Z
LAST-MODIFIED:20241008T150243Z
UID:10004176-1739878200-1739880000@stjameshydepark.org
SUMMARY:ARC Lunch
DESCRIPTION:
URL:https://stjameshydepark.org/event/arc-lunch/2025-02-18/
LOCATION:St. James’ Episcopal Church\, 4526 Albany Post Rd.\, Hyde Park\, NY\, 12538\, United States
END:VEVENT
BEGIN:VEVENT
DTSTART;TZID=America/New_York:20250218T190000
DTEND;TZID=America/New_York:20250218T203000
DTSTAMP:20260425T083332
CREATED:20250107T190949Z
LAST-MODIFIED:20250107T190949Z
UID:10006004-1739905200-1739910600@stjameshydepark.org
SUMMARY:Boy Scout Troop 80 (Parish Hall)
DESCRIPTION:
URL:https://stjameshydepark.org/event/boy-scout-troop-80-parish-hall/2025-02-18/
LOCATION:St. James’ Episcopal Church\, 4526 Albany Post Rd.\, Hyde Park\, NY\, 12538\, United States
END:VEVENT
BEGIN:VEVENT
DTSTART;TZID=America/New_York:20250219T100000
DTEND;TZID=America/New_York:20250219T110000
DTSTAMP:20260425T083332
CREATED:20250214T185218Z
LAST-MODIFIED:20250214T185218Z
UID:10006377-1739959200-1739962800@stjameshydepark.org
SUMMARY:Fire Inspection (Parish House)
DESCRIPTION:
URL:https://stjameshydepark.org/event/fire-inspection-parish-house/
LOCATION:St. James’ Episcopal Church\, 4526 Albany Post Rd.\, Hyde Park\, NY\, 12538\, United States
END:VEVENT
BEGIN:VEVENT
DTSTART;TZID=America/New_York:20250219T110000
DTEND;TZID=America/New_York:20250219T121500
DTSTAMP:20260425T083332
CREATED:20241120T172057Z
LAST-MODIFIED:20250424T151851Z
UID:10006326-1739962800-1739967300@stjameshydepark.org
SUMMARY:Bible Study (Online)
DESCRIPTION:Our weekly Bible study on Zoom usually focuses on the Gospel for the upcoming Sunday and is led by Mtr. Meredith. We practice a contemplative\, prayerful style of Bible study that focuses on how God is speaking to us through our questions\, responses\, curiosities and doubts as we engage Scripture.  \nThe study is followed by a brief\, optional service of noonday prayer. \nJoin in any Wednesday at 11 am. No previous preparation is required. The Zoom link is distributed via our weekly email newsletter (or contact the parish office).
URL:https://stjameshydepark.org/event/bible-study-2025/2025-02-19/
LOCATION:Online
CATEGORIES:Christian Formation
END:VEVENT
BEGIN:VEVENT
DTSTART;TZID=America/New_York:20250219T183000
DTEND;TZID=America/New_York:20250219T190000
DTSTAMP:20260425T083332
CREATED:20241219T190934Z
LAST-MODIFIED:20241219T190934Z
UID:10004321-1739989800-1739991600@stjameshydepark.org
SUMMARY:Evening Prayer (Online)
DESCRIPTION:Join us online every Wednesday at 6:30 pm for a brief service of Evening Prayer led by Deacon Gail. Please email the parish office at stjames.hydepark@gmail.com to request the Zoom link.
URL:https://stjameshydepark.org/event/evening-prayer-2025/2025-02-19/
LOCATION:Online
CATEGORIES:Worship
END:VEVENT
END:VCALENDAR