BEGIN:VCALENDAR
VERSION:2.0
PRODID:-//St. James&#039; Episcopal Church - ECPv6.15.20//NONSGML v1.0//EN
CALSCALE:GREGORIAN
METHOD:PUBLISH
X-WR-CALNAME:St. James&#039; Episcopal Church
X-ORIGINAL-URL:https://stjameshydepark.org
X-WR-CALDESC:Events for St. James&#039; Episcopal Church
REFRESH-INTERVAL;VALUE=DURATION:PT1H
X-Robots-Tag:noindex
X-PUBLISHED-TTL:PT1H
BEGIN:VTIMEZONE
TZID:America/New_York
BEGIN:DAYLIGHT
TZOFFSETFROM:-0500
TZOFFSETTO:-0400
TZNAME:EDT
DTSTART:20240310T070000
END:DAYLIGHT
BEGIN:STANDARD
TZOFFSETFROM:-0400
TZOFFSETTO:-0500
TZNAME:EST
DTSTART:20241103T060000
END:STANDARD
BEGIN:DAYLIGHT
TZOFFSETFROM:-0500
TZOFFSETTO:-0400
TZNAME:EDT
DTSTART:20250309T070000
END:DAYLIGHT
BEGIN:STANDARD
TZOFFSETFROM:-0400
TZOFFSETTO:-0500
TZNAME:EST
DTSTART:20251102T060000
END:STANDARD
BEGIN:DAYLIGHT
TZOFFSETFROM:-0500
TZOFFSETTO:-0400
TZNAME:EDT
DTSTART:20260308T070000
END:DAYLIGHT
BEGIN:STANDARD
TZOFFSETFROM:-0400
TZOFFSETTO:-0500
TZNAME:EST
DTSTART:20261101T060000
END:STANDARD
END:VTIMEZONE
BEGIN:VEVENT
DTSTART;TZID=America/New_York:20250120T133000
DTEND;TZID=America/New_York:20250120T153000
DTSTAMP:20260425T071333
CREATED:20241110T012408Z
LAST-MODIFIED:20250708T131754Z
UID:10006844-1737379800-1737387000@stjameshydepark.org
SUMMARY:Knit+Craft+Chat (Wilks Room)
DESCRIPTION:A community of crafters and conversationalists meets Mondays from 2-4 pm (drop-in) at St. James’ Episcopal Church in the Wilks Room of our Parish House. We are a friendly group: knitters\, embroiderers\, crocheters\, conversationalists and miscellaneous other activities. All are welcome; no previous skill is required.
URL:https://stjameshydepark.org/event/knit-craft-chat-2/2025-01-20/
LOCATION:St. James’ Episcopal Church\, 4526 Albany Post Rd.\, Hyde Park\, NY\, 12538\, United States
END:VEVENT
BEGIN:VEVENT
DTSTART;TZID=America/New_York:20250120T180000
DTEND;TZID=America/New_York:20250120T193000
DTSTAMP:20260425T071333
CREATED:20250107T171629Z
LAST-MODIFIED:20250107T171629Z
UID:10004799-1737396000-1737401400@stjameshydepark.org
SUMMARY:Men’s Gathering at Antonella’s Restaurant
DESCRIPTION:All welcome! Join in Monday\, January 20th at 6 pm in the back room of Antonella’s Restaurant.
URL:https://stjameshydepark.org/event/mens-gathering-jan-2025/
LOCATION:Antonella’s Restaurant\, Hyde Park\, NY\, 4246 Albany Post Rd #1700\, Hyde Park\, NY\, 12538\, United States
CATEGORIES:Fun
END:VEVENT
BEGIN:VEVENT
DTSTART;TZID=America/New_York:20250121T113000
DTEND;TZID=America/New_York:20250121T120000
DTSTAMP:20260425T071333
CREATED:20241008T150243Z
LAST-MODIFIED:20241008T150243Z
UID:10004172-1737459000-1737460800@stjameshydepark.org
SUMMARY:ARC Lunch
DESCRIPTION:
URL:https://stjameshydepark.org/event/arc-lunch/2025-01-21/
LOCATION:St. James’ Episcopal Church\, 4526 Albany Post Rd.\, Hyde Park\, NY\, 12538\, United States
END:VEVENT
BEGIN:VEVENT
DTSTART;TZID=America/New_York:20250121T190000
DTEND;TZID=America/New_York:20250121T203000
DTSTAMP:20260425T071333
CREATED:20250107T190949Z
LAST-MODIFIED:20250107T190949Z
UID:10006000-1737486000-1737491400@stjameshydepark.org
SUMMARY:Boy Scout Troop 80 (Parish Hall)
DESCRIPTION:
URL:https://stjameshydepark.org/event/boy-scout-troop-80-parish-hall/2025-01-21/
LOCATION:St. James’ Episcopal Church\, 4526 Albany Post Rd.\, Hyde Park\, NY\, 12538\, United States
END:VEVENT
BEGIN:VEVENT
DTSTART;TZID=America/New_York:20250122T110000
DTEND;TZID=America/New_York:20250122T121500
DTSTAMP:20260425T071333
CREATED:20241120T172057Z
LAST-MODIFIED:20250424T151851Z
UID:10006322-1737543600-1737548100@stjameshydepark.org
SUMMARY:Bible Study (Online)
DESCRIPTION:Our weekly Bible study on Zoom usually focuses on the Gospel for the upcoming Sunday and is led by Mtr. Meredith. We practice a contemplative\, prayerful style of Bible study that focuses on how God is speaking to us through our questions\, responses\, curiosities and doubts as we engage Scripture.  \nThe study is followed by a brief\, optional service of noonday prayer. \nJoin in any Wednesday at 11 am. No previous preparation is required. The Zoom link is distributed via our weekly email newsletter (or contact the parish office).
URL:https://stjameshydepark.org/event/bible-study-2025/2025-01-22/
LOCATION:Online
CATEGORIES:Christian Formation
END:VEVENT
BEGIN:VEVENT
DTSTART;TZID=America/New_York:20250122T160000
DTEND;TZID=America/New_York:20250122T200000
DTSTAMP:20260425T071333
CREATED:20241210T150538Z
LAST-MODIFIED:20241210T150538Z
UID:10004307-1737561600-1737576000@stjameshydepark.org
SUMMARY:Girl Scout Meeting (Parish Hall)
DESCRIPTION:
URL:https://stjameshydepark.org/event/girl-scout-meeting-parish-hall/
LOCATION:St. James’ Episcopal Church\, 4526 Albany Post Rd.\, Hyde Park\, NY\, 12538\, United States
END:VEVENT
BEGIN:VEVENT
DTSTART;TZID=America/New_York:20250122T183000
DTEND;TZID=America/New_York:20250122T190000
DTSTAMP:20260425T071333
CREATED:20241219T190934Z
LAST-MODIFIED:20241219T190934Z
UID:10004317-1737570600-1737572400@stjameshydepark.org
SUMMARY:Evening Prayer (Online)
DESCRIPTION:Join us online every Wednesday at 6:30 pm for a brief service of Evening Prayer led by Deacon Gail. Please email the parish office at stjames.hydepark@gmail.com to request the Zoom link.
URL:https://stjameshydepark.org/event/evening-prayer-2025/2025-01-22/
LOCATION:Online
CATEGORIES:Worship
END:VEVENT
BEGIN:VEVENT
DTSTART;TZID=America/New_York:20250122T190000
DTEND;TZID=America/New_York:20250122T210000
DTSTAMP:20260425T071333
CREATED:20240117T162621Z
LAST-MODIFIED:20240117T211034Z
UID:10003351-1737572400-1737579600@stjameshydepark.org
SUMMARY:Vestry Meeting (Wilks Room)
DESCRIPTION:
URL:https://stjameshydepark.org/event/vestry-meetings-2024/2025-01-22/
LOCATION:St. James’ Episcopal Church\, 4526 Albany Post Rd.\, Hyde Park\, NY\, 12538\, United States
CATEGORIES:General
END:VEVENT
BEGIN:VEVENT
DTSTART;TZID=America/New_York:20250125T130000
DTEND;TZID=America/New_York:20250125T160000
DTSTAMP:20260425T071333
CREATED:20241016T182732Z
LAST-MODIFIED:20250107T175040Z
UID:10004215-1737810000-1737820800@stjameshydepark.org
SUMMARY:[New Deal] Book Club + Movie (Parish Hall)
DESCRIPTION:
URL:https://stjameshydepark.org/event/new-deal-book-club-movie-parish-hall/
LOCATION:St. James’ Episcopal Church\, 4526 Albany Post Rd.\, Hyde Park\, NY\, 12538\, United States
CATEGORIES:New Deal
END:VEVENT
BEGIN:VEVENT
DTSTART;TZID=America/New_York:20250125T183000
DTEND;TZID=America/New_York:20250125T190000
DTSTAMP:20260425T071333
CREATED:20241219T191054Z
LAST-MODIFIED:20241219T191054Z
UID:10004370-1737829800-1737831600@stjameshydepark.org
SUMMARY:Compline (Online)
DESCRIPTION:Join us online every Saturday at 6:30 pm for a brief service of Compline (Night Prayer) facilitated by Deacon Gail. Please email the parish office at stjames.hydepark@gmail.com to request the Zoom link.
URL:https://stjameshydepark.org/event/compline-2025/2025-01-25/
LOCATION:Online
CATEGORIES:Worship
END:VEVENT
BEGIN:VEVENT
DTSTART;TZID=America/New_York:20250126T090000
DTEND;TZID=America/New_York:20250126T100000
DTSTAMP:20260425T071333
CREATED:20241219T191904Z
LAST-MODIFIED:20241219T191934Z
UID:10004534-1737882000-1737885600@stjameshydepark.org
SUMMARY:Sunday Worship—Holy Eucharist (One service only today at 9 am)
DESCRIPTION:On Sunday\, January 26th\, St. James’ will hold our Annual Meeting. We’ll offer one combined service of Holy Eucharist at 9 am\, with the Annual Meeting immediately following.
URL:https://stjameshydepark.org/event/sunday-annual-meeting-2025/
LOCATION:St. James’ Episcopal Church\, 4526 Albany Post Rd.\, Hyde Park\, NY\, 12538\, United States
CATEGORIES:Worship
END:VEVENT
BEGIN:VEVENT
DTSTART;TZID=America/New_York:20250126T090000
DTEND;TZID=America/New_York:20250126T120000
DTSTAMP:20260425T071333
CREATED:20240117T164600Z
LAST-MODIFIED:20250124T185550Z
UID:10003352-1737882000-1737892800@stjameshydepark.org
SUMMARY:2025 Annual Meeting
DESCRIPTION:St. James’ 2025 Annual Meeting will take place Sunday\, January 26th\, in the Parish Hall following a single combined service of Holy Eucharist at 9:00 a.m. The service (in the church) will be available by live-stream; the Annual Meeting will not be available online. \nAs a member of St. James’\, our annual meeting is your opportunity to elect leaders to our Vestry\, to recognize all the people who contribute to our well-being as a church\, and to take stock of the state of our community of faith\, from formation to finances—so please do plan to attend. Your voice and your presence matter! \nSchedule: \n9:00 a.m. Polls open; Holy Eucharist (this is the only worship service for Sunday\, 1/26) \n10:00 a.m. All-Church photo (in front of the red doors\, weather permitting!) \n10:15 a.m. Annual Meeting in the Parish Hall\, with activities for youth K-12 upstairs \nElections at the Annual Meeting: \nElections shall be held at this Annual Meeting to fill the following expiring terms of office: \nWarden\, 2-year term (Mike Glancey standing for election to a second term)\nVestry member\, 3-year term (Lillian Peralta standing for a election to a second term)\nVestry member\, 3-year term (Justin Bohlmann outgoing; Mike Fenwick standing for election)\nVestry member\, 3-year term (Deirdre Mae Micker outgoing; Ron Lane standing for election)\nVestry member\, 1-year term (Melinda Harris resigned leaving a one-year vacancy; Anne McGrath standing for election) \nYou can read candidates’ personal statements in the Nominating Committee Report. \nPolls will be open at 9:00 a.m. \nAnnual Meeting Materials \n\n2025 Parish Operating Budget & Narrative Summary\nThe 2025 Annual Meeting Packet\, which includes the 2024 annual reports and 2025 Operating Budget (printed copies will be distributed at the Annual Meeting)\n\nYouth at the Annual Meeting \nOur Sunday School teachers will host a hangout for kids and youth age K-12 in the Parish House during the Annual Meeting. \nSt. James’ Medals \nThe St. James’ Medal is awarded at the Annual Meeting. Those who have been awarded the St. James’ medal in years past are encouraged to wear your medal on Annual Meeting day. \nThe deadline for 2024 annual reports is Tuesday\, January 21st. Please submit written reports to the office: stjames.hydepark@gmail.com.
URL:https://stjameshydepark.org/event/2025-annual-meeting/
LOCATION:St. James’ Episcopal Church\, 4526 Albany Post Rd.\, Hyde Park\, NY\, 12538\, United States
CATEGORIES:Governance
ATTACH;FMTTYPE=image/png:https://stjameshydepark.org/wp-content/uploads/2025/01/Annual-Meeting-2025.png
END:VEVENT
BEGIN:VEVENT
DTSTART;TZID=America/New_York:20250126T183000
DTEND;TZID=America/New_York:20250126T210000
DTSTAMP:20260425T071333
CREATED:20250107T185818Z
LAST-MODIFIED:20250107T190058Z
UID:10005948-1737916200-1737925200@stjameshydepark.org
SUMMARY:Hyde Park Group AA (Parish Hall\, Rm. 201)
DESCRIPTION:
URL:https://stjameshydepark.org/event/hyde-park-group-aa-parish-hall-rm-201/2025-01-26/
LOCATION:St. James’ Episcopal Church\, 4526 Albany Post Rd.\, Hyde Park\, NY\, 12538\, United States
END:VEVENT
BEGIN:VEVENT
DTSTART;TZID=America/New_York:20250127T133000
DTEND;TZID=America/New_York:20250127T153000
DTSTAMP:20260425T071333
CREATED:20241110T012408Z
LAST-MODIFIED:20250708T131754Z
UID:10006845-1737984600-1737991800@stjameshydepark.org
SUMMARY:Knit+Craft+Chat (Wilks Room)
DESCRIPTION:A community of crafters and conversationalists meets Mondays from 2-4 pm (drop-in) at St. James’ Episcopal Church in the Wilks Room of our Parish House. We are a friendly group: knitters\, embroiderers\, crocheters\, conversationalists and miscellaneous other activities. All are welcome; no previous skill is required.
URL:https://stjameshydepark.org/event/knit-craft-chat-2/2025-01-27/
LOCATION:St. James’ Episcopal Church\, 4526 Albany Post Rd.\, Hyde Park\, NY\, 12538\, United States
END:VEVENT
BEGIN:VEVENT
DTSTART;TZID=America/New_York:20250128T113000
DTEND;TZID=America/New_York:20250128T120000
DTSTAMP:20260425T071333
CREATED:20241008T150243Z
LAST-MODIFIED:20241008T150243Z
UID:10004173-1738063800-1738065600@stjameshydepark.org
SUMMARY:ARC Lunch
DESCRIPTION:
URL:https://stjameshydepark.org/event/arc-lunch/2025-01-28/
LOCATION:St. James’ Episcopal Church\, 4526 Albany Post Rd.\, Hyde Park\, NY\, 12538\, United States
END:VEVENT
BEGIN:VEVENT
DTSTART;TZID=America/New_York:20250128T190000
DTEND;TZID=America/New_York:20250128T203000
DTSTAMP:20260425T071333
CREATED:20250107T190949Z
LAST-MODIFIED:20250107T190949Z
UID:10006001-1738090800-1738096200@stjameshydepark.org
SUMMARY:Boy Scout Troop 80 (Parish Hall)
DESCRIPTION:
URL:https://stjameshydepark.org/event/boy-scout-troop-80-parish-hall/2025-01-28/
LOCATION:St. James’ Episcopal Church\, 4526 Albany Post Rd.\, Hyde Park\, NY\, 12538\, United States
END:VEVENT
BEGIN:VEVENT
DTSTART;TZID=America/New_York:20250129T110000
DTEND;TZID=America/New_York:20250129T121500
DTSTAMP:20260425T071333
CREATED:20241120T172057Z
LAST-MODIFIED:20250424T151851Z
UID:10006323-1738148400-1738152900@stjameshydepark.org
SUMMARY:Bible Study (Online)
DESCRIPTION:Our weekly Bible study on Zoom usually focuses on the Gospel for the upcoming Sunday and is led by Mtr. Meredith. We practice a contemplative\, prayerful style of Bible study that focuses on how God is speaking to us through our questions\, responses\, curiosities and doubts as we engage Scripture.  \nThe study is followed by a brief\, optional service of noonday prayer. \nJoin in any Wednesday at 11 am. No previous preparation is required. The Zoom link is distributed via our weekly email newsletter (or contact the parish office).
URL:https://stjameshydepark.org/event/bible-study-2025/2025-01-29/
LOCATION:Online
CATEGORIES:Christian Formation
END:VEVENT
BEGIN:VEVENT
DTSTART;TZID=America/New_York:20250129T183000
DTEND;TZID=America/New_York:20250129T190000
DTSTAMP:20260425T071333
CREATED:20241219T190934Z
LAST-MODIFIED:20241219T190934Z
UID:10004318-1738175400-1738177200@stjameshydepark.org
SUMMARY:Evening Prayer (Online)
DESCRIPTION:Join us online every Wednesday at 6:30 pm for a brief service of Evening Prayer led by Deacon Gail. Please email the parish office at stjames.hydepark@gmail.com to request the Zoom link.
URL:https://stjameshydepark.org/event/evening-prayer-2025/2025-01-29/
LOCATION:Online
CATEGORIES:Worship
END:VEVENT
BEGIN:VEVENT
DTSTART;TZID=America/New_York:20250201T183000
DTEND;TZID=America/New_York:20250201T190000
DTSTAMP:20260425T071333
CREATED:20241219T191054Z
LAST-MODIFIED:20241219T191054Z
UID:10004371-1738434600-1738436400@stjameshydepark.org
SUMMARY:Compline (Online)
DESCRIPTION:Join us online every Saturday at 6:30 pm for a brief service of Compline (Night Prayer) facilitated by Deacon Gail. Please email the parish office at stjames.hydepark@gmail.com to request the Zoom link.
URL:https://stjameshydepark.org/event/compline-2025/2025-02-01/
LOCATION:Online
CATEGORIES:Worship
END:VEVENT
BEGIN:VEVENT
DTSTART;TZID=America/New_York:20250202T080000
DTEND;TZID=America/New_York:20250202T090000
DTSTAMP:20260425T071333
CREATED:20241219T191649Z
LAST-MODIFIED:20250325T172434Z
UID:10004535-1738483200-1738486800@stjameshydepark.org
SUMMARY:Sunday Worship—Holy Eucharist\, Rite I
DESCRIPTION:Join us Sundays at 8:00 a.m. for a celebration of Holy Eucharist (Communion). This is a quiet service\, usually without music\, though we often have a soloist with acoustic guitar playing before and after the service. The service uses Rite 1 from the 1979 Book of Common Prayer\, with traditional language.
URL:https://stjameshydepark.org/event/sunday-8am-2025/2025-02-02/
LOCATION:St. James’ Episcopal Church\, 4526 Albany Post Rd.\, Hyde Park\, NY\, 12538\, United States
CATEGORIES:Worship
END:VEVENT
BEGIN:VEVENT
DTSTART;TZID=America/New_York:20250202T091500
DTEND;TZID=America/New_York:20250202T094500
DTSTAMP:20260425T071333
CREATED:20241126T151319Z
LAST-MODIFIED:20241126T151325Z
UID:10003717-1738487700-1738489500@stjameshydepark.org
SUMMARY:"Mary Strong" Rosary Prayer Group (Wilks Room)
DESCRIPTION:The “Mary Strong” rosary prayer group meets on the first Sunday of each month. We meet in the Wilks Room in the Parish House at 9:15 between our 8 and 10 am services. All are welcome! \nNever prayed the rosary before? No problem! This group will teach you everything you need to know. \nYes\, Episcopalians can and do pray the rosary! Just as we ask our friends to pray for us\, we can ask the saints—that great cloud of witnesses—to intercede on our behalf. Praying the rosary draws us close to the heart of St. Mary the God-bearer as we meditate on Jesus’ ministry\, crucifixion\, resurrection and ascension.
URL:https://stjameshydepark.org/event/rosary-prayer-group-2025/2025-02-02/
LOCATION:St. James’ Episcopal Church\, 4526 Albany Post Rd.\, Hyde Park\, NY\, 12538\, United States
CATEGORIES:Christian Formation,Worship
END:VEVENT
BEGIN:VEVENT
DTSTART;TZID=America/New_York:20250202T100000
DTEND;TZID=America/New_York:20250202T113000
DTSTAMP:20260425T071333
CREATED:20241219T191432Z
LAST-MODIFIED:20251209T135212Z
UID:10004483-1738490400-1738495800@stjameshydepark.org
SUMMARY:Sunday Worship—Holy Eucharist\, Rite II with Sunday School and Coffee Hour
DESCRIPTION:Join us Sundays at 10:00 a.m. for a celebration of Holy Eucharist (Communion). This service has music (usually organ and choir\, along with special guest musicians) and uses a variety of prayers and language from traditional to inclusive and expansive\, drawing from Rite II of the 1979 Book of Common Prayer\, Enriching Our Worship\, and other sources. \nCoffee hour in the Parish House usually follows this service. \nSunday School for kindergarten and up meets today on the second floor of the Parish House at 10:00 a.m. Students will rejoin the congregation just before Holy Communion. New to St. James’ Church? Your kids are welcome to Sunday School any Sunday. More details about St. James’ Sunday School at: https://stjameshydepark.org/for-children/
URL:https://stjameshydepark.org/event/sunday-10am-2025/2025-02-02/
LOCATION:St. James’ Episcopal Church\, 4526 Albany Post Rd.\, Hyde Park\, NY\, 12538\, United States
CATEGORIES:Worship
END:VEVENT
BEGIN:VEVENT
DTSTART;TZID=America/New_York:20250202T183000
DTEND;TZID=America/New_York:20250202T210000
DTSTAMP:20260425T071333
CREATED:20250107T185818Z
LAST-MODIFIED:20250107T190058Z
UID:10005949-1738521000-1738530000@stjameshydepark.org
SUMMARY:Hyde Park Group AA (Parish Hall\, Rm. 201)
DESCRIPTION:
URL:https://stjameshydepark.org/event/hyde-park-group-aa-parish-hall-rm-201/2025-02-02/
LOCATION:St. James’ Episcopal Church\, 4526 Albany Post Rd.\, Hyde Park\, NY\, 12538\, United States
END:VEVENT
BEGIN:VEVENT
DTSTART;TZID=America/New_York:20250203T133000
DTEND;TZID=America/New_York:20250203T153000
DTSTAMP:20260425T071333
CREATED:20241110T012408Z
LAST-MODIFIED:20250708T131754Z
UID:10006846-1738589400-1738596600@stjameshydepark.org
SUMMARY:Knit+Craft+Chat (Wilks Room)
DESCRIPTION:A community of crafters and conversationalists meets Mondays from 2-4 pm (drop-in) at St. James’ Episcopal Church in the Wilks Room of our Parish House. We are a friendly group: knitters\, embroiderers\, crocheters\, conversationalists and miscellaneous other activities. All are welcome; no previous skill is required.
URL:https://stjameshydepark.org/event/knit-craft-chat-2/2025-02-03/
LOCATION:St. James’ Episcopal Church\, 4526 Albany Post Rd.\, Hyde Park\, NY\, 12538\, United States
END:VEVENT
BEGIN:VEVENT
DTSTART;TZID=America/New_York:20250204T113000
DTEND;TZID=America/New_York:20250204T120000
DTSTAMP:20260425T071333
CREATED:20241008T150243Z
LAST-MODIFIED:20241008T150243Z
UID:10004174-1738668600-1738670400@stjameshydepark.org
SUMMARY:ARC Lunch
DESCRIPTION:
URL:https://stjameshydepark.org/event/arc-lunch/2025-02-04/
LOCATION:St. James’ Episcopal Church\, 4526 Albany Post Rd.\, Hyde Park\, NY\, 12538\, United States
END:VEVENT
BEGIN:VEVENT
DTSTART;TZID=America/New_York:20250204T190000
DTEND;TZID=America/New_York:20250204T203000
DTSTAMP:20260425T071333
CREATED:20250107T190949Z
LAST-MODIFIED:20250107T190949Z
UID:10006002-1738695600-1738701000@stjameshydepark.org
SUMMARY:Boy Scout Troop 80 (Parish Hall)
DESCRIPTION:
URL:https://stjameshydepark.org/event/boy-scout-troop-80-parish-hall/2025-02-04/
LOCATION:St. James’ Episcopal Church\, 4526 Albany Post Rd.\, Hyde Park\, NY\, 12538\, United States
END:VEVENT
BEGIN:VEVENT
DTSTART;TZID=America/New_York:20250204T190000
DTEND;TZID=America/New_York:20250204T203000
DTSTAMP:20260425T071333
CREATED:20250107T191135Z
LAST-MODIFIED:20250107T191355Z
UID:10006099-1738695600-1738701000@stjameshydepark.org
SUMMARY:Boy Scout Troop 80 (Wilks Room)
DESCRIPTION:
URL:https://stjameshydepark.org/event/boy-scout-troop-80-wilks-room/2025-02-04/
LOCATION:St. James’ Episcopal Church\, 4526 Albany Post Rd.\, Hyde Park\, NY\, 12538\, United States
END:VEVENT
BEGIN:VEVENT
DTSTART;TZID=America/New_York:20250205T110000
DTEND;TZID=America/New_York:20250205T121500
DTSTAMP:20260425T071333
CREATED:20241120T172057Z
LAST-MODIFIED:20250424T151851Z
UID:10006324-1738753200-1738757700@stjameshydepark.org
SUMMARY:Bible Study (Online)
DESCRIPTION:Our weekly Bible study on Zoom usually focuses on the Gospel for the upcoming Sunday and is led by Mtr. Meredith. We practice a contemplative\, prayerful style of Bible study that focuses on how God is speaking to us through our questions\, responses\, curiosities and doubts as we engage Scripture.  \nThe study is followed by a brief\, optional service of noonday prayer. \nJoin in any Wednesday at 11 am. No previous preparation is required. The Zoom link is distributed via our weekly email newsletter (or contact the parish office).
URL:https://stjameshydepark.org/event/bible-study-2025/2025-02-05/
LOCATION:Online
CATEGORIES:Christian Formation
END:VEVENT
BEGIN:VEVENT
DTSTART;TZID=America/New_York:20250205T183000
DTEND;TZID=America/New_York:20250205T190000
DTSTAMP:20260425T071333
CREATED:20241219T190934Z
LAST-MODIFIED:20241219T190934Z
UID:10004319-1738780200-1738782000@stjameshydepark.org
SUMMARY:Evening Prayer (Online)
DESCRIPTION:Join us online every Wednesday at 6:30 pm for a brief service of Evening Prayer led by Deacon Gail. Please email the parish office at stjames.hydepark@gmail.com to request the Zoom link.
URL:https://stjameshydepark.org/event/evening-prayer-2025/2025-02-05/
LOCATION:Online
CATEGORIES:Worship
END:VEVENT
BEGIN:VEVENT
DTSTART;TZID=America/New_York:20250208T183000
DTEND;TZID=America/New_York:20250208T190000
DTSTAMP:20260425T071333
CREATED:20241219T191054Z
LAST-MODIFIED:20241219T191054Z
UID:10004372-1739039400-1739041200@stjameshydepark.org
SUMMARY:Compline (Online)
DESCRIPTION:Join us online every Saturday at 6:30 pm for a brief service of Compline (Night Prayer) facilitated by Deacon Gail. Please email the parish office at stjames.hydepark@gmail.com to request the Zoom link.
URL:https://stjameshydepark.org/event/compline-2025/2025-02-08/
LOCATION:Online
CATEGORIES:Worship
END:VEVENT
END:VCALENDAR