BEGIN:VCALENDAR
VERSION:2.0
PRODID:-//St. James&#039; Episcopal Church - ECPv6.15.20//NONSGML v1.0//EN
CALSCALE:GREGORIAN
METHOD:PUBLISH
X-WR-CALNAME:St. James&#039; Episcopal Church
X-ORIGINAL-URL:https://stjameshydepark.org
X-WR-CALDESC:Events for St. James&#039; Episcopal Church
REFRESH-INTERVAL;VALUE=DURATION:PT1H
X-Robots-Tag:noindex
X-PUBLISHED-TTL:PT1H
BEGIN:VTIMEZONE
TZID:America/New_York
BEGIN:DAYLIGHT
TZOFFSETFROM:-0500
TZOFFSETTO:-0400
TZNAME:EDT
DTSTART:20230312T070000
END:DAYLIGHT
BEGIN:STANDARD
TZOFFSETFROM:-0400
TZOFFSETTO:-0500
TZNAME:EST
DTSTART:20231105T060000
END:STANDARD
BEGIN:DAYLIGHT
TZOFFSETFROM:-0500
TZOFFSETTO:-0400
TZNAME:EDT
DTSTART:20240310T070000
END:DAYLIGHT
BEGIN:STANDARD
TZOFFSETFROM:-0400
TZOFFSETTO:-0500
TZNAME:EST
DTSTART:20241103T060000
END:STANDARD
BEGIN:DAYLIGHT
TZOFFSETFROM:-0500
TZOFFSETTO:-0400
TZNAME:EDT
DTSTART:20250309T070000
END:DAYLIGHT
BEGIN:STANDARD
TZOFFSETFROM:-0400
TZOFFSETTO:-0500
TZNAME:EST
DTSTART:20251102T060000
END:STANDARD
BEGIN:DAYLIGHT
TZOFFSETFROM:-0500
TZOFFSETTO:-0400
TZNAME:EDT
DTSTART:20260308T070000
END:DAYLIGHT
BEGIN:STANDARD
TZOFFSETFROM:-0400
TZOFFSETTO:-0500
TZNAME:EST
DTSTART:20261101T060000
END:STANDARD
END:VTIMEZONE
BEGIN:VEVENT
DTSTART;TZID=America/New_York:20241222T100000
DTEND;TZID=America/New_York:20241222T113000
DTSTAMP:20260425T070806
CREATED:20241213T202453Z
LAST-MODIFIED:20241218T222508Z
UID:10002778-1734861600-1734867000@stjameshydepark.org
SUMMARY:Holy Eucharist (Rite II) with Confirmations & Receptions—the Rt. Rev. Allen Shin\, Celebrant and Preacher. Followed by Coffee Hour. No Sunday School today!
DESCRIPTION:On Sunday\, December 22nd\, our 10 am service will be a joint service with St. Margaret’s\, Staatsburg. The Right Reverend Allen Shin\, Bishop Suffragan\, Diocese of New York\, will preach and celebrate and will confirm three people in their faith and receive seven people into The Episcopal Church. \nImmediately following the 10 am service\, Bishop Shin will bless Christmas wreaths to be placed on the graves of the 75 veterans resting in our churchyard. \nThen we’ll proceed to our Parish Hall for a festive holiday Coffee Hour to celebrate the newly Confirmed and Received! \nNo Sunday School on Sunday\, December 22nd. \n\nJoin us Sundays at 10:00 a.m. for a celebration of Holy Eucharist (Communion). This service has music (usually organ and choir\, along with special guest musicians) and uses a variety of prayers and language from traditional to inclusive and expansive\, drawing from Rite II of the 1979 Book of Common Prayer\, Enriching Our Worship\, and other sources. \nCoffee hour in the Parish House usually follows this service. \nSunday School for kindergarten and up meets today on the second floor of the Parish House at 10:00 a.m. Students will rejoin the congregation just before Holy Communion. New to St. James’ Church? Your kids are welcome to Sunday School any Sunday. More details about St. James’ Sunday School at: https://stjameshydepark.org/for-children/
URL:https://stjameshydepark.org/event/2024-bishop-shin-visit-dec-22-10am/
LOCATION:St. James’ Episcopal Church\, 4526 Albany Post Rd.\, Hyde Park\, NY\, 12538\, United States
CATEGORIES:Worship
END:VEVENT
BEGIN:VEVENT
DTSTART;TZID=America/New_York:20241222T113000
DTEND;TZID=America/New_York:20241222T120000
DTSTAMP:20260425T070806
CREATED:20241212T151936Z
LAST-MODIFIED:20241213T204724Z
UID:10004313-1734867000-1734868800@stjameshydepark.org
SUMMARY:Wreaths Across America (Churchyard)
DESCRIPTION:Immediately following the 10 am service on Sunday\, December 22nd\, Bishop Allen Shin will bless Christmas wreaths to be placed on the graves of the 75 veterans resting in our churchyard.
URL:https://stjameshydepark.org/event/wreaths-across-america-churchyard/
LOCATION:St. James’ Episcopal Church\, 4526 Albany Post Rd.\, Hyde Park\, NY\, 12538\, United States
END:VEVENT
BEGIN:VEVENT
DTSTART;TZID=America/New_York:20241222T180000
DTEND;TZID=America/New_York:20241222T200000
DTSTAMP:20260425T070806
CREATED:20241121T183033Z
LAST-MODIFIED:20241121T183130Z
UID:10004300-1734890400-1734897600@stjameshydepark.org
SUMMARY:Neighborhood Christmas Caroling (St. Margaret's)
DESCRIPTION:Meet at 6 pm on Sunday\, December 22nd at St. Margaret’s (corner of East Elm and Old Post in Staatsburg) for caroling in the village of Staatsburg. Afterward\, we’ll return to St. Margaret’s for a festive reception.
URL:https://stjameshydepark.org/event/caroling-2024/
LOCATION:St. Margaret’s Church\, E. Elm Ave.\, Staatsburg\, NY\, 12580\, United States
CATEGORIES:Christmas,Fun,Kids & Youth
ATTACH;FMTTYPE=image/png:https://stjameshydepark.org/wp-content/uploads/2024/11/Cookies-and-Caroling.png
END:VEVENT
BEGIN:VEVENT
DTSTART;TZID=America/New_York:20241222T183000
DTEND;TZID=America/New_York:20241222T210000
DTSTAMP:20260425T070806
CREATED:20240112T181055Z
LAST-MODIFIED:20241001T152045Z
UID:10003277-1734892200-1734901200@stjameshydepark.org
SUMMARY:AA Meeting (Parish Hall; Rm. 201)
DESCRIPTION:
URL:https://stjameshydepark.org/event/aa-meeting-parish-hall-rm-201-2/2024-12-22/
LOCATION:St. James’ Episcopal Church\, 4526 Albany Post Rd.\, Hyde Park\, NY\, 12538\, United States
CATEGORIES:General
END:VEVENT
BEGIN:VEVENT
DTSTART;VALUE=DATE:20241223
DTEND;VALUE=DATE:20241224
DTSTAMP:20260425T070806
CREATED:20240112T172541Z
LAST-MODIFIED:20240112T172541Z
UID:10003000-1734912000-1734998399@stjameshydepark.org
SUMMARY:Parish Office Closed
DESCRIPTION:
URL:https://stjameshydepark.org/event/parish-office-closed-4/2024-12-23/
LOCATION:St. James’ Episcopal Church\, 4526 Albany Post Rd.\, Hyde Park\, NY\, 12538\, United States
CATEGORIES:General
END:VEVENT
BEGIN:VEVENT
DTSTART;TZID=America/New_York:20241223T133000
DTEND;TZID=America/New_York:20241223T153000
DTSTAMP:20260425T070806
CREATED:20241110T012408Z
LAST-MODIFIED:20250708T131754Z
UID:10006840-1734960600-1734967800@stjameshydepark.org
SUMMARY:Knit+Craft+Chat (Wilks Room)
DESCRIPTION:A community of crafters and conversationalists meets Mondays from 2-4 pm (drop-in) at St. James’ Episcopal Church in the Wilks Room of our Parish House. We are a friendly group: knitters\, embroiderers\, crocheters\, conversationalists and miscellaneous other activities. All are welcome; no previous skill is required.
URL:https://stjameshydepark.org/event/knit-craft-chat-2/2024-12-23/
LOCATION:St. James’ Episcopal Church\, 4526 Albany Post Rd.\, Hyde Park\, NY\, 12538\, United States
END:VEVENT
BEGIN:VEVENT
DTSTART;TZID=America/New_York:20241224T113000
DTEND;TZID=America/New_York:20241224T120000
DTSTAMP:20260425T070806
CREATED:20241008T150243Z
LAST-MODIFIED:20241008T150243Z
UID:10004168-1735039800-1735041600@stjameshydepark.org
SUMMARY:ARC Lunch
DESCRIPTION:
URL:https://stjameshydepark.org/event/arc-lunch/2024-12-24/
LOCATION:St. James’ Episcopal Church\, 4526 Albany Post Rd.\, Hyde Park\, NY\, 12538\, United States
END:VEVENT
BEGIN:VEVENT
DTSTART;TZID=America/New_York:20241224T180000
DTEND;TZID=America/New_York:20241224T193000
DTSTAMP:20260425T070806
CREATED:20241210T170943Z
LAST-MODIFIED:20241210T171223Z
UID:10004309-1735063200-1735068600@stjameshydepark.org
SUMMARY:6 pm Christmas Eve Service
DESCRIPTION:Merry Christmas! We look forward to celebrating with you!\nOur Christmas Eve services are at 6 and 10 pm. Both services include festive carols\, Holy Eucharist\, and a candlelight singing of “Silent Night.” Our 6 pm service features the blessing of the creche (Nativity scene) and our 10 pm service begins with a special candle lighting ceremony\, moving from darkness to light. The 6 pm service will be livestreamed on YouTube and available for on-demand viewing later. \nOur Christmas Day service at 10 am will be a quieter service with Christmas carols and instrumental piano. The Christmas Day service is not livestreamed.
URL:https://stjameshydepark.org/event/christmas-eve-2024-6pm/
LOCATION:St. James’ Episcopal Church\, 4526 Albany Post Rd.\, Hyde Park\, NY\, 12538\, United States
CATEGORIES:Christmas
ATTACH;FMTTYPE=image/png:https://stjameshydepark.org/wp-content/uploads/2023/12/Christmas-at-St.-James-2023.png
END:VEVENT
BEGIN:VEVENT
DTSTART;TZID=America/New_York:20241224T220000
DTEND;TZID=America/New_York:20241224T233000
DTSTAMP:20260425T070806
CREATED:20241210T171140Z
LAST-MODIFIED:20241210T171225Z
UID:10004311-1735077600-1735083000@stjameshydepark.org
SUMMARY:10 pm Christmas Eve Service
DESCRIPTION:Merry Christmas! We look forward to celebrating with you!\nOur Christmas Eve services are at 6 and 10 pm. Both services include festive carols\, Holy Eucharist\, and a candlelight singing of “Silent Night.” Our 6 pm service features the blessing of the creche (Nativity scene) and our 10 pm service begins with a special candle lighting ceremony\, moving from darkness to light. The 6 pm service will be livestreamed on YouTube and available for on-demand viewing later. \nOur Christmas Day service at 10 am will be a quieter service with Christmas carols and instrumental piano. The Christmas Day service is not livestreamed.
URL:https://stjameshydepark.org/event/christmas-eve-2024-10pm/
LOCATION:St. James’ Episcopal Church\, 4526 Albany Post Rd.\, Hyde Park\, NY\, 12538\, United States
CATEGORIES:Christmas
ATTACH;FMTTYPE=image/png:https://stjameshydepark.org/wp-content/uploads/2023/12/Christmas-at-St.-James-2023.png
END:VEVENT
BEGIN:VEVENT
DTSTART;TZID=America/New_York:20241225T100000
DTEND;TZID=America/New_York:20241225T110000
DTSTAMP:20260425T070806
CREATED:20241210T171337Z
LAST-MODIFIED:20241210T171337Z
UID:10004312-1735120800-1735124400@stjameshydepark.org
SUMMARY:10 am Christmas Day Service
DESCRIPTION:Merry Christmas! We look forward to celebrating with you!\nOur Christmas Eve services are at 6 and 10 pm. Both services include festive carols\, Holy Eucharist\, and a candlelight singing of “Silent Night.” Our 6 pm service features the blessing of the creche (Nativity scene) and our 10 pm service begins with a special candle lighting ceremony\, moving from darkness to light. The 6 pm service will be livestreamed on YouTube and available for on-demand viewing later. \nOur Christmas Day service at 10 am will be a quieter service with Christmas carols and instrumental piano. The Christmas Day service is not livestreamed.
URL:https://stjameshydepark.org/event/christmas-day-2024/
LOCATION:St. James’ Episcopal Church\, 4526 Albany Post Rd.\, Hyde Park\, NY\, 12538\, United States
CATEGORIES:Christmas
ATTACH;FMTTYPE=image/png:https://stjameshydepark.org/wp-content/uploads/2023/12/Christmas-at-St.-James-2023.png
END:VEVENT
BEGIN:VEVENT
DTSTART;TZID=America/New_York:20241227T100000
DTEND;TZID=America/New_York:20241227T150000
DTSTAMP:20260425T070806
CREATED:20240530T124544Z
LAST-MODIFIED:20241128T122353Z
UID:10003784-1735293600-1735311600@stjameshydepark.org
SUMMARY:Blood Drive (Parish Hall)
DESCRIPTION:We’re hosting an American Red Cross Blood Drive on Friday\, December 27th\, 10 am to 3 pm\, in our Parish Hall! Please contact Patty Glancey if you’d like to help out with hospitality. \nBlood donors are needed! Schedule to donate at redcrossblood.org with sponsor code HydeParkNew.
URL:https://stjameshydepark.org/event/2024-blood-drive/
LOCATION:St. James’ Episcopal Church\, 4526 Albany Post Rd.\, Hyde Park\, NY\, 12538\, United States
CATEGORIES:Outreach
ATTACH;FMTTYPE=image/png:https://stjameshydepark.org/wp-content/uploads/2024/05/blood-drive-dec-2024.png
END:VEVENT
BEGIN:VEVENT
DTSTART;TZID=America/New_York:20241228T183000
DTEND;TZID=America/New_York:20241228T193000
DTSTAMP:20260425T070806
CREATED:20240112T175527Z
LAST-MODIFIED:20240112T175653Z
UID:10003164-1735410600-1735414200@stjameshydepark.org
SUMMARY:Compline (Remote)
DESCRIPTION:
URL:https://stjameshydepark.org/event/compline-remote-3-2023-01-07-2/2024-12-28/
LOCATION:Online
CATEGORIES:Worship
END:VEVENT
BEGIN:VEVENT
DTSTART;TZID=America/New_York:20241229T080000
DTEND;TZID=America/New_York:20241229T090000
DTSTAMP:20260425T070806
CREATED:20241210T172413Z
LAST-MODIFIED:20241210T172415Z
UID:10002883-1735459200-1735462800@stjameshydepark.org
SUMMARY:No 8 am service on December 29th
DESCRIPTION:There is no 8 am service on Sunday\, December 29th. Please join us at 10 am for worship with Christmas carols and our Christmas pageant! \n\nJoin us Sundays at 8:00 a.m. for a celebration of Holy Eucharist (Communion). This is a quiet service\, usually without music\, though we often have a soloist with acoustic guitar playing before and after the service. The service uses Rite 1 from the 1979 Book of Common Prayer\, with traditional language.
URL:https://stjameshydepark.org/event/2024-eucharist-rite-i-3/
LOCATION:St. James’ Episcopal Church\, 4526 Albany Post Rd.\, Hyde Park\, NY\, 12538\, United States
CATEGORIES:Worship
END:VEVENT
BEGIN:VEVENT
DTSTART;TZID=America/New_York:20241229T100000
DTEND;TZID=America/New_York:20241229T113000
DTSTAMP:20260425T070806
CREATED:20241210T172627Z
LAST-MODIFIED:20241210T172725Z
UID:10002779-1735466400-1735471800@stjameshydepark.org
SUMMARY:Holy Eucharist (Rite II) with Christmas Pageant and Coffee Hour
DESCRIPTION:Join us on the First Sunday after Christmas\, December 29th at 10 am\, for a special service with Christmas carols\, a Christmas pageant for all ages\, and Holy Eucharist. Coffee Hour in the Parish Hall will follow. There is no Sunday School today.
URL:https://stjameshydepark.org/event/2024-eucharist-rite-ii-with-pageant/
LOCATION:St. James’ Episcopal Church\, 4526 Albany Post Rd.\, Hyde Park\, NY\, 12538\, United States
CATEGORIES:Christmas,Worship
ATTACH;FMTTYPE=image/png:https://stjameshydepark.org/wp-content/uploads/2024/12/Pageant.png
END:VEVENT
BEGIN:VEVENT
DTSTART;TZID=America/New_York:20241229T183000
DTEND;TZID=America/New_York:20241229T220000
DTSTAMP:20260425T070806
CREATED:20230622T132525Z
LAST-MODIFIED:20240112T181743Z
UID:10002119-1735497000-1735509600@stjameshydepark.org
SUMMARY:AA Ind. Anniversary (Parish Hall)
DESCRIPTION:
URL:https://stjameshydepark.org/event/aa-ind-anniversary-parish-hall/2024-12-29/
LOCATION:St. James’ Episcopal Church\, 4526 Albany Post Rd.\, Hyde Park\, NY\, 12538\, United States
END:VEVENT
BEGIN:VEVENT
DTSTART;VALUE=DATE:20241230
DTEND;VALUE=DATE:20241231
DTSTAMP:20260425T070806
CREATED:20240112T172541Z
LAST-MODIFIED:20240112T172541Z
UID:10003001-1735516800-1735603199@stjameshydepark.org
SUMMARY:Parish Office Closed
DESCRIPTION:
URL:https://stjameshydepark.org/event/parish-office-closed-4/2024-12-30/
LOCATION:St. James’ Episcopal Church\, 4526 Albany Post Rd.\, Hyde Park\, NY\, 12538\, United States
CATEGORIES:General
END:VEVENT
BEGIN:VEVENT
DTSTART;TZID=America/New_York:20241230T133000
DTEND;TZID=America/New_York:20241230T153000
DTSTAMP:20260425T070806
CREATED:20241110T012408Z
LAST-MODIFIED:20250708T131754Z
UID:10006841-1735565400-1735572600@stjameshydepark.org
SUMMARY:Knit+Craft+Chat (Wilks Room)
DESCRIPTION:A community of crafters and conversationalists meets Mondays from 2-4 pm (drop-in) at St. James’ Episcopal Church in the Wilks Room of our Parish House. We are a friendly group: knitters\, embroiderers\, crocheters\, conversationalists and miscellaneous other activities. All are welcome; no previous skill is required.
URL:https://stjameshydepark.org/event/knit-craft-chat-2/2024-12-30/
LOCATION:St. James’ Episcopal Church\, 4526 Albany Post Rd.\, Hyde Park\, NY\, 12538\, United States
END:VEVENT
BEGIN:VEVENT
DTSTART;TZID=America/New_York:20241231T113000
DTEND;TZID=America/New_York:20241231T120000
DTSTAMP:20260425T070806
CREATED:20241008T150243Z
LAST-MODIFIED:20241008T150243Z
UID:10004169-1735644600-1735646400@stjameshydepark.org
SUMMARY:ARC Lunch
DESCRIPTION:
URL:https://stjameshydepark.org/event/arc-lunch/2024-12-31/
LOCATION:St. James’ Episcopal Church\, 4526 Albany Post Rd.\, Hyde Park\, NY\, 12538\, United States
END:VEVENT
BEGIN:VEVENT
DTSTART;TZID=America/New_York:20241231T190000
DTEND;TZID=America/New_York:20241231T200000
DTSTAMP:20260425T070806
CREATED:20240112T173633Z
LAST-MODIFIED:20240216T165320Z
UID:10003064-1735671600-1735675200@stjameshydepark.org
SUMMARY:Boy Scouts Troop 80 (Parish Hall)
DESCRIPTION:
URL:https://stjameshydepark.org/event/boy-scouts-troop-80-parish-hall-rm-203-2-2/2024-12-31/
LOCATION:St. James’ Episcopal Church\, 4526 Albany Post Rd.\, Hyde Park\, NY\, 12538\, United States
CATEGORIES:General
END:VEVENT
BEGIN:VEVENT
DTSTART;TZID=America/New_York:20250101T183000
DTEND;TZID=America/New_York:20250101T190000
DTSTAMP:20260425T070806
CREATED:20241219T190934Z
LAST-MODIFIED:20241219T190934Z
UID:10004314-1735756200-1735758000@stjameshydepark.org
SUMMARY:Evening Prayer (Online)
DESCRIPTION:Join us online every Wednesday at 6:30 pm for a brief service of Evening Prayer led by Deacon Gail. Please email the parish office at stjames.hydepark@gmail.com to request the Zoom link.
URL:https://stjameshydepark.org/event/evening-prayer-2025/2025-01-01/
LOCATION:Online
CATEGORIES:Worship
END:VEVENT
BEGIN:VEVENT
DTSTART;TZID=America/New_York:20250103T190000
DTEND;TZID=America/New_York:20250103T210000
DTSTAMP:20260425T070806
CREATED:20240806T182640Z
LAST-MODIFIED:20240806T182640Z
UID:10003910-1735930800-1735938000@stjameshydepark.org
SUMMARY:Birthday Party Setup (Parish Hall)
DESCRIPTION:
URL:https://stjameshydepark.org/event/birthday-party-setup-parish-hall/
LOCATION:St. James’ Episcopal Church\, 4526 Albany Post Rd.\, Hyde Park\, NY\, 12538\, United States
END:VEVENT
BEGIN:VEVENT
DTSTART;TZID=America/New_York:20250104T120000
DTEND;TZID=America/New_York:20250104T150000
DTSTAMP:20260425T070806
CREATED:20240806T181835Z
LAST-MODIFIED:20240806T181916Z
UID:10003909-1735992000-1736002800@stjameshydepark.org
SUMMARY:Birthday Party (Parish Hall)
DESCRIPTION:
URL:https://stjameshydepark.org/event/setup-for-birthday-party-parish-hall/
LOCATION:St. James’ Episcopal Church\, 4526 Albany Post Rd.\, Hyde Park\, NY\, 12538\, United States
END:VEVENT
BEGIN:VEVENT
DTSTART;TZID=America/New_York:20250104T183000
DTEND;TZID=America/New_York:20250104T190000
DTSTAMP:20260425T070806
CREATED:20241219T191054Z
LAST-MODIFIED:20241219T191054Z
UID:10004367-1736015400-1736017200@stjameshydepark.org
SUMMARY:Compline (Online)
DESCRIPTION:Join us online every Saturday at 6:30 pm for a brief service of Compline (Night Prayer) facilitated by Deacon Gail. Please email the parish office at stjames.hydepark@gmail.com to request the Zoom link.
URL:https://stjameshydepark.org/event/compline-2025/2025-01-04/
LOCATION:Online
CATEGORIES:Worship
END:VEVENT
BEGIN:VEVENT
DTSTART;TZID=America/New_York:20250105T080000
DTEND;TZID=America/New_York:20250105T090000
DTSTAMP:20260425T070806
CREATED:20241219T191649Z
LAST-MODIFIED:20250325T172434Z
UID:10004531-1736064000-1736067600@stjameshydepark.org
SUMMARY:Sunday Worship—Holy Eucharist\, Rite I
DESCRIPTION:Join us Sundays at 8:00 a.m. for a celebration of Holy Eucharist (Communion). This is a quiet service\, usually without music\, though we often have a soloist with acoustic guitar playing before and after the service. The service uses Rite 1 from the 1979 Book of Common Prayer\, with traditional language.
URL:https://stjameshydepark.org/event/sunday-8am-2025/2025-01-05/
LOCATION:St. James’ Episcopal Church\, 4526 Albany Post Rd.\, Hyde Park\, NY\, 12538\, United States
CATEGORIES:Worship
END:VEVENT
BEGIN:VEVENT
DTSTART;TZID=America/New_York:20250105T091500
DTEND;TZID=America/New_York:20250105T094500
DTSTAMP:20260425T070806
CREATED:20241126T151319Z
LAST-MODIFIED:20241126T151325Z
UID:10003713-1736068500-1736070300@stjameshydepark.org
SUMMARY:"Mary Strong" Rosary Prayer Group (Wilks Room)
DESCRIPTION:The “Mary Strong” rosary prayer group meets on the first Sunday of each month. We meet in the Wilks Room in the Parish House at 9:15 between our 8 and 10 am services. All are welcome! \nNever prayed the rosary before? No problem! This group will teach you everything you need to know. \nYes\, Episcopalians can and do pray the rosary! Just as we ask our friends to pray for us\, we can ask the saints—that great cloud of witnesses—to intercede on our behalf. Praying the rosary draws us close to the heart of St. Mary the God-bearer as we meditate on Jesus’ ministry\, crucifixion\, resurrection and ascension.
URL:https://stjameshydepark.org/event/rosary-prayer-group-2025/2025-01-05/
LOCATION:St. James’ Episcopal Church\, 4526 Albany Post Rd.\, Hyde Park\, NY\, 12538\, United States
CATEGORIES:Christian Formation,Worship
END:VEVENT
BEGIN:VEVENT
DTSTART;TZID=America/New_York:20250105T100000
DTEND;TZID=America/New_York:20250105T113000
DTSTAMP:20260425T070806
CREATED:20241219T191432Z
LAST-MODIFIED:20251209T135212Z
UID:10004479-1736071200-1736076600@stjameshydepark.org
SUMMARY:Sunday Worship—Holy Eucharist\, Rite II with Sunday School and Coffee Hour
DESCRIPTION:Join us Sundays at 10:00 a.m. for a celebration of Holy Eucharist (Communion). This service has music (usually organ and choir\, along with special guest musicians) and uses a variety of prayers and language from traditional to inclusive and expansive\, drawing from Rite II of the 1979 Book of Common Prayer\, Enriching Our Worship\, and other sources. \nCoffee hour in the Parish House usually follows this service. \nSunday School for kindergarten and up meets today on the second floor of the Parish House at 10:00 a.m. Students will rejoin the congregation just before Holy Communion. New to St. James’ Church? Your kids are welcome to Sunday School any Sunday. More details about St. James’ Sunday School at: https://stjameshydepark.org/for-children/
URL:https://stjameshydepark.org/event/sunday-10am-2025/2025-01-05/
LOCATION:St. James’ Episcopal Church\, 4526 Albany Post Rd.\, Hyde Park\, NY\, 12538\, United States
CATEGORIES:Worship
END:VEVENT
BEGIN:VEVENT
DTSTART;TZID=America/New_York:20250105T183000
DTEND;TZID=America/New_York:20250105T210000
DTSTAMP:20260425T070806
CREATED:20250107T185818Z
LAST-MODIFIED:20250107T190058Z
UID:10005945-1736101800-1736110800@stjameshydepark.org
SUMMARY:Hyde Park Group AA (Parish Hall\, Rm. 201)
DESCRIPTION:
URL:https://stjameshydepark.org/event/hyde-park-group-aa-parish-hall-rm-201/2025-01-05/
LOCATION:St. James’ Episcopal Church\, 4526 Albany Post Rd.\, Hyde Park\, NY\, 12538\, United States
END:VEVENT
BEGIN:VEVENT
DTSTART;TZID=America/New_York:20250106T133000
DTEND;TZID=America/New_York:20250106T153000
DTSTAMP:20260425T070806
CREATED:20241110T012408Z
LAST-MODIFIED:20250708T131754Z
UID:10006842-1736170200-1736177400@stjameshydepark.org
SUMMARY:Knit+Craft+Chat (Wilks Room)
DESCRIPTION:A community of crafters and conversationalists meets Mondays from 2-4 pm (drop-in) at St. James’ Episcopal Church in the Wilks Room of our Parish House. We are a friendly group: knitters\, embroiderers\, crocheters\, conversationalists and miscellaneous other activities. All are welcome; no previous skill is required.
URL:https://stjameshydepark.org/event/knit-craft-chat-2/2025-01-06/
LOCATION:St. James’ Episcopal Church\, 4526 Albany Post Rd.\, Hyde Park\, NY\, 12538\, United States
END:VEVENT
BEGIN:VEVENT
DTSTART;TZID=America/New_York:20250107T113000
DTEND;TZID=America/New_York:20250107T120000
DTSTAMP:20260425T070806
CREATED:20241008T150243Z
LAST-MODIFIED:20241008T150243Z
UID:10004170-1736249400-1736251200@stjameshydepark.org
SUMMARY:ARC Lunch
DESCRIPTION:
URL:https://stjameshydepark.org/event/arc-lunch/2025-01-07/
LOCATION:St. James’ Episcopal Church\, 4526 Albany Post Rd.\, Hyde Park\, NY\, 12538\, United States
END:VEVENT
BEGIN:VEVENT
DTSTART;TZID=America/New_York:20250107T190000
DTEND;TZID=America/New_York:20250107T203000
DTSTAMP:20260425T070806
CREATED:20250107T190949Z
LAST-MODIFIED:20250107T190949Z
UID:10005998-1736276400-1736281800@stjameshydepark.org
SUMMARY:Boy Scout Troop 80 (Parish Hall)
DESCRIPTION:
URL:https://stjameshydepark.org/event/boy-scout-troop-80-parish-hall/2025-01-07/
LOCATION:St. James’ Episcopal Church\, 4526 Albany Post Rd.\, Hyde Park\, NY\, 12538\, United States
END:VEVENT
END:VCALENDAR