BEGIN:VCALENDAR
VERSION:2.0
PRODID:-//St. James&#039; Episcopal Church - ECPv6.15.20//NONSGML v1.0//EN
CALSCALE:GREGORIAN
METHOD:PUBLISH
X-WR-CALNAME:St. James&#039; Episcopal Church
X-ORIGINAL-URL:https://stjameshydepark.org
X-WR-CALDESC:Events for St. James&#039; Episcopal Church
REFRESH-INTERVAL;VALUE=DURATION:PT1H
X-Robots-Tag:noindex
X-PUBLISHED-TTL:PT1H
BEGIN:VTIMEZONE
TZID:America/New_York
BEGIN:DAYLIGHT
TZOFFSETFROM:-0500
TZOFFSETTO:-0400
TZNAME:EDT
DTSTART:20230312T070000
END:DAYLIGHT
BEGIN:STANDARD
TZOFFSETFROM:-0400
TZOFFSETTO:-0500
TZNAME:EST
DTSTART:20231105T060000
END:STANDARD
BEGIN:DAYLIGHT
TZOFFSETFROM:-0500
TZOFFSETTO:-0400
TZNAME:EDT
DTSTART:20240310T070000
END:DAYLIGHT
BEGIN:STANDARD
TZOFFSETFROM:-0400
TZOFFSETTO:-0500
TZNAME:EST
DTSTART:20241103T060000
END:STANDARD
BEGIN:DAYLIGHT
TZOFFSETFROM:-0500
TZOFFSETTO:-0400
TZNAME:EDT
DTSTART:20250309T070000
END:DAYLIGHT
BEGIN:STANDARD
TZOFFSETFROM:-0400
TZOFFSETTO:-0500
TZNAME:EST
DTSTART:20251102T060000
END:STANDARD
END:VTIMEZONE
BEGIN:VEVENT
DTSTART;VALUE=DATE:20241125
DTEND;VALUE=DATE:20241126
DTSTAMP:20260425T071211
CREATED:20240112T172541Z
LAST-MODIFIED:20240112T172541Z
UID:10002996-1732492800-1732579199@stjameshydepark.org
SUMMARY:Parish Office Closed
DESCRIPTION:
URL:https://stjameshydepark.org/event/parish-office-closed-4/2024-11-25/
LOCATION:St. James’ Episcopal Church\, 4526 Albany Post Rd.\, Hyde Park\, NY\, 12538\, United States
CATEGORIES:General
END:VEVENT
BEGIN:VEVENT
DTSTART;TZID=America/New_York:20241125T133000
DTEND;TZID=America/New_York:20241125T153000
DTSTAMP:20260425T071211
CREATED:20241110T012408Z
LAST-MODIFIED:20250708T131754Z
UID:10006836-1732541400-1732548600@stjameshydepark.org
SUMMARY:Knit+Craft+Chat (Wilks Room)
DESCRIPTION:A community of crafters and conversationalists meets Mondays from 2-4 pm (drop-in) at St. James’ Episcopal Church in the Wilks Room of our Parish House. We are a friendly group: knitters\, embroiderers\, crocheters\, conversationalists and miscellaneous other activities. All are welcome; no previous skill is required.
URL:https://stjameshydepark.org/event/knit-craft-chat-2/2024-11-25/
LOCATION:St. James’ Episcopal Church\, 4526 Albany Post Rd.\, Hyde Park\, NY\, 12538\, United States
END:VEVENT
BEGIN:VEVENT
DTSTART;TZID=America/New_York:20241125T180000
DTEND;TZID=America/New_York:20241125T200000
DTSTAMP:20260425T071211
CREATED:20241113T151320Z
LAST-MODIFIED:20241113T151613Z
UID:10004235-1732557600-1732564800@stjameshydepark.org
SUMMARY:[New Deal] Joy Rehearsals (Parish Hall)
DESCRIPTION:
URL:https://stjameshydepark.org/event/new-deal-joy-rehearsals/2024-11-25/
LOCATION:St. James’ Episcopal Church\, 4526 Albany Post Rd.\, Hyde Park\, NY\, 12538\, United States
END:VEVENT
BEGIN:VEVENT
DTSTART;TZID=America/New_York:20241126T113000
DTEND;TZID=America/New_York:20241126T120000
DTSTAMP:20260425T071211
CREATED:20241008T150243Z
LAST-MODIFIED:20241008T150243Z
UID:10004164-1732620600-1732622400@stjameshydepark.org
SUMMARY:ARC Lunch
DESCRIPTION:
URL:https://stjameshydepark.org/event/arc-lunch/2024-11-26/
LOCATION:St. James’ Episcopal Church\, 4526 Albany Post Rd.\, Hyde Park\, NY\, 12538\, United States
END:VEVENT
BEGIN:VEVENT
DTSTART;TZID=America/New_York:20241126T180000
DTEND;TZID=America/New_York:20241126T200000
DTSTAMP:20260425T071211
CREATED:20241106T162144Z
LAST-MODIFIED:20241106T162144Z
UID:10004226-1732644000-1732651200@stjameshydepark.org
SUMMARY:Thanksgiving Pie Fundraiser Pick-ups (Parish Hall)
DESCRIPTION:
URL:https://stjameshydepark.org/event/thanksgiving-pie-fundraiser-pick-ups-parish-hall/2024-11-26/
LOCATION:St. James’ Episcopal Church\, 4526 Albany Post Rd.\, Hyde Park\, NY\, 12538\, United States
END:VEVENT
BEGIN:VEVENT
DTSTART;TZID=America/New_York:20241126T190000
DTEND;TZID=America/New_York:20241126T200000
DTSTAMP:20260425T071211
CREATED:20240112T173633Z
LAST-MODIFIED:20240216T165320Z
UID:10003059-1732647600-1732651200@stjameshydepark.org
SUMMARY:Boy Scouts Troop 80 (Parish Hall)
DESCRIPTION:
URL:https://stjameshydepark.org/event/boy-scouts-troop-80-parish-hall-rm-203-2-2/2024-11-26/
LOCATION:St. James’ Episcopal Church\, 4526 Albany Post Rd.\, Hyde Park\, NY\, 12538\, United States
CATEGORIES:General
END:VEVENT
BEGIN:VEVENT
DTSTART;TZID=America/New_York:20241127T110000
DTEND;TZID=America/New_York:20241127T120000
DTSTAMP:20260425T071211
CREATED:20241120T171809Z
LAST-MODIFIED:20241120T171810Z
UID:10003448-1732705200-1732708800@stjameshydepark.org
SUMMARY:No Bible Study Nov. 27th
DESCRIPTION:There is no Bible Study on Wednesday\, November 27th (day before Thanskgiving). See you on December 4th! \n\nOur weekly Bible study on Zoom usually focuses on the Gospel for the upcoming Sunday and is led by Mtr. Meredith. We practice a contemplative\, prayerful style of Bible study that focuses on how God is speaking to us through our questions\, responses\, curiosities and doubts as we engage Scripture.  \nThe study is followed by a brief\, optional service of noonday prayer. \nJoin in any Wednesday at 11 am. No previous preparation is required. The Zoom link is distributed via our weekly email newsletter (or contact the parish office). \n 
URL:https://stjameshydepark.org/event/bible-study-2024-12/
LOCATION:Online
CATEGORIES:Christian Formation
ATTACH;FMTTYPE=image/png:https://stjameshydepark.org/wp-content/uploads/2024/05/Bible-Study.png
END:VEVENT
BEGIN:VEVENT
DTSTART;TZID=America/New_York:20241127T180000
DTEND;TZID=America/New_York:20241127T200000
DTSTAMP:20260425T071211
CREATED:20241106T162144Z
LAST-MODIFIED:20241106T162144Z
UID:10004227-1732730400-1732737600@stjameshydepark.org
SUMMARY:Thanksgiving Pie Fundraiser Pick-ups (Parish Hall)
DESCRIPTION:
URL:https://stjameshydepark.org/event/thanksgiving-pie-fundraiser-pick-ups-parish-hall/2024-11-27/
LOCATION:St. James’ Episcopal Church\, 4526 Albany Post Rd.\, Hyde Park\, NY\, 12538\, United States
END:VEVENT
BEGIN:VEVENT
DTSTART;TZID=America/New_York:20241127T183000
DTEND;TZID=America/New_York:20241127T193000
DTSTAMP:20260425T071211
CREATED:20241120T175327Z
LAST-MODIFIED:20241120T175328Z
UID:10003110-1732732200-1732735800@stjameshydepark.org
SUMMARY:No Evening Prayer on November 27th
DESCRIPTION:
URL:https://stjameshydepark.org/event/evening-prayer-remote-2-2-2/
LOCATION:Online
CATEGORIES:Worship
END:VEVENT
BEGIN:VEVENT
DTSTART;TZID=America/New_York:20241130T183000
DTEND;TZID=America/New_York:20241130T193000
DTSTAMP:20260425T071211
CREATED:20240112T175527Z
LAST-MODIFIED:20240112T175653Z
UID:10003160-1732991400-1732995000@stjameshydepark.org
SUMMARY:Compline (Remote)
DESCRIPTION:
URL:https://stjameshydepark.org/event/compline-remote-3-2023-01-07-2/2024-11-30/
LOCATION:Online
CATEGORIES:Worship
END:VEVENT
BEGIN:VEVENT
DTSTART;TZID=America/New_York:20241201T080000
DTEND;TZID=America/New_York:20241201T090000
DTSTAMP:20260425T071211
CREATED:20231222T015421Z
LAST-MODIFIED:20241213T230031Z
UID:10002879-1733040000-1733043600@stjameshydepark.org
SUMMARY:Holy Eucharist (Rite I)
DESCRIPTION:Join us Sundays at 8:00 a.m. for a celebration of Holy Eucharist (Communion). This is a quiet service\, usually without music\, though we often have a soloist with acoustic guitar playing before and after the service. The service uses Rite 1 from the 1979 Book of Common Prayer\, with traditional language.
URL:https://stjameshydepark.org/event/2024-eucharist-8am/2024-12-01/
LOCATION:St. James’ Episcopal Church\, 4526 Albany Post Rd.\, Hyde Park\, NY\, 12538\, United States
CATEGORIES:Worship
END:VEVENT
BEGIN:VEVENT
DTSTART;TZID=America/New_York:20241201T091500
DTEND;TZID=America/New_York:20241201T094500
DTSTAMP:20260425T071211
CREATED:20241126T151319Z
LAST-MODIFIED:20241126T151325Z
UID:10003708-1733044500-1733046300@stjameshydepark.org
SUMMARY:"Mary Strong" Rosary Prayer Group (Wilks Room)
DESCRIPTION:The “Mary Strong” rosary prayer group meets on the first Sunday of each month. We meet in the Wilks Room in the Parish House at 9:15 between our 8 and 10 am services. All are welcome! \nNever prayed the rosary before? No problem! This group will teach you everything you need to know. \nYes\, Episcopalians can and do pray the rosary! Just as we ask our friends to pray for us\, we can ask the saints—that great cloud of witnesses—to intercede on our behalf. Praying the rosary draws us close to the heart of St. Mary the God-bearer as we meditate on Jesus’ ministry\, crucifixion\, resurrection and ascension.
URL:https://stjameshydepark.org/event/rosary-prayer-group-2025/2024-12-01/
LOCATION:St. James’ Episcopal Church\, 4526 Albany Post Rd.\, Hyde Park\, NY\, 12538\, United States
CATEGORIES:Christian Formation,Worship
END:VEVENT
BEGIN:VEVENT
DTSTART;TZID=America/New_York:20241201T100000
DTEND;TZID=America/New_York:20241201T113000
DTSTAMP:20260425T071211
CREATED:20240628T203601Z
LAST-MODIFIED:20240628T203728Z
UID:10002775-1733047200-1733052600@stjameshydepark.org
SUMMARY:Holy Eucharist (Rite II) with Sunday School and Coffee Hour
DESCRIPTION:Join us Sundays at 10:00 a.m. for a celebration of Holy Eucharist (Communion). This service has music (usually organ and choir\, along with special guest musicians) and uses a variety of prayers and language from traditional to inclusive and expansive\, drawing from Rite II of the 1979 Book of Common Prayer\, Enriching Our Worship\, and other sources. \nCoffee hour in the Parish House usually follows this service. \nSunday School for kindergarten and up meets today on the second floor of the Parish House at 10:00 a.m. Students will rejoin the congregation just before Holy Communion. New to St. James’ Church? Your kids are welcome to Sunday School any Sunday. More details about St. James’ Sunday School at: https://stjameshydepark.org/for-children/
URL:https://stjameshydepark.org/event/2024-eucharist-rite-ii-10-2/2024-12-01/
LOCATION:St. James’ Episcopal Church\, 4526 Albany Post Rd.\, Hyde Park\, NY\, 12538\, United States
CATEGORIES:Worship
END:VEVENT
BEGIN:VEVENT
DTSTART;TZID=America/New_York:20241201T114500
DTEND;TZID=America/New_York:20241201T123000
DTSTAMP:20260425T071211
CREATED:20241126T151638Z
LAST-MODIFIED:20241126T151638Z
UID:10004303-1733053500-1733056200@stjameshydepark.org
SUMMARY:Let's talk... Christmas Pageant!
DESCRIPTION:Join Mtr. Meredith during Coffee Hour (we’ll take a corner of the Parish Hall) for an informal conversation about a possible Christmas Pageant at St. James’ this year! We’re thinking about doing a simple pageant at the 10 am service on Sunday\, December 29th (the First Sunday after Christmas Day). This is one idea under consideration: https://buildfaith.org/on-the-spot-christmas-pageant/. Please bring your own thoughts and ideas! Actors\, costumers\, and other contributors of all ages are invited to come and dream together.
URL:https://stjameshydepark.org/event/lets-talk-christmas-pageant/
LOCATION:HP Farmers Market
CATEGORIES:Christian Formation,Christmas,Fun
ATTACH;FMTTYPE=image/png:https://stjameshydepark.org/wp-content/uploads/2024/11/Pageant.png
END:VEVENT
BEGIN:VEVENT
DTSTART;TZID=America/New_York:20241201T170000
DTEND;TZID=America/New_York:20241201T200000
DTSTAMP:20260425T071211
CREATED:20241001T151905Z
LAST-MODIFIED:20241118T200023Z
UID:10004148-1733072400-1733083200@stjameshydepark.org
SUMMARY:"Joy is at Hand!" Potluck Supper and Taizé Prayer Service
DESCRIPTION:Joy is at hand! \nSt. James’ welcomes the holy season of Advent with a potluck supper and Bible reflection followed by a meditative candlelit Taizé prayer service. Please join us on the First Sunday of Advent\, December 1st—potluck supper and Bible reflection begin at 5 pm in the Parish Hall\, and the prayer service begins at approximately 7 pm in the candlelit church. \nPotluck signup: https://forms.gle/YxToDopy6KewL2aF8 Please sign up to bring a dish or drink to share\, and/or to help set up or clean up! Thank you! \nThank you to the Rev. Masud ibn Syedullah and his ministry\, Roots & Branches\, for this gift to St. James’ and the wider community.
URL:https://stjameshydepark.org/event/advent-taize-2024/
LOCATION:St. James’ Episcopal Church\, 4526 Albany Post Rd.\, Hyde Park\, NY\, 12538\, United States
CATEGORIES:Christian Formation,Christmas,Worship
ATTACH;FMTTYPE=image/png:https://stjameshydepark.org/wp-content/uploads/2024/10/Advent-Taize-2024.png
END:VEVENT
BEGIN:VEVENT
DTSTART;TZID=America/New_York:20241201T183000
DTEND;TZID=America/New_York:20241201T210000
DTSTAMP:20260425T071211
CREATED:20240131T154552Z
LAST-MODIFIED:20241001T152150Z
UID:10004149-1733077800-1733086800@stjameshydepark.org
SUMMARY:AA Meeting (Chapel)
DESCRIPTION:
URL:https://stjameshydepark.org/event/aa-meeting-chapel-2/2024-12-01/
LOCATION:St. James’ Chapel\, 10 East Market Street\, Hyde Park\, NY\, 12567\, United States
CATEGORIES:General
END:VEVENT
BEGIN:VEVENT
DTSTART;VALUE=DATE:20241202
DTEND;VALUE=DATE:20241203
DTSTAMP:20260425T071211
CREATED:20240112T172541Z
LAST-MODIFIED:20240112T172541Z
UID:10002997-1733097600-1733183999@stjameshydepark.org
SUMMARY:Parish Office Closed
DESCRIPTION:
URL:https://stjameshydepark.org/event/parish-office-closed-4/2024-12-02/
LOCATION:St. James’ Episcopal Church\, 4526 Albany Post Rd.\, Hyde Park\, NY\, 12538\, United States
CATEGORIES:General
END:VEVENT
BEGIN:VEVENT
DTSTART;TZID=America/New_York:20241202T133000
DTEND;TZID=America/New_York:20241202T153000
DTSTAMP:20260425T071211
CREATED:20241110T012408Z
LAST-MODIFIED:20250708T131754Z
UID:10006837-1733146200-1733153400@stjameshydepark.org
SUMMARY:Knit+Craft+Chat (Wilks Room)
DESCRIPTION:A community of crafters and conversationalists meets Mondays from 2-4 pm (drop-in) at St. James’ Episcopal Church in the Wilks Room of our Parish House. We are a friendly group: knitters\, embroiderers\, crocheters\, conversationalists and miscellaneous other activities. All are welcome; no previous skill is required.
URL:https://stjameshydepark.org/event/knit-craft-chat-2/2024-12-02/
LOCATION:St. James’ Episcopal Church\, 4526 Albany Post Rd.\, Hyde Park\, NY\, 12538\, United States
END:VEVENT
BEGIN:VEVENT
DTSTART;TZID=America/New_York:20241203T113000
DTEND;TZID=America/New_York:20241203T120000
DTSTAMP:20260425T071211
CREATED:20241008T150243Z
LAST-MODIFIED:20241008T150243Z
UID:10004165-1733225400-1733227200@stjameshydepark.org
SUMMARY:ARC Lunch
DESCRIPTION:
URL:https://stjameshydepark.org/event/arc-lunch/2024-12-03/
LOCATION:St. James’ Episcopal Church\, 4526 Albany Post Rd.\, Hyde Park\, NY\, 12538\, United States
END:VEVENT
BEGIN:VEVENT
DTSTART;TZID=America/New_York:20241203T190000
DTEND;TZID=America/New_York:20241203T200000
DTSTAMP:20260425T071211
CREATED:20240112T173004Z
LAST-MODIFIED:20240829T144849Z
UID:10003012-1733252400-1733256000@stjameshydepark.org
SUMMARY:Boy Scouts (Wilks Room)
DESCRIPTION:
URL:https://stjameshydepark.org/event/boy-scouts-wilks-room-2/2024-12-03/
LOCATION:St. James’ Episcopal Church\, 4526 Albany Post Rd.\, Hyde Park\, NY\, 12538\, United States
CATEGORIES:General
END:VEVENT
BEGIN:VEVENT
DTSTART;TZID=America/New_York:20241203T190000
DTEND;TZID=America/New_York:20241203T200000
DTSTAMP:20260425T071211
CREATED:20240112T173633Z
LAST-MODIFIED:20240216T165320Z
UID:10003060-1733252400-1733256000@stjameshydepark.org
SUMMARY:Boy Scouts Troop 80 (Parish Hall)
DESCRIPTION:
URL:https://stjameshydepark.org/event/boy-scouts-troop-80-parish-hall-rm-203-2-2/2024-12-03/
LOCATION:St. James’ Episcopal Church\, 4526 Albany Post Rd.\, Hyde Park\, NY\, 12538\, United States
CATEGORIES:General
END:VEVENT
BEGIN:VEVENT
DTSTART;TZID=America/New_York:20241204T110000
DTEND;TZID=America/New_York:20241204T120000
DTSTAMP:20260425T071211
CREATED:20240203T231706Z
LAST-MODIFIED:20240508T020856Z
UID:10003449-1733310000-1733313600@stjameshydepark.org
SUMMARY:Bible Study
DESCRIPTION:Our weekly Bible study on Zoom usually focuses on the Gospel for the upcoming Sunday and is led by Mtr. Meredith. We practice a contemplative\, prayerful style of Bible study that focuses on how God is speaking to us through our questions\, responses\, curiosities and doubts as we engage Scripture.  \nThe study is followed by a brief\, optional service of noonday prayer. \nJoin in any Wednesday at 11 am. No previous preparation is required. The Zoom link is distributed via our weekly email newsletter (or contact the parish office). \n 
URL:https://stjameshydepark.org/event/bible-study-2024/2024-12-04/
LOCATION:Online
CATEGORIES:Christian Formation
ATTACH;FMTTYPE=image/png:https://stjameshydepark.org/wp-content/uploads/2024/05/Bible-Study.png
END:VEVENT
BEGIN:VEVENT
DTSTART;TZID=America/New_York:20241204T143000
DTEND;TZID=America/New_York:20241204T170000
DTSTAMP:20260425T071211
CREATED:20241113T172919Z
LAST-MODIFIED:20241113T172919Z
UID:10004244-1733322600-1733331600@stjameshydepark.org
SUMMARY:Baking Cookies for Outreach Cookie Sale (Kitchen)
DESCRIPTION:
URL:https://stjameshydepark.org/event/baking-cookies-for-outreach-cookie-sale-kitchen/
LOCATION:St. James’ Episcopal Church\, 4526 Albany Post Rd.\, Hyde Park\, NY\, 12538\, United States
END:VEVENT
BEGIN:VEVENT
DTSTART;TZID=America/New_York:20241204T183000
DTEND;TZID=America/New_York:20241204T193000
DTSTAMP:20260425T071211
CREATED:20240112T175112Z
LAST-MODIFIED:20240112T175307Z
UID:10003111-1733337000-1733340600@stjameshydepark.org
SUMMARY:Evening Prayer (Remote)
DESCRIPTION:
URL:https://stjameshydepark.org/event/evening-prayer-remote-2-2/2024-12-04/
LOCATION:Online
CATEGORIES:Worship
END:VEVENT
BEGIN:VEVENT
DTSTART;TZID=America/New_York:20241204T183000
DTEND;TZID=America/New_York:20241204T200000
DTSTAMP:20260425T071211
CREATED:20241108T141700Z
LAST-MODIFIED:20241203T160921Z
UID:10004231-1733337000-1733342400@stjameshydepark.org
SUMMARY:Stewardship Meeting (Wilks Room)
DESCRIPTION:
URL:https://stjameshydepark.org/event/stewardship-meeting-parish-hall/
LOCATION:St. James’ Episcopal Church\, 4526 Albany Post Rd.\, Hyde Park\, NY\, 12538\, United States
END:VEVENT
BEGIN:VEVENT
DTSTART;TZID=America/New_York:20241206T150000
DTEND;TZID=America/New_York:20241206T180000
DTSTAMP:20260425T071211
CREATED:20240409T155101Z
LAST-MODIFIED:20241108T111259Z
UID:10003738-1733497200-1733508000@stjameshydepark.org
SUMMARY:Outreach Christmas Cookie Sale Setup (Parish Hall\, Kitchen)
DESCRIPTION:
URL:https://stjameshydepark.org/event/outreach-christmas-cookie-sale-parish-hall-kitchen/2024-12-06/
LOCATION:St. James’ Episcopal Church\, 4526 Albany Post Rd.\, Hyde Park\, NY\, 12538\, United States
END:VEVENT
BEGIN:VEVENT
DTSTART;TZID=America/New_York:20241207T070000
DTEND;TZID=America/New_York:20241207T150000
DTSTAMP:20260425T071211
CREATED:20240409T155101Z
LAST-MODIFIED:20241108T111259Z
UID:10004229-1733554800-1733583600@stjameshydepark.org
SUMMARY:Outreach Christmas Cookie Sale Setup (Parish Hall\, Kitchen)
DESCRIPTION:
URL:https://stjameshydepark.org/event/outreach-christmas-cookie-sale-parish-hall-kitchen/2024-12-07/
LOCATION:St. James’ Episcopal Church\, 4526 Albany Post Rd.\, Hyde Park\, NY\, 12538\, United States
END:VEVENT
BEGIN:VEVENT
DTSTART;TZID=America/New_York:20241207T100000
DTEND;TZID=America/New_York:20241207T140000
DTSTAMP:20260425T071211
CREATED:20240409T160057Z
LAST-MODIFIED:20241108T132212Z
UID:10003739-1733565600-1733580000@stjameshydepark.org
SUMMARY:Annual Holiday Cookie & Candy Sale
DESCRIPTION:Hyde Park’s best bakers and confectioners are here for your holidays: \nFudge! Peanut Brittle! Sweets! \nHomemade Cookies (your choice) $8/tin or 2 tins for $15 (gluten-free available) \nSaturday\, December 7th\, 10 am to 2 pm (or while supplies last) in the Parish Hall \nWe need your help!\n✅ Bake a batch or two of cookies (sign-up in the church entryway) or fudge or candy\n✅ Deliver to the kitchen on Friday\, December 6th 2-7pm or Saturday\, Dec. 7th by 8 am \nAll sale proceeds benefit the outreach ministries of St. James’ Episcopal Church.
URL:https://stjameshydepark.org/event/holiday-cookie-sale-2024/
LOCATION:St. James’ Episcopal Church\, 4526 Albany Post Rd.\, Hyde Park\, NY\, 12538\, United States
CATEGORIES:Christmas,Fun,Outreach
ATTACH;FMTTYPE=image/jpeg:https://stjameshydepark.org/wp-content/uploads/2024/04/Cookie-Candy-Sale.jpg
END:VEVENT
BEGIN:VEVENT
DTSTART;TZID=America/New_York:20241207T183000
DTEND;TZID=America/New_York:20241207T193000
DTSTAMP:20260425T071211
CREATED:20240112T175527Z
LAST-MODIFIED:20240112T175653Z
UID:10003161-1733596200-1733599800@stjameshydepark.org
SUMMARY:Compline (Remote)
DESCRIPTION:
URL:https://stjameshydepark.org/event/compline-remote-3-2023-01-07-2/2024-12-07/
LOCATION:Online
CATEGORIES:Worship
END:VEVENT
BEGIN:VEVENT
DTSTART;TZID=America/New_York:20241208T080000
DTEND;TZID=America/New_York:20241208T090000
DTSTAMP:20260425T071211
CREATED:20231222T015421Z
LAST-MODIFIED:20241213T230031Z
UID:10002880-1733644800-1733648400@stjameshydepark.org
SUMMARY:Holy Eucharist (Rite I)
DESCRIPTION:Join us Sundays at 8:00 a.m. for a celebration of Holy Eucharist (Communion). This is a quiet service\, usually without music\, though we often have a soloist with acoustic guitar playing before and after the service. The service uses Rite 1 from the 1979 Book of Common Prayer\, with traditional language.
URL:https://stjameshydepark.org/event/2024-eucharist-8am/2024-12-08/
LOCATION:St. James’ Episcopal Church\, 4526 Albany Post Rd.\, Hyde Park\, NY\, 12538\, United States
CATEGORIES:Worship
END:VEVENT
END:VCALENDAR