BEGIN:VCALENDAR
VERSION:2.0
PRODID:-//St. James&#039; Episcopal Church - ECPv6.15.20//NONSGML v1.0//EN
CALSCALE:GREGORIAN
METHOD:PUBLISH
X-WR-CALNAME:St. James&#039; Episcopal Church
X-ORIGINAL-URL:https://stjameshydepark.org
X-WR-CALDESC:Events for St. James&#039; Episcopal Church
REFRESH-INTERVAL;VALUE=DURATION:PT1H
X-Robots-Tag:noindex
X-PUBLISHED-TTL:PT1H
BEGIN:VTIMEZONE
TZID:America/New_York
BEGIN:DAYLIGHT
TZOFFSETFROM:-0500
TZOFFSETTO:-0400
TZNAME:EDT
DTSTART:20230312T070000
END:DAYLIGHT
BEGIN:STANDARD
TZOFFSETFROM:-0400
TZOFFSETTO:-0500
TZNAME:EST
DTSTART:20231105T060000
END:STANDARD
BEGIN:DAYLIGHT
TZOFFSETFROM:-0500
TZOFFSETTO:-0400
TZNAME:EDT
DTSTART:20240310T070000
END:DAYLIGHT
BEGIN:STANDARD
TZOFFSETFROM:-0400
TZOFFSETTO:-0500
TZNAME:EST
DTSTART:20241103T060000
END:STANDARD
BEGIN:DAYLIGHT
TZOFFSETFROM:-0500
TZOFFSETTO:-0400
TZNAME:EDT
DTSTART:20250309T070000
END:DAYLIGHT
BEGIN:STANDARD
TZOFFSETFROM:-0400
TZOFFSETTO:-0500
TZNAME:EST
DTSTART:20251102T060000
END:STANDARD
END:VTIMEZONE
BEGIN:VEVENT
DTSTART;TZID=America/New_York:20241005T183000
DTEND;TZID=America/New_York:20241005T193000
DTSTAMP:20260425T093646
CREATED:20240112T175527Z
LAST-MODIFIED:20240112T175653Z
UID:10003152-1728153000-1728156600@stjameshydepark.org
SUMMARY:Compline (Remote)
DESCRIPTION:
URL:https://stjameshydepark.org/event/compline-remote-3-2023-01-07-2/2024-10-05/
LOCATION:Online
CATEGORIES:Worship
END:VEVENT
BEGIN:VEVENT
DTSTART;TZID=America/New_York:20241006T080000
DTEND;TZID=America/New_York:20241006T090000
DTSTAMP:20260425T093646
CREATED:20231222T015421Z
LAST-MODIFIED:20241213T230031Z
UID:10002871-1728201600-1728205200@stjameshydepark.org
SUMMARY:Holy Eucharist (Rite I)
DESCRIPTION:Join us Sundays at 8:00 a.m. for a celebration of Holy Eucharist (Communion). This is a quiet service\, usually without music\, though we often have a soloist with acoustic guitar playing before and after the service. The service uses Rite 1 from the 1979 Book of Common Prayer\, with traditional language.
URL:https://stjameshydepark.org/event/2024-eucharist-8am/2024-10-06/
LOCATION:St. James’ Episcopal Church\, 4526 Albany Post Rd.\, Hyde Park\, NY\, 12538\, United States
CATEGORIES:Worship
END:VEVENT
BEGIN:VEVENT
DTSTART;TZID=America/New_York:20241006T091500
DTEND;TZID=America/New_York:20241006T094500
DTSTAMP:20260425T093646
CREATED:20240415T115702Z
LAST-MODIFIED:20240415T115712Z
UID:10003700-1728206100-1728207900@stjameshydepark.org
SUMMARY:"Mary Strong" Rosary Prayer Group
DESCRIPTION:The “Mary Strong” rosary prayer group meets on the first Sunday of each month. We meet in the Church at 9:15 between our 8 and 10 am services. All are welcome! \nNever prayed the rosary before? No problem! This group will teach you everything you need to know. \nYes\, Episcopalians can and do pray the rosary! Just as we ask our friends to pray for us\, we can ask the saints—that great cloud of witnesses—to intercede on our behalf. Praying the rosary draws us close to the heart of St. Mary the God-bearer as we meditate on Jesus’ ministry\, crucifixion\, resurrection and ascension.
URL:https://stjameshydepark.org/event/rosary-prayer-group-2/2024-10-06/
LOCATION:St. James’ Episcopal Church\, 4526 Albany Post Rd.\, Hyde Park\, NY\, 12538\, United States
CATEGORIES:Christian Formation,Worship
END:VEVENT
BEGIN:VEVENT
DTSTART;TZID=America/New_York:20241006T100000
DTEND;TZID=America/New_York:20241006T113000
DTSTAMP:20260425T093646
CREATED:20240628T203601Z
LAST-MODIFIED:20240628T203728Z
UID:10002767-1728208800-1728214200@stjameshydepark.org
SUMMARY:Holy Eucharist (Rite II) with Sunday School and Coffee Hour
DESCRIPTION:Join us Sundays at 10:00 a.m. for a celebration of Holy Eucharist (Communion). This service has music (usually organ and choir\, along with special guest musicians) and uses a variety of prayers and language from traditional to inclusive and expansive\, drawing from Rite II of the 1979 Book of Common Prayer\, Enriching Our Worship\, and other sources. \nCoffee hour in the Parish House usually follows this service. \nSunday School for kindergarten and up meets today on the second floor of the Parish House at 10:00 a.m. Students will rejoin the congregation just before Holy Communion. New to St. James’ Church? Your kids are welcome to Sunday School any Sunday. More details about St. James’ Sunday School at: https://stjameshydepark.org/for-children/
URL:https://stjameshydepark.org/event/2024-eucharist-rite-ii-10-2/2024-10-06/
LOCATION:St. James’ Episcopal Church\, 4526 Albany Post Rd.\, Hyde Park\, NY\, 12538\, United States
CATEGORIES:Worship
END:VEVENT
BEGIN:VEVENT
DTSTART;TZID=America/New_York:20241006T133000
DTEND;TZID=America/New_York:20241006T143000
DTSTAMP:20260425T093646
CREATED:20240910T160209Z
LAST-MODIFIED:20240910T160232Z
UID:10003955-1728221400-1728225000@stjameshydepark.org
SUMMARY:Blessing of the Animals
DESCRIPTION:Blessing of the Animals in honor of St. Francis \nSunday\, Oct. 6\, 1-2:30 pm (drop in) \nSt. James’ Episcopal Church 4526 Albany Post Rd\, Hyde Park in the Memorial Garden (Rain location: St. James’ Parish House) \nPets\, domestic animals\, stuffed animals\, and mementos of shy or departed pets are all welcome. \nCome and enjoy treats for pets and humans\, plus a free digital photo of your pet being blessed!
URL:https://stjameshydepark.org/event/blessing-of-the-animals-2024/
LOCATION:St. James’ Episcopal Church\, 4526 Albany Post Rd.\, Hyde Park\, NY\, 12538\, United States
CATEGORIES:Fun,Kids & Youth,Outreach,Worship
ATTACH;FMTTYPE=image/png:https://stjameshydepark.org/wp-content/uploads/2024/09/St.-Francis-Day.png
END:VEVENT
BEGIN:VEVENT
DTSTART;TZID=America/New_York:20241006T183000
DTEND;TZID=America/New_York:20241006T210000
DTSTAMP:20260425T093646
CREATED:20240112T181055Z
LAST-MODIFIED:20241001T152045Z
UID:10003903-1728239400-1728248400@stjameshydepark.org
SUMMARY:AA Meeting (Parish Hall; Rm. 201)
DESCRIPTION:
URL:https://stjameshydepark.org/event/aa-meeting-parish-hall-rm-201-2/2024-10-06/
LOCATION:St. James’ Episcopal Church\, 4526 Albany Post Rd.\, Hyde Park\, NY\, 12538\, United States
CATEGORIES:General
END:VEVENT
BEGIN:VEVENT
DTSTART;VALUE=DATE:20241007
DTEND;VALUE=DATE:20241008
DTSTAMP:20260425T093646
CREATED:20240112T172541Z
LAST-MODIFIED:20240112T172541Z
UID:10002989-1728259200-1728345599@stjameshydepark.org
SUMMARY:Parish Office Closed
DESCRIPTION:
URL:https://stjameshydepark.org/event/parish-office-closed-4/2024-10-07/
LOCATION:St. James’ Episcopal Church\, 4526 Albany Post Rd.\, Hyde Park\, NY\, 12538\, United States
CATEGORIES:General
END:VEVENT
BEGIN:VEVENT
DTSTART;TZID=America/New_York:20241007T140000
DTEND;TZID=America/New_York:20241007T160000
DTSTAMP:20260425T093646
CREATED:20240112T141137Z
LAST-MODIFIED:20241009T191510Z
UID:10002936-1728309600-1728316800@stjameshydepark.org
SUMMARY:Knitters and Crafters Group (Wilks Room)
DESCRIPTION:A New Group! A community of crafters begins on Mondays starting February 5\, from 2- 4 pm (drop-in). \nAll are welcome: knitters\, crocheters\, embroiderers\, crocheters\, conversationalists and miscellaneous other activities. No particular talent required. Meet in the Wilks Room at St. James Parish Hall.
URL:https://stjameshydepark.org/event/knitters-crafters/2024-10-07/
LOCATION:St. James’ Episcopal Church\, 4526 Albany Post Rd.\, Hyde Park\, NY\, 12538\, United States
CATEGORIES:Fun
END:VEVENT
BEGIN:VEVENT
DTSTART;TZID=America/New_York:20241008T113000
DTEND;TZID=America/New_York:20241008T120000
DTSTAMP:20260425T093646
CREATED:20241008T150243Z
LAST-MODIFIED:20241008T150243Z
UID:10004157-1728387000-1728388800@stjameshydepark.org
SUMMARY:ARC Lunch
DESCRIPTION:
URL:https://stjameshydepark.org/event/arc-lunch/2024-10-08/
LOCATION:St. James’ Episcopal Church\, 4526 Albany Post Rd.\, Hyde Park\, NY\, 12538\, United States
END:VEVENT
BEGIN:VEVENT
DTSTART;TZID=America/New_York:20241008T190000
DTEND;TZID=America/New_York:20241008T200000
DTSTAMP:20260425T093646
CREATED:20240112T173633Z
LAST-MODIFIED:20240216T165320Z
UID:10003052-1728414000-1728417600@stjameshydepark.org
SUMMARY:Boy Scouts Troop 80 (Parish Hall)
DESCRIPTION:
URL:https://stjameshydepark.org/event/boy-scouts-troop-80-parish-hall-rm-203-2-2/2024-10-08/
LOCATION:St. James’ Episcopal Church\, 4526 Albany Post Rd.\, Hyde Park\, NY\, 12538\, United States
CATEGORIES:General
END:VEVENT
BEGIN:VEVENT
DTSTART;TZID=America/New_York:20241008T190000
DTEND;TZID=America/New_York:20241008T200000
DTSTAMP:20260425T093646
CREATED:20240718T140231Z
LAST-MODIFIED:20240920T153334Z
UID:10003895-1728414000-1728417600@stjameshydepark.org
SUMMARY:Election Season Book Study: "I Never Thought of it That Way" by Monica Guzman (Wilks Room)
DESCRIPTION:We’re reading I Never Thought of it That Way\, Monica Guzman’s manual for having “fearlessly curious conversations” in dangerously divided times. Three-part book study meets Tuesdays at 7pm\, 9/24\, 10/8\, and 10/22 in the Wilks Room in our Parish House. Come to the first session even if you’ve not yet started reading! \nReading schedule: \n9/24—Intro\, Part 1: SOS\, Part 2: Curiosity\n10/8—Part 3: People\, Part 4: Paths\n10/22—Part V: Honesty\, Epilogue
URL:https://stjameshydepark.org/event/election-book-study/2024-10-08/
LOCATION:St. James’ Episcopal Church\, 4526 Albany Post Rd.\, Hyde Park\, NY\, 12538\, United States
CATEGORIES:Christian Formation
ATTACH;FMTTYPE=image/jpeg:https://stjameshydepark.org/wp-content/uploads/2024/07/Election-Season-Book-Study.jpg
END:VEVENT
BEGIN:VEVENT
DTSTART;TZID=America/New_York:20241009T110000
DTEND;TZID=America/New_York:20241009T120000
DTSTAMP:20260425T093646
CREATED:20240203T231706Z
LAST-MODIFIED:20240508T020856Z
UID:10003441-1728471600-1728475200@stjameshydepark.org
SUMMARY:Bible Study
DESCRIPTION:Our weekly Bible study on Zoom usually focuses on the Gospel for the upcoming Sunday and is led by Mtr. Meredith. We practice a contemplative\, prayerful style of Bible study that focuses on how God is speaking to us through our questions\, responses\, curiosities and doubts as we engage Scripture.  \nThe study is followed by a brief\, optional service of noonday prayer. \nJoin in any Wednesday at 11 am. No previous preparation is required. The Zoom link is distributed via our weekly email newsletter (or contact the parish office). \n 
URL:https://stjameshydepark.org/event/bible-study-2024/2024-10-09/
LOCATION:Online
CATEGORIES:Christian Formation
ATTACH;FMTTYPE=image/png:https://stjameshydepark.org/wp-content/uploads/2024/05/Bible-Study.png
END:VEVENT
BEGIN:VEVENT
DTSTART;TZID=America/New_York:20241009T180000
DTEND;TZID=America/New_York:20241009T200000
DTSTAMP:20260425T093646
CREATED:20240807T201038Z
LAST-MODIFIED:20240807T201216Z
UID:10003906-1728496800-1728504000@stjameshydepark.org
SUMMARY:Women's Group (Antonella's in Hyde Park)
DESCRIPTION:St. James’ Women’s Group will meet at 6pm in the back room of Antonella’s in Hyde Park on the following dates:\nSeptember 11\nOctober 9\nNovember 13\nDecember 11 \nNo RSVP necessary. It’s always a different group each month\, which makes it fun and special! \nAntonella’s graciously provides us with separate checks\, so you can order anything from a coffee\, an app\, or a 3 course meal! There is $20 available each month that you can privately receive from Dyan in the Parish Office if that would be helpful for you to be able to attend. And if you would like to add money to this envelope\, please also see Dyan in the Parish Office.
URL:https://stjameshydepark.org/event/womens-group-fall-2024/2024-10-09/
LOCATION:Antonella’s Restaurant\, Hyde Park\, NY\, 4246 Albany Post Rd #1700\, Hyde Park\, NY\, 12538\, United States
CATEGORIES:Fun,Women's Group
END:VEVENT
BEGIN:VEVENT
DTSTART;TZID=America/New_York:20241009T183000
DTEND;TZID=America/New_York:20241009T193000
DTSTAMP:20260425T093646
CREATED:20240112T175112Z
LAST-MODIFIED:20240112T175307Z
UID:10003103-1728498600-1728502200@stjameshydepark.org
SUMMARY:Evening Prayer (Remote)
DESCRIPTION:
URL:https://stjameshydepark.org/event/evening-prayer-remote-2-2/2024-10-09/
LOCATION:Online
CATEGORIES:Worship
END:VEVENT
BEGIN:VEVENT
DTSTART;TZID=America/New_York:20241010T110000
DTEND;TZID=America/New_York:20241010T113000
DTSTAMP:20260425T093646
CREATED:20241002T145315Z
LAST-MODIFIED:20241002T145315Z
UID:10004156-1728558000-1728559800@stjameshydepark.org
SUMMARY:Nursery School - Fire Truck
DESCRIPTION:
URL:https://stjameshydepark.org/event/nursery-school-fire-truck/
LOCATION:St. James’ Episcopal Church\, 4526 Albany Post Rd.\, Hyde Park\, NY\, 12538\, United States
END:VEVENT
BEGIN:VEVENT
DTSTART;TZID=America/New_York:20241010T180000
DTEND;TZID=America/New_York:20241010T193000
DTSTAMP:20260425T093646
CREATED:20240927T113709Z
LAST-MODIFIED:20240927T113731Z
UID:10003839-1728583200-1728588600@stjameshydepark.org
SUMMARY:Episcopal 101 (Wilks Room & Parish Hall)
DESCRIPTION:Discover (or rediscover) our faith life together in The Episcopal Church! \nThe course will meet in the Parish Hall every Thursday from 6-7:30 pm through 10/24. You can attend the whole series or pop in on a given week. Light supper is provided. If you’re popping in\, please RSVP to Mtr. Meredith and note any dietary restrictions. You can also get a copy of that week’s reading from her in advance. \n9/12 — Welcome to the Episcopal Church\, this is who we are! \n9/19— The Bible\, and How and Why We Read It\n9/26 — God and God’s People (Theology)\n10/3 — Baptism and Christian Life\n10/10 — Eucharist and Worship\n10/17 — History\n10/24 — Prayer and Practice \nRemember this is open to everyone\, from newcomers to longtime members. New members who complete this course have the option to be formally welcomed on Sunday\, October 27th when we celebrate our patronal feast day\, St. James’ of Jerusalem.
URL:https://stjameshydepark.org/event/episcopal-101/2024-10-10/
LOCATION:St. James’ Episcopal Church\, 4526 Albany Post Rd.\, Hyde Park\, NY\, 12538\, United States
CATEGORIES:Christian Formation
END:VEVENT
BEGIN:VEVENT
DTSTART;TZID=America/New_York:20241011T150000
DTEND;TZID=America/New_York:20241011T153000
DTSTAMP:20260425T093646
CREATED:20240918T173123Z
LAST-MODIFIED:20240918T173123Z
UID:10004068-1728658800-1728660600@stjameshydepark.org
SUMMARY:Eleanor Roosevelt Birthday Observance (Rose Garden)
DESCRIPTION:
URL:https://stjameshydepark.org/event/eleanor-roosevelt-birthday-observance-rose-garden/
LOCATION:FDR Presidential Library and Museum\, 4079 Albany Post Rd\, Hyde Park\, NY\, 12538\, United States
END:VEVENT
BEGIN:VEVENT
DTSTART;TZID=America/New_York:20241011T183000
DTEND;TZID=America/New_York:20241011T210000
DTSTAMP:20260425T093646
CREATED:20240906T155655Z
LAST-MODIFIED:20240910T161807Z
UID:10003956-1728671400-1728680400@stjameshydepark.org
SUMMARY:2024 Historic Graveyard Tours
DESCRIPTION:One of Hyde Park’s favorite fall traditions is back! \n2024 Historic Graveyard Tours at St. James’ Episcopal Church \nTickets on sale now: https://www.simpletix.com/e/2024-st-james-historic-graveyard-tours-tickets-184934  \nAs your tour guide leads you by lantern light through our historic 200 year-old graveyard\, you will meet some of the more interesting “residents” who from time to time make an appearance. Now in our 14th season\, the Graveyard Tours change every year with new characters and new features\, but always in the same spirit of learning and fun. \nOne-hour tours start at 6:30\, 7:00\, 7:30\, and 8 pm on Fridays and Saturdays Oct 11-12\, 18-19\, and 25-26. Advance ticket purchase strongly recommended. \nFeatured apparitions this year… \n\nGladys Mills Phipps (1883-1970): Avid racehorse owner and breeder\nUnnamed Teacher at the Bard Infant School (c. 1834)\nAgnes Irene Noonan Wager (1916-1983): one of Dutchess County’s first real estate brokers\, and E. Kenneth Wager (1917-1988)\, WWII veteran and photoengraver\nWilliam T. White (1896-1918)\, who helped turn the tide of battle in France against the Germans in WWI\nArchibald Rogers (1852-1928): Engineer\, railroad builder\, and big game hunter
URL:https://stjameshydepark.org/event/graveyard-tours-2024/2024-10-11/
LOCATION:St. James’ Episcopal Church\, 4526 Albany Post Rd.\, Hyde Park\, NY\, 12538\, United States
CATEGORIES:Fun
ATTACH;FMTTYPE=image/jpeg:https://stjameshydepark.org/wp-content/uploads/2024/09/Graveyard-Tours.jpg
END:VEVENT
BEGIN:VEVENT
DTSTART;TZID=America/New_York:20241012T090000
DTEND;TZID=America/New_York:20241012T140000
DTSTAMP:20260425T093646
CREATED:20240314T181712Z
LAST-MODIFIED:20240503T013146Z
UID:10003600-1728723600-1728741600@stjameshydepark.org
SUMMARY:Pop-up Craft Fair at the Yellow Chapel
DESCRIPTION:Pop-up craft fair at our Chapel on East Market Street—food\, local crafts and gifts\, live music and more! All table fee proceeds benefit the Hyde Park Community Garden\, a ministry of St. James’ Church. Call Deb Belding at 845-240-3194 for more info or to reserve a table. \nSaturdays May 11th\, June 15th\, July 13th\, September 14th\, and October 12th\, 9 am to 2 pm.
URL:https://stjameshydepark.org/event/chapel-popups-2024/2024-10-12/
LOCATION:St. James’ Chapel\, 10 East Market Street\, Hyde Park\, NY\, 12567\, United States
CATEGORIES:Community Garden
ATTACH;FMTTYPE=image/jpeg:https://stjameshydepark.org/wp-content/uploads/2024/03/Yellow-Chapel-pop-ups.jpeg
END:VEVENT
BEGIN:VEVENT
DTSTART;TZID=America/New_York:20241012T183000
DTEND;TZID=America/New_York:20241012T193000
DTSTAMP:20260425T093646
CREATED:20240112T175527Z
LAST-MODIFIED:20240112T175653Z
UID:10003153-1728757800-1728761400@stjameshydepark.org
SUMMARY:Compline (Remote)
DESCRIPTION:
URL:https://stjameshydepark.org/event/compline-remote-3-2023-01-07-2/2024-10-12/
LOCATION:Online
CATEGORIES:Worship
END:VEVENT
BEGIN:VEVENT
DTSTART;TZID=America/New_York:20241012T183000
DTEND;TZID=America/New_York:20241012T210000
DTSTAMP:20260425T093646
CREATED:20240906T155655Z
LAST-MODIFIED:20240910T161807Z
UID:10003957-1728757800-1728766800@stjameshydepark.org
SUMMARY:2024 Historic Graveyard Tours
DESCRIPTION:One of Hyde Park’s favorite fall traditions is back! \n2024 Historic Graveyard Tours at St. James’ Episcopal Church \nTickets on sale now: https://www.simpletix.com/e/2024-st-james-historic-graveyard-tours-tickets-184934  \nAs your tour guide leads you by lantern light through our historic 200 year-old graveyard\, you will meet some of the more interesting “residents” who from time to time make an appearance. Now in our 14th season\, the Graveyard Tours change every year with new characters and new features\, but always in the same spirit of learning and fun. \nOne-hour tours start at 6:30\, 7:00\, 7:30\, and 8 pm on Fridays and Saturdays Oct 11-12\, 18-19\, and 25-26. Advance ticket purchase strongly recommended. \nFeatured apparitions this year… \n\nGladys Mills Phipps (1883-1970): Avid racehorse owner and breeder\nUnnamed Teacher at the Bard Infant School (c. 1834)\nAgnes Irene Noonan Wager (1916-1983): one of Dutchess County’s first real estate brokers\, and E. Kenneth Wager (1917-1988)\, WWII veteran and photoengraver\nWilliam T. White (1896-1918)\, who helped turn the tide of battle in France against the Germans in WWI\nArchibald Rogers (1852-1928): Engineer\, railroad builder\, and big game hunter
URL:https://stjameshydepark.org/event/graveyard-tours-2024/2024-10-12/
LOCATION:St. James’ Episcopal Church\, 4526 Albany Post Rd.\, Hyde Park\, NY\, 12538\, United States
CATEGORIES:Fun
ATTACH;FMTTYPE=image/jpeg:https://stjameshydepark.org/wp-content/uploads/2024/09/Graveyard-Tours.jpg
END:VEVENT
BEGIN:VEVENT
DTSTART;TZID=America/New_York:20241013T080000
DTEND;TZID=America/New_York:20241013T090000
DTSTAMP:20260425T093646
CREATED:20231222T015421Z
LAST-MODIFIED:20241213T230031Z
UID:10002872-1728806400-1728810000@stjameshydepark.org
SUMMARY:Holy Eucharist (Rite I)
DESCRIPTION:Join us Sundays at 8:00 a.m. for a celebration of Holy Eucharist (Communion). This is a quiet service\, usually without music\, though we often have a soloist with acoustic guitar playing before and after the service. The service uses Rite 1 from the 1979 Book of Common Prayer\, with traditional language.
URL:https://stjameshydepark.org/event/2024-eucharist-8am/2024-10-13/
LOCATION:St. James’ Episcopal Church\, 4526 Albany Post Rd.\, Hyde Park\, NY\, 12538\, United States
CATEGORIES:Worship
END:VEVENT
BEGIN:VEVENT
DTSTART;TZID=America/New_York:20241013T100000
DTEND;TZID=America/New_York:20241013T113000
DTSTAMP:20260425T093646
CREATED:20240628T203601Z
LAST-MODIFIED:20240628T203728Z
UID:10002768-1728813600-1728819000@stjameshydepark.org
SUMMARY:Holy Eucharist (Rite II) with Sunday School and Coffee Hour
DESCRIPTION:Join us Sundays at 10:00 a.m. for a celebration of Holy Eucharist (Communion). This service has music (usually organ and choir\, along with special guest musicians) and uses a variety of prayers and language from traditional to inclusive and expansive\, drawing from Rite II of the 1979 Book of Common Prayer\, Enriching Our Worship\, and other sources. \nCoffee hour in the Parish House usually follows this service. \nSunday School for kindergarten and up meets today on the second floor of the Parish House at 10:00 a.m. Students will rejoin the congregation just before Holy Communion. New to St. James’ Church? Your kids are welcome to Sunday School any Sunday. More details about St. James’ Sunday School at: https://stjameshydepark.org/for-children/
URL:https://stjameshydepark.org/event/2024-eucharist-rite-ii-10-2/2024-10-13/
LOCATION:St. James’ Episcopal Church\, 4526 Albany Post Rd.\, Hyde Park\, NY\, 12538\, United States
CATEGORIES:Worship
END:VEVENT
BEGIN:VEVENT
DTSTART;TZID=America/New_York:20241013T170000
DTEND;TZID=America/New_York:20241013T190000
DTSTAMP:20260425T093646
CREATED:20240924T134420Z
LAST-MODIFIED:20241009T191425Z
UID:10004073-1728838800-1728846000@stjameshydepark.org
SUMMARY:Knit+Craft+Chat (Wilks Room)
DESCRIPTION:A community of crafters and conversationalists meets twice a week—Sundays from 5-7 pm and Mondays from 2-4 pm (drop-in)—at St. James’ Episcopal Church in the Wilks Room of our Parish House. We are a friendly group: knitters\, embroiderers\, crocheters\, conversationalists and miscellaneous other activities. All are welcome; no previous skill is required.
URL:https://stjameshydepark.org/event/knit-craft-chat/2024-10-13/
LOCATION:St. James’ Episcopal Church\, 4526 Albany Post Rd.\, Hyde Park\, NY\, 12538\, United States
END:VEVENT
BEGIN:VEVENT
DTSTART;TZID=America/New_York:20241013T183000
DTEND;TZID=America/New_York:20241013T210000
DTSTAMP:20260425T093646
CREATED:20240112T181055Z
LAST-MODIFIED:20241001T152045Z
UID:10003267-1728844200-1728853200@stjameshydepark.org
SUMMARY:AA Meeting (Parish Hall; Rm. 201)
DESCRIPTION:
URL:https://stjameshydepark.org/event/aa-meeting-parish-hall-rm-201-2/2024-10-13/
LOCATION:St. James’ Episcopal Church\, 4526 Albany Post Rd.\, Hyde Park\, NY\, 12538\, United States
CATEGORIES:General
END:VEVENT
BEGIN:VEVENT
DTSTART;VALUE=DATE:20241014
DTEND;VALUE=DATE:20241015
DTSTAMP:20260425T093646
CREATED:20240112T172541Z
LAST-MODIFIED:20240112T172541Z
UID:10002990-1728864000-1728950399@stjameshydepark.org
SUMMARY:Parish Office Closed
DESCRIPTION:
URL:https://stjameshydepark.org/event/parish-office-closed-4/2024-10-14/
LOCATION:St. James’ Episcopal Church\, 4526 Albany Post Rd.\, Hyde Park\, NY\, 12538\, United States
CATEGORIES:General
END:VEVENT
BEGIN:VEVENT
DTSTART;VALUE=DATE:20241014
DTEND;VALUE=DATE:20241015
DTSTAMP:20260425T093646
CREATED:20241002T144944Z
LAST-MODIFIED:20241002T144944Z
UID:10004152-1728892800-1728925200@stjameshydepark.org
SUMMARY:Nursery School Closed
DESCRIPTION:
URL:https://stjameshydepark.org/event/nursery-school-closed/2024-10-14/
LOCATION:St. James’ Episcopal Church\, 4526 Albany Post Rd.\, Hyde Park\, NY\, 12538\, United States
END:VEVENT
BEGIN:VEVENT
DTSTART;TZID=America/New_York:20241014T140000
DTEND;TZID=America/New_York:20241014T160000
DTSTAMP:20260425T093646
CREATED:20240924T134420Z
LAST-MODIFIED:20241009T191425Z
UID:10004187-1728914400-1728921600@stjameshydepark.org
SUMMARY:Knit+Craft+Chat (Wilks Room)
DESCRIPTION:A community of crafters and conversationalists meets twice a week—Sundays from 5-7 pm and Mondays from 2-4 pm (drop-in)—at St. James’ Episcopal Church in the Wilks Room of our Parish House. We are a friendly group: knitters\, embroiderers\, crocheters\, conversationalists and miscellaneous other activities. All are welcome; no previous skill is required.
URL:https://stjameshydepark.org/event/knit-craft-chat/2024-10-14/
LOCATION:St. James’ Episcopal Church\, 4526 Albany Post Rd.\, Hyde Park\, NY\, 12538\, United States
END:VEVENT
BEGIN:VEVENT
DTSTART;TZID=America/New_York:20241015T113000
DTEND;TZID=America/New_York:20241015T120000
DTSTAMP:20260425T093646
CREATED:20241008T150243Z
LAST-MODIFIED:20241008T150243Z
UID:10004158-1728991800-1728993600@stjameshydepark.org
SUMMARY:ARC Lunch
DESCRIPTION:
URL:https://stjameshydepark.org/event/arc-lunch/2024-10-15/
LOCATION:St. James’ Episcopal Church\, 4526 Albany Post Rd.\, Hyde Park\, NY\, 12538\, United States
END:VEVENT
BEGIN:VEVENT
DTSTART;TZID=America/New_York:20241015T180000
DTEND;TZID=America/New_York:20241015T190000
DTSTAMP:20260425T093646
CREATED:20240927T115013Z
LAST-MODIFIED:20240927T115013Z
UID:10004145-1729015200-1729018800@stjameshydepark.org
SUMMARY:Service of Remembrance for Pregnancy and Infant Loss
DESCRIPTION:Join us for a service of prayer and Holy Communion as we observe Pregnancy and Infant Loss Remembrance Day. \nTuesday\, October 15\, 2024 at 6 PM \nSt. James’ Episcopal Church\, 4526 Albany Post Road Hyde Park\, NY 12538 \nCome\, light a candle in remembrance of your dear one.
URL:https://stjameshydepark.org/event/wave-of-light/
LOCATION:St. James’ Episcopal Church\, 4526 Albany Post Rd.\, Hyde Park\, NY\, 12538\, United States
CATEGORIES:Outreach,Worship
ATTACH;FMTTYPE=image/png:https://stjameshydepark.org/wp-content/uploads/2024/09/Wave-of-Light-2024.png
END:VEVENT
END:VCALENDAR