BEGIN:VCALENDAR
VERSION:2.0
PRODID:-//St. James&#039; Episcopal Church - ECPv6.15.20//NONSGML v1.0//EN
CALSCALE:GREGORIAN
METHOD:PUBLISH
X-WR-CALNAME:St. James&#039; Episcopal Church
X-ORIGINAL-URL:https://stjameshydepark.org
X-WR-CALDESC:Events for St. James&#039; Episcopal Church
REFRESH-INTERVAL;VALUE=DURATION:PT1H
X-Robots-Tag:noindex
X-PUBLISHED-TTL:PT1H
BEGIN:VTIMEZONE
TZID:America/New_York
BEGIN:DAYLIGHT
TZOFFSETFROM:-0500
TZOFFSETTO:-0400
TZNAME:EDT
DTSTART:20230312T070000
END:DAYLIGHT
BEGIN:STANDARD
TZOFFSETFROM:-0400
TZOFFSETTO:-0500
TZNAME:EST
DTSTART:20231105T060000
END:STANDARD
BEGIN:DAYLIGHT
TZOFFSETFROM:-0500
TZOFFSETTO:-0400
TZNAME:EDT
DTSTART:20240310T070000
END:DAYLIGHT
BEGIN:STANDARD
TZOFFSETFROM:-0400
TZOFFSETTO:-0500
TZNAME:EST
DTSTART:20241103T060000
END:STANDARD
BEGIN:DAYLIGHT
TZOFFSETFROM:-0500
TZOFFSETTO:-0400
TZNAME:EDT
DTSTART:20250309T070000
END:DAYLIGHT
BEGIN:STANDARD
TZOFFSETFROM:-0400
TZOFFSETTO:-0500
TZNAME:EST
DTSTART:20251102T060000
END:STANDARD
END:VTIMEZONE
BEGIN:VEVENT
DTSTART;TZID=America/New_York:20241112T190000
DTEND;TZID=America/New_York:20241112T200000
DTSTAMP:20260425T081024
CREATED:20240112T173633Z
LAST-MODIFIED:20240216T165320Z
UID:10003057-1731438000-1731441600@stjameshydepark.org
SUMMARY:Boy Scouts Troop 80 (Parish Hall)
DESCRIPTION:
URL:https://stjameshydepark.org/event/boy-scouts-troop-80-parish-hall-rm-203-2-2/2024-11-12/
LOCATION:St. James’ Episcopal Church\, 4526 Albany Post Rd.\, Hyde Park\, NY\, 12538\, United States
CATEGORIES:General
END:VEVENT
BEGIN:VEVENT
DTSTART;TZID=America/New_York:20241112T113000
DTEND;TZID=America/New_York:20241112T120000
DTSTAMP:20260425T081024
CREATED:20241008T150243Z
LAST-MODIFIED:20241008T150243Z
UID:10004162-1731411000-1731412800@stjameshydepark.org
SUMMARY:ARC Lunch
DESCRIPTION:
URL:https://stjameshydepark.org/event/arc-lunch/2024-11-12/
LOCATION:St. James’ Episcopal Church\, 4526 Albany Post Rd.\, Hyde Park\, NY\, 12538\, United States
END:VEVENT
BEGIN:VEVENT
DTSTART;TZID=America/New_York:20241111T133000
DTEND;TZID=America/New_York:20241111T153000
DTSTAMP:20260425T081024
CREATED:20241110T012408Z
LAST-MODIFIED:20250708T131754Z
UID:10006834-1731331800-1731339000@stjameshydepark.org
SUMMARY:Knit+Craft+Chat (Wilks Room)
DESCRIPTION:A community of crafters and conversationalists meets Mondays from 2-4 pm (drop-in) at St. James’ Episcopal Church in the Wilks Room of our Parish House. We are a friendly group: knitters\, embroiderers\, crocheters\, conversationalists and miscellaneous other activities. All are welcome; no previous skill is required.
URL:https://stjameshydepark.org/event/knit-craft-chat-2/2024-11-11/
LOCATION:St. James’ Episcopal Church\, 4526 Albany Post Rd.\, Hyde Park\, NY\, 12538\, United States
END:VEVENT
BEGIN:VEVENT
DTSTART;VALUE=DATE:20241111
DTEND;VALUE=DATE:20241112
DTSTAMP:20260425T081024
CREATED:20240112T172541Z
LAST-MODIFIED:20240112T172541Z
UID:10002994-1731283200-1731369599@stjameshydepark.org
SUMMARY:Parish Office Closed
DESCRIPTION:
URL:https://stjameshydepark.org/event/parish-office-closed-4/2024-11-11/
LOCATION:St. James’ Episcopal Church\, 4526 Albany Post Rd.\, Hyde Park\, NY\, 12538\, United States
CATEGORIES:General
END:VEVENT
BEGIN:VEVENT
DTSTART;TZID=America/New_York:20241110T183000
DTEND;TZID=America/New_York:20241110T210000
DTSTAMP:20260425T081024
CREATED:20240112T181055Z
LAST-MODIFIED:20241001T152045Z
UID:10003271-1731263400-1731272400@stjameshydepark.org
SUMMARY:AA Meeting (Parish Hall; Rm. 201)
DESCRIPTION:
URL:https://stjameshydepark.org/event/aa-meeting-parish-hall-rm-201-2/2024-11-10/
LOCATION:St. James’ Episcopal Church\, 4526 Albany Post Rd.\, Hyde Park\, NY\, 12538\, United States
CATEGORIES:General
END:VEVENT
BEGIN:VEVENT
DTSTART;TZID=America/New_York:20241110T113000
DTEND;TZID=America/New_York:20241110T140000
DTSTAMP:20260425T081024
CREATED:20241030T134053Z
LAST-MODIFIED:20241108T025032Z
UID:10004223-1731238200-1731247200@stjameshydepark.org
SUMMARY:Walk in Love Stewardship Kickoff Luncheon (Parish Hall)
DESCRIPTION:This Sunday\, November 10th\, we’ll kick off our 2025 “Walk in Love” Stewardship Campaign with a tasty luncheon\, coffee\, and treats in the Parish Hall right after the 10 am service. \nThis luncheon is one way to THANK YOU for all you do for our parish family. We’ll celebrate what we’ve accomplished together in 2024 and share some good news about the year ahead. Then there will be plenty of time for conversation and community! \nAnd please SAVE THE DATE for a THANK YOU BREAKFAST in the Parish Hall after the 8 am service on Sunday December 15th!
URL:https://stjameshydepark.org/event/stewardship-kickoff-2024/
LOCATION:St. James’ Episcopal Church\, 4526 Albany Post Rd.\, Hyde Park\, NY\, 12538\, United States
ATTACH;FMTTYPE=image/jpeg:https://stjameshydepark.org/wp-content/uploads/2024/10/Stewardship-Kickoff-Luncheon.jpg
END:VEVENT
BEGIN:VEVENT
DTSTART;TZID=America/New_York:20241110T100000
DTEND;TZID=America/New_York:20241110T113000
DTSTAMP:20260425T081024
CREATED:20240628T203601Z
LAST-MODIFIED:20240628T203728Z
UID:10002772-1731232800-1731238200@stjameshydepark.org
SUMMARY:Holy Eucharist (Rite II) with Sunday School and Coffee Hour
DESCRIPTION:Join us Sundays at 10:00 a.m. for a celebration of Holy Eucharist (Communion). This service has music (usually organ and choir\, along with special guest musicians) and uses a variety of prayers and language from traditional to inclusive and expansive\, drawing from Rite II of the 1979 Book of Common Prayer\, Enriching Our Worship\, and other sources. \nCoffee hour in the Parish House usually follows this service. \nSunday School for kindergarten and up meets today on the second floor of the Parish House at 10:00 a.m. Students will rejoin the congregation just before Holy Communion. New to St. James’ Church? Your kids are welcome to Sunday School any Sunday. More details about St. James’ Sunday School at: https://stjameshydepark.org/for-children/
URL:https://stjameshydepark.org/event/2024-eucharist-rite-ii-10-2/2024-11-10/
LOCATION:St. James’ Episcopal Church\, 4526 Albany Post Rd.\, Hyde Park\, NY\, 12538\, United States
CATEGORIES:Worship
END:VEVENT
BEGIN:VEVENT
DTSTART;TZID=America/New_York:20241110T080000
DTEND;TZID=America/New_York:20241110T090000
DTSTAMP:20260425T081024
CREATED:20231222T015421Z
LAST-MODIFIED:20241213T230031Z
UID:10002876-1731225600-1731229200@stjameshydepark.org
SUMMARY:Holy Eucharist (Rite I)
DESCRIPTION:Join us Sundays at 8:00 a.m. for a celebration of Holy Eucharist (Communion). This is a quiet service\, usually without music\, though we often have a soloist with acoustic guitar playing before and after the service. The service uses Rite 1 from the 1979 Book of Common Prayer\, with traditional language.
URL:https://stjameshydepark.org/event/2024-eucharist-8am/2024-11-10/
LOCATION:St. James’ Episcopal Church\, 4526 Albany Post Rd.\, Hyde Park\, NY\, 12538\, United States
CATEGORIES:Worship
END:VEVENT
BEGIN:VEVENT
DTSTART;TZID=America/New_York:20241109T183000
DTEND;TZID=America/New_York:20241109T193000
DTSTAMP:20260425T081024
CREATED:20240112T175527Z
LAST-MODIFIED:20240112T175653Z
UID:10003157-1731177000-1731180600@stjameshydepark.org
SUMMARY:Compline (Remote)
DESCRIPTION:
URL:https://stjameshydepark.org/event/compline-remote-3-2023-01-07-2/2024-11-09/
LOCATION:Online
CATEGORIES:Worship
END:VEVENT
BEGIN:VEVENT
DTSTART;TZID=America/New_York:20241109T100000
DTEND;TZID=America/New_York:20241109T220000
DTSTAMP:20260425T081024
CREATED:20240530T145703Z
LAST-MODIFIED:20241003T164601Z
UID:10003785-1731146400-1731189600@stjameshydepark.org
SUMMARY:Private event (Parish Hall)
DESCRIPTION:includes setup and cleanup times
URL:https://stjameshydepark.org/event/private-parish-hall/
LOCATION:St. James’ Episcopal Church\, 4526 Albany Post Rd.\, Hyde Park\, NY\, 12538\, United States
END:VEVENT
BEGIN:VEVENT
DTSTART;VALUE=DATE:20241109
DTEND;VALUE=DATE:20241110
DTSTAMP:20260425T081024
CREATED:20240926T143826Z
LAST-MODIFIED:20240926T143826Z
UID:10004086-1731139200-1731171600@stjameshydepark.org
SUMMARY:Diocesan Convention (White Plains)
DESCRIPTION:
URL:https://stjameshydepark.org/event/diocesan-convention-white-plains/2024-11-09/
LOCATION:St. James’ Episcopal Church\, 4526 Albany Post Rd.\, Hyde Park\, NY\, 12538\, United States
END:VEVENT
BEGIN:VEVENT
DTSTART;VALUE=DATE:20241108
DTEND;VALUE=DATE:20241109
DTSTAMP:20260425T081024
CREATED:20240926T143826Z
LAST-MODIFIED:20240926T143826Z
UID:10004085-1731024000-1731110399@stjameshydepark.org
SUMMARY:Diocesan Convention (White Plains)
DESCRIPTION:
URL:https://stjameshydepark.org/event/diocesan-convention-white-plains/2024-11-08/
LOCATION:St. James’ Episcopal Church\, 4526 Albany Post Rd.\, Hyde Park\, NY\, 12538\, United States
END:VEVENT
BEGIN:VEVENT
DTSTART;TZID=America/New_York:20241107T160000
DTEND;TZID=America/New_York:20241107T180000
DTSTAMP:20260425T081024
CREATED:20241105T165333Z
LAST-MODIFIED:20241105T165333Z
UID:10004224-1730995200-1731002400@stjameshydepark.org
SUMMARY:Finance Committee Meeting (Wilks Room)
DESCRIPTION:
URL:https://stjameshydepark.org/event/finance-committee-meeting-wilks-room-4/2024-11-07/
LOCATION:St. James’ Episcopal Church\, 4526 Albany Post Rd.\, Hyde Park\, NY\, 12538\, United States
END:VEVENT
BEGIN:VEVENT
DTSTART;TZID=America/New_York:20241106T183000
DTEND;TZID=America/New_York:20241106T200000
DTSTAMP:20260425T081024
CREATED:20241030T133906Z
LAST-MODIFIED:20241030T133906Z
UID:10004222-1730917800-1730923200@stjameshydepark.org
SUMMARY:Stewardship Committee (Parish Hall)
DESCRIPTION:
URL:https://stjameshydepark.org/event/stewardship-committee-parish-hall/
LOCATION:St. James’ Episcopal Church\, 4526 Albany Post Rd.\, Hyde Park\, NY\, 12538\, United States
END:VEVENT
BEGIN:VEVENT
DTSTART;TZID=America/New_York:20241106T183000
DTEND;TZID=America/New_York:20241106T200000
DTSTAMP:20260425T081024
CREATED:20241016T182946Z
LAST-MODIFIED:20241030T133726Z
UID:10004216-1730917800-1730923200@stjameshydepark.org
SUMMARY:Nursery School Committee Meeting (Nursery School Classroom)
DESCRIPTION:
URL:https://stjameshydepark.org/event/nursery-school-committee-meeting-parish-hall/
LOCATION:St. James’ Episcopal Church\, 4526 Albany Post Rd.\, Hyde Park\, NY\, 12538\, United States
END:VEVENT
BEGIN:VEVENT
DTSTART;TZID=America/New_York:20241106T183000
DTEND;TZID=America/New_York:20241106T193000
DTSTAMP:20260425T081024
CREATED:20240112T175112Z
LAST-MODIFIED:20240112T175307Z
UID:10003107-1730917800-1730921400@stjameshydepark.org
SUMMARY:Evening Prayer (Remote)
DESCRIPTION:
URL:https://stjameshydepark.org/event/evening-prayer-remote-2-2/2024-11-06/
LOCATION:Online
CATEGORIES:Worship
END:VEVENT
BEGIN:VEVENT
DTSTART;TZID=America/New_York:20241106T110000
DTEND;TZID=America/New_York:20241106T120000
DTSTAMP:20260425T081024
CREATED:20240203T231706Z
LAST-MODIFIED:20240508T020856Z
UID:10003445-1730890800-1730894400@stjameshydepark.org
SUMMARY:Bible Study
DESCRIPTION:Our weekly Bible study on Zoom usually focuses on the Gospel for the upcoming Sunday and is led by Mtr. Meredith. We practice a contemplative\, prayerful style of Bible study that focuses on how God is speaking to us through our questions\, responses\, curiosities and doubts as we engage Scripture.  \nThe study is followed by a brief\, optional service of noonday prayer. \nJoin in any Wednesday at 11 am. No previous preparation is required. The Zoom link is distributed via our weekly email newsletter (or contact the parish office). \n 
URL:https://stjameshydepark.org/event/bible-study-2024/2024-11-06/
LOCATION:Online
CATEGORIES:Christian Formation
ATTACH;FMTTYPE=image/png:https://stjameshydepark.org/wp-content/uploads/2024/05/Bible-Study.png
END:VEVENT
BEGIN:VEVENT
DTSTART;TZID=America/New_York:20241105T190000
DTEND;TZID=America/New_York:20241105T210000
DTSTAMP:20260425T081024
CREATED:20241015T120504Z
LAST-MODIFIED:20241025T095947Z
UID:10004203-1730833200-1730840400@stjameshydepark.org
SUMMARY:Election Day Community Night (Wilks Room)
DESCRIPTION:Need some time away from tv and social media on election day? Our church will be open 6 am to 9 pm for prayer and meditation\, and we’re hosting an evening fellowship gathering in the Wilks Room & Parish Hall until 9 pm\, with board games and conversation. You’re welcome to bring your own food to eat or a snack/drink to share.
URL:https://stjameshydepark.org/event/election-day-community-night-wilks-room/
LOCATION:St. James’ Episcopal Church\, 4526 Albany Post Rd.\, Hyde Park\, NY\, 12538\, United States
CATEGORIES:Outreach
END:VEVENT
BEGIN:VEVENT
DTSTART;TZID=America/New_York:20241105T190000
DTEND;TZID=America/New_York:20241105T200000
DTSTAMP:20260425T081024
CREATED:20240112T173633Z
LAST-MODIFIED:20240216T165320Z
UID:10003056-1730833200-1730836800@stjameshydepark.org
SUMMARY:Boy Scouts Troop 80 (Parish Hall)
DESCRIPTION:
URL:https://stjameshydepark.org/event/boy-scouts-troop-80-parish-hall-rm-203-2-2/2024-11-05/
LOCATION:St. James’ Episcopal Church\, 4526 Albany Post Rd.\, Hyde Park\, NY\, 12538\, United States
CATEGORIES:General
END:VEVENT
BEGIN:VEVENT
DTSTART;TZID=America/New_York:20241105T113000
DTEND;TZID=America/New_York:20241105T120000
DTSTAMP:20260425T081024
CREATED:20241008T150243Z
LAST-MODIFIED:20241008T150243Z
UID:10004161-1730806200-1730808000@stjameshydepark.org
SUMMARY:ARC Lunch
DESCRIPTION:
URL:https://stjameshydepark.org/event/arc-lunch/2024-11-05/
LOCATION:St. James’ Episcopal Church\, 4526 Albany Post Rd.\, Hyde Park\, NY\, 12538\, United States
END:VEVENT
BEGIN:VEVENT
DTSTART;TZID=America/New_York:20241105T060000
DTEND;TZID=America/New_York:20241105T210000
DTSTAMP:20260425T081024
CREATED:20241010T192548Z
LAST-MODIFIED:20241105T120440Z
UID:10004201-1730786400-1730840400@stjameshydepark.org
SUMMARY:Election Day: Church open for prayer
DESCRIPTION:If you need a quiet place to pray and reflect today\, St. James’ Church is open from 6 am to 9 pm. Stop in and pick up a pamphlet of suggested prayers. \nO God\, you have bound us together in a common life. Help us\, in the midst of our struggles for justice and truth\, to meet one another without hatred or bitterness\, and to work together with mutual forbearance and respect; through Jesus Christ our Lord. Amen. (Book of Common Prayer\, adapted)
URL:https://stjameshydepark.org/event/election-day-church-open-prayer/
LOCATION:St. James’ Episcopal Church\, 4526 Albany Post Rd.\, Hyde Park\, NY\, 12538\, United States
CATEGORIES:Outreach,Worship
ATTACH;FMTTYPE=image/png:https://stjameshydepark.org/wp-content/uploads/2024/10/openforprayer.png
END:VEVENT
BEGIN:VEVENT
DTSTART;TZID=America/New_York:20241104T190000
DTEND;TZID=America/New_York:20241104T200000
DTSTAMP:20260425T081024
CREATED:20241010T192419Z
LAST-MODIFIED:20241030T004203Z
UID:10004200-1730746800-1730750400@stjameshydepark.org
SUMMARY:Election Eve Prayer Service for Peace & Unity
DESCRIPTION:St. James’ will host a quiet prayer service for peace and unity on the evening before Election Day—Monday\, November 4\, 2024 at 7 pm. All are welcome. This offering is coordinated by the Episcopal churches of Dutchess County. \nSt. James’ Church will also be open for prayer and reflection from 6 am to 9 pm on Election Day. \nO God\, you have bound us together in a common life. Help us\, in the midst of our struggles for justice and truth\, to meet one another without hatred or bitterness\, and to work together with mutual forbearance and respect; through Jesus Christ our Lord. Amen. (Book of Common Prayer\, adapted)
URL:https://stjameshydepark.org/event/election-eve-prayer/
LOCATION:St. James’ Episcopal Church\, 4526 Albany Post Rd.\, Hyde Park\, NY\, 12538\, United States
CATEGORIES:Worship
ATTACH;FMTTYPE=image/png:https://stjameshydepark.org/wp-content/uploads/2024/10/Election-Eve-Prayer-Service.png
END:VEVENT
BEGIN:VEVENT
DTSTART;TZID=America/New_York:20241104T173000
DTEND;TZID=America/New_York:20241104T184500
DTSTAMP:20260425T081024
CREATED:20241015T120007Z
LAST-MODIFIED:20241025T180316Z
UID:10004202-1730741400-1730745900@stjameshydepark.org
SUMMARY:Election Eve Dinner (Parish Hall)
DESCRIPTION:Drop in for a quick bite and conversation on the eve of Election Day. We’ll have pizza and sub sandwiches between 5:30 pm and 6:45 pm. \n 
URL:https://stjameshydepark.org/event/election-eve-dinner-parish-hall/
LOCATION:St. James’ Episcopal Church\, 4526 Albany Post Rd.\, Hyde Park\, NY\, 12538\, United States
END:VEVENT
BEGIN:VEVENT
DTSTART;TZID=America/New_York:20241104T140000
DTEND;TZID=America/New_York:20241104T160000
DTSTAMP:20260425T081024
CREATED:20240924T134420Z
LAST-MODIFIED:20241009T191425Z
UID:10004190-1730728800-1730736000@stjameshydepark.org
SUMMARY:Knit+Craft+Chat (Wilks Room)
DESCRIPTION:A community of crafters and conversationalists meets twice a week—Sundays from 5-7 pm and Mondays from 2-4 pm (drop-in)—at St. James’ Episcopal Church in the Wilks Room of our Parish House. We are a friendly group: knitters\, embroiderers\, crocheters\, conversationalists and miscellaneous other activities. All are welcome; no previous skill is required.
URL:https://stjameshydepark.org/event/knit-craft-chat/2024-11-04/
LOCATION:St. James’ Episcopal Church\, 4526 Albany Post Rd.\, Hyde Park\, NY\, 12538\, United States
END:VEVENT
BEGIN:VEVENT
DTSTART;VALUE=DATE:20241104
DTEND;VALUE=DATE:20241105
DTSTAMP:20260425T081024
CREATED:20240112T172541Z
LAST-MODIFIED:20240112T172541Z
UID:10002993-1730678400-1730764799@stjameshydepark.org
SUMMARY:Parish Office Closed
DESCRIPTION:
URL:https://stjameshydepark.org/event/parish-office-closed-4/2024-11-04/
LOCATION:St. James’ Episcopal Church\, 4526 Albany Post Rd.\, Hyde Park\, NY\, 12538\, United States
CATEGORIES:General
END:VEVENT
BEGIN:VEVENT
DTSTART;TZID=America/New_York:20241103T183000
DTEND;TZID=America/New_York:20241103T210000
DTSTAMP:20260425T081024
CREATED:20240112T181055Z
LAST-MODIFIED:20241001T152045Z
UID:10003270-1730658600-1730667600@stjameshydepark.org
SUMMARY:AA Meeting (Parish Hall; Rm. 201)
DESCRIPTION:
URL:https://stjameshydepark.org/event/aa-meeting-parish-hall-rm-201-2/2024-11-03/
LOCATION:St. James’ Episcopal Church\, 4526 Albany Post Rd.\, Hyde Park\, NY\, 12538\, United States
CATEGORIES:General
END:VEVENT
BEGIN:VEVENT
DTSTART;TZID=America/New_York:20241103T170000
DTEND;TZID=America/New_York:20241103T190000
DTSTAMP:20260425T081024
CREATED:20241101T143146Z
LAST-MODIFIED:20241101T143232Z
UID:10004076-1730653200-1730660400@stjameshydepark.org
SUMMARY:Knit+Craft+Chat CANCELED for Sunday\, November 3
DESCRIPTION:A community of crafters and conversationalists meets twice a week—Sundays from 5-7 pm and Mondays from 2-4 pm (drop-in)—at St. James’ Episcopal Church in the Wilks Room of our Parish House. We are a friendly group: knitters\, embroiderers\, crocheters\, conversationalists and miscellaneous other activities. All are welcome; no previous skill is required.
URL:https://stjameshydepark.org/event/knit-craft-chat-canceled-11-03-2024/
LOCATION:St. James’ Episcopal Church\, 4526 Albany Post Rd.\, Hyde Park\, NY\, 12538\, United States
END:VEVENT
BEGIN:VEVENT
DTSTART;TZID=America/New_York:20241103T100000
DTEND;TZID=America/New_York:20241103T113000
DTSTAMP:20260425T081024
CREATED:20240628T203601Z
LAST-MODIFIED:20240628T203728Z
UID:10002771-1730628000-1730633400@stjameshydepark.org
SUMMARY:Holy Eucharist (Rite II) with Sunday School and Coffee Hour
DESCRIPTION:Join us Sundays at 10:00 a.m. for a celebration of Holy Eucharist (Communion). This service has music (usually organ and choir\, along with special guest musicians) and uses a variety of prayers and language from traditional to inclusive and expansive\, drawing from Rite II of the 1979 Book of Common Prayer\, Enriching Our Worship\, and other sources. \nCoffee hour in the Parish House usually follows this service. \nSunday School for kindergarten and up meets today on the second floor of the Parish House at 10:00 a.m. Students will rejoin the congregation just before Holy Communion. New to St. James’ Church? Your kids are welcome to Sunday School any Sunday. More details about St. James’ Sunday School at: https://stjameshydepark.org/for-children/
URL:https://stjameshydepark.org/event/2024-eucharist-rite-ii-10-2/2024-11-03/
LOCATION:St. James’ Episcopal Church\, 4526 Albany Post Rd.\, Hyde Park\, NY\, 12538\, United States
CATEGORIES:Worship
END:VEVENT
BEGIN:VEVENT
DTSTART;TZID=America/New_York:20241103T091500
DTEND;TZID=America/New_York:20241103T094500
DTSTAMP:20260425T081024
CREATED:20240415T115702Z
LAST-MODIFIED:20240415T115712Z
UID:10003704-1730625300-1730627100@stjameshydepark.org
SUMMARY:"Mary Strong" Rosary Prayer Group
DESCRIPTION:The “Mary Strong” rosary prayer group meets on the first Sunday of each month. We meet in the Church at 9:15 between our 8 and 10 am services. All are welcome! \nNever prayed the rosary before? No problem! This group will teach you everything you need to know. \nYes\, Episcopalians can and do pray the rosary! Just as we ask our friends to pray for us\, we can ask the saints—that great cloud of witnesses—to intercede on our behalf. Praying the rosary draws us close to the heart of St. Mary the God-bearer as we meditate on Jesus’ ministry\, crucifixion\, resurrection and ascension.
URL:https://stjameshydepark.org/event/rosary-prayer-group-2/2024-11-03/
LOCATION:St. James’ Episcopal Church\, 4526 Albany Post Rd.\, Hyde Park\, NY\, 12538\, United States
CATEGORIES:Christian Formation,Worship
END:VEVENT
BEGIN:VEVENT
DTSTART;TZID=America/New_York:20241103T080000
DTEND;TZID=America/New_York:20241103T090000
DTSTAMP:20260425T081024
CREATED:20231222T015421Z
LAST-MODIFIED:20241213T230031Z
UID:10002875-1730620800-1730624400@stjameshydepark.org
SUMMARY:Holy Eucharist (Rite I)
DESCRIPTION:Join us Sundays at 8:00 a.m. for a celebration of Holy Eucharist (Communion). This is a quiet service\, usually without music\, though we often have a soloist with acoustic guitar playing before and after the service. The service uses Rite 1 from the 1979 Book of Common Prayer\, with traditional language.
URL:https://stjameshydepark.org/event/2024-eucharist-8am/2024-11-03/
LOCATION:St. James’ Episcopal Church\, 4526 Albany Post Rd.\, Hyde Park\, NY\, 12538\, United States
CATEGORIES:Worship
END:VEVENT
END:VCALENDAR