BEGIN:VCALENDAR
VERSION:2.0
PRODID:-//St. James&#039; Episcopal Church - ECPv6.15.20//NONSGML v1.0//EN
CALSCALE:GREGORIAN
METHOD:PUBLISH
X-ORIGINAL-URL:https://stjameshydepark.org
X-WR-CALDESC:Events for St. James&#039; Episcopal Church
REFRESH-INTERVAL;VALUE=DURATION:PT1H
X-Robots-Tag:noindex
X-PUBLISHED-TTL:PT1H
BEGIN:VTIMEZONE
TZID:America/New_York
BEGIN:DAYLIGHT
TZOFFSETFROM:-0500
TZOFFSETTO:-0400
TZNAME:EDT
DTSTART:20230312T070000
END:DAYLIGHT
BEGIN:STANDARD
TZOFFSETFROM:-0400
TZOFFSETTO:-0500
TZNAME:EST
DTSTART:20231105T060000
END:STANDARD
BEGIN:DAYLIGHT
TZOFFSETFROM:-0500
TZOFFSETTO:-0400
TZNAME:EDT
DTSTART:20240310T070000
END:DAYLIGHT
BEGIN:STANDARD
TZOFFSETFROM:-0400
TZOFFSETTO:-0500
TZNAME:EST
DTSTART:20241103T060000
END:STANDARD
BEGIN:DAYLIGHT
TZOFFSETFROM:-0500
TZOFFSETTO:-0400
TZNAME:EDT
DTSTART:20250309T070000
END:DAYLIGHT
BEGIN:STANDARD
TZOFFSETFROM:-0400
TZOFFSETTO:-0500
TZNAME:EST
DTSTART:20251102T060000
END:STANDARD
END:VTIMEZONE
BEGIN:VEVENT
DTSTART;TZID=America/New_York:20241114T150000
DTEND;TZID=America/New_York:20241114T220000
DTSTAMP:20260425T063556
CREATED:20241029T130030Z
LAST-MODIFIED:20241029T130030Z
UID:10004221-1731596400-1731621600@stjameshydepark.org
SUMMARY:FDR Girls' Soccer End of Season Banquet (Parish Hall)
DESCRIPTION:
URL:https://stjameshydepark.org/event/fdr-girls-soccer-end-of-season-banquet-parish-hall/
LOCATION:St. James’ Episcopal Church\, 4526 Albany Post Rd.\, Hyde Park\, NY\, 12538\, United States
END:VEVENT
BEGIN:VEVENT
DTSTART;TZID=America/New_York:20241114T160000
DTEND;TZID=America/New_York:20241114T180000
DTSTAMP:20260425T063556
CREATED:20241105T165333Z
LAST-MODIFIED:20241105T165333Z
UID:10004225-1731600000-1731607200@stjameshydepark.org
SUMMARY:Finance Committee Meeting (Wilks Room)
DESCRIPTION:
URL:https://stjameshydepark.org/event/finance-committee-meeting-wilks-room-4/2024-11-14/
LOCATION:St. James’ Episcopal Church\, 4526 Albany Post Rd.\, Hyde Park\, NY\, 12538\, United States
END:VEVENT
BEGIN:VEVENT
DTSTART;TZID=America/New_York:20241115T100000
DTEND;TZID=America/New_York:20241115T130000
DTSTAMP:20260425T063556
CREATED:20241108T160447Z
LAST-MODIFIED:20241108T160447Z
UID:10004232-1731664800-1731675600@stjameshydepark.org
SUMMARY:Professional Writer's Group (Wilks Room)
DESCRIPTION:
URL:https://stjameshydepark.org/event/professional-writers-group-wilks-room/
LOCATION:St. James’ Episcopal Church\, 4526 Albany Post Rd.\, Hyde Park\, NY\, 12538\, United States
END:VEVENT
BEGIN:VEVENT
DTSTART;TZID=America/New_York:20241115T180000
DTEND;TZID=America/New_York:20241115T200000
DTSTAMP:20260425T063556
CREATED:20240821T124033Z
LAST-MODIFIED:20241106T135651Z
UID:10003935-1731693600-1731700800@stjameshydepark.org
SUMMARY:Nursery School Craft Fair Setup (Parish Hall)
DESCRIPTION:
URL:https://stjameshydepark.org/event/nursery-school-craft-fair-setup-parish-hall-2/
LOCATION:St. James’ Episcopal Church\, 4526 Albany Post Rd.\, Hyde Park\, NY\, 12538\, United States
END:VEVENT
BEGIN:VEVENT
DTSTART;TZID=America/New_York:20241116T090000
DTEND;TZID=America/New_York:20241116T120000
DTSTAMP:20260425T063556
CREATED:20241108T130840Z
LAST-MODIFIED:20241108T130840Z
UID:10004230-1731747600-1731758400@stjameshydepark.org
SUMMARY:Fence Work Party (Rectory)
DESCRIPTION:We’re enhancing our rectory with a backyard fence! Work party starts at 9 am on Saturday\, 9/16. All welcome! Chili lunch at noon.
URL:https://stjameshydepark.org/event/fence-work-party-rectory/
LOCATION:St. James’ Episcopal Church\, 4526 Albany Post Rd.\, Hyde Park\, NY\, 12538\, United States
CATEGORIES:Fun
END:VEVENT
BEGIN:VEVENT
DTSTART;TZID=America/New_York:20241116T100000
DTEND;TZID=America/New_York:20241116T150000
DTSTAMP:20260425T063556
CREATED:20240821T124124Z
LAST-MODIFIED:20241108T025703Z
UID:10003936-1731751200-1731769200@stjameshydepark.org
SUMMARY:Nursery School Craft Fair (Parish Hall)
DESCRIPTION:
URL:https://stjameshydepark.org/event/nursery-school-craft-fair-2024/
LOCATION:St. James’ Episcopal Church\, 4526 Albany Post Rd.\, Hyde Park\, NY\, 12538\, United States
CATEGORIES:Fun,Nursery School
END:VEVENT
BEGIN:VEVENT
DTSTART;TZID=America/New_York:20241116T183000
DTEND;TZID=America/New_York:20241116T193000
DTSTAMP:20260425T063556
CREATED:20240112T175527Z
LAST-MODIFIED:20240112T175653Z
UID:10003158-1731781800-1731785400@stjameshydepark.org
SUMMARY:Compline (Remote)
DESCRIPTION:
URL:https://stjameshydepark.org/event/compline-remote-3-2023-01-07-2/2024-11-16/
LOCATION:Online
CATEGORIES:Worship
END:VEVENT
BEGIN:VEVENT
DTSTART;TZID=America/New_York:20241117T080000
DTEND;TZID=America/New_York:20241117T090000
DTSTAMP:20260425T063556
CREATED:20241115T212336Z
LAST-MODIFIED:20241115T212338Z
UID:10002877-1731830400-1731834000@stjameshydepark.org
SUMMARY:No 8 am service on November 17th
DESCRIPTION:The 8 am service is canceled on Sunday\, November 17th. Please join us at the 10 am service!
URL:https://stjameshydepark.org/event/2024-eucharist-rite-i-2/
LOCATION:St. James’ Episcopal Church\, 4526 Albany Post Rd.\, Hyde Park\, NY\, 12538\, United States
CATEGORIES:Worship
END:VEVENT
BEGIN:VEVENT
DTSTART;TZID=America/New_York:20241117T100000
DTEND;TZID=America/New_York:20241117T113000
DTSTAMP:20260425T063556
CREATED:20240628T203601Z
LAST-MODIFIED:20240628T203728Z
UID:10002773-1731837600-1731843000@stjameshydepark.org
SUMMARY:Holy Eucharist (Rite II) with Sunday School and Coffee Hour
DESCRIPTION:Join us Sundays at 10:00 a.m. for a celebration of Holy Eucharist (Communion). This service has music (usually organ and choir\, along with special guest musicians) and uses a variety of prayers and language from traditional to inclusive and expansive\, drawing from Rite II of the 1979 Book of Common Prayer\, Enriching Our Worship\, and other sources. \nCoffee hour in the Parish House usually follows this service. \nSunday School for kindergarten and up meets today on the second floor of the Parish House at 10:00 a.m. Students will rejoin the congregation just before Holy Communion. New to St. James’ Church? Your kids are welcome to Sunday School any Sunday. More details about St. James’ Sunday School at: https://stjameshydepark.org/for-children/
URL:https://stjameshydepark.org/event/2024-eucharist-rite-ii-10-2/2024-11-17/
LOCATION:St. James’ Episcopal Church\, 4526 Albany Post Rd.\, Hyde Park\, NY\, 12538\, United States
CATEGORIES:Worship
END:VEVENT
BEGIN:VEVENT
DTSTART;TZID=America/New_York:20241117T120000
DTEND;TZID=America/New_York:20241117T150000
DTSTAMP:20260425T063556
CREATED:20241022T133732Z
LAST-MODIFIED:20241205T164301Z
UID:10004217-1731844800-1731855600@stjameshydepark.org
SUMMARY:Winter Clothing Giveaway (Chapel)
DESCRIPTION:❄️ ❄️ November 17th & 24th + December 15th: Winter Clothing Giveaway ❄️ ❄️\nWarm winter clothing for women~men~children \nSunday\, November 17th AND Sunday\, November 24th AND Sunday\, December 15th\n12-3 pm (while supplies last) \nSt. James’ Episcopal Chapel\n10 East Market Street\nHyde Park\, New York \nNEEDED: \nGently used\, warm winter clothing\, all sizes for Women\, Men and Children \nCONTACT: \nLillian\n845-282-6328\nfinallygigi22@gmail.com
URL:https://stjameshydepark.org/event/outreach-clothing-drive-chapel/2024-11-17/
LOCATION:St. James’ Chapel\, 10 East Market Street\, Hyde Park\, NY\, 12567\, United States
CATEGORIES:Outreach
END:VEVENT
BEGIN:VEVENT
DTSTART;TZID=America/New_York:20241117T183000
DTEND;TZID=America/New_York:20241117T210000
DTSTAMP:20260425T063556
CREATED:20240112T181055Z
LAST-MODIFIED:20241001T152045Z
UID:10003272-1731868200-1731877200@stjameshydepark.org
SUMMARY:AA Meeting (Parish Hall; Rm. 201)
DESCRIPTION:
URL:https://stjameshydepark.org/event/aa-meeting-parish-hall-rm-201-2/2024-11-17/
LOCATION:St. James’ Episcopal Church\, 4526 Albany Post Rd.\, Hyde Park\, NY\, 12538\, United States
CATEGORIES:General
END:VEVENT
BEGIN:VEVENT
DTSTART;VALUE=DATE:20241118
DTEND;VALUE=DATE:20241119
DTSTAMP:20260425T063556
CREATED:20240112T172541Z
LAST-MODIFIED:20240112T172541Z
UID:10002995-1731888000-1731974399@stjameshydepark.org
SUMMARY:Parish Office Closed
DESCRIPTION:
URL:https://stjameshydepark.org/event/parish-office-closed-4/2024-11-18/
LOCATION:St. James’ Episcopal Church\, 4526 Albany Post Rd.\, Hyde Park\, NY\, 12538\, United States
CATEGORIES:General
END:VEVENT
BEGIN:VEVENT
DTSTART;TZID=America/New_York:20241118T133000
DTEND;TZID=America/New_York:20241118T153000
DTSTAMP:20260425T063556
CREATED:20241110T012408Z
LAST-MODIFIED:20250708T131754Z
UID:10006835-1731936600-1731943800@stjameshydepark.org
SUMMARY:Knit+Craft+Chat (Wilks Room)
DESCRIPTION:A community of crafters and conversationalists meets Mondays from 2-4 pm (drop-in) at St. James’ Episcopal Church in the Wilks Room of our Parish House. We are a friendly group: knitters\, embroiderers\, crocheters\, conversationalists and miscellaneous other activities. All are welcome; no previous skill is required.
URL:https://stjameshydepark.org/event/knit-craft-chat-2/2024-11-18/
LOCATION:St. James’ Episcopal Church\, 4526 Albany Post Rd.\, Hyde Park\, NY\, 12538\, United States
END:VEVENT
BEGIN:VEVENT
DTSTART;TZID=America/New_York:20241118T180000
DTEND;TZID=America/New_York:20241118T193000
DTSTAMP:20260425T063556
CREATED:20241108T030047Z
LAST-MODIFIED:20241112T012825Z
UID:10004228-1731952800-1731958200@stjameshydepark.org
SUMMARY:Men’s Gathering at Antonella’s Restaurant
DESCRIPTION:All welcome! Join in Monday\, October 21st at 6 pm in the back room of Antonella’s Restaurant.
URL:https://stjameshydepark.org/event/mens-gathering-nov-2024/
LOCATION:Antonella’s Restaurant\, Hyde Park\, NY\, 4246 Albany Post Rd #1700\, Hyde Park\, NY\, 12538\, United States
CATEGORIES:Fun
END:VEVENT
BEGIN:VEVENT
DTSTART;TZID=America/New_York:20241118T180000
DTEND;TZID=America/New_York:20241118T200000
DTSTAMP:20260425T063556
CREATED:20241113T151320Z
LAST-MODIFIED:20241113T151613Z
UID:10004234-1731952800-1731960000@stjameshydepark.org
SUMMARY:[New Deal] Joy Rehearsals (Parish Hall)
DESCRIPTION:
URL:https://stjameshydepark.org/event/new-deal-joy-rehearsals/2024-11-18/
LOCATION:St. James’ Episcopal Church\, 4526 Albany Post Rd.\, Hyde Park\, NY\, 12538\, United States
END:VEVENT
BEGIN:VEVENT
DTSTART;TZID=America/New_York:20241118T191500
DTEND;TZID=America/New_York:20241118T201500
DTSTAMP:20260425T063556
CREATED:20241016T130201Z
LAST-MODIFIED:20241016T130201Z
UID:10004205-1731957300-1731960900@stjameshydepark.org
SUMMARY:[New Deal] Book Club (Wilks Room)
DESCRIPTION:
URL:https://stjameshydepark.org/event/new-deal-book-club-wilks-room/2024-11-18/
LOCATION:St. James’ Episcopal Church\, 4526 Albany Post Rd.\, Hyde Park\, NY\, 12538\, United States
CATEGORIES:New Deal
END:VEVENT
BEGIN:VEVENT
DTSTART;TZID=America/New_York:20241119T113000
DTEND;TZID=America/New_York:20241119T120000
DTSTAMP:20260425T063556
CREATED:20241008T150243Z
LAST-MODIFIED:20241008T150243Z
UID:10004163-1732015800-1732017600@stjameshydepark.org
SUMMARY:ARC Lunch
DESCRIPTION:
URL:https://stjameshydepark.org/event/arc-lunch/2024-11-19/
LOCATION:St. James’ Episcopal Church\, 4526 Albany Post Rd.\, Hyde Park\, NY\, 12538\, United States
END:VEVENT
BEGIN:VEVENT
DTSTART;TZID=America/New_York:20241119T190000
DTEND;TZID=America/New_York:20241119T200000
DTSTAMP:20260425T063556
CREATED:20240112T173633Z
LAST-MODIFIED:20240216T165320Z
UID:10003058-1732042800-1732046400@stjameshydepark.org
SUMMARY:Boy Scouts Troop 80 (Parish Hall)
DESCRIPTION:
URL:https://stjameshydepark.org/event/boy-scouts-troop-80-parish-hall-rm-203-2-2/2024-11-19/
LOCATION:St. James’ Episcopal Church\, 4526 Albany Post Rd.\, Hyde Park\, NY\, 12538\, United States
CATEGORIES:General
END:VEVENT
BEGIN:VEVENT
DTSTART;TZID=America/New_York:20241120T110000
DTEND;TZID=America/New_York:20241120T120000
DTSTAMP:20260425T063556
CREATED:20240203T231706Z
LAST-MODIFIED:20240508T020856Z
UID:10003447-1732100400-1732104000@stjameshydepark.org
SUMMARY:Bible Study
DESCRIPTION:Our weekly Bible study on Zoom usually focuses on the Gospel for the upcoming Sunday and is led by Mtr. Meredith. We practice a contemplative\, prayerful style of Bible study that focuses on how God is speaking to us through our questions\, responses\, curiosities and doubts as we engage Scripture.  \nThe study is followed by a brief\, optional service of noonday prayer. \nJoin in any Wednesday at 11 am. No previous preparation is required. The Zoom link is distributed via our weekly email newsletter (or contact the parish office). \n 
URL:https://stjameshydepark.org/event/bible-study-2024/2024-11-20/
LOCATION:Online
CATEGORIES:Christian Formation
ATTACH;FMTTYPE=image/png:https://stjameshydepark.org/wp-content/uploads/2024/05/Bible-Study.png
END:VEVENT
BEGIN:VEVENT
DTSTART;TZID=America/New_York:20241120T183000
DTEND;TZID=America/New_York:20241120T193000
DTSTAMP:20260425T063556
CREATED:20240112T175112Z
LAST-MODIFIED:20240112T175307Z
UID:10003109-1732127400-1732131000@stjameshydepark.org
SUMMARY:Evening Prayer (Remote)
DESCRIPTION:
URL:https://stjameshydepark.org/event/evening-prayer-remote-2-2/2024-11-20/
LOCATION:Online
CATEGORIES:Worship
END:VEVENT
BEGIN:VEVENT
DTSTART;TZID=America/New_York:20241120T190000
DTEND;TZID=America/New_York:20241120T210000
DTSTAMP:20260425T063556
CREATED:20240117T210803Z
LAST-MODIFIED:20240117T211145Z
UID:10003349-1732129200-1732136400@stjameshydepark.org
SUMMARY:Vestry Meeting (Wilks Room)
DESCRIPTION:
URL:https://stjameshydepark.org/event/vestry-meeting-2024-nov/
LOCATION:St. James’ Episcopal Church\, 4526 Albany Post Rd.\, Hyde Park\, NY\, 12538\, United States
CATEGORIES:General
END:VEVENT
BEGIN:VEVENT
DTSTART;TZID=America/New_York:20241121T170000
DTEND;TZID=America/New_York:20241121T180000
DTSTAMP:20260425T063556
CREATED:20241113T151439Z
LAST-MODIFIED:20241114T160052Z
UID:10004236-1732208400-1732212000@stjameshydepark.org
SUMMARY:[New Deal] WWII Radio Christmas Rehearsals (Parish Hall)
DESCRIPTION:
URL:https://stjameshydepark.org/event/new-deal-wwii-radio-christmas-rehearsals-parish-hall/
LOCATION:St. James’ Episcopal Church\, 4526 Albany Post Rd.\, Hyde Park\, NY\, 12538\, United States
END:VEVENT
BEGIN:VEVENT
DTSTART;TZID=America/New_York:20241123T183000
DTEND;TZID=America/New_York:20241123T193000
DTSTAMP:20260425T063556
CREATED:20240112T175527Z
LAST-MODIFIED:20240112T175653Z
UID:10003159-1732386600-1732390200@stjameshydepark.org
SUMMARY:Compline (Remote)
DESCRIPTION:
URL:https://stjameshydepark.org/event/compline-remote-3-2023-01-07-2/2024-11-23/
LOCATION:Online
CATEGORIES:Worship
END:VEVENT
BEGIN:VEVENT
DTSTART;TZID=America/New_York:20241124T100000
DTEND;TZID=America/New_York:20241124T113000
DTSTAMP:20260425T063556
CREATED:20240628T203601Z
LAST-MODIFIED:20240628T203728Z
UID:10002774-1732442400-1732447800@stjameshydepark.org
SUMMARY:Holy Eucharist (Rite II) with Sunday School and Coffee Hour
DESCRIPTION:Join us Sundays at 10:00 a.m. for a celebration of Holy Eucharist (Communion). This service has music (usually organ and choir\, along with special guest musicians) and uses a variety of prayers and language from traditional to inclusive and expansive\, drawing from Rite II of the 1979 Book of Common Prayer\, Enriching Our Worship\, and other sources. \nCoffee hour in the Parish House usually follows this service. \nSunday School for kindergarten and up meets today on the second floor of the Parish House at 10:00 a.m. Students will rejoin the congregation just before Holy Communion. New to St. James’ Church? Your kids are welcome to Sunday School any Sunday. More details about St. James’ Sunday School at: https://stjameshydepark.org/for-children/
URL:https://stjameshydepark.org/event/2024-eucharist-rite-ii-10-2/2024-11-24/
LOCATION:St. James’ Episcopal Church\, 4526 Albany Post Rd.\, Hyde Park\, NY\, 12538\, United States
CATEGORIES:Worship
END:VEVENT
BEGIN:VEVENT
DTSTART;TZID=America/New_York:20241124T120000
DTEND;TZID=America/New_York:20241124T130000
DTSTAMP:20260425T063556
CREATED:20241120T220345Z
LAST-MODIFIED:20241120T220345Z
UID:10004298-1732449600-1732453200@stjameshydepark.org
SUMMARY:Graveyard Tours 2024 Post-Production Meeting
DESCRIPTION:Reflection on the 2024 Graveyard Tours is the beginning of our preparations for 2025! All actors\, volunteers\, etc. are invited to share feedback and constructive suggestions. We’ll meet right after Coffee Hour at noon on Sunday\, November 24th—either in the Wilks Room or in the Parish Hall. 
URL:https://stjameshydepark.org/event/graveyard-tours-2024-post-production-meeting/
LOCATION:St. James’ Episcopal Church\, 4526 Albany Post Rd.\, Hyde Park\, NY\, 12538\, United States
CATEGORIES:Fun
END:VEVENT
BEGIN:VEVENT
DTSTART;TZID=America/New_York:20241124T120000
DTEND;TZID=America/New_York:20241124T140000
DTSTAMP:20260425T063556
CREATED:20241029T124355Z
LAST-MODIFIED:20241115T212124Z
UID:10004220-1732449600-1732456800@stjameshydepark.org
SUMMARY:Advent Ornament Making Party (Sunday School)
DESCRIPTION:
URL:https://stjameshydepark.org/event/advent-ornament-making-party-sunday-school/
LOCATION:St. James’ Episcopal Church\, 4526 Albany Post Rd.\, Hyde Park\, NY\, 12538\, United States
ATTACH;FMTTYPE=image/png:https://stjameshydepark.org/wp-content/uploads/2024/10/Ornament-Making.png
END:VEVENT
BEGIN:VEVENT
DTSTART;TZID=America/New_York:20241124T120000
DTEND;TZID=America/New_York:20241124T150000
DTSTAMP:20260425T063556
CREATED:20241022T133732Z
LAST-MODIFIED:20241205T164301Z
UID:10004246-1732449600-1732460400@stjameshydepark.org
SUMMARY:Winter Clothing Giveaway (Chapel)
DESCRIPTION:❄️ ❄️ November 17th & 24th + December 15th: Winter Clothing Giveaway ❄️ ❄️\nWarm winter clothing for women~men~children \nSunday\, November 17th AND Sunday\, November 24th AND Sunday\, December 15th\n12-3 pm (while supplies last) \nSt. James’ Episcopal Chapel\n10 East Market Street\nHyde Park\, New York \nNEEDED: \nGently used\, warm winter clothing\, all sizes for Women\, Men and Children \nCONTACT: \nLillian\n845-282-6328\nfinallygigi22@gmail.com
URL:https://stjameshydepark.org/event/outreach-clothing-drive-chapel/2024-11-24/
LOCATION:St. James’ Chapel\, 10 East Market Street\, Hyde Park\, NY\, 12567\, United States
CATEGORIES:Outreach
END:VEVENT
BEGIN:VEVENT
DTSTART;TZID=America/New_York:20241124T183000
DTEND;TZID=America/New_York:20241124T210000
DTSTAMP:20260425T063556
CREATED:20240112T181055Z
LAST-MODIFIED:20241001T152045Z
UID:10003273-1732473000-1732482000@stjameshydepark.org
SUMMARY:AA Meeting (Parish Hall; Rm. 201)
DESCRIPTION:
URL:https://stjameshydepark.org/event/aa-meeting-parish-hall-rm-201-2/2024-11-24/
LOCATION:St. James’ Episcopal Church\, 4526 Albany Post Rd.\, Hyde Park\, NY\, 12538\, United States
CATEGORIES:General
END:VEVENT
BEGIN:VEVENT
DTSTART;TZID=America/New_York:20241124T183000
DTEND;TZID=America/New_York:20241124T220000
DTSTAMP:20260425T063556
CREATED:20230622T132525Z
LAST-MODIFIED:20240112T181743Z
UID:10002118-1732473000-1732485600@stjameshydepark.org
SUMMARY:AA Ind. Anniversary (Parish Hall)
DESCRIPTION:
URL:https://stjameshydepark.org/event/aa-ind-anniversary-parish-hall/2024-11-24/
LOCATION:St. James’ Episcopal Church\, 4526 Albany Post Rd.\, Hyde Park\, NY\, 12538\, United States
END:VEVENT
BEGIN:VEVENT
DTSTART;VALUE=DATE:20241125
DTEND;VALUE=DATE:20241126
DTSTAMP:20260425T063556
CREATED:20240112T172541Z
LAST-MODIFIED:20240112T172541Z
UID:10002996-1732492800-1732579199@stjameshydepark.org
SUMMARY:Parish Office Closed
DESCRIPTION:
URL:https://stjameshydepark.org/event/parish-office-closed-4/2024-11-25/
LOCATION:St. James’ Episcopal Church\, 4526 Albany Post Rd.\, Hyde Park\, NY\, 12538\, United States
CATEGORIES:General
END:VEVENT
END:VCALENDAR