BEGIN:VCALENDAR
VERSION:2.0
PRODID:-//St. James&#039; Episcopal Church - ECPv6.15.20//NONSGML v1.0//EN
CALSCALE:GREGORIAN
METHOD:PUBLISH
X-ORIGINAL-URL:https://stjameshydepark.org
X-WR-CALDESC:Events for St. James&#039; Episcopal Church
REFRESH-INTERVAL;VALUE=DURATION:PT1H
X-Robots-Tag:noindex
X-PUBLISHED-TTL:PT1H
BEGIN:VTIMEZONE
TZID:America/New_York
BEGIN:DAYLIGHT
TZOFFSETFROM:-0500
TZOFFSETTO:-0400
TZNAME:EDT
DTSTART:20230312T070000
END:DAYLIGHT
BEGIN:STANDARD
TZOFFSETFROM:-0400
TZOFFSETTO:-0500
TZNAME:EST
DTSTART:20231105T060000
END:STANDARD
BEGIN:DAYLIGHT
TZOFFSETFROM:-0500
TZOFFSETTO:-0400
TZNAME:EDT
DTSTART:20240310T070000
END:DAYLIGHT
BEGIN:STANDARD
TZOFFSETFROM:-0400
TZOFFSETTO:-0500
TZNAME:EST
DTSTART:20241103T060000
END:STANDARD
BEGIN:DAYLIGHT
TZOFFSETFROM:-0500
TZOFFSETTO:-0400
TZNAME:EDT
DTSTART:20250309T070000
END:DAYLIGHT
BEGIN:STANDARD
TZOFFSETFROM:-0400
TZOFFSETTO:-0500
TZNAME:EST
DTSTART:20251102T060000
END:STANDARD
END:VTIMEZONE
BEGIN:VEVENT
DTSTART;TZID=America/New_York:20240914T120000
DTEND;TZID=America/New_York:20240914T160000
DTSTAMP:20260425T081934
CREATED:20240829T160901Z
LAST-MODIFIED:20240910T155449Z
UID:10003940-1726315200-1726329600@stjameshydepark.org
SUMMARY:Hyde Park Community Day with St. James' Sunday School (Hackett Hill Park)
DESCRIPTION:Heading to Hyde Park’s annual Community Day at Hackett Hill Park on Saturday\, September 14th\, 12-4 pm? Be sure to stop by St. James’ Sunday School tent! See you there!
URL:https://stjameshydepark.org/event/hyde-park-community-day-with-st-james-sunday-school/
LOCATION:St. James’ Episcopal Church\, 4526 Albany Post Rd.\, Hyde Park\, NY\, 12538\, United States
END:VEVENT
BEGIN:VEVENT
DTSTART;TZID=America/New_York:20240914T183000
DTEND;TZID=America/New_York:20240914T193000
DTSTAMP:20260425T081934
CREATED:20240112T175527Z
LAST-MODIFIED:20240112T175653Z
UID:10003149-1726338600-1726342200@stjameshydepark.org
SUMMARY:Compline (Remote)
DESCRIPTION:
URL:https://stjameshydepark.org/event/compline-remote-3-2023-01-07-2/2024-09-14/
LOCATION:Online
CATEGORIES:Worship
END:VEVENT
BEGIN:VEVENT
DTSTART;TZID=America/New_York:20240915T080000
DTEND;TZID=America/New_York:20240915T090000
DTSTAMP:20260425T081934
CREATED:20231222T015421Z
LAST-MODIFIED:20241213T230031Z
UID:10002868-1726387200-1726390800@stjameshydepark.org
SUMMARY:Holy Eucharist (Rite I)
DESCRIPTION:Join us Sundays at 8:00 a.m. for a celebration of Holy Eucharist (Communion). This is a quiet service\, usually without music\, though we often have a soloist with acoustic guitar playing before and after the service. The service uses Rite 1 from the 1979 Book of Common Prayer\, with traditional language.
URL:https://stjameshydepark.org/event/2024-eucharist-8am/2024-09-15/
LOCATION:St. James’ Episcopal Church\, 4526 Albany Post Rd.\, Hyde Park\, NY\, 12538\, United States
CATEGORIES:Worship
END:VEVENT
BEGIN:VEVENT
DTSTART;TZID=America/New_York:20240915T100000
DTEND;TZID=America/New_York:20240915T113000
DTSTAMP:20260425T081934
CREATED:20240628T203601Z
LAST-MODIFIED:20240628T203728Z
UID:10002764-1726394400-1726399800@stjameshydepark.org
SUMMARY:Holy Eucharist (Rite II) with Sunday School and Coffee Hour
DESCRIPTION:Join us Sundays at 10:00 a.m. for a celebration of Holy Eucharist (Communion). This service has music (usually organ and choir\, along with special guest musicians) and uses a variety of prayers and language from traditional to inclusive and expansive\, drawing from Rite II of the 1979 Book of Common Prayer\, Enriching Our Worship\, and other sources. \nCoffee hour in the Parish House usually follows this service. \nSunday School for kindergarten and up meets today on the second floor of the Parish House at 10:00 a.m. Students will rejoin the congregation just before Holy Communion. New to St. James’ Church? Your kids are welcome to Sunday School any Sunday. More details about St. James’ Sunday School at: https://stjameshydepark.org/for-children/
URL:https://stjameshydepark.org/event/2024-eucharist-rite-ii-10-2/2024-09-15/
LOCATION:St. James’ Episcopal Church\, 4526 Albany Post Rd.\, Hyde Park\, NY\, 12538\, United States
CATEGORIES:Worship
END:VEVENT
BEGIN:VEVENT
DTSTART;TZID=America/New_York:20240915T183000
DTEND;TZID=America/New_York:20240915T210000
DTSTAMP:20260425T081934
CREATED:20240112T181055Z
LAST-MODIFIED:20241001T152045Z
UID:10003263-1726425000-1726434000@stjameshydepark.org
SUMMARY:AA Meeting (Parish Hall; Rm. 201)
DESCRIPTION:
URL:https://stjameshydepark.org/event/aa-meeting-parish-hall-rm-201-2/2024-09-15/
LOCATION:St. James’ Episcopal Church\, 4526 Albany Post Rd.\, Hyde Park\, NY\, 12538\, United States
CATEGORIES:General
END:VEVENT
BEGIN:VEVENT
DTSTART;VALUE=DATE:20240916
DTEND;VALUE=DATE:20240917
DTSTAMP:20260425T081934
CREATED:20240112T172541Z
LAST-MODIFIED:20240112T172541Z
UID:10002986-1726444800-1726531199@stjameshydepark.org
SUMMARY:Parish Office Closed
DESCRIPTION:
URL:https://stjameshydepark.org/event/parish-office-closed-4/2024-09-16/
LOCATION:St. James’ Episcopal Church\, 4526 Albany Post Rd.\, Hyde Park\, NY\, 12538\, United States
CATEGORIES:General
END:VEVENT
BEGIN:VEVENT
DTSTART;TZID=America/New_York:20240916T140000
DTEND;TZID=America/New_York:20240916T160000
DTSTAMP:20260425T081934
CREATED:20240112T141137Z
LAST-MODIFIED:20241009T191510Z
UID:10002933-1726495200-1726502400@stjameshydepark.org
SUMMARY:Knitters and Crafters Group (Wilks Room)
DESCRIPTION:A New Group! A community of crafters begins on Mondays starting February 5\, from 2- 4 pm (drop-in). \nAll are welcome: knitters\, crocheters\, embroiderers\, crocheters\, conversationalists and miscellaneous other activities. No particular talent required. Meet in the Wilks Room at St. James Parish Hall.
URL:https://stjameshydepark.org/event/knitters-crafters/2024-09-16/
LOCATION:St. James’ Episcopal Church\, 4526 Albany Post Rd.\, Hyde Park\, NY\, 12538\, United States
CATEGORIES:Fun
END:VEVENT
BEGIN:VEVENT
DTSTART;TZID=America/New_York:20240917T190000
DTEND;TZID=America/New_York:20240917T200000
DTSTAMP:20260425T081934
CREATED:20240112T173633Z
LAST-MODIFIED:20240216T165320Z
UID:10003049-1726599600-1726603200@stjameshydepark.org
SUMMARY:Boy Scouts Troop 80 (Parish Hall)
DESCRIPTION:
URL:https://stjameshydepark.org/event/boy-scouts-troop-80-parish-hall-rm-203-2-2/2024-09-17/
LOCATION:St. James’ Episcopal Church\, 4526 Albany Post Rd.\, Hyde Park\, NY\, 12538\, United States
CATEGORIES:General
END:VEVENT
BEGIN:VEVENT
DTSTART;TZID=America/New_York:20240918T110000
DTEND;TZID=America/New_York:20240918T120000
DTSTAMP:20260425T081934
CREATED:20240203T231706Z
LAST-MODIFIED:20240508T020856Z
UID:10003438-1726657200-1726660800@stjameshydepark.org
SUMMARY:Bible Study
DESCRIPTION:Our weekly Bible study on Zoom usually focuses on the Gospel for the upcoming Sunday and is led by Mtr. Meredith. We practice a contemplative\, prayerful style of Bible study that focuses on how God is speaking to us through our questions\, responses\, curiosities and doubts as we engage Scripture.  \nThe study is followed by a brief\, optional service of noonday prayer. \nJoin in any Wednesday at 11 am. No previous preparation is required. The Zoom link is distributed via our weekly email newsletter (or contact the parish office). \n 
URL:https://stjameshydepark.org/event/bible-study-2024/2024-09-18/
LOCATION:Online
CATEGORIES:Christian Formation
ATTACH;FMTTYPE=image/png:https://stjameshydepark.org/wp-content/uploads/2024/05/Bible-Study.png
END:VEVENT
BEGIN:VEVENT
DTSTART;TZID=America/New_York:20240918T130000
DTEND;TZID=America/New_York:20240918T143000
DTSTAMP:20260425T081934
CREATED:20240830T205858Z
LAST-MODIFIED:20240830T205858Z
UID:10003941-1726664400-1726669800@stjameshydepark.org
SUMMARY:HPAC Meeting (Wilks Room)
DESCRIPTION:
URL:https://stjameshydepark.org/event/hpac-meeting-wilks-room/
LOCATION:St. James’ Episcopal Church\, 4526 Albany Post Rd.\, Hyde Park\, NY\, 12538\, United States
END:VEVENT
BEGIN:VEVENT
DTSTART;TZID=America/New_York:20240918T183000
DTEND;TZID=America/New_York:20240918T193000
DTSTAMP:20260425T081934
CREATED:20240112T175112Z
LAST-MODIFIED:20240112T175307Z
UID:10003100-1726684200-1726687800@stjameshydepark.org
SUMMARY:Evening Prayer (Remote)
DESCRIPTION:
URL:https://stjameshydepark.org/event/evening-prayer-remote-2-2/2024-09-18/
LOCATION:Online
CATEGORIES:Worship
END:VEVENT
BEGIN:VEVENT
DTSTART;TZID=America/New_York:20240918T183000
DTEND;TZID=America/New_York:20240918T203000
DTSTAMP:20260425T081934
CREATED:20240117T191804Z
LAST-MODIFIED:20240117T193049Z
UID:10003361-1726684200-1726691400@stjameshydepark.org
SUMMARY:Outreach Meeting (Wilks Room)
DESCRIPTION:
URL:https://stjameshydepark.org/event/outreach-meeting-wilks-room/2024-09-18/
LOCATION:St. James’ Episcopal Church\, 4526 Albany Post Rd.\, Hyde Park\, NY\, 12538\, United States
CATEGORIES:Outreach
END:VEVENT
BEGIN:VEVENT
DTSTART;TZID=America/New_York:20240919T180000
DTEND;TZID=America/New_York:20240919T193000
DTSTAMP:20260425T081934
CREATED:20240927T113709Z
LAST-MODIFIED:20240927T113731Z
UID:10004089-1726768800-1726774200@stjameshydepark.org
SUMMARY:Episcopal 101 (Wilks Room & Parish Hall)
DESCRIPTION:Discover (or rediscover) our faith life together in The Episcopal Church! \nThe course will meet in the Parish Hall every Thursday from 6-7:30 pm through 10/24. You can attend the whole series or pop in on a given week. Light supper is provided. If you’re popping in\, please RSVP to Mtr. Meredith and note any dietary restrictions. You can also get a copy of that week’s reading from her in advance. \n9/12 — Welcome to the Episcopal Church\, this is who we are! \n9/19— The Bible\, and How and Why We Read It\n9/26 — God and God’s People (Theology)\n10/3 — Baptism and Christian Life\n10/10 — Eucharist and Worship\n10/17 — History\n10/24 — Prayer and Practice \nRemember this is open to everyone\, from newcomers to longtime members. New members who complete this course have the option to be formally welcomed on Sunday\, October 27th when we celebrate our patronal feast day\, St. James’ of Jerusalem.
URL:https://stjameshydepark.org/event/episcopal-101/2024-09-19/
LOCATION:St. James’ Episcopal Church\, 4526 Albany Post Rd.\, Hyde Park\, NY\, 12538\, United States
CATEGORIES:Christian Formation
END:VEVENT
BEGIN:VEVENT
DTSTART;TZID=America/New_York:20240920T120000
DTEND;TZID=America/New_York:20240920T210000
DTSTAMP:20260425T081934
CREATED:20240828T195637Z
LAST-MODIFIED:20240828T195637Z
UID:10003937-1726833600-1726866000@stjameshydepark.org
SUMMARY:Harvest Dinner Setup (Parish Hall)
DESCRIPTION:
URL:https://stjameshydepark.org/event/harvest-dinner-setup-parish-hall/
LOCATION:HP Farmers Market
CATEGORIES:Community Garden
END:VEVENT
BEGIN:VEVENT
DTSTART;TZID=America/New_York:20240920T170000
DTEND;TZID=America/New_York:20240920T190000
DTSTAMP:20260425T081934
CREATED:20240214T185526Z
LAST-MODIFIED:20240914T013834Z
UID:10003473-1726851600-1726858800@stjameshydepark.org
SUMMARY:Community Garden Harvest Dinner (Parish Hall)
DESCRIPTION:Join us from 5-7 pm on Friday\, September 20th for a fabulous chef-prepared meal in the Parish Hall featuring veggies fresh from our Community Garden! Menu created by Claude Geuermont\, HP Community gardener and chef of the former + beloved Le Pavillion restaurant in Poughkeepsie. Tickets  available through the parish office—please call 845-229-2820 to reserve (leave a voicemail outside of office hours). Cost is $18\, $12 for children 10-17\, and $5 for kids under 10. All proceeds benefit the Hyde Park Community Garden at St. James’ Church. \n 
URL:https://stjameshydepark.org/event/harvest-dinner-2024/
LOCATION:St. James’ Episcopal Church\, 4526 Albany Post Rd.\, Hyde Park\, NY\, 12538\, United States
CATEGORIES:Community Garden,Fun,Outreach
ATTACH;FMTTYPE=image/jpeg:https://stjameshydepark.org/wp-content/uploads/2024/02/Fall-Harvest-DInner.jpg
END:VEVENT
BEGIN:VEVENT
DTSTART;TZID=America/New_York:20240921T183000
DTEND;TZID=America/New_York:20240921T193000
DTSTAMP:20260425T081934
CREATED:20240112T175527Z
LAST-MODIFIED:20240112T175653Z
UID:10003150-1726943400-1726947000@stjameshydepark.org
SUMMARY:Compline (Remote)
DESCRIPTION:
URL:https://stjameshydepark.org/event/compline-remote-3-2023-01-07-2/2024-09-21/
LOCATION:Online
CATEGORIES:Worship
END:VEVENT
BEGIN:VEVENT
DTSTART;TZID=America/New_York:20240922T080000
DTEND;TZID=America/New_York:20240922T090000
DTSTAMP:20260425T081934
CREATED:20231222T015421Z
LAST-MODIFIED:20241213T230031Z
UID:10002869-1726992000-1726995600@stjameshydepark.org
SUMMARY:Holy Eucharist (Rite I)
DESCRIPTION:Join us Sundays at 8:00 a.m. for a celebration of Holy Eucharist (Communion). This is a quiet service\, usually without music\, though we often have a soloist with acoustic guitar playing before and after the service. The service uses Rite 1 from the 1979 Book of Common Prayer\, with traditional language.
URL:https://stjameshydepark.org/event/2024-eucharist-8am/2024-09-22/
LOCATION:St. James’ Episcopal Church\, 4526 Albany Post Rd.\, Hyde Park\, NY\, 12538\, United States
CATEGORIES:Worship
END:VEVENT
BEGIN:VEVENT
DTSTART;TZID=America/New_York:20240922T100000
DTEND;TZID=America/New_York:20240922T113000
DTSTAMP:20260425T081934
CREATED:20240628T203601Z
LAST-MODIFIED:20240628T203728Z
UID:10002765-1726999200-1727004600@stjameshydepark.org
SUMMARY:Holy Eucharist (Rite II) with Sunday School and Coffee Hour
DESCRIPTION:Join us Sundays at 10:00 a.m. for a celebration of Holy Eucharist (Communion). This service has music (usually organ and choir\, along with special guest musicians) and uses a variety of prayers and language from traditional to inclusive and expansive\, drawing from Rite II of the 1979 Book of Common Prayer\, Enriching Our Worship\, and other sources. \nCoffee hour in the Parish House usually follows this service. \nSunday School for kindergarten and up meets today on the second floor of the Parish House at 10:00 a.m. Students will rejoin the congregation just before Holy Communion. New to St. James’ Church? Your kids are welcome to Sunday School any Sunday. More details about St. James’ Sunday School at: https://stjameshydepark.org/for-children/
URL:https://stjameshydepark.org/event/2024-eucharist-rite-ii-10-2/2024-09-22/
LOCATION:St. James’ Episcopal Church\, 4526 Albany Post Rd.\, Hyde Park\, NY\, 12538\, United States
CATEGORIES:Worship
END:VEVENT
BEGIN:VEVENT
DTSTART;TZID=America/New_York:20240922T183000
DTEND;TZID=America/New_York:20240922T210000
DTSTAMP:20260425T081934
CREATED:20240112T181055Z
LAST-MODIFIED:20241001T152045Z
UID:10003264-1727029800-1727038800@stjameshydepark.org
SUMMARY:AA Meeting (Parish Hall; Rm. 201)
DESCRIPTION:
URL:https://stjameshydepark.org/event/aa-meeting-parish-hall-rm-201-2/2024-09-22/
LOCATION:St. James’ Episcopal Church\, 4526 Albany Post Rd.\, Hyde Park\, NY\, 12538\, United States
CATEGORIES:General
END:VEVENT
BEGIN:VEVENT
DTSTART;VALUE=DATE:20240923
DTEND;VALUE=DATE:20240924
DTSTAMP:20260425T081934
CREATED:20240112T172541Z
LAST-MODIFIED:20240112T172541Z
UID:10002987-1727049600-1727135999@stjameshydepark.org
SUMMARY:Parish Office Closed
DESCRIPTION:
URL:https://stjameshydepark.org/event/parish-office-closed-4/2024-09-23/
LOCATION:St. James’ Episcopal Church\, 4526 Albany Post Rd.\, Hyde Park\, NY\, 12538\, United States
CATEGORIES:General
END:VEVENT
BEGIN:VEVENT
DTSTART;TZID=America/New_York:20240923T140000
DTEND;TZID=America/New_York:20240923T160000
DTSTAMP:20260425T081934
CREATED:20240112T141137Z
LAST-MODIFIED:20241009T191510Z
UID:10002934-1727100000-1727107200@stjameshydepark.org
SUMMARY:Knitters and Crafters Group (Wilks Room)
DESCRIPTION:A New Group! A community of crafters begins on Mondays starting February 5\, from 2- 4 pm (drop-in). \nAll are welcome: knitters\, crocheters\, embroiderers\, crocheters\, conversationalists and miscellaneous other activities. No particular talent required. Meet in the Wilks Room at St. James Parish Hall.
URL:https://stjameshydepark.org/event/knitters-crafters/2024-09-23/
LOCATION:St. James’ Episcopal Church\, 4526 Albany Post Rd.\, Hyde Park\, NY\, 12538\, United States
CATEGORIES:Fun
END:VEVENT
BEGIN:VEVENT
DTSTART;TZID=America/New_York:20240923T180000
DTEND;TZID=America/New_York:20240923T180000
DTSTAMP:20260425T081934
CREATED:20240905T200117Z
LAST-MODIFIED:20240905T200213Z
UID:10003946-1727114400-1727114400@stjameshydepark.org
SUMMARY:Men's Gathering at Antonella's Restaurant
DESCRIPTION:All welcome! Join in Monday\, September 23rd at 6 pm in the back room of Antonella’s Restaurant. Questions? Please see Joe Gasparini (call/text 845-475-4717) or Mike Glancey.
URL:https://stjameshydepark.org/event/mens-gathering-at-antonellas-restaurant/
LOCATION:Antonella’s Restaurant\, Hyde Park\, NY\, 4246 Albany Post Rd #1700\, Hyde Park\, NY\, 12538\, United States
CATEGORIES:Fun
END:VEVENT
BEGIN:VEVENT
DTSTART;TZID=America/New_York:20240924T190000
DTEND;TZID=America/New_York:20240924T200000
DTSTAMP:20260425T081934
CREATED:20240112T173633Z
LAST-MODIFIED:20240216T165320Z
UID:10003050-1727204400-1727208000@stjameshydepark.org
SUMMARY:Boy Scouts Troop 80 (Parish Hall)
DESCRIPTION:
URL:https://stjameshydepark.org/event/boy-scouts-troop-80-parish-hall-rm-203-2-2/2024-09-24/
LOCATION:St. James’ Episcopal Church\, 4526 Albany Post Rd.\, Hyde Park\, NY\, 12538\, United States
CATEGORIES:General
END:VEVENT
BEGIN:VEVENT
DTSTART;TZID=America/New_York:20240924T190000
DTEND;TZID=America/New_York:20240924T200000
DTSTAMP:20260425T081934
CREATED:20240718T140231Z
LAST-MODIFIED:20240920T153334Z
UID:10003894-1727204400-1727208000@stjameshydepark.org
SUMMARY:Election Season Book Study: "I Never Thought of it That Way" by Monica Guzman (Wilks Room)
DESCRIPTION:We’re reading I Never Thought of it That Way\, Monica Guzman’s manual for having “fearlessly curious conversations” in dangerously divided times. Three-part book study meets Tuesdays at 7pm\, 9/24\, 10/8\, and 10/22 in the Wilks Room in our Parish House. Come to the first session even if you’ve not yet started reading! \nReading schedule: \n9/24—Intro\, Part 1: SOS\, Part 2: Curiosity\n10/8—Part 3: People\, Part 4: Paths\n10/22—Part V: Honesty\, Epilogue
URL:https://stjameshydepark.org/event/election-book-study/2024-09-24/
LOCATION:St. James’ Episcopal Church\, 4526 Albany Post Rd.\, Hyde Park\, NY\, 12538\, United States
CATEGORIES:Christian Formation
ATTACH;FMTTYPE=image/jpeg:https://stjameshydepark.org/wp-content/uploads/2024/07/Election-Season-Book-Study.jpg
END:VEVENT
BEGIN:VEVENT
DTSTART;TZID=America/New_York:20240925T110000
DTEND;TZID=America/New_York:20240925T114500
DTSTAMP:20260425T081934
CREATED:20240919T141351Z
LAST-MODIFIED:20240919T141351Z
UID:10004069-1727262000-1727264700@stjameshydepark.org
SUMMARY:ADP Payroll Training
DESCRIPTION:
URL:https://stjameshydepark.org/event/adp-payroll-training/
LOCATION:St. James’ Episcopal Church\, 4526 Albany Post Rd.\, Hyde Park\, NY\, 12538\, United States
END:VEVENT
BEGIN:VEVENT
DTSTART;TZID=America/New_York:20240925T110000
DTEND;TZID=America/New_York:20240925T120000
DTSTAMP:20260425T081934
CREATED:20240203T231706Z
LAST-MODIFIED:20240508T020856Z
UID:10003439-1727262000-1727265600@stjameshydepark.org
SUMMARY:Bible Study
DESCRIPTION:Our weekly Bible study on Zoom usually focuses on the Gospel for the upcoming Sunday and is led by Mtr. Meredith. We practice a contemplative\, prayerful style of Bible study that focuses on how God is speaking to us through our questions\, responses\, curiosities and doubts as we engage Scripture.  \nThe study is followed by a brief\, optional service of noonday prayer. \nJoin in any Wednesday at 11 am. No previous preparation is required. The Zoom link is distributed via our weekly email newsletter (or contact the parish office). \n 
URL:https://stjameshydepark.org/event/bible-study-2024/2024-09-25/
LOCATION:Online
CATEGORIES:Christian Formation
ATTACH;FMTTYPE=image/png:https://stjameshydepark.org/wp-content/uploads/2024/05/Bible-Study.png
END:VEVENT
BEGIN:VEVENT
DTSTART;TZID=America/New_York:20240925T120000
DTEND;TZID=America/New_York:20240925T143000
DTSTAMP:20260425T081934
CREATED:20240903T152046Z
LAST-MODIFIED:20240903T152046Z
UID:10003944-1727265600-1727274600@stjameshydepark.org
SUMMARY:Computer
DESCRIPTION:
URL:https://stjameshydepark.org/event/computer/
LOCATION:St. James’ Episcopal Church\, 4526 Albany Post Rd.\, Hyde Park\, NY\, 12538\, United States
END:VEVENT
BEGIN:VEVENT
DTSTART;TZID=America/New_York:20240925T183000
DTEND;TZID=America/New_York:20240925T193000
DTSTAMP:20260425T081934
CREATED:20240112T175112Z
LAST-MODIFIED:20240112T175307Z
UID:10003101-1727289000-1727292600@stjameshydepark.org
SUMMARY:Evening Prayer (Remote)
DESCRIPTION:
URL:https://stjameshydepark.org/event/evening-prayer-remote-2-2/2024-09-25/
LOCATION:Online
CATEGORIES:Worship
END:VEVENT
BEGIN:VEVENT
DTSTART;TZID=America/New_York:20240925T190000
DTEND;TZID=America/New_York:20240925T210000
DTSTAMP:20260425T081934
CREATED:20240117T162621Z
LAST-MODIFIED:20240117T211034Z
UID:10003346-1727290800-1727298000@stjameshydepark.org
SUMMARY:Vestry Meeting (Wilks Room)
DESCRIPTION:
URL:https://stjameshydepark.org/event/vestry-meetings-2024/2024-09-25/
LOCATION:St. James’ Episcopal Church\, 4526 Albany Post Rd.\, Hyde Park\, NY\, 12538\, United States
CATEGORIES:General
END:VEVENT
BEGIN:VEVENT
DTSTART;TZID=America/New_York:20240926T180000
DTEND;TZID=America/New_York:20240926T193000
DTSTAMP:20260425T081934
CREATED:20240927T113709Z
LAST-MODIFIED:20240927T113731Z
UID:10004090-1727373600-1727379000@stjameshydepark.org
SUMMARY:Episcopal 101 (Wilks Room & Parish Hall)
DESCRIPTION:Discover (or rediscover) our faith life together in The Episcopal Church! \nThe course will meet in the Parish Hall every Thursday from 6-7:30 pm through 10/24. You can attend the whole series or pop in on a given week. Light supper is provided. If you’re popping in\, please RSVP to Mtr. Meredith and note any dietary restrictions. You can also get a copy of that week’s reading from her in advance. \n9/12 — Welcome to the Episcopal Church\, this is who we are! \n9/19— The Bible\, and How and Why We Read It\n9/26 — God and God’s People (Theology)\n10/3 — Baptism and Christian Life\n10/10 — Eucharist and Worship\n10/17 — History\n10/24 — Prayer and Practice \nRemember this is open to everyone\, from newcomers to longtime members. New members who complete this course have the option to be formally welcomed on Sunday\, October 27th when we celebrate our patronal feast day\, St. James’ of Jerusalem.
URL:https://stjameshydepark.org/event/episcopal-101/2024-09-26/
LOCATION:St. James’ Episcopal Church\, 4526 Albany Post Rd.\, Hyde Park\, NY\, 12538\, United States
CATEGORIES:Christian Formation
END:VEVENT
END:VCALENDAR