BEGIN:VCALENDAR
VERSION:2.0
PRODID:-//St. James&#039; Episcopal Church - ECPv6.15.20//NONSGML v1.0//EN
CALSCALE:GREGORIAN
METHOD:PUBLISH
X-ORIGINAL-URL:https://stjameshydepark.org
X-WR-CALDESC:Events for St. James&#039; Episcopal Church
REFRESH-INTERVAL;VALUE=DURATION:PT1H
X-Robots-Tag:noindex
X-PUBLISHED-TTL:PT1H
BEGIN:VTIMEZONE
TZID:America/New_York
BEGIN:DAYLIGHT
TZOFFSETFROM:-0500
TZOFFSETTO:-0400
TZNAME:EDT
DTSTART:20230312T070000
END:DAYLIGHT
BEGIN:STANDARD
TZOFFSETFROM:-0400
TZOFFSETTO:-0500
TZNAME:EST
DTSTART:20231105T060000
END:STANDARD
BEGIN:DAYLIGHT
TZOFFSETFROM:-0500
TZOFFSETTO:-0400
TZNAME:EDT
DTSTART:20240310T070000
END:DAYLIGHT
BEGIN:STANDARD
TZOFFSETFROM:-0400
TZOFFSETTO:-0500
TZNAME:EST
DTSTART:20241103T060000
END:STANDARD
BEGIN:DAYLIGHT
TZOFFSETFROM:-0500
TZOFFSETTO:-0400
TZNAME:EDT
DTSTART:20250309T070000
END:DAYLIGHT
BEGIN:STANDARD
TZOFFSETFROM:-0400
TZOFFSETTO:-0500
TZNAME:EST
DTSTART:20251102T060000
END:STANDARD
END:VTIMEZONE
BEGIN:VEVENT
DTSTART;TZID=America/New_York:20240825T080000
DTEND;TZID=America/New_York:20240825T090000
DTSTAMP:20260425T081931
CREATED:20231222T015421Z
LAST-MODIFIED:20241213T230031Z
UID:10002865-1724572800-1724576400@stjameshydepark.org
SUMMARY:Holy Eucharist (Rite I)
DESCRIPTION:Join us Sundays at 8:00 a.m. for a celebration of Holy Eucharist (Communion). This is a quiet service\, usually without music\, though we often have a soloist with acoustic guitar playing before and after the service. The service uses Rite 1 from the 1979 Book of Common Prayer\, with traditional language.
URL:https://stjameshydepark.org/event/2024-eucharist-8am/2024-08-25/
LOCATION:St. James’ Episcopal Church\, 4526 Albany Post Rd.\, Hyde Park\, NY\, 12538\, United States
CATEGORIES:Worship
END:VEVENT
BEGIN:VEVENT
DTSTART;TZID=America/New_York:20240825T100000
DTEND;TZID=America/New_York:20240825T113000
DTSTAMP:20260425T081931
CREATED:20240808T001305Z
LAST-MODIFIED:20240808T001305Z
UID:10002761-1724580000-1724585400@stjameshydepark.org
SUMMARY:Holy Eucharist (Rite II) followed by Coffee Hour
DESCRIPTION:Join us Sundays at 10:00 a.m. for a celebration of Holy Eucharist (Communion). This service has music (usually organ and choir\, along with special guest musicians) and uses a variety of prayers and language from traditional to inclusive and expansive\, drawing from Rite II of the 1979 Book of Common Prayer\, Enriching Our Worship\, and other sources. \nOn Sunday\, August 25th we’ll be joined by the people of St. Margaret’s Staatsburg for a combined service. A light summer coffee hour will follow the service.
URL:https://stjameshydepark.org/event/2024-eucharist-rite-ii-10-4/
LOCATION:St. James’ Episcopal Church\, 4526 Albany Post Rd.\, Hyde Park\, NY\, 12538\, United States
CATEGORIES:Worship
END:VEVENT
BEGIN:VEVENT
DTSTART;TZID=America/New_York:20240825T183000
DTEND;TZID=America/New_York:20240825T220000
DTSTAMP:20260425T081931
CREATED:20230622T132525Z
LAST-MODIFIED:20240112T181743Z
UID:10002115-1724610600-1724623200@stjameshydepark.org
SUMMARY:AA Ind. Anniversary (Parish Hall)
DESCRIPTION:
URL:https://stjameshydepark.org/event/aa-ind-anniversary-parish-hall/2024-08-25/
LOCATION:St. James’ Episcopal Church\, 4526 Albany Post Rd.\, Hyde Park\, NY\, 12538\, United States
END:VEVENT
BEGIN:VEVENT
DTSTART;VALUE=DATE:20240826
DTEND;VALUE=DATE:20240827
DTSTAMP:20260425T081931
CREATED:20240112T172541Z
LAST-MODIFIED:20240112T172541Z
UID:10002983-1724630400-1724716799@stjameshydepark.org
SUMMARY:Parish Office Closed
DESCRIPTION:
URL:https://stjameshydepark.org/event/parish-office-closed-4/2024-08-26/
LOCATION:St. James’ Episcopal Church\, 4526 Albany Post Rd.\, Hyde Park\, NY\, 12538\, United States
CATEGORIES:General
END:VEVENT
BEGIN:VEVENT
DTSTART;TZID=America/New_York:20240826T140000
DTEND;TZID=America/New_York:20240826T160000
DTSTAMP:20260425T081931
CREATED:20240112T141137Z
LAST-MODIFIED:20241009T191510Z
UID:10002930-1724680800-1724688000@stjameshydepark.org
SUMMARY:Knitters and Crafters Group (Wilks Room)
DESCRIPTION:A New Group! A community of crafters begins on Mondays starting February 5\, from 2- 4 pm (drop-in). \nAll are welcome: knitters\, crocheters\, embroiderers\, crocheters\, conversationalists and miscellaneous other activities. No particular talent required. Meet in the Wilks Room at St. James Parish Hall.
URL:https://stjameshydepark.org/event/knitters-crafters/2024-08-26/
LOCATION:St. James’ Episcopal Church\, 4526 Albany Post Rd.\, Hyde Park\, NY\, 12538\, United States
CATEGORIES:Fun
END:VEVENT
BEGIN:VEVENT
DTSTART;TZID=America/New_York:20240826T180000
DTEND;TZID=America/New_York:20240826T200000
DTSTAMP:20260425T081931
CREATED:20240807T154933Z
LAST-MODIFIED:20240807T200715Z
UID:10003911-1724695200-1724702400@stjameshydepark.org
SUMMARY:Men's Gathering (Antonella's)
DESCRIPTION:All welcome! Join in Monday\, August 26th at 6 pm in the back room of Antonella’s Restaurant. Questions? Please see Joe Gasparini (call/text 845-475-4717) or Mike Glancey.
URL:https://stjameshydepark.org/event/mens-gathering-antonellas/
LOCATION:Antonella’s Restaurant\, Hyde Park\, NY\, 4246 Albany Post Rd #1700\, Hyde Park\, NY\, 12538\, United States
END:VEVENT
BEGIN:VEVENT
DTSTART;TZID=America/New_York:20240828T110000
DTEND;TZID=America/New_York:20240828T120000
DTSTAMP:20260425T081931
CREATED:20240827T164525Z
LAST-MODIFIED:20240827T164541Z
UID:10003435-1724842800-1724846400@stjameshydepark.org
SUMMARY:No Bible Study this week
DESCRIPTION:There is no Bible Study on August 28th. See you on Wednesday\, September 7th!  \nAbout Bible Study at St. James’ Church:  \nOur weekly Bible study on Zoom usually focuses on the Gospel for the upcoming Sunday and is led by Mtr. Meredith. We practice a contemplative\, prayerful style of Bible study that focuses on how God is speaking to us through our questions\, responses\, curiosities and doubts as we engage Scripture.  \nThe study is followed by a brief\, optional service of noonday prayer. \nJoin in any Wednesday at 11 am. No previous preparation is required. The Zoom link is distributed via our weekly email newsletter (or contact the parish office). \n 
URL:https://stjameshydepark.org/event/bible-study-2024-08-28/
LOCATION:Online
CATEGORIES:Christian Formation
ATTACH;FMTTYPE=image/png:https://stjameshydepark.org/wp-content/uploads/2024/05/Bible-Study.png
END:VEVENT
BEGIN:VEVENT
DTSTART;TZID=America/New_York:20240828T183000
DTEND;TZID=America/New_York:20240828T193000
DTSTAMP:20260425T081931
CREATED:20240112T175112Z
LAST-MODIFIED:20240112T175307Z
UID:10003097-1724869800-1724873400@stjameshydepark.org
SUMMARY:Evening Prayer (Remote)
DESCRIPTION:
URL:https://stjameshydepark.org/event/evening-prayer-remote-2-2/2024-08-28/
LOCATION:Online
CATEGORIES:Worship
END:VEVENT
BEGIN:VEVENT
DTSTART;TZID=America/New_York:20240831T183000
DTEND;TZID=America/New_York:20240831T193000
DTSTAMP:20260425T081931
CREATED:20240112T175527Z
LAST-MODIFIED:20240112T175653Z
UID:10003147-1725129000-1725132600@stjameshydepark.org
SUMMARY:Compline (Remote)
DESCRIPTION:
URL:https://stjameshydepark.org/event/compline-remote-3-2023-01-07-2/2024-08-31/
LOCATION:Online
CATEGORIES:Worship
END:VEVENT
BEGIN:VEVENT
DTSTART;TZID=America/New_York:20240901T080000
DTEND;TZID=America/New_York:20240901T090000
DTSTAMP:20260425T081931
CREATED:20231222T015421Z
LAST-MODIFIED:20241213T230031Z
UID:10002866-1725177600-1725181200@stjameshydepark.org
SUMMARY:Holy Eucharist (Rite I)
DESCRIPTION:Join us Sundays at 8:00 a.m. for a celebration of Holy Eucharist (Communion). This is a quiet service\, usually without music\, though we often have a soloist with acoustic guitar playing before and after the service. The service uses Rite 1 from the 1979 Book of Common Prayer\, with traditional language.
URL:https://stjameshydepark.org/event/2024-eucharist-8am/2024-09-01/
LOCATION:St. James’ Episcopal Church\, 4526 Albany Post Rd.\, Hyde Park\, NY\, 12538\, United States
CATEGORIES:Worship
END:VEVENT
BEGIN:VEVENT
DTSTART;TZID=America/New_York:20240901T091500
DTEND;TZID=America/New_York:20240901T094500
DTSTAMP:20260425T081931
CREATED:20240415T115702Z
LAST-MODIFIED:20240415T115712Z
UID:10003695-1725182100-1725183900@stjameshydepark.org
SUMMARY:"Mary Strong" Rosary Prayer Group
DESCRIPTION:The “Mary Strong” rosary prayer group meets on the first Sunday of each month. We meet in the Church at 9:15 between our 8 and 10 am services. All are welcome! \nNever prayed the rosary before? No problem! This group will teach you everything you need to know. \nYes\, Episcopalians can and do pray the rosary! Just as we ask our friends to pray for us\, we can ask the saints—that great cloud of witnesses—to intercede on our behalf. Praying the rosary draws us close to the heart of St. Mary the God-bearer as we meditate on Jesus’ ministry\, crucifixion\, resurrection and ascension.
URL:https://stjameshydepark.org/event/rosary-prayer-group-2/2024-09-01/
LOCATION:St. James’ Episcopal Church\, 4526 Albany Post Rd.\, Hyde Park\, NY\, 12538\, United States
CATEGORIES:Christian Formation,Worship
END:VEVENT
BEGIN:VEVENT
DTSTART;TZID=America/New_York:20240901T100000
DTEND;TZID=America/New_York:20240901T113000
DTSTAMP:20260425T081931
CREATED:20240829T144257Z
LAST-MODIFIED:20240829T145131Z
UID:10002762-1725184800-1725190200@stjameshydepark.org
SUMMARY:Holy Eucharist (Rite II) followed by Coffee Hour (Summer—No Sunday School)
DESCRIPTION:Join us Sundays at 10:00 a.m. for a celebration of Holy Eucharist (Communion). This service has music (usually organ and choir\, along with special guest musicians) and uses a variety of prayers and language from traditional to inclusive and expansive\, drawing from Rite II of the 1979 Book of Common Prayer\, Enriching Our Worship\, and other sources. \nPlease join us for Coffee Hour after the service in our parish hall! \nSunday School is on haitus for the summer.
URL:https://stjameshydepark.org/event/2024-eucharist-rite-ii-10-5/
LOCATION:St. James’ Episcopal Church\, 4526 Albany Post Rd.\, Hyde Park\, NY\, 12538\, United States
CATEGORIES:Worship
END:VEVENT
BEGIN:VEVENT
DTSTART;TZID=America/New_York:20240901T183000
DTEND;TZID=America/New_York:20240901T210000
DTSTAMP:20260425T081931
CREATED:20240112T181055Z
LAST-MODIFIED:20241001T152045Z
UID:10003261-1725215400-1725224400@stjameshydepark.org
SUMMARY:AA Meeting (Parish Hall; Rm. 201)
DESCRIPTION:
URL:https://stjameshydepark.org/event/aa-meeting-parish-hall-rm-201-2/2024-09-01/
LOCATION:St. James’ Episcopal Church\, 4526 Albany Post Rd.\, Hyde Park\, NY\, 12538\, United States
CATEGORIES:General
END:VEVENT
BEGIN:VEVENT
DTSTART;VALUE=DATE:20240902
DTEND;VALUE=DATE:20240903
DTSTAMP:20260425T081931
CREATED:20240112T172541Z
LAST-MODIFIED:20240112T172541Z
UID:10002984-1725235200-1725321599@stjameshydepark.org
SUMMARY:Parish Office Closed
DESCRIPTION:
URL:https://stjameshydepark.org/event/parish-office-closed-4/2024-09-02/
LOCATION:St. James’ Episcopal Church\, 4526 Albany Post Rd.\, Hyde Park\, NY\, 12538\, United States
CATEGORIES:General
END:VEVENT
BEGIN:VEVENT
DTSTART;TZID=America/New_York:20240903T183000
DTEND;TZID=America/New_York:20240903T203000
DTSTAMP:20260425T081931
CREATED:20240829T145020Z
LAST-MODIFIED:20240829T145020Z
UID:10003938-1725388200-1725395400@stjameshydepark.org
SUMMARY:Finance Committee (Wilks Room)
DESCRIPTION:
URL:https://stjameshydepark.org/event/finance-committee-wilks-room/
LOCATION:St. James’ Episcopal Church\, 4526 Albany Post Rd.\, Hyde Park\, NY\, 12538\, United States
END:VEVENT
BEGIN:VEVENT
DTSTART;TZID=America/New_York:20240904T110000
DTEND;TZID=America/New_York:20240904T120000
DTSTAMP:20260425T081931
CREATED:20240203T231706Z
LAST-MODIFIED:20240508T020856Z
UID:10003436-1725447600-1725451200@stjameshydepark.org
SUMMARY:Bible Study
DESCRIPTION:Our weekly Bible study on Zoom usually focuses on the Gospel for the upcoming Sunday and is led by Mtr. Meredith. We practice a contemplative\, prayerful style of Bible study that focuses on how God is speaking to us through our questions\, responses\, curiosities and doubts as we engage Scripture.  \nThe study is followed by a brief\, optional service of noonday prayer. \nJoin in any Wednesday at 11 am. No previous preparation is required. The Zoom link is distributed via our weekly email newsletter (or contact the parish office). \n 
URL:https://stjameshydepark.org/event/bible-study-2024/2024-09-04/
LOCATION:Online
CATEGORIES:Christian Formation
ATTACH;FMTTYPE=image/png:https://stjameshydepark.org/wp-content/uploads/2024/05/Bible-Study.png
END:VEVENT
BEGIN:VEVENT
DTSTART;TZID=America/New_York:20240904T183000
DTEND;TZID=America/New_York:20240904T193000
DTSTAMP:20260425T081931
CREATED:20240112T175112Z
LAST-MODIFIED:20240112T175307Z
UID:10003098-1725474600-1725478200@stjameshydepark.org
SUMMARY:Evening Prayer (Remote)
DESCRIPTION:
URL:https://stjameshydepark.org/event/evening-prayer-remote-2-2/2024-09-04/
LOCATION:Online
CATEGORIES:Worship
END:VEVENT
BEGIN:VEVENT
DTSTART;TZID=America/New_York:20240905T170000
DTEND;TZID=America/New_York:20240905T210000
DTSTAMP:20260425T081931
CREATED:20240726T164922Z
LAST-MODIFIED:20240726T164922Z
UID:10003899-1725555600-1725570000@stjameshydepark.org
SUMMARY:OPWDD Dance (Parish Hall)
DESCRIPTION:
URL:https://stjameshydepark.org/event/opwdd-dance-parish-hall/
LOCATION:St. James’ Episcopal Church\, 4526 Albany Post Rd.\, Hyde Park\, NY\, 12538\, United States
END:VEVENT
BEGIN:VEVENT
DTSTART;TZID=America/New_York:20240907T183000
DTEND;TZID=America/New_York:20240907T193000
DTSTAMP:20260425T081931
CREATED:20240112T175527Z
LAST-MODIFIED:20240112T175653Z
UID:10003148-1725733800-1725737400@stjameshydepark.org
SUMMARY:Compline (Remote)
DESCRIPTION:
URL:https://stjameshydepark.org/event/compline-remote-3-2023-01-07-2/2024-09-07/
LOCATION:Online
CATEGORIES:Worship
END:VEVENT
BEGIN:VEVENT
DTSTART;TZID=America/New_York:20240908T080000
DTEND;TZID=America/New_York:20240908T090000
DTSTAMP:20260425T081931
CREATED:20231222T015421Z
LAST-MODIFIED:20241213T230031Z
UID:10002867-1725782400-1725786000@stjameshydepark.org
SUMMARY:Holy Eucharist (Rite I)
DESCRIPTION:Join us Sundays at 8:00 a.m. for a celebration of Holy Eucharist (Communion). This is a quiet service\, usually without music\, though we often have a soloist with acoustic guitar playing before and after the service. The service uses Rite 1 from the 1979 Book of Common Prayer\, with traditional language.
URL:https://stjameshydepark.org/event/2024-eucharist-8am/2024-09-08/
LOCATION:St. James’ Episcopal Church\, 4526 Albany Post Rd.\, Hyde Park\, NY\, 12538\, United States
CATEGORIES:Worship
END:VEVENT
BEGIN:VEVENT
DTSTART;TZID=America/New_York:20240908T100000
DTEND;TZID=America/New_York:20240908T113000
DTSTAMP:20260425T081931
CREATED:20240628T203601Z
LAST-MODIFIED:20240628T203728Z
UID:10002763-1725789600-1725795000@stjameshydepark.org
SUMMARY:Holy Eucharist (Rite II) with Sunday School and Coffee Hour
DESCRIPTION:Join us Sundays at 10:00 a.m. for a celebration of Holy Eucharist (Communion). This service has music (usually organ and choir\, along with special guest musicians) and uses a variety of prayers and language from traditional to inclusive and expansive\, drawing from Rite II of the 1979 Book of Common Prayer\, Enriching Our Worship\, and other sources. \nCoffee hour in the Parish House usually follows this service. \nSunday School for kindergarten and up meets today on the second floor of the Parish House at 10:00 a.m. Students will rejoin the congregation just before Holy Communion. New to St. James’ Church? Your kids are welcome to Sunday School any Sunday. More details about St. James’ Sunday School at: https://stjameshydepark.org/for-children/
URL:https://stjameshydepark.org/event/2024-eucharist-rite-ii-10-2/2024-09-08/
LOCATION:St. James’ Episcopal Church\, 4526 Albany Post Rd.\, Hyde Park\, NY\, 12538\, United States
CATEGORIES:Worship
END:VEVENT
BEGIN:VEVENT
DTSTART;TZID=America/New_York:20240908T100000
DTEND;TZID=America/New_York:20240908T113000
DTSTAMP:20260425T081931
CREATED:20240829T145042Z
LAST-MODIFIED:20240829T145042Z
UID:10003939-1725789600-1725795000@stjameshydepark.org
SUMMARY:Blessing of the Backpacks
DESCRIPTION:On Sunday\, September 8th (Sunday after Labor Day)\, we’re inviting students and educators of every age to bring your backpack\, bag\, or briefcase to church for a special blessing at our 10 am service!
URL:https://stjameshydepark.org/event/blessing-of-the-backpacks/
LOCATION:St. James’ Episcopal Church\, 4526 Albany Post Rd.\, Hyde Park\, NY\, 12538\, United States
CATEGORIES:Fun,Kids & Youth,Worship
ATTACH;FMTTYPE=image/png:https://stjameshydepark.org/wp-content/uploads/2024/08/Backpack-Blessing-2024.png
END:VEVENT
BEGIN:VEVENT
DTSTART;TZID=America/New_York:20240908T183000
DTEND;TZID=America/New_York:20240908T210000
DTSTAMP:20260425T081931
CREATED:20240112T181055Z
LAST-MODIFIED:20241001T152045Z
UID:10003262-1725820200-1725829200@stjameshydepark.org
SUMMARY:AA Meeting (Parish Hall; Rm. 201)
DESCRIPTION:
URL:https://stjameshydepark.org/event/aa-meeting-parish-hall-rm-201-2/2024-09-08/
LOCATION:St. James’ Episcopal Church\, 4526 Albany Post Rd.\, Hyde Park\, NY\, 12538\, United States
CATEGORIES:General
END:VEVENT
BEGIN:VEVENT
DTSTART;VALUE=DATE:20240909
DTEND;VALUE=DATE:20240910
DTSTAMP:20260425T081931
CREATED:20240112T172541Z
LAST-MODIFIED:20240112T172541Z
UID:10002985-1725840000-1725926399@stjameshydepark.org
SUMMARY:Parish Office Closed
DESCRIPTION:
URL:https://stjameshydepark.org/event/parish-office-closed-4/2024-09-09/
LOCATION:St. James’ Episcopal Church\, 4526 Albany Post Rd.\, Hyde Park\, NY\, 12538\, United States
CATEGORIES:General
END:VEVENT
BEGIN:VEVENT
DTSTART;TZID=America/New_York:20240909T140000
DTEND;TZID=America/New_York:20240909T160000
DTSTAMP:20260425T081931
CREATED:20240112T141137Z
LAST-MODIFIED:20241009T191510Z
UID:10002932-1725890400-1725897600@stjameshydepark.org
SUMMARY:Knitters and Crafters Group (Wilks Room)
DESCRIPTION:A New Group! A community of crafters begins on Mondays starting February 5\, from 2- 4 pm (drop-in). \nAll are welcome: knitters\, crocheters\, embroiderers\, crocheters\, conversationalists and miscellaneous other activities. No particular talent required. Meet in the Wilks Room at St. James Parish Hall.
URL:https://stjameshydepark.org/event/knitters-crafters/2024-09-09/
LOCATION:St. James’ Episcopal Church\, 4526 Albany Post Rd.\, Hyde Park\, NY\, 12538\, United States
CATEGORIES:Fun
END:VEVENT
BEGIN:VEVENT
DTSTART;TZID=America/New_York:20240910T180000
DTEND;TZID=America/New_York:20240910T193000
DTSTAMP:20260425T081931
CREATED:20240905T123517Z
LAST-MODIFIED:20240905T123517Z
UID:10003945-1725991200-1725996600@stjameshydepark.org
SUMMARY:Special Vestry Meeting (Kitchen\, Wilks Room)
DESCRIPTION:
URL:https://stjameshydepark.org/event/special-vestry-meeting-kitchen-wilks-room/
LOCATION:St. James’ Episcopal Church\, 4526 Albany Post Rd.\, Hyde Park\, NY\, 12538\, United States
END:VEVENT
BEGIN:VEVENT
DTSTART;TZID=America/New_York:20240910T190000
DTEND;TZID=America/New_York:20240910T200000
DTSTAMP:20260425T081931
CREATED:20240112T173633Z
LAST-MODIFIED:20240216T165320Z
UID:10003048-1725994800-1725998400@stjameshydepark.org
SUMMARY:Boy Scouts Troop 80 (Parish Hall)
DESCRIPTION:
URL:https://stjameshydepark.org/event/boy-scouts-troop-80-parish-hall-rm-203-2-2/2024-09-10/
LOCATION:St. James’ Episcopal Church\, 4526 Albany Post Rd.\, Hyde Park\, NY\, 12538\, United States
CATEGORIES:General
END:VEVENT
BEGIN:VEVENT
DTSTART;TZID=America/New_York:20240911T093000
DTEND;TZID=America/New_York:20240911T103000
DTSTAMP:20260425T081931
CREATED:20240906T124037Z
LAST-MODIFIED:20240906T124037Z
UID:10003947-1726047000-1726050600@stjameshydepark.org
SUMMARY:Payroll Conf. Call
DESCRIPTION:
URL:https://stjameshydepark.org/event/payroll-conf-call/
LOCATION:St. James’ Episcopal Church\, 4526 Albany Post Rd.\, Hyde Park\, NY\, 12538\, United States
END:VEVENT
BEGIN:VEVENT
DTSTART;TZID=America/New_York:20240911T110000
DTEND;TZID=America/New_York:20240911T120000
DTSTAMP:20260425T081931
CREATED:20240203T231706Z
LAST-MODIFIED:20240508T020856Z
UID:10003437-1726052400-1726056000@stjameshydepark.org
SUMMARY:Bible Study
DESCRIPTION:Our weekly Bible study on Zoom usually focuses on the Gospel for the upcoming Sunday and is led by Mtr. Meredith. We practice a contemplative\, prayerful style of Bible study that focuses on how God is speaking to us through our questions\, responses\, curiosities and doubts as we engage Scripture.  \nThe study is followed by a brief\, optional service of noonday prayer. \nJoin in any Wednesday at 11 am. No previous preparation is required. The Zoom link is distributed via our weekly email newsletter (or contact the parish office). \n 
URL:https://stjameshydepark.org/event/bible-study-2024/2024-09-11/
LOCATION:Online
CATEGORIES:Christian Formation
ATTACH;FMTTYPE=image/png:https://stjameshydepark.org/wp-content/uploads/2024/05/Bible-Study.png
END:VEVENT
BEGIN:VEVENT
DTSTART;TZID=America/New_York:20240911T180000
DTEND;TZID=America/New_York:20240911T200000
DTSTAMP:20260425T081931
CREATED:20240807T201038Z
LAST-MODIFIED:20240807T201216Z
UID:10003905-1726077600-1726084800@stjameshydepark.org
SUMMARY:Women's Group (Antonella's in Hyde Park)
DESCRIPTION:St. James’ Women’s Group will meet at 6pm in the back room of Antonella’s in Hyde Park on the following dates:\nSeptember 11\nOctober 9\nNovember 13\nDecember 11 \nNo RSVP necessary. It’s always a different group each month\, which makes it fun and special! \nAntonella’s graciously provides us with separate checks\, so you can order anything from a coffee\, an app\, or a 3 course meal! There is $20 available each month that you can privately receive from Dyan in the Parish Office if that would be helpful for you to be able to attend. And if you would like to add money to this envelope\, please also see Dyan in the Parish Office.
URL:https://stjameshydepark.org/event/womens-group-fall-2024/2024-09-11/
LOCATION:Antonella’s Restaurant\, Hyde Park\, NY\, 4246 Albany Post Rd #1700\, Hyde Park\, NY\, 12538\, United States
CATEGORIES:Fun,Women's Group
END:VEVENT
END:VCALENDAR