BEGIN:VCALENDAR
VERSION:2.0
PRODID:-//St. James&#039; Episcopal Church - ECPv6.15.20//NONSGML v1.0//EN
CALSCALE:GREGORIAN
METHOD:PUBLISH
X-ORIGINAL-URL:https://stjameshydepark.org
X-WR-CALDESC:Events for St. James&#039; Episcopal Church
REFRESH-INTERVAL;VALUE=DURATION:PT1H
X-Robots-Tag:noindex
X-PUBLISHED-TTL:PT1H
BEGIN:VTIMEZONE
TZID:America/New_York
BEGIN:DAYLIGHT
TZOFFSETFROM:-0500
TZOFFSETTO:-0400
TZNAME:EDT
DTSTART:20250309T070000
END:DAYLIGHT
BEGIN:STANDARD
TZOFFSETFROM:-0400
TZOFFSETTO:-0500
TZNAME:EST
DTSTART:20251102T060000
END:STANDARD
BEGIN:DAYLIGHT
TZOFFSETFROM:-0500
TZOFFSETTO:-0400
TZNAME:EDT
DTSTART:20260308T070000
END:DAYLIGHT
BEGIN:STANDARD
TZOFFSETFROM:-0400
TZOFFSETTO:-0500
TZNAME:EST
DTSTART:20261101T060000
END:STANDARD
BEGIN:DAYLIGHT
TZOFFSETFROM:-0500
TZOFFSETTO:-0400
TZNAME:EDT
DTSTART:20270314T070000
END:DAYLIGHT
BEGIN:STANDARD
TZOFFSETFROM:-0400
TZOFFSETTO:-0500
TZNAME:EST
DTSTART:20271107T060000
END:STANDARD
END:VTIMEZONE
BEGIN:VEVENT
DTSTART;TZID=America/New_York:20260331T100000
DTEND;TZID=America/New_York:20260331T140000
DTSTAMP:20260423T200810
CREATED:20260320T124008Z
LAST-MODIFIED:20260320T124008Z
UID:10007879-1774951200-1774965600@stjameshydepark.org
SUMMARY:Piano Tuning (Church and Parish Hall)
DESCRIPTION:
URL:https://stjameshydepark.org/event/piano-tuning-church-and-parish-hall/
LOCATION:St. James’ Episcopal Church\, 4526 Albany Post Rd.\, Hyde Park\, NY\, 12538\, United States
END:VEVENT
BEGIN:VEVENT
DTSTART;TZID=America/New_York:20260331T183000
DTEND;TZID=America/New_York:20260331T193000
DTSTAMP:20260423T200810
CREATED:20260303T151136Z
LAST-MODIFIED:20260311T130513Z
UID:10007853-1774981800-1774985400@stjameshydepark.org
SUMMARY:Nursery School Committee Meeting (Wilks Room)
DESCRIPTION:
URL:https://stjameshydepark.org/event/nursery-school-committee-meeting-wilks-room-5/
LOCATION:St. James’ Episcopal Church\, 4526 Albany Post Rd.\, Hyde Park\, NY\, 12538\, United States
END:VEVENT
BEGIN:VEVENT
DTSTART;TZID=America/New_York:20260331T190000
DTEND;TZID=America/New_York:20260331T203000
DTSTAMP:20260423T200810
CREATED:20260410T130119Z
LAST-MODIFIED:20260410T130329Z
UID:10007971-1774983600-1774989000@stjameshydepark.org
SUMMARY:Boy Scout Troop 80 (Parish Hall)
DESCRIPTION:
URL:https://stjameshydepark.org/event/boyr-scout-troop-80-parish-hall/2026-03-31/
LOCATION:St. James’ Episcopal Church\, 4526 Albany Post Rd.\, Hyde Park\, NY\, 12538\, United States
END:VEVENT
BEGIN:VEVENT
DTSTART;VALUE=DATE:20260401
DTEND;VALUE=DATE:20260402
DTSTAMP:20260423T200810
CREATED:20251104T151721Z
LAST-MODIFIED:20251104T151721Z
UID:10007127-1775001600-1775087999@stjameshydepark.org
SUMMARY:Fresh Manna Church Evening Prayer and Bible Study (Chapel and Reading Room)
DESCRIPTION:
URL:https://stjameshydepark.org/event/fresh-manna-church-evening-prayer-and-bible-study-chapel-and-reading-room/2026-04-01/
LOCATION:St. James’ Chapel\, 10 East Market Street\, Hyde Park\, NY\, 12567\, United States
END:VEVENT
BEGIN:VEVENT
DTSTART;TZID=America/New_York:20260401T110000
DTEND;TZID=America/New_York:20260401T121500
DTSTAMP:20260423T200810
CREATED:20260113T175632Z
LAST-MODIFIED:20260206T005925Z
UID:10007503-1775041200-1775045700@stjameshydepark.org
SUMMARY:Bible Study (Online)
DESCRIPTION:Our weekly Bible study on Zoom usually focuses on the Gospel for the upcoming Sunday and is led by Mtr. Meredith. We practice a contemplative\, prayerful style of Bible study that focuses on how God is speaking to us through our questions\, responses\, curiosities and doubts as we engage Scripture. \nThe study is followed by a brief\, optional service of noonday prayer. \nJoin in any Wednesday at 11 am. No previous preparation is required. The Zoom link is distributed via our weekly email newsletter (or contact the parish office).
URL:https://stjameshydepark.org/event/bible-study-online/2026-04-01/
LOCATION:St. James’ Episcopal Church\, 4526 Albany Post Rd.\, Hyde Park\, NY\, 12538\, United States
CATEGORIES:Christian Formation
END:VEVENT
BEGIN:VEVENT
DTSTART;TZID=America/New_York:20260401T183000
DTEND;TZID=America/New_York:20260401T190000
DTSTAMP:20260423T200810
CREATED:20260113T180519Z
LAST-MODIFIED:20260113T180519Z
UID:10007555-1775068200-1775070000@stjameshydepark.org
SUMMARY:Evening Prayer (Online)
DESCRIPTION:
URL:https://stjameshydepark.org/event/evening-prayer-online/2026-04-01/
LOCATION:St. James’ Episcopal Church\, 4526 Albany Post Rd.\, Hyde Park\, NY\, 12538\, United States
END:VEVENT
BEGIN:VEVENT
DTSTART;TZID=America/New_York:20260402T180000
DTEND;TZID=America/New_York:20260402T200000
DTSTAMP:20260423T200810
CREATED:20260402T112645Z
LAST-MODIFIED:20260402T112735Z
UID:10007891-1775152800-1775160000@stjameshydepark.org
SUMMARY:Maundy Thursday Service
DESCRIPTION:Maundy Thursday\nApril 2\, 6 pm—St. James’ Parish Hall \nSolemn service commemorating Jesus’ institution of the Eucharist. \n\nStarts in the Parish Hall with a simple supper\, scripture readings\, homily\, and optional footwashing\nProcession to the Church for celebration of Holy Communion and\nStripping of the Altar\nThe Watch continues overnight in the Church\n\nThis service brings together the congregations of St. James’ and our neighbor church\, St. Margaret’s in Staatsburg. St. James’ hosts at 4526 Albany Post Road.
URL:https://stjameshydepark.org/event/maundy-thursday-2026/
LOCATION:St. James’ Episcopal Church\, 4526 Albany Post Rd.\, Hyde Park\, NY\, 12538\, United States
CATEGORIES:Holy Week and Easter,Worship
END:VEVENT
BEGIN:VEVENT
DTSTART;TZID=America/New_York:20260402T190000
DTEND;TZID=America/New_York:20260402T210000
DTSTAMP:20260423T200810
CREATED:20260325T131916Z
LAST-MODIFIED:20260325T131916Z
UID:10007882-1775156400-1775163600@stjameshydepark.org
SUMMARY:Fresh Manna Church (Chapel)
DESCRIPTION:
URL:https://stjameshydepark.org/event/fresh-manna-church-chapel/
LOCATION:St. James’ Chapel\, 10 East Market Street\, Hyde Park\, NY\, 12567\, United States
END:VEVENT
BEGIN:VEVENT
DTSTART;TZID=America/New_York:20260403T103000
DTEND;TZID=America/New_York:20260403T120000
DTSTAMP:20260423T200810
CREATED:20260325T125344Z
LAST-MODIFIED:20260402T160230Z
UID:10007881-1775212200-1775217600@stjameshydepark.org
SUMMARY:Good Friday: Hyde Park Walk of the Cross
DESCRIPTION:Also called “Stations of the Cross\,” this community walk traces Jesus’ final journey from his condemnation to his crucifixion. It begins at Regina Coeli Church\, 2 Harvey Street\, Hyde Park. St. James’ Chapel at 10 East Market Street is one of the stations on the walk.
URL:https://stjameshydepark.org/event/cross-walk-2026/
LOCATION:St. James’ Chapel\, 10 East Market Street\, Hyde Park\, NY\, 12567\, United States
CATEGORIES:Holy Week and Easter
END:VEVENT
BEGIN:VEVENT
DTSTART;TZID=America/New_York:20260403T190000
DTEND;TZID=America/New_York:20260403T203000
DTSTAMP:20260423T200810
CREATED:20260402T175822Z
LAST-MODIFIED:20260402T175840Z
UID:10007895-1775242800-1775248200@stjameshydepark.org
SUMMARY:Good Friday Service (St. Margaret's\, Staatsburg)
DESCRIPTION:Good Friday (March 29th)\n7 pm Solemn Liturgy for Good Friday at St. Margaret’s\, Staatsburg \n\nA solemn service commemorating Jesus’ trial and death by crucifixion\nReading of the Passion according to John\nVeneration of the Cross\nCommunion from the Reserved Sacrament\n\nThis service brings together the congregations of St. James’ and our neighbor church\, St. Margaret’s in Staatsburg. St. Margaret’s hosts at the corner of Old Post Road and East Elm in Staatsburg. 
URL:https://stjameshydepark.org/event/good-friday-2026/
LOCATION:St. Margaret’s Church\, E. Elm Ave.\, Staatsburg\, NY\, 12580\, United States
CATEGORIES:Holy Week and Easter,Worship
END:VEVENT
BEGIN:VEVENT
DTSTART;TZID=America/New_York:20260404T100000
DTEND;TZID=America/New_York:20260404T110000
DTSTAMP:20260423T200810
CREATED:20260402T143853Z
LAST-MODIFIED:20260402T160151Z
UID:10007892-1775296800-1775300400@stjameshydepark.org
SUMMARY:Holy Saturday Service
DESCRIPTION:This solemn service recalls the day when the crucified Christ visited among the dead while his body lay in the tomb of Joseph of Arimathea.
URL:https://stjameshydepark.org/event/holy-saturday-2026/
LOCATION:St. James’ Episcopal Church\, 4526 Albany Post Rd.\, Hyde Park\, NY\, 12538\, United States
CATEGORIES:Holy Week and Easter
END:VEVENT
BEGIN:VEVENT
DTSTART;TZID=America/New_York:20260404T103000
DTEND;TZID=America/New_York:20260404T120000
DTSTAMP:20260423T200810
CREATED:20260312T174535Z
LAST-MODIFIED:20260312T174535Z
UID:10007860-1775298600-1775304000@stjameshydepark.org
SUMMARY:[New Deal] Kids Cabaret (Parish Hall)
DESCRIPTION:
URL:https://stjameshydepark.org/event/new-deal-kids-cabaret-parish-hall/2026-04-04/
LOCATION:St. James’ Episcopal Church\, 4526 Albany Post Rd.\, Hyde Park\, NY\, 12538\, United States
END:VEVENT
BEGIN:VEVENT
DTSTART;TZID=America/New_York:20260404T193000
DTEND;TZID=America/New_York:20260404T213000
DTSTAMP:20260423T200810
CREATED:20260402T111527Z
LAST-MODIFIED:20260402T144434Z
UID:10007890-1775331000-1775338200@stjameshydepark.org
SUMMARY:The Great Vigil of Easter
DESCRIPTION:The Great Vigil of Easter\nSaturday evening\, April 4\, 7:30 pm \nBeginning at sundown\, the Great Vigil of Easter is a wild ride through the stories of God’s saving acts in human history—culminating with the Resurrection and the first Eucharist of Easter.\nBring bells to ring! \nThis service brings together the congregations of St. James’ and our neighbor church\, St. Margaret’s in Staatsburg. St. James’ hosts at 4526 Albany Post Road.
URL:https://stjameshydepark.org/event/easter-vigil-2026/
LOCATION:St. James’ Episcopal Church\, 4526 Albany Post Rd.\, Hyde Park\, NY\, 12538\, United States
END:VEVENT
BEGIN:VEVENT
DTSTART;TZID=America/New_York:20260405T080000
DTEND;TZID=America/New_York:20260405T090000
DTSTAMP:20260423T200810
CREATED:20260402T175949Z
LAST-MODIFIED:20260402T180018Z
UID:10004596-1775376000-1775379600@stjameshydepark.org
SUMMARY:Easter Sunday Worship—Holy Eucharist\, Rite I
DESCRIPTION:
URL:https://stjameshydepark.org/event/easter-8am-2026/
LOCATION:St. James’ Episcopal Church\, 4526 Albany Post Rd.\, Hyde Park\, NY\, 12538\, United States
CATEGORIES:Holy Week and Easter,Worship
END:VEVENT
BEGIN:VEVENT
DTSTART;TZID=America/New_York:20260405T100000
DTEND;TZID=America/New_York:20260405T113000
DTSTAMP:20260423T200810
CREATED:20260402T145512Z
LAST-MODIFIED:20260402T180102Z
UID:10007893-1775383200-1775388600@stjameshydepark.org
SUMMARY:Easter Sunday Worship — Holy Eucharist\, Rite II
DESCRIPTION:Please join us for the Sunday of the Resurrection. \nIn the procession today you will see an Alleluia banner made by the children of St. James’ Sunday School. Alleluia is a joyful shout that means “Praise God!” Our Alleluias have been “buried” through the season of Lent\, and they return on this joyful Easter Day! \nThere will be an Easter Egg Hunt with the Easter Bunny on the front lawn after the service! For teens/youth\, there are two large eggs\, one gold\, one silver\, hidden in the graveyard behind the church with special prizes. Happy hunting! \nPlease join us for a festive Coffee Hour in our Parish Hall right after the service. \n 
URL:https://stjameshydepark.org/event/easter-sunday-worship/
LOCATION:St. James’ Episcopal Church\, 4526 Albany Post Rd.\, Hyde Park\, NY\, 12538\, United States
CATEGORIES:Easter,Fun,Holy Week and Easter,Worship
END:VEVENT
BEGIN:VEVENT
DTSTART;TZID=America/New_York:20260405T100000
DTEND;TZID=America/New_York:20260405T140000
DTSTAMP:20260423T200810
CREATED:20251104T151409Z
LAST-MODIFIED:20251209T150151Z
UID:10007102-1775383200-1775397600@stjameshydepark.org
SUMMARY:Fresh Manna Church (Chapel and Reading Room)
DESCRIPTION:
URL:https://stjameshydepark.org/event/fresh-manna-church-chapel-and-reading-room/2026-04-05/
LOCATION:St. James’ Chapel\, 10 East Market Street\, Hyde Park\, NY\, 12567\, United States
END:VEVENT
BEGIN:VEVENT
DTSTART;TZID=America/New_York:20260405T183000
DTEND;TZID=America/New_York:20260405T210000
DTSTAMP:20260423T200810
CREATED:20260410T125621Z
LAST-MODIFIED:20260410T125621Z
UID:10007920-1775413800-1775422800@stjameshydepark.org
SUMMARY:Hyde Park Group AA (Parish Hall\, Rm. 201)
DESCRIPTION:
URL:https://stjameshydepark.org/event/hyde-park-group-aa-parish-hall-rm-201-2/2026-04-05/
LOCATION:St. James’ Episcopal Church\, 4526 Albany Post Rd.\, Hyde Park\, NY\, 12538\, United States
END:VEVENT
BEGIN:VEVENT
DTSTART;TZID=America/New_York:20260406T130000
DTEND;TZID=America/New_York:20260406T150000
DTSTAMP:20260423T200810
CREATED:20260113T175431Z
LAST-MODIFIED:20260123T215934Z
UID:10007453-1775480400-1775487600@stjameshydepark.org
SUMMARY:Knit + Craft + Chat (Wilks Room)
DESCRIPTION:A community of crafters and conversationalists meets Mondays from 1-3 pm (drop-in)—at St. James’ Episcopal Church in the Wilks Room of our Parish House. We are a friendly group: knitters\, embroiderers\, crocheters\, conversationalists and miscellaneous other activities. All are welcome; no previous skill is required.
URL:https://stjameshydepark.org/event/knit-craft-chat-2026/2026-04-06/
LOCATION:St. James’ Episcopal Church\, 4526 Albany Post Rd.\, Hyde Park\, NY\, 12538\, United States
CATEGORIES:Fun
ATTACH;FMTTYPE=image/png:https://stjameshydepark.org/wp-content/uploads/2024/09/Knit-Craft-Chat.png
END:VEVENT
BEGIN:VEVENT
DTSTART;TZID=America/New_York:20260407T190000
DTEND;TZID=America/New_York:20260407T203000
DTSTAMP:20260423T200810
CREATED:20250107T191135Z
LAST-MODIFIED:20250107T191355Z
UID:10006110-1775588400-1775593800@stjameshydepark.org
SUMMARY:Boy Scout Troop 80 (Wilks Room)
DESCRIPTION:
URL:https://stjameshydepark.org/event/boy-scout-troop-80-wilks-room/2026-04-07/
LOCATION:St. James’ Episcopal Church\, 4526 Albany Post Rd.\, Hyde Park\, NY\, 12538\, United States
END:VEVENT
BEGIN:VEVENT
DTSTART;TZID=America/New_York:20260407T190000
DTEND;TZID=America/New_York:20260407T203000
DTSTAMP:20260423T200810
CREATED:20260410T130119Z
LAST-MODIFIED:20260410T130329Z
UID:10007972-1775588400-1775593800@stjameshydepark.org
SUMMARY:Boy Scout Troop 80 (Parish Hall)
DESCRIPTION:
URL:https://stjameshydepark.org/event/boyr-scout-troop-80-parish-hall/2026-04-07/
LOCATION:St. James’ Episcopal Church\, 4526 Albany Post Rd.\, Hyde Park\, NY\, 12538\, United States
END:VEVENT
BEGIN:VEVENT
DTSTART;VALUE=DATE:20260408
DTEND;VALUE=DATE:20260409
DTSTAMP:20260423T200810
CREATED:20251104T151721Z
LAST-MODIFIED:20251104T151721Z
UID:10007128-1775606400-1775692799@stjameshydepark.org
SUMMARY:Fresh Manna Church Evening Prayer and Bible Study (Chapel and Reading Room)
DESCRIPTION:
URL:https://stjameshydepark.org/event/fresh-manna-church-evening-prayer-and-bible-study-chapel-and-reading-room/2026-04-08/
LOCATION:St. James’ Chapel\, 10 East Market Street\, Hyde Park\, NY\, 12567\, United States
END:VEVENT
BEGIN:VEVENT
DTSTART;TZID=America/New_York:20260408T110000
DTEND;TZID=America/New_York:20260408T121500
DTSTAMP:20260423T200810
CREATED:20260113T175632Z
LAST-MODIFIED:20260206T005925Z
UID:10007504-1775646000-1775650500@stjameshydepark.org
SUMMARY:Bible Study (Online)
DESCRIPTION:Our weekly Bible study on Zoom usually focuses on the Gospel for the upcoming Sunday and is led by Mtr. Meredith. We practice a contemplative\, prayerful style of Bible study that focuses on how God is speaking to us through our questions\, responses\, curiosities and doubts as we engage Scripture. \nThe study is followed by a brief\, optional service of noonday prayer. \nJoin in any Wednesday at 11 am. No previous preparation is required. The Zoom link is distributed via our weekly email newsletter (or contact the parish office).
URL:https://stjameshydepark.org/event/bible-study-online/2026-04-08/
LOCATION:St. James’ Episcopal Church\, 4526 Albany Post Rd.\, Hyde Park\, NY\, 12538\, United States
CATEGORIES:Christian Formation
END:VEVENT
BEGIN:VEVENT
DTSTART;TZID=America/New_York:20260408T180000
DTEND;TZID=America/New_York:20260408T200000
DTSTAMP:20260423T200810
CREATED:20251216T184257Z
LAST-MODIFIED:20251216T184257Z
UID:10007193-1775671200-1775678400@stjameshydepark.org
SUMMARY:Women's Group (Antonella's)
DESCRIPTION:
URL:https://stjameshydepark.org/event/womens-group-antonellas-3/2026-04-08/
LOCATION:Antonella’s Restaurant\, Hyde Park\, NY\, 4246 Albany Post Rd #1700\, Hyde Park\, NY\, 12538\, United States
END:VEVENT
BEGIN:VEVENT
DTSTART;TZID=America/New_York:20260408T183000
DTEND;TZID=America/New_York:20260408T190000
DTSTAMP:20260423T200810
CREATED:20260113T180519Z
LAST-MODIFIED:20260113T180519Z
UID:10007556-1775673000-1775674800@stjameshydepark.org
SUMMARY:Evening Prayer (Online)
DESCRIPTION:
URL:https://stjameshydepark.org/event/evening-prayer-online/2026-04-08/
LOCATION:St. James’ Episcopal Church\, 4526 Albany Post Rd.\, Hyde Park\, NY\, 12538\, United States
END:VEVENT
BEGIN:VEVENT
DTSTART;TZID=America/New_York:20260409T180000
DTEND;TZID=America/New_York:20260409T200000
DTSTAMP:20260423T200810
CREATED:20260407T123940Z
LAST-MODIFIED:20260407T123940Z
UID:10007906-1775757600-1775764800@stjameshydepark.org
SUMMARY:Discernment Committee Meeting (Wilks Room)
DESCRIPTION:
URL:https://stjameshydepark.org/event/discernment-committee-meeting-wilks-room-2/
LOCATION:St. James’ Episcopal Church\, 4526 Albany Post Rd.\, Hyde Park\, NY\, 12538\, United States
END:VEVENT
BEGIN:VEVENT
DTSTART;TZID=America/New_York:20260410T170000
DTEND;TZID=America/New_York:20260410T180000
DTSTAMP:20260423T200810
CREATED:20260317T125027Z
LAST-MODIFIED:20260409T163822Z
UID:10007873-1775840400-1775844000@stjameshydepark.org
SUMMARY:Music Recital (Church) - CANCELLED
DESCRIPTION:
URL:https://stjameshydepark.org/event/music-recital-church/
LOCATION:St. James’ Episcopal Church\, 4526 Albany Post Rd.\, Hyde Park\, NY\, 12538\, United States
END:VEVENT
BEGIN:VEVENT
DTSTART;TZID=America/New_York:20260411T103000
DTEND;TZID=America/New_York:20260411T120000
DTSTAMP:20260423T200810
CREATED:20260312T174535Z
LAST-MODIFIED:20260312T174535Z
UID:10007861-1775903400-1775908800@stjameshydepark.org
SUMMARY:[New Deal] Kids Cabaret (Parish Hall)
DESCRIPTION:
URL:https://stjameshydepark.org/event/new-deal-kids-cabaret-parish-hall/2026-04-11/
LOCATION:St. James’ Episcopal Church\, 4526 Albany Post Rd.\, Hyde Park\, NY\, 12538\, United States
END:VEVENT
BEGIN:VEVENT
DTSTART;TZID=America/New_York:20260411T183000
DTEND;TZID=America/New_York:20260411T190000
DTSTAMP:20260423T200810
CREATED:20260113T180750Z
LAST-MODIFIED:20260113T180750Z
UID:10007607-1775932200-1775934000@stjameshydepark.org
SUMMARY:Compline (Online)
DESCRIPTION:
URL:https://stjameshydepark.org/event/compline-online/2026-04-11/
LOCATION:St. James’ Episcopal Church\, 4526 Albany Post Rd.\, Hyde Park\, NY\, 12538\, United States
END:VEVENT
BEGIN:VEVENT
DTSTART;TZID=America/New_York:20260412T080000
DTEND;TZID=America/New_York:20260412T090000
DTSTAMP:20260423T200810
CREATED:20241219T191649Z
LAST-MODIFIED:20250325T172434Z
UID:10004597-1775980800-1775984400@stjameshydepark.org
SUMMARY:Sunday Worship—Holy Eucharist\, Rite I
DESCRIPTION:Join us Sundays at 8:00 a.m. for a celebration of Holy Eucharist (Communion). This is a quiet service\, usually without music\, though we often have a soloist with acoustic guitar playing before and after the service. The service uses Rite 1 from the 1979 Book of Common Prayer\, with traditional language.
URL:https://stjameshydepark.org/event/sunday-8am-2025/2026-04-12/
LOCATION:St. James’ Episcopal Church\, 4526 Albany Post Rd.\, Hyde Park\, NY\, 12538\, United States
CATEGORIES:Worship
END:VEVENT
BEGIN:VEVENT
DTSTART;TZID=America/New_York:20260412T100000
DTEND;TZID=America/New_York:20260412T113000
DTSTAMP:20260423T200810
CREATED:20251220T015723Z
LAST-MODIFIED:20260402T145034Z
UID:10007298-1775988000-1775993400@stjameshydepark.org
SUMMARY:Sunday Worship—Holy Eucharist\, Rite II with Sunday School and Coffee Hour
DESCRIPTION:Join us Sundays at 10:00 a.m. for a celebration of Holy Eucharist (Communion). This service has music (usually organ and choir\, along with special guest musicians) and uses a variety of prayers and language from traditional to inclusive and expansive\, drawing from Rite II of the 1979 Book of Common Prayer\, Enriching Our Worship\, and other sources. \nCoffee hour in the Parish House usually follows this service. \nSunday School for kindergarten and up meets today on the second floor of the Parish House at 10:00 a.m. Students will rejoin the congregation just before Holy Communion. New to St. James’ Church? Your kids are welcome to Sunday School any Sunday. More details about St. James’ Sunday School at: https://stjameshydepark.org/for-children/
URL:https://stjameshydepark.org/event/sunday-worship-holy-eucharist-rite-ii-with-sunday-school-and-coffee-hour/2026-04-12/
LOCATION:St. James’ Episcopal Church\, 4526 Albany Post Rd.\, Hyde Park\, NY\, 12538\, United States
CATEGORIES:Worship
END:VEVENT
END:VCALENDAR