BEGIN:VCALENDAR
VERSION:2.0
PRODID:-//St. James&#039; Episcopal Church - ECPv6.15.20//NONSGML v1.0//EN
CALSCALE:GREGORIAN
METHOD:PUBLISH
X-WR-CALNAME:St. James&#039; Episcopal Church
X-ORIGINAL-URL:https://stjameshydepark.org
X-WR-CALDESC:Events for St. James&#039; Episcopal Church
REFRESH-INTERVAL;VALUE=DURATION:PT1H
X-Robots-Tag:noindex
X-PUBLISHED-TTL:PT1H
BEGIN:VTIMEZONE
TZID:America/New_York
BEGIN:DAYLIGHT
TZOFFSETFROM:-0500
TZOFFSETTO:-0400
TZNAME:EDT
DTSTART:20230312T070000
END:DAYLIGHT
BEGIN:STANDARD
TZOFFSETFROM:-0400
TZOFFSETTO:-0500
TZNAME:EST
DTSTART:20231105T060000
END:STANDARD
BEGIN:DAYLIGHT
TZOFFSETFROM:-0500
TZOFFSETTO:-0400
TZNAME:EDT
DTSTART:20240310T070000
END:DAYLIGHT
BEGIN:STANDARD
TZOFFSETFROM:-0400
TZOFFSETTO:-0500
TZNAME:EST
DTSTART:20241103T060000
END:STANDARD
BEGIN:DAYLIGHT
TZOFFSETFROM:-0500
TZOFFSETTO:-0400
TZNAME:EDT
DTSTART:20250309T070000
END:DAYLIGHT
BEGIN:STANDARD
TZOFFSETFROM:-0400
TZOFFSETTO:-0500
TZNAME:EST
DTSTART:20251102T060000
END:STANDARD
END:VTIMEZONE
BEGIN:VEVENT
DTSTART;TZID=America/New_York:20240221T110000
DTEND;TZID=America/New_York:20240221T120000
DTSTAMP:20260425T221600
CREATED:20240203T231706Z
LAST-MODIFIED:20240508T020856Z
UID:10003408-1708513200-1708516800@stjameshydepark.org
SUMMARY:Bible Study
DESCRIPTION:Our weekly Bible study on Zoom usually focuses on the Gospel for the upcoming Sunday and is led by Mtr. Meredith. We practice a contemplative\, prayerful style of Bible study that focuses on how God is speaking to us through our questions\, responses\, curiosities and doubts as we engage Scripture.  \nThe study is followed by a brief\, optional service of noonday prayer. \nJoin in any Wednesday at 11 am. No previous preparation is required. The Zoom link is distributed via our weekly email newsletter (or contact the parish office). \n 
URL:https://stjameshydepark.org/event/bible-study-2024/2024-02-21/
LOCATION:Online
CATEGORIES:Christian Formation
ATTACH;FMTTYPE=image/png:https://stjameshydepark.org/wp-content/uploads/2024/05/Bible-Study.png
END:VEVENT
BEGIN:VEVENT
DTSTART;TZID=America/New_York:20240220T190000
DTEND;TZID=America/New_York:20240220T200000
DTSTAMP:20260425T221600
CREATED:20240112T173633Z
LAST-MODIFIED:20240216T165320Z
UID:10003019-1708455600-1708459200@stjameshydepark.org
SUMMARY:Boy Scouts Troop 80 (Parish Hall)
DESCRIPTION:
URL:https://stjameshydepark.org/event/boy-scouts-troop-80-parish-hall-rm-203-2-2/2024-02-20/
LOCATION:St. James’ Episcopal Church\, 4526 Albany Post Rd.\, Hyde Park\, NY\, 12538\, United States
CATEGORIES:General
END:VEVENT
BEGIN:VEVENT
DTSTART;TZID=America/New_York:20240220T183000
DTEND;TZID=America/New_York:20240220T193000
DTSTAMP:20260425T221600
CREATED:20240110T170452Z
LAST-MODIFIED:20240202T160223Z
UID:10003400-1708453800-1708457400@stjameshydepark.org
SUMMARY:Nursery School Committee Mtg. (Wilks Room)
DESCRIPTION:
URL:https://stjameshydepark.org/event/nursery-school-committee-mtg-wilks-room/2024-02-20/
LOCATION:St. James’ Episcopal Church\, 4526 Albany Post Rd.\, Hyde Park\, NY\, 12538\, United States
CATEGORIES:Nursery School
END:VEVENT
BEGIN:VEVENT
DTSTART;TZID=America/New_York:20240220T180000
DTEND;TZID=America/New_York:20240220T183000
DTSTAMP:20260425T221600
CREATED:20240207T184536Z
LAST-MODIFIED:20240207T184536Z
UID:10003458-1708452000-1708453800@stjameshydepark.org
SUMMARY:Centering Prayer (Church)
DESCRIPTION:Centering prayer is a type of meditation with a long history in the Christian tradition\, beginning with the 14th century English monk who wrote The Cloud of Unknowing. But you don’t need to be a monk or a mystic to practice centering prayer and experience its benefits. Lent is the perfect time to enter the quiet of this practice. Beginners welcome. Sessions will last about 30 minutes. Tuesdays at 6 pm in the church (starting 2/20). \nLed by Tessa Kale\, who has taken many retreats on centering prayer with Cynthia Bourgeault and is a participant in her Wisdom School.
URL:https://stjameshydepark.org/event/centering-prayer/2024-02-20/
LOCATION:St. James’ Episcopal Church\, 4526 Albany Post Rd.\, Hyde Park\, NY\, 12538\, United States
CATEGORIES:Christian Formation,Lent
ATTACH;FMTTYPE=image/png:https://stjameshydepark.org/wp-content/uploads/2024/02/Centering-Prayer.png
END:VEVENT
BEGIN:VEVENT
DTSTART;VALUE=DATE:20240219
DTEND;VALUE=DATE:20240220
DTSTAMP:20260425T221600
CREATED:20240112T172541Z
LAST-MODIFIED:20240112T172541Z
UID:10002956-1708300800-1708387199@stjameshydepark.org
SUMMARY:Parish Office Closed
DESCRIPTION:
URL:https://stjameshydepark.org/event/parish-office-closed-4/2024-02-19/
LOCATION:St. James’ Episcopal Church\, 4526 Albany Post Rd.\, Hyde Park\, NY\, 12538\, United States
CATEGORIES:General
END:VEVENT
BEGIN:VEVENT
DTSTART;TZID=America/New_York:20240218T183000
DTEND;TZID=America/New_York:20240218T210000
DTSTAMP:20260425T221600
CREATED:20240112T181055Z
LAST-MODIFIED:20241001T152045Z
UID:10003233-1708281000-1708290000@stjameshydepark.org
SUMMARY:AA Meeting (Parish Hall; Rm. 201)
DESCRIPTION:
URL:https://stjameshydepark.org/event/aa-meeting-parish-hall-rm-201-2/2024-02-18/
LOCATION:St. James’ Episcopal Church\, 4526 Albany Post Rd.\, Hyde Park\, NY\, 12538\, United States
CATEGORIES:General
END:VEVENT
BEGIN:VEVENT
DTSTART;TZID=America/New_York:20240218T100000
DTEND;TZID=America/New_York:20240218T113000
DTSTAMP:20260425T221600
CREATED:20231222T014951Z
LAST-MODIFIED:20231222T014951Z
UID:10002734-1708250400-1708255800@stjameshydepark.org
SUMMARY:Holy Eucharist (Rite II) with Sunday School and Coffee Hour
DESCRIPTION:Join us Sundays at 10:00 a.m. for a celebration of Holy Eucharist (Communion). This service has music (usually organ and choir\, along with special guest musicians) and uses a variety of prayers and language from traditional to inclusive and expansive\, drawing from Rite II of the 1979 Book of Common Prayer\, Enriching Our Worship\, and other sources. \nCoffee hour in the Parish House usually follows this service. \nSunday School for kindergarten and up meets today on the second floor of the Parish House at 10:00 a.m. Students will rejoin the congregation just before Holy Communion. New to St. James’ Church? Your kids are welcome to Sunday School any Sunday. More details about St. James’ Sunday School at: https://stjameshydepark.org/for-children/
URL:https://stjameshydepark.org/event/2024-eucharist-rite-ii/2024-02-18/
LOCATION:St. James’ Episcopal Church\, 4526 Albany Post Rd.\, Hyde Park\, NY\, 12538\, United States
CATEGORIES:Worship
END:VEVENT
BEGIN:VEVENT
DTSTART;TZID=America/New_York:20240218T080000
DTEND;TZID=America/New_York:20240218T090000
DTSTAMP:20260425T221600
CREATED:20231222T015421Z
LAST-MODIFIED:20241213T230031Z
UID:10002838-1708243200-1708246800@stjameshydepark.org
SUMMARY:Holy Eucharist (Rite I)
DESCRIPTION:Join us Sundays at 8:00 a.m. for a celebration of Holy Eucharist (Communion). This is a quiet service\, usually without music\, though we often have a soloist with acoustic guitar playing before and after the service. The service uses Rite 1 from the 1979 Book of Common Prayer\, with traditional language.
URL:https://stjameshydepark.org/event/2024-eucharist-8am/2024-02-18/
LOCATION:St. James’ Episcopal Church\, 4526 Albany Post Rd.\, Hyde Park\, NY\, 12538\, United States
CATEGORIES:Worship
END:VEVENT
BEGIN:VEVENT
DTSTART;TZID=America/New_York:20240217T183000
DTEND;TZID=America/New_York:20240217T193000
DTSTAMP:20260425T221600
CREATED:20240112T175527Z
LAST-MODIFIED:20240112T175653Z
UID:10003119-1708194600-1708198200@stjameshydepark.org
SUMMARY:Compline (Remote)
DESCRIPTION:
URL:https://stjameshydepark.org/event/compline-remote-3-2023-01-07-2/2024-02-17/
LOCATION:Online
CATEGORIES:Worship
END:VEVENT
BEGIN:VEVENT
DTSTART;TZID=America/New_York:20240217T000000
DTEND;TZID=America/New_York:20240217T235959
DTSTAMP:20260425T221600
CREATED:20240216T170345Z
LAST-MODIFIED:20240218T205354Z
UID:10003480-1708128000-1708214399@stjameshydepark.org
SUMMARY:[New Deal] Seusical (Parish Hall)
DESCRIPTION:
URL:https://stjameshydepark.org/event/seusical-parish-hall/2024-02-17/
LOCATION:St. James’ Episcopal Church\, 4526 Albany Post Rd.\, Hyde Park\, NY\, 12538\, United States
CATEGORIES:New Deal
END:VEVENT
BEGIN:VEVENT
DTSTART;TZID=America/New_York:20240214T110000
DTEND;TZID=America/New_York:20240214T120000
DTSTAMP:20260425T221600
CREATED:20240203T231854Z
LAST-MODIFIED:20240203T231855Z
UID:10003407-1707908400-1707912000@stjameshydepark.org
SUMMARY:No Bible Study this week
DESCRIPTION:No Bible Study this week due to Ash Wednesday services. See you next week!  \nOur weekly Bible study on Zoom usually focuses on the Gospel for the upcoming Sunday and is led by Mtr. Meredith. We practice a contemplative\, prayerful style of Bible study that focuses on how God is speaking to us through our questions\, responses\, curiosities and doubts as we engage Scripture.  \nThe study is followed by a brief\, optional service of noonday prayer. \nJoin in any Wednesday at 11 am. No previous preparation is required. The Zoom link is distributed via our weekly email newsletter (or contact the parish office). \n 
URL:https://stjameshydepark.org/event/bible-study-online-2/
LOCATION:Online
CATEGORIES:Christian Formation
END:VEVENT
BEGIN:VEVENT
DTSTART;TZID=America/New_York:20240214T073000
DTEND;TZID=America/New_York:20240214T200000
DTSTAMP:20260425T221600
CREATED:20240117T153026Z
LAST-MODIFIED:20240117T153521Z
UID:10003339-1707895800-1707940800@stjameshydepark.org
SUMMARY:Ash Wednesday Services and Ashes-to-Go
DESCRIPTION:Ash Wednesday Services at St. James’ will be offered at noon and 7 pm. Ashes-to-Go will be available in the parking lot from 7:30-9:00 am and from 4:30-6:00 pm (in case of inclement weather\, please drive up to the red church doors. \n 
URL:https://stjameshydepark.org/event/ash-2024/
LOCATION:St. James’ Episcopal Church\, 4526 Albany Post Rd.\, Hyde Park\, NY\, 12538\, United States
CATEGORIES:Ash Wednesday,Lent,Outreach,Worship
ATTACH;FMTTYPE=image/png:https://stjameshydepark.org/wp-content/uploads/2024/01/Ash-Wednesday-2024-1.png
END:VEVENT
BEGIN:VEVENT
DTSTART;TZID=America/New_York:20240213T190000
DTEND;TZID=America/New_York:20240213T200000
DTSTAMP:20260425T221600
CREATED:20240112T173633Z
LAST-MODIFIED:20240216T165320Z
UID:10003018-1707850800-1707854400@stjameshydepark.org
SUMMARY:Boy Scouts Troop 80 (Parish Hall)
DESCRIPTION:
URL:https://stjameshydepark.org/event/boy-scouts-troop-80-parish-hall-rm-203-2-2/2024-02-13/
LOCATION:St. James’ Episcopal Church\, 4526 Albany Post Rd.\, Hyde Park\, NY\, 12538\, United States
CATEGORIES:General
END:VEVENT
BEGIN:VEVENT
DTSTART;TZID=America/New_York:20240213T173000
DTEND;TZID=America/New_York:20240213T193000
DTSTAMP:20260425T221600
CREATED:20240117T153345Z
LAST-MODIFIED:20240205T012947Z
UID:10003340-1707845400-1707852600@stjameshydepark.org
SUMMARY:Shrove Tuesday Pancake Supper\, Nursery School Open House\, & Prayer Service with Burning of the Palms (Parish Hall and Church)
DESCRIPTION:Join St. James’ for our annual Shrove Tuesday Pancake Supper in the parish hall on February 13th at 5:30 p.m. \nFeaturing: \n\nPancakes\, and pancake-decorating for kids!\nMusic from St. James’ Fat Tuesday Pick-Up Band!\nHelp decorate our Alleluia banner\, then “bury” it until Easter!\nPrayer service with burning of last year’s Palm Sunday palms to make this year’s Ash Wednesday ashes!\nNursery School Open House!\nAnd more!\n\nCome\, eat\, dance\, and be merry! \nBring a friend!
URL:https://stjameshydepark.org/event/shrove-tues-2024/
LOCATION:St. James’ Episcopal Church\, 4526 Albany Post Rd.\, Hyde Park\, NY\, 12538\, United States
CATEGORIES:Fun,Kids & Youth,Lent,Nursery School,Outreach,Worship
ATTACH;FMTTYPE=image/png:https://stjameshydepark.org/wp-content/uploads/2024/01/Shrove-Tuesday-2024.png
END:VEVENT
BEGIN:VEVENT
DTSTART;TZID=America/New_York:20240213T173000
DTEND;TZID=America/New_York:20240213T190000
DTSTAMP:20260425T221600
CREATED:20240131T160537Z
LAST-MODIFIED:20240131T160537Z
UID:10003393-1707845400-1707850800@stjameshydepark.org
SUMMARY:Nursery School Open House (Parish Hall)
DESCRIPTION:
URL:https://stjameshydepark.org/event/nursery-school-open-house-parish-hall/
LOCATION:St. James’ Episcopal Church\, 4526 Albany Post Rd.\, Hyde Park\, NY\, 12538\, United States
CATEGORIES:Nursery School
END:VEVENT
BEGIN:VEVENT
DTSTART;TZID=America/New_York:20240212T190000
DTEND;TZID=America/New_York:20240212T210000
DTSTAMP:20260425T221600
CREATED:20240124T135641Z
LAST-MODIFIED:20240815T140901Z
UID:10003913-1707764400-1707771600@stjameshydepark.org
SUMMARY:Girl Scout Troop 10015 Meeting (Parish Hall)
DESCRIPTION:
URL:https://stjameshydepark.org/event/girl-scout-troop-10015-meeting-parish-hall-4/2024-02-12/2/
LOCATION:St. James’ Episcopal Church\, 4526 Albany Post Rd.\, Hyde Park\, NY\, 12538\, United States
CATEGORIES:General
END:VEVENT
BEGIN:VEVENT
DTSTART;TZID=America/New_York:20240212T140000
DTEND;TZID=America/New_York:20240212T160000
DTSTAMP:20260425T221600
CREATED:20240112T141137Z
LAST-MODIFIED:20241009T191510Z
UID:10002902-1707746400-1707753600@stjameshydepark.org
SUMMARY:Knitters and Crafters Group (Wilks Room)
DESCRIPTION:A New Group! A community of crafters begins on Mondays starting February 5\, from 2- 4 pm (drop-in). \nAll are welcome: knitters\, crocheters\, embroiderers\, crocheters\, conversationalists and miscellaneous other activities. No particular talent required. Meet in the Wilks Room at St. James Parish Hall.
URL:https://stjameshydepark.org/event/knitters-crafters/2024-02-12/
LOCATION:St. James’ Episcopal Church\, 4526 Albany Post Rd.\, Hyde Park\, NY\, 12538\, United States
CATEGORIES:Fun
END:VEVENT
BEGIN:VEVENT
DTSTART;TZID=America/New_York:20240212T080000
DTEND;TZID=America/New_York:20240212T170000
DTSTAMP:20260425T221600
CREATED:20240124T135641Z
LAST-MODIFIED:20240815T140901Z
UID:10003912-1707724800-1707757200@stjameshydepark.org
SUMMARY:Girl Scout Troop 10015 Meeting (Parish Hall)
DESCRIPTION:
URL:https://stjameshydepark.org/event/girl-scout-troop-10015-meeting-parish-hall-4/2024-02-12/1/
LOCATION:St. James’ Episcopal Church\, 4526 Albany Post Rd.\, Hyde Park\, NY\, 12538\, United States
CATEGORIES:General
END:VEVENT
BEGIN:VEVENT
DTSTART;VALUE=DATE:20240212
DTEND;VALUE=DATE:20240213
DTSTAMP:20260425T221600
CREATED:20240112T172541Z
LAST-MODIFIED:20240112T172541Z
UID:10002955-1707696000-1707782399@stjameshydepark.org
SUMMARY:Parish Office Closed
DESCRIPTION:
URL:https://stjameshydepark.org/event/parish-office-closed-4/2024-02-12/
LOCATION:St. James’ Episcopal Church\, 4526 Albany Post Rd.\, Hyde Park\, NY\, 12538\, United States
CATEGORIES:General
END:VEVENT
BEGIN:VEVENT
DTSTART;TZID=America/New_York:20240211T183000
DTEND;TZID=America/New_York:20240211T210000
DTSTAMP:20260425T221600
CREATED:20240131T154552Z
LAST-MODIFIED:20241001T152150Z
UID:10003391-1707676200-1707685200@stjameshydepark.org
SUMMARY:AA Meeting (Chapel)
DESCRIPTION:
URL:https://stjameshydepark.org/event/aa-meeting-chapel-2/2024-02-11/
LOCATION:St. James’ Chapel\, 10 East Market Street\, Hyde Park\, NY\, 12567\, United States
CATEGORIES:General
END:VEVENT
BEGIN:VEVENT
DTSTART;TZID=America/New_York:20240211T100000
DTEND;TZID=America/New_York:20240211T113000
DTSTAMP:20260425T221600
CREATED:20231222T014951Z
LAST-MODIFIED:20231222T014951Z
UID:10002733-1707645600-1707651000@stjameshydepark.org
SUMMARY:Holy Eucharist (Rite II) with Sunday School and Coffee Hour
DESCRIPTION:Join us Sundays at 10:00 a.m. for a celebration of Holy Eucharist (Communion). This service has music (usually organ and choir\, along with special guest musicians) and uses a variety of prayers and language from traditional to inclusive and expansive\, drawing from Rite II of the 1979 Book of Common Prayer\, Enriching Our Worship\, and other sources. \nCoffee hour in the Parish House usually follows this service. \nSunday School for kindergarten and up meets today on the second floor of the Parish House at 10:00 a.m. Students will rejoin the congregation just before Holy Communion. New to St. James’ Church? Your kids are welcome to Sunday School any Sunday. More details about St. James’ Sunday School at: https://stjameshydepark.org/for-children/
URL:https://stjameshydepark.org/event/2024-eucharist-rite-ii/2024-02-11/
LOCATION:St. James’ Episcopal Church\, 4526 Albany Post Rd.\, Hyde Park\, NY\, 12538\, United States
CATEGORIES:Worship
END:VEVENT
BEGIN:VEVENT
DTSTART;TZID=America/New_York:20240211T080000
DTEND;TZID=America/New_York:20240211T090000
DTSTAMP:20260425T221600
CREATED:20231222T015421Z
LAST-MODIFIED:20241213T230031Z
UID:10002837-1707638400-1707642000@stjameshydepark.org
SUMMARY:Holy Eucharist (Rite I)
DESCRIPTION:Join us Sundays at 8:00 a.m. for a celebration of Holy Eucharist (Communion). This is a quiet service\, usually without music\, though we often have a soloist with acoustic guitar playing before and after the service. The service uses Rite 1 from the 1979 Book of Common Prayer\, with traditional language.
URL:https://stjameshydepark.org/event/2024-eucharist-8am/2024-02-11/
LOCATION:St. James’ Episcopal Church\, 4526 Albany Post Rd.\, Hyde Park\, NY\, 12538\, United States
CATEGORIES:Worship
END:VEVENT
BEGIN:VEVENT
DTSTART;TZID=America/New_York:20240210T183000
DTEND;TZID=America/New_York:20240210T193000
DTSTAMP:20260425T221600
CREATED:20240203T230931Z
LAST-MODIFIED:20240203T230932Z
UID:10003118-1707589800-1707593400@stjameshydepark.org
SUMMARY:No Compline Tonight (Feb 10th)
DESCRIPTION:
URL:https://stjameshydepark.org/event/compline-remote-3-2023-01-07-2-2/
LOCATION:Online
CATEGORIES:Worship
END:VEVENT
BEGIN:VEVENT
DTSTART;TZID=America/New_York:20240210T160000
DTEND;TZID=America/New_York:20240210T210000
DTSTAMP:20260425T221600
CREATED:20240126T205335Z
LAST-MODIFIED:20240126T205335Z
UID:10003386-1707580800-1707598800@stjameshydepark.org
SUMMARY:Cabaret (Parish Hall)
DESCRIPTION:
URL:https://stjameshydepark.org/event/cabaret-parish-hall/
LOCATION:St. James’ Episcopal Church\, 4526 Albany Post Rd.\, Hyde Park\, NY\, 12538\, United States
CATEGORIES:New Deal
END:VEVENT
BEGIN:VEVENT
DTSTART;TZID=America/New_York:20240210T110000
DTEND;TZID=America/New_York:20240210T153000
DTSTAMP:20260425T221600
CREATED:20240124T133946Z
LAST-MODIFIED:20240126T205034Z
UID:10003370-1707562800-1707579000@stjameshydepark.org
SUMMARY:Cook for PODS (Parish Kitchen)
DESCRIPTION:
URL:https://stjameshydepark.org/event/cook-for-pods-parish-kitchen/
LOCATION:St. James’ Episcopal Church\, 4526 Albany Post Rd.\, Hyde Park\, NY\, 12538\, United States
CATEGORIES:General
END:VEVENT
BEGIN:VEVENT
DTSTART;TZID=America/New_York:20240210T110000
DTEND;TZID=America/New_York:20240210T133000
DTSTAMP:20260425T221600
CREATED:20240118T131851Z
LAST-MODIFIED:20240125T154925Z
UID:10003367-1707562800-1707571800@stjameshydepark.org
SUMMARY:Installation of Bishop Matthew Heyd (Cathedral of St. John the Divine)
DESCRIPTION:The Installation of the 17th Bishop of New York\nSaturday\, February 10th at 11:00am (please arrive by 10:30) \nJoin us at the Cathedral of St. John the Divine (1047 Amsterdam Avenue\, NYC) for the installation of the Rt. Rev. Matthew Heyd as our 17th Bishop. The service will celebrate the life of the Diocese of New York and the church’s mission to heal the world. Everyone is welcome and encouraged to attend. A reception will follow the service. \nYou can indicate that you plan to attend here: https://dioceseny.org/ednyevent/bishop-installation-2024/ \nA bus will depart Christ Church Poughkeepsie on Saturday morning (exact time TBD)\, arriving at the Cathedral by 10 am. If you would like a seat on the bus\, please sign here: https://forms.gle/J7VepTya4eSjoTc27 \nIf you need assistance with your RSVP or signing up for the bus\, please contact Dyan in the parish office.
URL:https://stjameshydepark.org/event/17th-bishop-installation/
LOCATION:Cathedral of St. John the Divine\, 1047 Amsterdam Ave\, New York\, NY\, 10025\, United States
CATEGORIES:Fun,Worship
ATTACH;FMTTYPE=image/png:https://stjameshydepark.org/wp-content/uploads/2024/01/Bishop-Heyd-Installation-updated.png
END:VEVENT
BEGIN:VEVENT
DTSTART;TZID=America/New_York:20240208T173000
DTEND;TZID=America/New_York:20240208T183000
DTSTAMP:20260425T221600
CREATED:20231224T111840Z
LAST-MODIFIED:20240203T024014Z
UID:10002888-1707413400-1707417000@stjameshydepark.org
SUMMARY:The Good Book Club: Genesis (Wilks Room)
DESCRIPTION:The Good Book Club: Reading Genesis together \nSt. James’ will join our whole church in reading Genesis together in the season after the Epiphany! \nWe start on January 6th and continue through Ash Wednesday\, February 14th. Here’s how it works: \n\nAt home\, you can follow the reading schedule here: goodbookclub.org/readings\nSign up for a daily Good Book Club email (with reading reminders and more) at goodbookclub.org/readings.\nWe’ll meet on Thursdays\, 5:30-6:30 pm\, in the Wilks Room to discuss what we’re reading. We’ll start January 11th and wrap up on February 8th. Come as often as you can\, and don’t worry if you have to miss a week!\n\nThere’s more! \n\nOptional: You can add daily reflections to your scripture reading by getting a copy of Journey Through Genesis\nOptional: ChurchNext (a ministry associated with The Episcopal Church) is offering a free companion class on Genesis at 8 pm Tuesdays via Zoom\, starting January 9th. Sign up here: https://www.churchnext.tv/library/live-course-the-book-of-genesis-with-vicki-garvey-210550/553506/about/
URL:https://stjameshydepark.org/event/good-book-club-genesis/2024-02-08/
LOCATION:St. James’ Episcopal Church\, 4526 Albany Post Rd.\, Hyde Park\, NY\, 12538\, United States
CATEGORIES:Christian Formation
ATTACH;FMTTYPE=image/png:https://stjameshydepark.org/wp-content/uploads/2023/12/Good-Book-Club.png
END:VEVENT
BEGIN:VEVENT
DTSTART;TZID=America/New_York:20240208T120000
DTEND;TZID=America/New_York:20240208T143000
DTSTAMP:20260425T221600
CREATED:20240117T135345Z
LAST-MODIFIED:20240124T135953Z
UID:10003329-1707393600-1707402600@stjameshydepark.org
SUMMARY:Haiti Project Meeting (Wilks Room)
DESCRIPTION:
URL:https://stjameshydepark.org/event/haiti-project-meeting-wilks-room/
LOCATION:St. James’ Episcopal Church\, 4526 Albany Post Rd.\, Hyde Park\, NY\, 12538\, United States
CATEGORIES:General
END:VEVENT
BEGIN:VEVENT
DTSTART;TZID=America/New_York:20240207T183000
DTEND;TZID=America/New_York:20240207T193000
DTSTAMP:20260425T221600
CREATED:20240112T175112Z
LAST-MODIFIED:20240112T175307Z
UID:10003069-1707330600-1707334200@stjameshydepark.org
SUMMARY:Evening Prayer (Remote)
DESCRIPTION:
URL:https://stjameshydepark.org/event/evening-prayer-remote-2-2/2024-02-07/
LOCATION:Online
CATEGORIES:Worship
END:VEVENT
BEGIN:VEVENT
DTSTART;TZID=America/New_York:20240207T110000
DTEND;TZID=America/New_York:20240207T120000
DTSTAMP:20260425T221600
CREATED:20240203T231706Z
LAST-MODIFIED:20240508T020856Z
UID:10003406-1707303600-1707307200@stjameshydepark.org
SUMMARY:Bible Study
DESCRIPTION:Our weekly Bible study on Zoom usually focuses on the Gospel for the upcoming Sunday and is led by Mtr. Meredith. We practice a contemplative\, prayerful style of Bible study that focuses on how God is speaking to us through our questions\, responses\, curiosities and doubts as we engage Scripture.  \nThe study is followed by a brief\, optional service of noonday prayer. \nJoin in any Wednesday at 11 am. No previous preparation is required. The Zoom link is distributed via our weekly email newsletter (or contact the parish office). \n 
URL:https://stjameshydepark.org/event/bible-study-2024/2024-02-07/
LOCATION:Online
CATEGORIES:Christian Formation
ATTACH;FMTTYPE=image/png:https://stjameshydepark.org/wp-content/uploads/2024/05/Bible-Study.png
END:VEVENT
END:VCALENDAR