BEGIN:VCALENDAR
VERSION:2.0
PRODID:-//St. James&#039; Episcopal Church - ECPv6.15.20//NONSGML v1.0//EN
CALSCALE:GREGORIAN
METHOD:PUBLISH
X-ORIGINAL-URL:https://stjameshydepark.org
X-WR-CALDESC:Events for St. James&#039; Episcopal Church
REFRESH-INTERVAL;VALUE=DURATION:PT1H
X-Robots-Tag:noindex
X-PUBLISHED-TTL:PT1H
BEGIN:VTIMEZONE
TZID:America/New_York
BEGIN:DAYLIGHT
TZOFFSETFROM:-0500
TZOFFSETTO:-0400
TZNAME:EDT
DTSTART:20250309T070000
END:DAYLIGHT
BEGIN:STANDARD
TZOFFSETFROM:-0400
TZOFFSETTO:-0500
TZNAME:EST
DTSTART:20251102T060000
END:STANDARD
BEGIN:DAYLIGHT
TZOFFSETFROM:-0500
TZOFFSETTO:-0400
TZNAME:EDT
DTSTART:20260308T070000
END:DAYLIGHT
BEGIN:STANDARD
TZOFFSETFROM:-0400
TZOFFSETTO:-0500
TZNAME:EST
DTSTART:20261101T060000
END:STANDARD
BEGIN:DAYLIGHT
TZOFFSETFROM:-0500
TZOFFSETTO:-0400
TZNAME:EDT
DTSTART:20270314T070000
END:DAYLIGHT
BEGIN:STANDARD
TZOFFSETFROM:-0400
TZOFFSETTO:-0500
TZNAME:EST
DTSTART:20271107T060000
END:STANDARD
END:VTIMEZONE
BEGIN:VEVENT
DTSTART;TZID=America/New_York:20260429T110000
DTEND;TZID=America/New_York:20260429T121500
DTSTAMP:20260423T152142
CREATED:20260113T175632Z
LAST-MODIFIED:20260206T005925Z
UID:10007507-1777460400-1777464900@stjameshydepark.org
SUMMARY:Bible Study (Online)
DESCRIPTION:Our weekly Bible study on Zoom usually focuses on the Gospel for the upcoming Sunday and is led by Mtr. Meredith. We practice a contemplative\, prayerful style of Bible study that focuses on how God is speaking to us through our questions\, responses\, curiosities and doubts as we engage Scripture. \nThe study is followed by a brief\, optional service of noonday prayer. \nJoin in any Wednesday at 11 am. No previous preparation is required. The Zoom link is distributed via our weekly email newsletter (or contact the parish office).
URL:https://stjameshydepark.org/event/bible-study-online/2026-04-29/
LOCATION:St. James’ Episcopal Church\, 4526 Albany Post Rd.\, Hyde Park\, NY\, 12538\, United States
CATEGORIES:Christian Formation
END:VEVENT
BEGIN:VEVENT
DTSTART;TZID=America/New_York:20260429T183000
DTEND;TZID=America/New_York:20260429T190000
DTSTAMP:20260423T152142
CREATED:20260113T180519Z
LAST-MODIFIED:20260113T180519Z
UID:10007559-1777487400-1777489200@stjameshydepark.org
SUMMARY:Evening Prayer (Online)
DESCRIPTION:
URL:https://stjameshydepark.org/event/evening-prayer-online/2026-04-29/
LOCATION:St. James’ Episcopal Church\, 4526 Albany Post Rd.\, Hyde Park\, NY\, 12538\, United States
END:VEVENT
BEGIN:VEVENT
DTSTART;TZID=America/New_York:20260430T100000
DTEND;TZID=America/New_York:20260430T140000
DTSTAMP:20260423T152142
CREATED:20260210T144015Z
LAST-MODIFIED:20260212T192744Z
UID:10007675-1777543200-1777557600@stjameshydepark.org
SUMMARY:Outreach Prep for Tea (Parish Hall)
DESCRIPTION:
URL:https://stjameshydepark.org/event/outreach-prep-for-tea-parish-hall/2026-04-30/
LOCATION:St. James’ Episcopal Church\, 4526 Albany Post Rd.\, Hyde Park\, NY\, 12538\, United States
END:VEVENT
BEGIN:VEVENT
DTSTART;TZID=America/New_York:20260501T100000
DTEND;TZID=America/New_York:20260501T140000
DTSTAMP:20260423T152142
CREATED:20260210T144015Z
LAST-MODIFIED:20260212T192744Z
UID:10007676-1777629600-1777644000@stjameshydepark.org
SUMMARY:Outreach Prep for Tea (Parish Hall)
DESCRIPTION:
URL:https://stjameshydepark.org/event/outreach-prep-for-tea-parish-hall/2026-05-01/
LOCATION:St. James’ Episcopal Church\, 4526 Albany Post Rd.\, Hyde Park\, NY\, 12538\, United States
END:VEVENT
BEGIN:VEVENT
DTSTART;TZID=America/New_York:20260502T080000
DTEND;TZID=America/New_York:20260502T180000
DTSTAMP:20260423T152142
CREATED:20260210T144110Z
LAST-MODIFIED:20260331T172327Z
UID:10007677-1777708800-1777744800@stjameshydepark.org
SUMMARY:Mother's Day Tea (Parish Hall; Church)
DESCRIPTION:Bring your mother\, sister\, daughter or friend to celebrate this beloved tradition with four-course luncheon and light entertainment. Two seatings at noon and 3 pm. $30 per person. Reservations are required\, please call Dyan in the parish office at 845-229-2820.
URL:https://stjameshydepark.org/event/outreach-prep-for-tea-church/
LOCATION:St. James’ Episcopal Church\, 4526 Albany Post Rd.\, Hyde Park\, NY\, 12538\, United States
END:VEVENT
BEGIN:VEVENT
DTSTART;TZID=America/New_York:20260502T183000
DTEND;TZID=America/New_York:20260502T190000
DTSTAMP:20260423T152142
CREATED:20260113T180750Z
LAST-MODIFIED:20260113T180750Z
UID:10007610-1777746600-1777748400@stjameshydepark.org
SUMMARY:Compline (Online)
DESCRIPTION:
URL:https://stjameshydepark.org/event/compline-online/2026-05-02/
LOCATION:St. James’ Episcopal Church\, 4526 Albany Post Rd.\, Hyde Park\, NY\, 12538\, United States
END:VEVENT
BEGIN:VEVENT
DTSTART;TZID=America/New_York:20260503T080000
DTEND;TZID=America/New_York:20260503T090000
DTSTAMP:20260423T152142
CREATED:20241219T191649Z
LAST-MODIFIED:20250325T172434Z
UID:10004600-1777795200-1777798800@stjameshydepark.org
SUMMARY:Sunday Worship—Holy Eucharist\, Rite I
DESCRIPTION:Join us Sundays at 8:00 a.m. for a celebration of Holy Eucharist (Communion). This is a quiet service\, usually without music\, though we often have a soloist with acoustic guitar playing before and after the service. The service uses Rite 1 from the 1979 Book of Common Prayer\, with traditional language.
URL:https://stjameshydepark.org/event/sunday-8am-2025/2026-05-03/
LOCATION:St. James’ Episcopal Church\, 4526 Albany Post Rd.\, Hyde Park\, NY\, 12538\, United States
CATEGORIES:Worship
END:VEVENT
BEGIN:VEVENT
DTSTART;TZID=America/New_York:20260503T090000
DTEND;TZID=America/New_York:20260503T220000
DTSTAMP:20260423T152142
CREATED:20260331T132104Z
LAST-MODIFIED:20260331T132104Z
UID:10007884-1777798800-1777845600@stjameshydepark.org
SUMMARY:Building and Grounds Team Meeting (Wilks Room)
DESCRIPTION:
URL:https://stjameshydepark.org/event/building-and-grounds-team-meeting-wilks-room/2026-05-03/
LOCATION:St. James’ Episcopal Church\, 4526 Albany Post Rd.\, Hyde Park\, NY\, 12538\, United States
END:VEVENT
BEGIN:VEVENT
DTSTART;TZID=America/New_York:20260503T100000
DTEND;TZID=America/New_York:20260503T113000
DTSTAMP:20260423T152142
CREATED:20251220T015723Z
LAST-MODIFIED:20260402T145034Z
UID:10007301-1777802400-1777807800@stjameshydepark.org
SUMMARY:Sunday Worship—Holy Eucharist\, Rite II with Sunday School and Coffee Hour
DESCRIPTION:Join us Sundays at 10:00 a.m. for a celebration of Holy Eucharist (Communion). This service has music (usually organ and choir\, along with special guest musicians) and uses a variety of prayers and language from traditional to inclusive and expansive\, drawing from Rite II of the 1979 Book of Common Prayer\, Enriching Our Worship\, and other sources. \nCoffee hour in the Parish House usually follows this service. \nSunday School for kindergarten and up meets today on the second floor of the Parish House at 10:00 a.m. Students will rejoin the congregation just before Holy Communion. New to St. James’ Church? Your kids are welcome to Sunday School any Sunday. More details about St. James’ Sunday School at: https://stjameshydepark.org/for-children/
URL:https://stjameshydepark.org/event/sunday-worship-holy-eucharist-rite-ii-with-sunday-school-and-coffee-hour/2026-05-03/
LOCATION:St. James’ Episcopal Church\, 4526 Albany Post Rd.\, Hyde Park\, NY\, 12538\, United States
CATEGORIES:Worship
END:VEVENT
BEGIN:VEVENT
DTSTART;TZID=America/New_York:20260503T183000
DTEND;TZID=America/New_York:20260503T210000
DTSTAMP:20260423T152142
CREATED:20260410T125621Z
LAST-MODIFIED:20260410T125621Z
UID:10007924-1777833000-1777842000@stjameshydepark.org
SUMMARY:Hyde Park Group AA (Parish Hall\, Rm. 201)
DESCRIPTION:
URL:https://stjameshydepark.org/event/hyde-park-group-aa-parish-hall-rm-201-2/2026-05-03/
LOCATION:St. James’ Episcopal Church\, 4526 Albany Post Rd.\, Hyde Park\, NY\, 12538\, United States
END:VEVENT
BEGIN:VEVENT
DTSTART;TZID=America/New_York:20260504T130000
DTEND;TZID=America/New_York:20260504T150000
DTSTAMP:20260423T152142
CREATED:20260113T175431Z
LAST-MODIFIED:20260123T215934Z
UID:10007457-1777899600-1777906800@stjameshydepark.org
SUMMARY:Knit + Craft + Chat (Wilks Room)
DESCRIPTION:A community of crafters and conversationalists meets Mondays from 1-3 pm (drop-in)—at St. James’ Episcopal Church in the Wilks Room of our Parish House. We are a friendly group: knitters\, embroiderers\, crocheters\, conversationalists and miscellaneous other activities. All are welcome; no previous skill is required.
URL:https://stjameshydepark.org/event/knit-craft-chat-2026/2026-05-04/
LOCATION:St. James’ Episcopal Church\, 4526 Albany Post Rd.\, Hyde Park\, NY\, 12538\, United States
CATEGORIES:Fun
ATTACH;FMTTYPE=image/png:https://stjameshydepark.org/wp-content/uploads/2024/09/Knit-Craft-Chat.png
END:VEVENT
BEGIN:VEVENT
DTSTART;TZID=America/New_York:20260505T190000
DTEND;TZID=America/New_York:20260505T203000
DTSTAMP:20260423T152142
CREATED:20250107T191135Z
LAST-MODIFIED:20250107T191355Z
UID:10006111-1778007600-1778013000@stjameshydepark.org
SUMMARY:Boy Scout Troop 80 (Wilks Room)
DESCRIPTION:
URL:https://stjameshydepark.org/event/boy-scout-troop-80-wilks-room/2026-05-05/
LOCATION:St. James’ Episcopal Church\, 4526 Albany Post Rd.\, Hyde Park\, NY\, 12538\, United States
END:VEVENT
BEGIN:VEVENT
DTSTART;TZID=America/New_York:20260505T190000
DTEND;TZID=America/New_York:20260505T203000
DTSTAMP:20260423T152142
CREATED:20260410T130119Z
LAST-MODIFIED:20260410T130329Z
UID:10007976-1778007600-1778013000@stjameshydepark.org
SUMMARY:Boy Scout Troop 80 (Parish Hall)
DESCRIPTION:
URL:https://stjameshydepark.org/event/boyr-scout-troop-80-parish-hall/2026-05-05/
LOCATION:St. James’ Episcopal Church\, 4526 Albany Post Rd.\, Hyde Park\, NY\, 12538\, United States
END:VEVENT
BEGIN:VEVENT
DTSTART;TZID=America/New_York:20260506T110000
DTEND;TZID=America/New_York:20260506T121500
DTSTAMP:20260423T152142
CREATED:20260113T175632Z
LAST-MODIFIED:20260206T005925Z
UID:10007508-1778065200-1778069700@stjameshydepark.org
SUMMARY:Bible Study (Online)
DESCRIPTION:Our weekly Bible study on Zoom usually focuses on the Gospel for the upcoming Sunday and is led by Mtr. Meredith. We practice a contemplative\, prayerful style of Bible study that focuses on how God is speaking to us through our questions\, responses\, curiosities and doubts as we engage Scripture. \nThe study is followed by a brief\, optional service of noonday prayer. \nJoin in any Wednesday at 11 am. No previous preparation is required. The Zoom link is distributed via our weekly email newsletter (or contact the parish office).
URL:https://stjameshydepark.org/event/bible-study-online/2026-05-06/
LOCATION:St. James’ Episcopal Church\, 4526 Albany Post Rd.\, Hyde Park\, NY\, 12538\, United States
CATEGORIES:Christian Formation
END:VEVENT
BEGIN:VEVENT
DTSTART;TZID=America/New_York:20260506T183000
DTEND;TZID=America/New_York:20260506T190000
DTSTAMP:20260423T152142
CREATED:20260113T180519Z
LAST-MODIFIED:20260113T180519Z
UID:10007560-1778092200-1778094000@stjameshydepark.org
SUMMARY:Evening Prayer (Online)
DESCRIPTION:
URL:https://stjameshydepark.org/event/evening-prayer-online/2026-05-06/
LOCATION:St. James’ Episcopal Church\, 4526 Albany Post Rd.\, Hyde Park\, NY\, 12538\, United States
END:VEVENT
BEGIN:VEVENT
DTSTART;TZID=America/New_York:20260507T170000
DTEND;TZID=America/New_York:20260507T210000
DTSTAMP:20260423T152142
CREATED:20260312T174910Z
LAST-MODIFIED:20260312T174910Z
UID:10007868-1778173200-1778187600@stjameshydepark.org
SUMMARY:[New Deal] Sound of Music Auditions (Parish Hall)
DESCRIPTION:
URL:https://stjameshydepark.org/event/new-deal-sound-of-music-auditions-parish-hall/2026-05-07/
LOCATION:HP Farmers Market
END:VEVENT
BEGIN:VEVENT
DTSTART;TZID=America/New_York:20260508T170000
DTEND;TZID=America/New_York:20260508T210000
DTSTAMP:20260423T152142
CREATED:20260312T174910Z
LAST-MODIFIED:20260312T174910Z
UID:10007869-1778259600-1778274000@stjameshydepark.org
SUMMARY:[New Deal] Sound of Music Auditions (Parish Hall)
DESCRIPTION:
URL:https://stjameshydepark.org/event/new-deal-sound-of-music-auditions-parish-hall/2026-05-08/
LOCATION:HP Farmers Market
END:VEVENT
BEGIN:VEVENT
DTSTART;TZID=America/New_York:20260508T173000
DTEND;TZID=America/New_York:20260508T190000
DTSTAMP:20260423T152142
CREATED:20251205T134804Z
LAST-MODIFIED:20260421T145747Z
UID:10008006-1778261400-1778266800@stjameshydepark.org
SUMMARY:Youth Confirmation Class (2025-2026)
DESCRIPTION:~ Youth Confirmation Class ~  \nSpring 2026 Dates \n5:30-7 PM \npizza served \n\nSecond Fridays of the Month\nFriday\, January 9\, 2026\nFriday\, February 13\, 2026\nFriday\, March 13\, 2026\nFriday\, April 10 24\, 2026 at St. James’ Hyde Park\nFriday\, May 8\, 2026 at St. Paul’s Pleasant Valley \nNightwatch at St. John the Divine\nFriday\, February 27—Saturday\, February 28 \n\nHost location rotates: \nSt. James’ Episcopal Church\n4526 Albany Post Road\, Hyde Park \nSt. Paul’s Episcopal Church\n808 Traver Road\, Pleasant Valley \nSt. Paul’s Episcopal Church\n161 Mansion Street\, Poughkeepsie
URL:https://stjameshydepark.org/event/youth-confirmation-2026/2026-05-08/
LOCATION:NY
CATEGORIES:Christian Formation,Kids & Youth
END:VEVENT
BEGIN:VEVENT
DTSTART;TZID=America/New_York:20260509T100000
DTEND;TZID=America/New_York:20260509T210000
DTSTAMP:20260423T152142
CREATED:20260312T174910Z
LAST-MODIFIED:20260312T174910Z
UID:10007870-1778320800-1778360400@stjameshydepark.org
SUMMARY:[New Deal] Sound of Music Auditions (Parish Hall)
DESCRIPTION:
URL:https://stjameshydepark.org/event/new-deal-sound-of-music-auditions-parish-hall/2026-05-09/
LOCATION:HP Farmers Market
END:VEVENT
BEGIN:VEVENT
DTSTART;TZID=America/New_York:20260509T183000
DTEND;TZID=America/New_York:20260509T190000
DTSTAMP:20260423T152142
CREATED:20260113T180750Z
LAST-MODIFIED:20260113T180750Z
UID:10007611-1778351400-1778353200@stjameshydepark.org
SUMMARY:Compline (Online)
DESCRIPTION:
URL:https://stjameshydepark.org/event/compline-online/2026-05-09/
LOCATION:St. James’ Episcopal Church\, 4526 Albany Post Rd.\, Hyde Park\, NY\, 12538\, United States
END:VEVENT
BEGIN:VEVENT
DTSTART;TZID=America/New_York:20260510T080000
DTEND;TZID=America/New_York:20260510T090000
DTSTAMP:20260423T152142
CREATED:20241219T191649Z
LAST-MODIFIED:20250325T172434Z
UID:10004601-1778400000-1778403600@stjameshydepark.org
SUMMARY:Sunday Worship—Holy Eucharist\, Rite I
DESCRIPTION:Join us Sundays at 8:00 a.m. for a celebration of Holy Eucharist (Communion). This is a quiet service\, usually without music\, though we often have a soloist with acoustic guitar playing before and after the service. The service uses Rite 1 from the 1979 Book of Common Prayer\, with traditional language.
URL:https://stjameshydepark.org/event/sunday-8am-2025/2026-05-10/
LOCATION:St. James’ Episcopal Church\, 4526 Albany Post Rd.\, Hyde Park\, NY\, 12538\, United States
CATEGORIES:Worship
END:VEVENT
BEGIN:VEVENT
DTSTART;TZID=America/New_York:20260510T100000
DTEND;TZID=America/New_York:20260510T113000
DTSTAMP:20260423T152142
CREATED:20251220T015723Z
LAST-MODIFIED:20260402T145034Z
UID:10007302-1778407200-1778412600@stjameshydepark.org
SUMMARY:Sunday Worship—Holy Eucharist\, Rite II with Sunday School and Coffee Hour
DESCRIPTION:Join us Sundays at 10:00 a.m. for a celebration of Holy Eucharist (Communion). This service has music (usually organ and choir\, along with special guest musicians) and uses a variety of prayers and language from traditional to inclusive and expansive\, drawing from Rite II of the 1979 Book of Common Prayer\, Enriching Our Worship\, and other sources. \nCoffee hour in the Parish House usually follows this service. \nSunday School for kindergarten and up meets today on the second floor of the Parish House at 10:00 a.m. Students will rejoin the congregation just before Holy Communion. New to St. James’ Church? Your kids are welcome to Sunday School any Sunday. More details about St. James’ Sunday School at: https://stjameshydepark.org/for-children/
URL:https://stjameshydepark.org/event/sunday-worship-holy-eucharist-rite-ii-with-sunday-school-and-coffee-hour/2026-05-10/
LOCATION:St. James’ Episcopal Church\, 4526 Albany Post Rd.\, Hyde Park\, NY\, 12538\, United States
CATEGORIES:Worship
END:VEVENT
BEGIN:VEVENT
DTSTART;TZID=America/New_York:20260510T183000
DTEND;TZID=America/New_York:20260510T210000
DTSTAMP:20260423T152142
CREATED:20260410T125621Z
LAST-MODIFIED:20260410T125621Z
UID:10007925-1778437800-1778446800@stjameshydepark.org
SUMMARY:Hyde Park Group AA (Parish Hall\, Rm. 201)
DESCRIPTION:
URL:https://stjameshydepark.org/event/hyde-park-group-aa-parish-hall-rm-201-2/2026-05-10/
LOCATION:St. James’ Episcopal Church\, 4526 Albany Post Rd.\, Hyde Park\, NY\, 12538\, United States
END:VEVENT
BEGIN:VEVENT
DTSTART;TZID=America/New_York:20260511T130000
DTEND;TZID=America/New_York:20260511T150000
DTSTAMP:20260423T152142
CREATED:20260113T175431Z
LAST-MODIFIED:20260123T215934Z
UID:10007458-1778504400-1778511600@stjameshydepark.org
SUMMARY:Knit + Craft + Chat (Wilks Room)
DESCRIPTION:A community of crafters and conversationalists meets Mondays from 1-3 pm (drop-in)—at St. James’ Episcopal Church in the Wilks Room of our Parish House. We are a friendly group: knitters\, embroiderers\, crocheters\, conversationalists and miscellaneous other activities. All are welcome; no previous skill is required.
URL:https://stjameshydepark.org/event/knit-craft-chat-2026/2026-05-11/
LOCATION:St. James’ Episcopal Church\, 4526 Albany Post Rd.\, Hyde Park\, NY\, 12538\, United States
CATEGORIES:Fun
ATTACH;FMTTYPE=image/png:https://stjameshydepark.org/wp-content/uploads/2024/09/Knit-Craft-Chat.png
END:VEVENT
BEGIN:VEVENT
DTSTART;TZID=America/New_York:20260512T190000
DTEND;TZID=America/New_York:20260512T203000
DTSTAMP:20260423T152142
CREATED:20260410T130119Z
LAST-MODIFIED:20260410T130329Z
UID:10007977-1778612400-1778617800@stjameshydepark.org
SUMMARY:Boy Scout Troop 80 (Parish Hall)
DESCRIPTION:
URL:https://stjameshydepark.org/event/boyr-scout-troop-80-parish-hall/2026-05-12/
LOCATION:St. James’ Episcopal Church\, 4526 Albany Post Rd.\, Hyde Park\, NY\, 12538\, United States
END:VEVENT
BEGIN:VEVENT
DTSTART;TZID=America/New_York:20260513T110000
DTEND;TZID=America/New_York:20260513T121500
DTSTAMP:20260423T152142
CREATED:20260113T175632Z
LAST-MODIFIED:20260206T005925Z
UID:10007509-1778670000-1778674500@stjameshydepark.org
SUMMARY:Bible Study (Online)
DESCRIPTION:Our weekly Bible study on Zoom usually focuses on the Gospel for the upcoming Sunday and is led by Mtr. Meredith. We practice a contemplative\, prayerful style of Bible study that focuses on how God is speaking to us through our questions\, responses\, curiosities and doubts as we engage Scripture. \nThe study is followed by a brief\, optional service of noonday prayer. \nJoin in any Wednesday at 11 am. No previous preparation is required. The Zoom link is distributed via our weekly email newsletter (or contact the parish office).
URL:https://stjameshydepark.org/event/bible-study-online/2026-05-13/
LOCATION:St. James’ Episcopal Church\, 4526 Albany Post Rd.\, Hyde Park\, NY\, 12538\, United States
CATEGORIES:Christian Formation
END:VEVENT
BEGIN:VEVENT
DTSTART;TZID=America/New_York:20260513T180000
DTEND;TZID=America/New_York:20260513T200000
DTSTAMP:20260423T152142
CREATED:20251216T184257Z
LAST-MODIFIED:20251216T184257Z
UID:10007194-1778695200-1778702400@stjameshydepark.org
SUMMARY:Women's Group (Antonella's)
DESCRIPTION:
URL:https://stjameshydepark.org/event/womens-group-antonellas-3/2026-05-13/
LOCATION:Antonella’s Restaurant\, Hyde Park\, NY\, 4246 Albany Post Rd #1700\, Hyde Park\, NY\, 12538\, United States
END:VEVENT
BEGIN:VEVENT
DTSTART;TZID=America/New_York:20260513T183000
DTEND;TZID=America/New_York:20260513T190000
DTSTAMP:20260423T152142
CREATED:20260113T180519Z
LAST-MODIFIED:20260113T180519Z
UID:10007561-1778697000-1778698800@stjameshydepark.org
SUMMARY:Evening Prayer (Online)
DESCRIPTION:
URL:https://stjameshydepark.org/event/evening-prayer-online/2026-05-13/
LOCATION:St. James’ Episcopal Church\, 4526 Albany Post Rd.\, Hyde Park\, NY\, 12538\, United States
END:VEVENT
BEGIN:VEVENT
DTSTART;TZID=America/New_York:20260516T170000
DTEND;TZID=America/New_York:20260516T210000
DTSTAMP:20260423T152142
CREATED:20260325T150210Z
LAST-MODIFIED:20260407T171001Z
UID:10007883-1778950800-1778965200@stjameshydepark.org
SUMMARY:Singing Potluck (Parish Hall)
DESCRIPTION:
URL:https://stjameshydepark.org/event/singing-potluck-parish-hall/
LOCATION:St. James’ Episcopal Church\, 4526 Albany Post Rd.\, Hyde Park\, NY\, 12538\, United States
END:VEVENT
BEGIN:VEVENT
DTSTART;TZID=America/New_York:20260516T183000
DTEND;TZID=America/New_York:20260516T190000
DTSTAMP:20260423T152142
CREATED:20260113T180750Z
LAST-MODIFIED:20260113T180750Z
UID:10007612-1778956200-1778958000@stjameshydepark.org
SUMMARY:Compline (Online)
DESCRIPTION:
URL:https://stjameshydepark.org/event/compline-online/2026-05-16/
LOCATION:St. James’ Episcopal Church\, 4526 Albany Post Rd.\, Hyde Park\, NY\, 12538\, United States
END:VEVENT
END:VCALENDAR