BEGIN:VCALENDAR
VERSION:2.0
PRODID:-//St. James&#039; Episcopal Church - ECPv6.15.20//NONSGML v1.0//EN
CALSCALE:GREGORIAN
METHOD:PUBLISH
X-ORIGINAL-URL:https://stjameshydepark.org
X-WR-CALDESC:Events for St. James&#039; Episcopal Church
REFRESH-INTERVAL;VALUE=DURATION:PT1H
X-Robots-Tag:noindex
X-PUBLISHED-TTL:PT1H
BEGIN:VTIMEZONE
TZID:America/New_York
BEGIN:DAYLIGHT
TZOFFSETFROM:-0500
TZOFFSETTO:-0400
TZNAME:EDT
DTSTART:20240310T070000
END:DAYLIGHT
BEGIN:STANDARD
TZOFFSETFROM:-0400
TZOFFSETTO:-0500
TZNAME:EST
DTSTART:20241103T060000
END:STANDARD
BEGIN:DAYLIGHT
TZOFFSETFROM:-0500
TZOFFSETTO:-0400
TZNAME:EDT
DTSTART:20250309T070000
END:DAYLIGHT
BEGIN:STANDARD
TZOFFSETFROM:-0400
TZOFFSETTO:-0500
TZNAME:EST
DTSTART:20251102T060000
END:STANDARD
BEGIN:DAYLIGHT
TZOFFSETFROM:-0500
TZOFFSETTO:-0400
TZNAME:EDT
DTSTART:20260308T070000
END:DAYLIGHT
BEGIN:STANDARD
TZOFFSETFROM:-0400
TZOFFSETTO:-0500
TZNAME:EST
DTSTART:20261101T060000
END:STANDARD
END:VTIMEZONE
BEGIN:VEVENT
DTSTART;TZID=America/New_York:20250927T183000
DTEND;TZID=America/New_York:20250927T190000
DTSTAMP:20260424T074220
CREATED:20241219T191054Z
LAST-MODIFIED:20241219T191054Z
UID:10004405-1758997800-1758999600@stjameshydepark.org
SUMMARY:Compline (Online)
DESCRIPTION:Join us online every Saturday at 6:30 pm for a brief service of Compline (Night Prayer) facilitated by Deacon Gail. Please email the parish office at stjames.hydepark@gmail.com to request the Zoom link.
URL:https://stjameshydepark.org/event/compline-2025/2025-09-27/
LOCATION:Online
CATEGORIES:Worship
END:VEVENT
BEGIN:VEVENT
DTSTART;TZID=America/New_York:20250928T080000
DTEND;TZID=America/New_York:20250928T090000
DTSTAMP:20260424T074220
CREATED:20241219T191649Z
LAST-MODIFIED:20250325T172434Z
UID:10004569-1759046400-1759050000@stjameshydepark.org
SUMMARY:Sunday Worship—Holy Eucharist\, Rite I
DESCRIPTION:Join us Sundays at 8:00 a.m. for a celebration of Holy Eucharist (Communion). This is a quiet service\, usually without music\, though we often have a soloist with acoustic guitar playing before and after the service. The service uses Rite 1 from the 1979 Book of Common Prayer\, with traditional language.
URL:https://stjameshydepark.org/event/sunday-8am-2025/2025-09-28/
LOCATION:St. James’ Episcopal Church\, 4526 Albany Post Rd.\, Hyde Park\, NY\, 12538\, United States
CATEGORIES:Worship
END:VEVENT
BEGIN:VEVENT
DTSTART;TZID=America/New_York:20250928T100000
DTEND;TZID=America/New_York:20250928T113000
DTSTAMP:20260424T074220
CREATED:20241219T191432Z
LAST-MODIFIED:20251209T135212Z
UID:10004517-1759053600-1759059000@stjameshydepark.org
SUMMARY:Sunday Worship—Holy Eucharist\, Rite II with Sunday School and Coffee Hour
DESCRIPTION:Join us Sundays at 10:00 a.m. for a celebration of Holy Eucharist (Communion). This service has music (usually organ and choir\, along with special guest musicians) and uses a variety of prayers and language from traditional to inclusive and expansive\, drawing from Rite II of the 1979 Book of Common Prayer\, Enriching Our Worship\, and other sources. \nCoffee hour in the Parish House usually follows this service. \nSunday School for kindergarten and up meets today on the second floor of the Parish House at 10:00 a.m. Students will rejoin the congregation just before Holy Communion. New to St. James’ Church? Your kids are welcome to Sunday School any Sunday. More details about St. James’ Sunday School at: https://stjameshydepark.org/for-children/
URL:https://stjameshydepark.org/event/sunday-10am-2025/2025-09-28/
LOCATION:St. James’ Episcopal Church\, 4526 Albany Post Rd.\, Hyde Park\, NY\, 12538\, United States
CATEGORIES:Worship
END:VEVENT
BEGIN:VEVENT
DTSTART;TZID=America/New_York:20250928T113000
DTEND;TZID=America/New_York:20250928T123000
DTSTAMP:20260424T074220
CREATED:20250821T134151Z
LAST-MODIFIED:20250913T111059Z
UID:10006983-1759059000-1759062600@stjameshydepark.org
SUMMARY:Episcopal 101 (Parish Hall and Wilks Room)
DESCRIPTION:Discover (or rediscover) our faith life together in The Episcopal Church! \nThe course will meet in the Parish House (sometimes the Wilks Room\, sometimes the Hall) every Wednesday from 6-8 pm\,  through October 22. You can attend the whole series or pop in on a given week. Light supper is provided. If you’re popping in\, please RSVP to Mtr. Meredith and note any dietary restrictions. You can also get a copy of that week’s reading from her in advance. \nTopics include: \n\nThe Bible—What is the Bible? Why do we read it? How do we know what it means? \nBeliefs—What do Episcopalians believe? How do we talk about God? Why do we say the Nicene Creed every Sunday? Join us for this week’s Episcopal 101 as we explore these questions together. Light dinner provided—please RSVP to Mtr. Meredith.\nBaptism & Eucharist—What is a sacrament? What are the promises we make about our lives as Christians? How do the sacraments change our lives? \nHistory—Where does the Episcopal Church come from\, and why does that matter today? \nPrayer—What is prayer? How do we pray and how can we grow our lives of prayer together? \n\nRemember this is open to everyone\, from newcomers to longtime members. Those who complete the course will have the option to be Confirmed or Received when Bishop Matt visits St. James’ on Sunday\, October 26th.
URL:https://stjameshydepark.org/event/episcopal-101-fall-2025/2025-09-28/
LOCATION:St. James’ Episcopal Church\, 4526 Albany Post Rd.\, Hyde Park\, NY\, 12538\, United States
CATEGORIES:Christian Formation
ATTACH;FMTTYPE=image/png:https://stjameshydepark.org/wp-content/uploads/2025/08/Episcopal-101.png
END:VEVENT
BEGIN:VEVENT
DTSTART;TZID=America/New_York:20250928T183000
DTEND;TZID=America/New_York:20250928T210000
DTSTAMP:20260424T074220
CREATED:20250107T185818Z
LAST-MODIFIED:20250107T190058Z
UID:10005983-1759084200-1759093200@stjameshydepark.org
SUMMARY:Hyde Park Group AA (Parish Hall\, Rm. 201)
DESCRIPTION:
URL:https://stjameshydepark.org/event/hyde-park-group-aa-parish-hall-rm-201/2025-09-28/
LOCATION:St. James’ Episcopal Church\, 4526 Albany Post Rd.\, Hyde Park\, NY\, 12538\, United States
END:VEVENT
BEGIN:VEVENT
DTSTART;TZID=America/New_York:20250929T133000
DTEND;TZID=America/New_York:20250929T153000
DTSTAMP:20260424T074220
CREATED:20241110T012408Z
LAST-MODIFIED:20250708T131754Z
UID:10006880-1759152600-1759159800@stjameshydepark.org
SUMMARY:Knit+Craft+Chat (Wilks Room)
DESCRIPTION:A community of crafters and conversationalists meets Mondays from 2-4 pm (drop-in) at St. James’ Episcopal Church in the Wilks Room of our Parish House. We are a friendly group: knitters\, embroiderers\, crocheters\, conversationalists and miscellaneous other activities. All are welcome; no previous skill is required.
URL:https://stjameshydepark.org/event/knit-craft-chat-2/2025-09-29/
LOCATION:St. James’ Episcopal Church\, 4526 Albany Post Rd.\, Hyde Park\, NY\, 12538\, United States
END:VEVENT
BEGIN:VEVENT
DTSTART;TZID=America/New_York:20250929T183000
DTEND;TZID=America/New_York:20250929T213000
DTSTAMP:20260424T074220
CREATED:20250919T171017Z
LAST-MODIFIED:20250919T172436Z
UID:10006994-1759170600-1759181400@stjameshydepark.org
SUMMARY:[New Deal] Rehearsals (Parish Hall)
DESCRIPTION:
URL:https://stjameshydepark.org/event/new-deal-rehearsals-parish-hall/2025-09-29/
LOCATION:St. James’ Episcopal Church\, 4526 Albany Post Rd.\, Hyde Park\, NY\, 12538\, United States
END:VEVENT
BEGIN:VEVENT
DTSTART;TZID=America/New_York:20250930T190000
DTEND;TZID=America/New_York:20250930T203000
DTSTAMP:20260424T074220
CREATED:20250107T190949Z
LAST-MODIFIED:20250107T190949Z
UID:10006026-1759258800-1759264200@stjameshydepark.org
SUMMARY:Boy Scout Troop 80 (Parish Hall)
DESCRIPTION:
URL:https://stjameshydepark.org/event/boy-scout-troop-80-parish-hall/2025-09-30/
LOCATION:St. James’ Episcopal Church\, 4526 Albany Post Rd.\, Hyde Park\, NY\, 12538\, United States
END:VEVENT
BEGIN:VEVENT
DTSTART;TZID=America/New_York:20251001T110000
DTEND;TZID=America/New_York:20251001T121500
DTSTAMP:20260424T074220
CREATED:20241120T172057Z
LAST-MODIFIED:20250424T151851Z
UID:10006358-1759316400-1759320900@stjameshydepark.org
SUMMARY:Bible Study (Online)
DESCRIPTION:Our weekly Bible study on Zoom usually focuses on the Gospel for the upcoming Sunday and is led by Mtr. Meredith. We practice a contemplative\, prayerful style of Bible study that focuses on how God is speaking to us through our questions\, responses\, curiosities and doubts as we engage Scripture.  \nThe study is followed by a brief\, optional service of noonday prayer. \nJoin in any Wednesday at 11 am. No previous preparation is required. The Zoom link is distributed via our weekly email newsletter (or contact the parish office).
URL:https://stjameshydepark.org/event/bible-study-2025/2025-10-01/
LOCATION:Online
CATEGORIES:Christian Formation
END:VEVENT
BEGIN:VEVENT
DTSTART;TZID=America/New_York:20251001T180000
DTEND;TZID=America/New_York:20251001T200000
DTSTAMP:20260424T074220
CREATED:20250821T134151Z
LAST-MODIFIED:20250913T111059Z
UID:10006920-1759341600-1759348800@stjameshydepark.org
SUMMARY:Episcopal 101 (Parish Hall and Wilks Room)
DESCRIPTION:Discover (or rediscover) our faith life together in The Episcopal Church! \nThe course will meet in the Parish House (sometimes the Wilks Room\, sometimes the Hall) every Wednesday from 6-8 pm\,  through October 22. You can attend the whole series or pop in on a given week. Light supper is provided. If you’re popping in\, please RSVP to Mtr. Meredith and note any dietary restrictions. You can also get a copy of that week’s reading from her in advance. \nTopics include: \n\nThe Bible—What is the Bible? Why do we read it? How do we know what it means? \nBeliefs—What do Episcopalians believe? How do we talk about God? Why do we say the Nicene Creed every Sunday? Join us for this week’s Episcopal 101 as we explore these questions together. Light dinner provided—please RSVP to Mtr. Meredith.\nBaptism & Eucharist—What is a sacrament? What are the promises we make about our lives as Christians? How do the sacraments change our lives? \nHistory—Where does the Episcopal Church come from\, and why does that matter today? \nPrayer—What is prayer? How do we pray and how can we grow our lives of prayer together? \n\nRemember this is open to everyone\, from newcomers to longtime members. Those who complete the course will have the option to be Confirmed or Received when Bishop Matt visits St. James’ on Sunday\, October 26th.
URL:https://stjameshydepark.org/event/episcopal-101-fall-2025/2025-10-01/
LOCATION:St. James’ Episcopal Church\, 4526 Albany Post Rd.\, Hyde Park\, NY\, 12538\, United States
CATEGORIES:Christian Formation
ATTACH;FMTTYPE=image/png:https://stjameshydepark.org/wp-content/uploads/2025/08/Episcopal-101.png
END:VEVENT
BEGIN:VEVENT
DTSTART;TZID=America/New_York:20251001T183000
DTEND;TZID=America/New_York:20251001T190000
DTSTAMP:20260424T074220
CREATED:20241219T190934Z
LAST-MODIFIED:20241219T190934Z
UID:10004353-1759343400-1759345200@stjameshydepark.org
SUMMARY:Evening Prayer (Online)
DESCRIPTION:Join us online every Wednesday at 6:30 pm for a brief service of Evening Prayer led by Deacon Gail. Please email the parish office at stjames.hydepark@gmail.com to request the Zoom link.
URL:https://stjameshydepark.org/event/evening-prayer-2025/2025-10-01/
LOCATION:Online
CATEGORIES:Worship
END:VEVENT
BEGIN:VEVENT
DTSTART;TZID=America/New_York:20251002T170000
DTEND;TZID=America/New_York:20251002T210000
DTSTAMP:20260424T074220
CREATED:20250805T135442Z
LAST-MODIFIED:20250805T174208Z
UID:10006914-1759424400-1759438800@stjameshydepark.org
SUMMARY:OPWDD Dance Party (Parish Hall)
DESCRIPTION:
URL:https://stjameshydepark.org/event/opwdd-dance-party-parish-hall/
LOCATION:St. James’ Episcopal Church\, 4526 Albany Post Rd.\, Hyde Park\, NY\, 12538\, United States
END:VEVENT
BEGIN:VEVENT
DTSTART;TZID=America/New_York:20251003T180000
DTEND;TZID=America/New_York:20251003T193000
DTSTAMP:20260424T074220
CREATED:20250730T135636Z
LAST-MODIFIED:20250730T135712Z
UID:10006911-1759514400-1759519800@stjameshydepark.org
SUMMARY:Hyde Park Food Pantry Bake and Yard Sale Setup (Chapel)
DESCRIPTION:
URL:https://stjameshydepark.org/event/hyde-park-food-pantry-bake-and-yard-sale-setup-chapel/
LOCATION:St. James’ Chapel\, 10 East Market Street\, Hyde Park\, NY\, 12567\, United States
END:VEVENT
BEGIN:VEVENT
DTSTART;TZID=America/New_York:20251004T080000
DTEND;TZID=America/New_York:20251004T150000
DTSTAMP:20260424T074220
CREATED:20250612T154313Z
LAST-MODIFIED:20250612T154313Z
UID:10006597-1759564800-1759590000@stjameshydepark.org
SUMMARY:Stoutenburgh-Teller Family Association Annual Meeting (Parish Hall)
DESCRIPTION:
URL:https://stjameshydepark.org/event/stoutenburgh-teller-family-association-annual-meeting-parish-hall/
LOCATION:St. James’ Episcopal Church\, 4526 Albany Post Rd.\, Hyde Park\, NY\, 12538\, United States
END:VEVENT
BEGIN:VEVENT
DTSTART;TZID=America/New_York:20251004T090000
DTEND;TZID=America/New_York:20251004T140000
DTSTAMP:20260424T074220
CREATED:20250717T182748Z
LAST-MODIFIED:20251003T161626Z
UID:10006900-1759568400-1759586400@stjameshydepark.org
SUMMARY:Hyde Park Food Pantry Bake Sale and Yard Sale (Chapel)
DESCRIPTION:
URL:https://stjameshydepark.org/event/food-pantry-bake-yard-sale/
LOCATION:St. James’ Chapel\, 10 East Market Street\, Hyde Park\, NY\, 12567\, United States
CATEGORIES:Outreach
END:VEVENT
BEGIN:VEVENT
DTSTART;TZID=America/New_York:20251004T183000
DTEND;TZID=America/New_York:20251004T190000
DTSTAMP:20260424T074220
CREATED:20241219T191054Z
LAST-MODIFIED:20241219T191054Z
UID:10004406-1759602600-1759604400@stjameshydepark.org
SUMMARY:Compline (Online)
DESCRIPTION:Join us online every Saturday at 6:30 pm for a brief service of Compline (Night Prayer) facilitated by Deacon Gail. Please email the parish office at stjames.hydepark@gmail.com to request the Zoom link.
URL:https://stjameshydepark.org/event/compline-2025/2025-10-04/
LOCATION:Online
CATEGORIES:Worship
END:VEVENT
BEGIN:VEVENT
DTSTART;VALUE=DATE:20251005
DTEND;VALUE=DATE:20251006
DTSTAMP:20260424T074220
CREATED:20250725T141400Z
LAST-MODIFIED:20250725T141400Z
UID:10006908-1759622400-1759708799@stjameshydepark.org
SUMMARY:Graveyard Tours Dress and Tech Rehearsal
DESCRIPTION:
URL:https://stjameshydepark.org/event/graveyard-tours-dress-and-tech-rehearsal-2/
LOCATION:St. James’ Episcopal Church\, 4526 Albany Post Rd.\, Hyde Park\, NY\, 12538\, United States
END:VEVENT
BEGIN:VEVENT
DTSTART;TZID=America/New_York:20251005T080000
DTEND;TZID=America/New_York:20251005T090000
DTSTAMP:20260424T074220
CREATED:20241219T191649Z
LAST-MODIFIED:20250325T172434Z
UID:10004570-1759651200-1759654800@stjameshydepark.org
SUMMARY:Sunday Worship—Holy Eucharist\, Rite I
DESCRIPTION:Join us Sundays at 8:00 a.m. for a celebration of Holy Eucharist (Communion). This is a quiet service\, usually without music\, though we often have a soloist with acoustic guitar playing before and after the service. The service uses Rite 1 from the 1979 Book of Common Prayer\, with traditional language.
URL:https://stjameshydepark.org/event/sunday-8am-2025/2025-10-05/
LOCATION:St. James’ Episcopal Church\, 4526 Albany Post Rd.\, Hyde Park\, NY\, 12538\, United States
CATEGORIES:Worship
END:VEVENT
BEGIN:VEVENT
DTSTART;TZID=America/New_York:20251005T100000
DTEND;TZID=America/New_York:20251005T113000
DTSTAMP:20260424T074220
CREATED:20241219T191432Z
LAST-MODIFIED:20251209T135212Z
UID:10004518-1759658400-1759663800@stjameshydepark.org
SUMMARY:Sunday Worship—Holy Eucharist\, Rite II with Sunday School and Coffee Hour
DESCRIPTION:Join us Sundays at 10:00 a.m. for a celebration of Holy Eucharist (Communion). This service has music (usually organ and choir\, along with special guest musicians) and uses a variety of prayers and language from traditional to inclusive and expansive\, drawing from Rite II of the 1979 Book of Common Prayer\, Enriching Our Worship\, and other sources. \nCoffee hour in the Parish House usually follows this service. \nSunday School for kindergarten and up meets today on the second floor of the Parish House at 10:00 a.m. Students will rejoin the congregation just before Holy Communion. New to St. James’ Church? Your kids are welcome to Sunday School any Sunday. More details about St. James’ Sunday School at: https://stjameshydepark.org/for-children/
URL:https://stjameshydepark.org/event/sunday-10am-2025/2025-10-05/
LOCATION:St. James’ Episcopal Church\, 4526 Albany Post Rd.\, Hyde Park\, NY\, 12538\, United States
CATEGORIES:Worship
END:VEVENT
BEGIN:VEVENT
DTSTART;TZID=America/New_York:20251005T130000
DTEND;TZID=America/New_York:20251005T140000
DTSTAMP:20260424T074220
CREATED:20250924T132052Z
LAST-MODIFIED:20251003T231835Z
UID:10007002-1759669200-1759672800@stjameshydepark.org
SUMMARY:Blessing of the Animals
DESCRIPTION:🐾 Blessing of the Animals\nin honor of St. Francis of Assisi \n📅 Sunday\, Oct. 5\n⏰ 1–2 pm (drop in) | 2–2:15 pm (Drive-Thru)\n📍 Memorial Garden @ St. James’ Episcopal Church\, 4526 Albany Post Rd\, Hyde Park \n🐶🐱🐰🐢 Bring your pets\, farm animals\, stuffed animals\, or even a memento of a shy or departed companion. All are welcome! \n✨ Enjoy:\n🍪 Treats for pets and humans\n📸 A free digital photo of your pet being blessed\n📜 A keepsake blessing certificate \n🚗 New this year: Drive-Thru Blessing (2–2:15 pm) — perfect for pets who prefer their space. \n🧡 Donations of unopened pet food will be collected for the DSPCA. \n🌎🐕🐾 Come celebrate the love of God’s creatures\, great and small!
URL:https://stjameshydepark.org/event/blessing-of-the-animals-2025/
LOCATION:St. James’ Episcopal Church\, 4526 Albany Post Rd.\, Hyde Park\, NY\, 12538\, United States
ATTACH;FMTTYPE=image/png:https://stjameshydepark.org/wp-content/uploads/2025/09/Blessing-of-the-Animals-social-post.png
END:VEVENT
BEGIN:VEVENT
DTSTART;TZID=America/New_York:20251005T140000
DTEND;TZID=America/New_York:20251005T170000
DTSTAMP:20260424T074220
CREATED:20251002T181908Z
LAST-MODIFIED:20251002T181908Z
UID:10007005-1759672800-1759683600@stjameshydepark.org
SUMMARY:[New Deal] (Parish Hall)
DESCRIPTION:
URL:https://stjameshydepark.org/event/new-deal-parish-hall-5/
LOCATION:St. James’ Episcopal Church\, 4526 Albany Post Rd.\, Hyde Park\, NY\, 12538\, United States
END:VEVENT
BEGIN:VEVENT
DTSTART;TZID=America/New_York:20251005T183000
DTEND;TZID=America/New_York:20251005T210000
DTSTAMP:20260424T074220
CREATED:20250107T185818Z
LAST-MODIFIED:20250107T190058Z
UID:10005984-1759689000-1759698000@stjameshydepark.org
SUMMARY:Hyde Park Group AA (Parish Hall\, Rm. 201)
DESCRIPTION:
URL:https://stjameshydepark.org/event/hyde-park-group-aa-parish-hall-rm-201/2025-10-05/
LOCATION:St. James’ Episcopal Church\, 4526 Albany Post Rd.\, Hyde Park\, NY\, 12538\, United States
END:VEVENT
BEGIN:VEVENT
DTSTART;TZID=America/New_York:20251006T133000
DTEND;TZID=America/New_York:20251006T153000
DTSTAMP:20260424T074220
CREATED:20241110T012408Z
LAST-MODIFIED:20250708T131754Z
UID:10006881-1759757400-1759764600@stjameshydepark.org
SUMMARY:Knit+Craft+Chat (Wilks Room)
DESCRIPTION:A community of crafters and conversationalists meets Mondays from 2-4 pm (drop-in) at St. James’ Episcopal Church in the Wilks Room of our Parish House. We are a friendly group: knitters\, embroiderers\, crocheters\, conversationalists and miscellaneous other activities. All are welcome; no previous skill is required.
URL:https://stjameshydepark.org/event/knit-craft-chat-2/2025-10-06/
LOCATION:St. James’ Episcopal Church\, 4526 Albany Post Rd.\, Hyde Park\, NY\, 12538\, United States
END:VEVENT
BEGIN:VEVENT
DTSTART;TZID=America/New_York:20251006T183000
DTEND;TZID=America/New_York:20251006T213000
DTSTAMP:20260424T074220
CREATED:20250919T171017Z
LAST-MODIFIED:20250919T172436Z
UID:10006995-1759775400-1759786200@stjameshydepark.org
SUMMARY:[New Deal] Rehearsals (Parish Hall)
DESCRIPTION:
URL:https://stjameshydepark.org/event/new-deal-rehearsals-parish-hall/2025-10-06/
LOCATION:St. James’ Episcopal Church\, 4526 Albany Post Rd.\, Hyde Park\, NY\, 12538\, United States
END:VEVENT
BEGIN:VEVENT
DTSTART;TZID=America/New_York:20251007T183000
DTEND;TZID=America/New_York:20251007T203000
DTSTAMP:20260424T074220
CREATED:20251003T172857Z
LAST-MODIFIED:20251003T172857Z
UID:10007007-1759861800-1759869000@stjameshydepark.org
SUMMARY:Stewardship Committee Meeting (Wilks Room)
DESCRIPTION:
URL:https://stjameshydepark.org/event/stewardship-committee-meeting-wilks-room-3/
LOCATION:St. James’ Episcopal Church\, 4526 Albany Post Rd.\, Hyde Park\, NY\, 12538\, United States
END:VEVENT
BEGIN:VEVENT
DTSTART;TZID=America/New_York:20251007T190000
DTEND;TZID=America/New_York:20251007T203000
DTSTAMP:20260424T074220
CREATED:20250107T190949Z
LAST-MODIFIED:20250107T190949Z
UID:10006027-1759863600-1759869000@stjameshydepark.org
SUMMARY:Boy Scout Troop 80 (Parish Hall)
DESCRIPTION:
URL:https://stjameshydepark.org/event/boy-scout-troop-80-parish-hall/2025-10-07/
LOCATION:St. James’ Episcopal Church\, 4526 Albany Post Rd.\, Hyde Park\, NY\, 12538\, United States
END:VEVENT
BEGIN:VEVENT
DTSTART;TZID=America/New_York:20251007T190000
DTEND;TZID=America/New_York:20251007T203000
DTSTAMP:20260424T074220
CREATED:20250107T191135Z
LAST-MODIFIED:20250107T191355Z
UID:10006104-1759863600-1759869000@stjameshydepark.org
SUMMARY:Boy Scout Troop 80 (Wilks Room)
DESCRIPTION:
URL:https://stjameshydepark.org/event/boy-scout-troop-80-wilks-room/2025-10-07/
LOCATION:St. James’ Episcopal Church\, 4526 Albany Post Rd.\, Hyde Park\, NY\, 12538\, United States
END:VEVENT
BEGIN:VEVENT
DTSTART;TZID=America/New_York:20251008T110000
DTEND;TZID=America/New_York:20251008T121500
DTSTAMP:20260424T074220
CREATED:20241120T172057Z
LAST-MODIFIED:20250424T151851Z
UID:10006359-1759921200-1759925700@stjameshydepark.org
SUMMARY:Bible Study (Online)
DESCRIPTION:Our weekly Bible study on Zoom usually focuses on the Gospel for the upcoming Sunday and is led by Mtr. Meredith. We practice a contemplative\, prayerful style of Bible study that focuses on how God is speaking to us through our questions\, responses\, curiosities and doubts as we engage Scripture.  \nThe study is followed by a brief\, optional service of noonday prayer. \nJoin in any Wednesday at 11 am. No previous preparation is required. The Zoom link is distributed via our weekly email newsletter (or contact the parish office).
URL:https://stjameshydepark.org/event/bible-study-2025/2025-10-08/
LOCATION:Online
CATEGORIES:Christian Formation
END:VEVENT
BEGIN:VEVENT
DTSTART;TZID=America/New_York:20251008T180000
DTEND;TZID=America/New_York:20251008T200000
DTSTAMP:20260424T074220
CREATED:20250821T134151Z
LAST-MODIFIED:20250913T111059Z
UID:10006921-1759946400-1759953600@stjameshydepark.org
SUMMARY:Episcopal 101 (Parish Hall and Wilks Room)
DESCRIPTION:Discover (or rediscover) our faith life together in The Episcopal Church! \nThe course will meet in the Parish House (sometimes the Wilks Room\, sometimes the Hall) every Wednesday from 6-8 pm\,  through October 22. You can attend the whole series or pop in on a given week. Light supper is provided. If you’re popping in\, please RSVP to Mtr. Meredith and note any dietary restrictions. You can also get a copy of that week’s reading from her in advance. \nTopics include: \n\nThe Bible—What is the Bible? Why do we read it? How do we know what it means? \nBeliefs—What do Episcopalians believe? How do we talk about God? Why do we say the Nicene Creed every Sunday? Join us for this week’s Episcopal 101 as we explore these questions together. Light dinner provided—please RSVP to Mtr. Meredith.\nBaptism & Eucharist—What is a sacrament? What are the promises we make about our lives as Christians? How do the sacraments change our lives? \nHistory—Where does the Episcopal Church come from\, and why does that matter today? \nPrayer—What is prayer? How do we pray and how can we grow our lives of prayer together? \n\nRemember this is open to everyone\, from newcomers to longtime members. Those who complete the course will have the option to be Confirmed or Received when Bishop Matt visits St. James’ on Sunday\, October 26th.
URL:https://stjameshydepark.org/event/episcopal-101-fall-2025/2025-10-08/
LOCATION:St. James’ Episcopal Church\, 4526 Albany Post Rd.\, Hyde Park\, NY\, 12538\, United States
CATEGORIES:Christian Formation
ATTACH;FMTTYPE=image/png:https://stjameshydepark.org/wp-content/uploads/2025/08/Episcopal-101.png
END:VEVENT
BEGIN:VEVENT
DTSTART;TZID=America/New_York:20251008T180000
DTEND;TZID=America/New_York:20251008T200000
DTSTAMP:20260424T074220
CREATED:20251003T123900Z
LAST-MODIFIED:20251003T123900Z
UID:10007006-1759946400-1759953600@stjameshydepark.org
SUMMARY:Women's Group (Antonella's)
DESCRIPTION:
URL:https://stjameshydepark.org/event/womens-group-antonellas-2/
LOCATION:Antonella’s Restaurant\, Hyde Park\, NY\, 4246 Albany Post Rd #1700\, Hyde Park\, NY\, 12538\, United States
END:VEVENT
END:VCALENDAR