BEGIN:VCALENDAR
VERSION:2.0
PRODID:-//St. James&#039; Episcopal Church - ECPv6.15.20//NONSGML v1.0//EN
CALSCALE:GREGORIAN
METHOD:PUBLISH
X-ORIGINAL-URL:https://stjameshydepark.org
X-WR-CALDESC:Events for St. James&#039; Episcopal Church
REFRESH-INTERVAL;VALUE=DURATION:PT1H
X-Robots-Tag:noindex
X-PUBLISHED-TTL:PT1H
BEGIN:VTIMEZONE
TZID:America/New_York
BEGIN:DAYLIGHT
TZOFFSETFROM:-0500
TZOFFSETTO:-0400
TZNAME:EDT
DTSTART:20220313T070000
END:DAYLIGHT
BEGIN:STANDARD
TZOFFSETFROM:-0400
TZOFFSETTO:-0500
TZNAME:EST
DTSTART:20221106T060000
END:STANDARD
BEGIN:DAYLIGHT
TZOFFSETFROM:-0500
TZOFFSETTO:-0400
TZNAME:EDT
DTSTART:20230312T070000
END:DAYLIGHT
BEGIN:STANDARD
TZOFFSETFROM:-0400
TZOFFSETTO:-0500
TZNAME:EST
DTSTART:20231105T060000
END:STANDARD
BEGIN:DAYLIGHT
TZOFFSETFROM:-0500
TZOFFSETTO:-0400
TZNAME:EDT
DTSTART:20240310T070000
END:DAYLIGHT
BEGIN:STANDARD
TZOFFSETFROM:-0400
TZOFFSETTO:-0500
TZNAME:EST
DTSTART:20241103T060000
END:STANDARD
BEGIN:DAYLIGHT
TZOFFSETFROM:-0500
TZOFFSETTO:-0400
TZNAME:EDT
DTSTART:20250309T070000
END:DAYLIGHT
BEGIN:STANDARD
TZOFFSETFROM:-0400
TZOFFSETTO:-0500
TZNAME:EST
DTSTART:20251102T060000
END:STANDARD
END:VTIMEZONE
BEGIN:VEVENT
DTSTART;TZID=America/New_York:20231216T170000
DTEND;TZID=America/New_York:20231216T190000
DTSTAMP:20260425T221552
CREATED:20231108T150721Z
LAST-MODIFIED:20231108T150928Z
UID:10002709-1702746000-1702753200@stjameshydepark.org
SUMMARY:A World War II Radio Christmas (Parish Hall)
DESCRIPTION:
URL:https://stjameshydepark.org/event/a-world-war-ii-radio-christmas-parish-hall/2023-12-16/
LOCATION:St. James’ Episcopal Church\, 4526 Albany Post Rd.\, Hyde Park\, NY\, 12538\, United States
CATEGORIES:New Deal
END:VEVENT
BEGIN:VEVENT
DTSTART;TZID=America/New_York:20231216T183000
DTEND;TZID=America/New_York:20231216T193000
DTSTAMP:20260425T221552
CREATED:20230112T191110Z
LAST-MODIFIED:20231102T135511Z
UID:10001647-1702751400-1702755000@stjameshydepark.org
SUMMARY:Compline (Remote)
DESCRIPTION:
URL:https://stjameshydepark.org/event/compline-remote-3-2023-01-07/2023-12-16/
LOCATION:Online
CATEGORIES:Worship
END:VEVENT
BEGIN:VEVENT
DTSTART;TZID=America/New_York:20231217T080000
DTEND;TZID=America/New_York:20231217T090000
DTSTAMP:20260425T221552
CREATED:20230110T171732Z
LAST-MODIFIED:20230709T232408Z
UID:10001578-1702800000-1702803600@stjameshydepark.org
SUMMARY:Holy Eucharist (Rite I)
DESCRIPTION:Join us Sundays at 8:00 a.m. for a celebration of Holy Eucharist (Communion). This is a quiet service\, usually without music\, though we often have a soloist with acoustic guitar playing before and after the service. The service uses Rite 1 from the 1979 Book of Common Prayer\, with traditional language.
URL:https://stjameshydepark.org/event/holy-eucharist-rite-i-2023-05-28/2023-12-17/
LOCATION:St. James’ Episcopal Church\, 4526 Albany Post Rd.\, Hyde Park\, NY\, 12538\, United States
CATEGORIES:Worship
END:VEVENT
BEGIN:VEVENT
DTSTART;TZID=America/New_York:20231217T100000
DTEND;TZID=America/New_York:20231217T110000
DTSTAMP:20260425T221552
CREATED:20230709T232511Z
LAST-MODIFIED:20231025T142412Z
UID:10002138-1702807200-1702810800@stjameshydepark.org
SUMMARY:Holy Eucharist (Rite II) with Sunday School and Coffee Hour
DESCRIPTION:Join us Sundays at 10:00 a.m. for a celebration of Holy Eucharist (Communion). This service has music (usually organ and choir\, along with special guest musicians) and uses a variety of prayers and language from traditional to inclusive and expansive\, drawing from Rite II of the 1979 Book of Common Prayer\, Enriching Our Worship\, and other sources. Coffee hour in the Parish House usually follows this service. \nSunday School for kindergarten and up meets today on the second floor of the Parish House at 10:00 a.m. Students will rejoin the congregation just before Holy Communion. New to St. James’? Your kids are welcome to Sunday School any Sunday. More details about St. James’ Sunday School at: https://stjameshydepark.org/for-children/
URL:https://stjameshydepark.org/event/holy-eucharist-ii-fall-2023/2023-12-17/
LOCATION:St. James’ Episcopal Church\, 4526 Albany Post Rd.\, Hyde Park\, NY\, 12538\, United States
CATEGORIES:Worship
END:VEVENT
BEGIN:VEVENT
DTSTART;TZID=America/New_York:20231217T140000
DTEND;TZID=America/New_York:20231217T160000
DTSTAMP:20260425T221552
CREATED:20231108T150721Z
LAST-MODIFIED:20231108T150928Z
UID:10002710-1702821600-1702828800@stjameshydepark.org
SUMMARY:A World War II Radio Christmas (Parish Hall)
DESCRIPTION:
URL:https://stjameshydepark.org/event/a-world-war-ii-radio-christmas-parish-hall/2023-12-17/
LOCATION:St. James’ Episcopal Church\, 4526 Albany Post Rd.\, Hyde Park\, NY\, 12538\, United States
CATEGORIES:New Deal
END:VEVENT
BEGIN:VEVENT
DTSTART;TZID=America/New_York:20231217T180000
DTEND;TZID=America/New_York:20231217T200000
DTSTAMP:20260425T221552
CREATED:20231026T173102Z
LAST-MODIFIED:20231224T110713Z
UID:10002701-1702836000-1702843200@stjameshydepark.org
SUMMARY:Neighborhood Christmas Caroling (St. Margaret's)
DESCRIPTION:Meet at St. Margaret’s (corner of East Elm and Old Post in Staatsburg) for caroling in the village of Staatsburg. Afterward\, we’ll return to St. Margaret’s for a festive reception\, including cookies baked by our youth group!
URL:https://stjameshydepark.org/event/neighborhood-christmas-caroling-st-margarets/
LOCATION:St. Margaret’s Church\, E. Elm Ave.\, Staatsburg\, NY\, 12580\, United States
CATEGORIES:Christmas,Fun,Kids & Youth
END:VEVENT
BEGIN:VEVENT
DTSTART;TZID=America/New_York:20231217T183000
DTEND;TZID=America/New_York:20231217T210000
DTSTAMP:20260425T221552
CREATED:20230315T174027Z
LAST-MODIFIED:20231108T151435Z
UID:10001982-1702837800-1702846800@stjameshydepark.org
SUMMARY:AA Meeting (Parish Hall; Rm. 201)
DESCRIPTION:
URL:https://stjameshydepark.org/event/aa-meeting-parish-hall-rm-201/2023-12-17/
LOCATION:St. James’ Episcopal Church\, 4526 Albany Post Rd.\, Hyde Park\, NY\, 12538\, United States
END:VEVENT
BEGIN:VEVENT
DTSTART;VALUE=DATE:20231218
DTEND;VALUE=DATE:20231219
DTSTAMP:20260425T221552
CREATED:20220329T204444Z
LAST-MODIFIED:20230112T190336Z
UID:10001210-1702857600-1702943999@stjameshydepark.org
SUMMARY:Parish Office Closed
DESCRIPTION:
URL:https://stjameshydepark.org/event/parish-office-closed-2/2023-12-18/
LOCATION:NY
CATEGORIES:General
END:VEVENT
BEGIN:VEVENT
DTSTART;TZID=America/New_York:20231218T100000
DTEND;TZID=America/New_York:20231218T110000
DTSTAMP:20260425T221552
CREATED:20231003T123247Z
LAST-MODIFIED:20231209T120750Z
UID:10002671-1702893600-1702897200@stjameshydepark.org
SUMMARY:Burial (Soden)
DESCRIPTION:
URL:https://stjameshydepark.org/event/burial-soden/
LOCATION:St. James’ Episcopal Church\, 4526 Albany Post Rd.\, Hyde Park\, NY\, 12538\, United States
CATEGORIES:Funerals
END:VEVENT
BEGIN:VEVENT
DTSTART;TZID=America/New_York:20231218T193000
DTEND;TZID=America/New_York:20231218T210000
DTSTAMP:20260425T221552
CREATED:20220220T004423Z
LAST-MODIFIED:20240124T135234Z
UID:10002715-1702927800-1702933200@stjameshydepark.org
SUMMARY:Girl Scout Troop 10015 Meeting (Parish Hall)
DESCRIPTION:
URL:https://stjameshydepark.org/event/girl-scout-troop-10015-meeting-parish-hall/2023-12-18/
LOCATION:St. James’ Episcopal Church\, 4526 Albany Post Rd.\, Hyde Park\, NY\, 12538\, United States
CATEGORIES:General
END:VEVENT
BEGIN:VEVENT
DTSTART;TZID=America/New_York:20231219T070000
DTEND;TZID=America/New_York:20231219T210000
DTSTAMP:20260425T221552
CREATED:20231205T153140Z
LAST-MODIFIED:20231205T153142Z
UID:10002187-1702969200-1703019600@stjameshydepark.org
SUMMARY:Vestry Meeting (Rectory Dining Room)
DESCRIPTION:
URL:https://stjameshydepark.org/event/vestry-meeting-2-2-2-2/
LOCATION:St. James’ Episcopal Church\, 4526 Albany Post Rd.\, Hyde Park\, NY\, 12538\, United States
CATEGORIES:General
END:VEVENT
BEGIN:VEVENT
DTSTART;TZID=America/New_York:20231219T190000
DTEND;TZID=America/New_York:20231219T200000
DTSTAMP:20260425T221552
CREATED:20230113T151213Z
LAST-MODIFIED:20230316T161002Z
UID:10001892-1703012400-1703016000@stjameshydepark.org
SUMMARY:Boy Scouts Troop 80 (Parish Hall; Rm. 203)
DESCRIPTION:
URL:https://stjameshydepark.org/event/boy-scouts-troop-80-parish-hall-rm-203-2/2023-12-19/
LOCATION:St. James’ Episcopal Church\, 4526 Albany Post Rd.\, Hyde Park\, NY\, 12538\, United States
END:VEVENT
BEGIN:VEVENT
DTSTART;TZID=America/New_York:20231220T110000
DTEND;TZID=America/New_York:20231220T120000
DTSTAMP:20260425T221552
CREATED:20220329T172814Z
LAST-MODIFIED:20230112T193257Z
UID:10001849-1703070000-1703073600@stjameshydepark.org
SUMMARY:Bible Study (Zoom)
DESCRIPTION:Our weekly Bible study takes place on Zoom! Join in every Wednesday at 11 a.m. for prayer\, conversation and reflection on the readings for the upcoming Sunday. The Zoom link will be distributed via our Google Group\, or contact the parish office. 
URL:https://stjameshydepark.org/event/bible-study-2023-02-15-2023-09-13/2023-12-20/
LOCATION:Online
CATEGORIES:General
END:VEVENT
BEGIN:VEVENT
DTSTART;TZID=America/New_York:20231220T183000
DTEND;TZID=America/New_York:20231220T193000
DTSTAMP:20260425T221552
CREATED:20230112T192240Z
LAST-MODIFIED:20230926T155941Z
UID:10001830-1703097000-1703100600@stjameshydepark.org
SUMMARY:Evening Prayer (Remote)
DESCRIPTION:
URL:https://stjameshydepark.org/event/evening-prayer-remote-2/2023-12-20/
LOCATION:Online
CATEGORIES:Worship
END:VEVENT
BEGIN:VEVENT
DTSTART;TZID=America/New_York:20231220T183000
DTEND;TZID=America/New_York:20231220T200000
DTSTAMP:20260425T221552
CREATED:20230316T155038Z
LAST-MODIFIED:20230926T153454Z
UID:10001992-1703097000-1703102400@stjameshydepark.org
SUMMARY:Outreach Meeting (Parish Hall)
DESCRIPTION:
URL:https://stjameshydepark.org/event/outreach-meeting-parish-hall-2/2023-12-20/
LOCATION:St. James’ Episcopal Church\, 4526 Albany Post Rd.\, Hyde Park\, NY\, 12538\, United States
CATEGORIES:Outreach
END:VEVENT
BEGIN:VEVENT
DTSTART;TZID=America/New_York:20231221T190000
DTEND;TZID=America/New_York:20231221T190000
DTSTAMP:20260425T221552
CREATED:20231026T173229Z
LAST-MODIFIED:20231224T110804Z
UID:10002702-1703185200-1703185200@stjameshydepark.org
SUMMARY:Blue Christmas Service
DESCRIPTION:A quiet\, reflective prayer service for anyone experiencing grief\, loss\, or struggle during the holidays.
URL:https://stjameshydepark.org/event/2023-blue-christmas/
LOCATION:St. James’ Episcopal Church\, 4526 Albany Post Rd.\, Hyde Park\, NY\, 12538\, United States
CATEGORIES:Christmas,Worship
ATTACH;FMTTYPE=image/png:https://stjameshydepark.org/wp-content/uploads/2023/12/Blue-Christmas-2023.png
END:VEVENT
BEGIN:VEVENT
DTSTART;TZID=America/New_York:20231223T183000
DTEND;TZID=America/New_York:20231223T193000
DTSTAMP:20260425T221552
CREATED:20230112T191110Z
LAST-MODIFIED:20231102T135511Z
UID:10001648-1703356200-1703359800@stjameshydepark.org
SUMMARY:Compline (Remote)
DESCRIPTION:
URL:https://stjameshydepark.org/event/compline-remote-3-2023-01-07/2023-12-23/
LOCATION:Online
CATEGORIES:Worship
END:VEVENT
BEGIN:VEVENT
DTSTART;TZID=America/New_York:20231224T080000
DTEND;TZID=America/New_York:20231224T090000
DTSTAMP:20260425T221552
CREATED:20230110T171732Z
LAST-MODIFIED:20230709T232408Z
UID:10001579-1703404800-1703408400@stjameshydepark.org
SUMMARY:Holy Eucharist (Rite I)
DESCRIPTION:Join us Sundays at 8:00 a.m. for a celebration of Holy Eucharist (Communion). This is a quiet service\, usually without music\, though we often have a soloist with acoustic guitar playing before and after the service. The service uses Rite 1 from the 1979 Book of Common Prayer\, with traditional language.
URL:https://stjameshydepark.org/event/holy-eucharist-rite-i-2023-05-28/2023-12-24/
LOCATION:St. James’ Episcopal Church\, 4526 Albany Post Rd.\, Hyde Park\, NY\, 12538\, United States
CATEGORIES:Worship
END:VEVENT
BEGIN:VEVENT
DTSTART;TZID=America/New_York:20231224T100000
DTEND;TZID=America/New_York:20231224T110000
DTSTAMP:20260425T221552
CREATED:20231220T031102Z
LAST-MODIFIED:20231220T031105Z
UID:10002139-1703412000-1703415600@stjameshydepark.org
SUMMARY:Holy Eucharist (Rite II)—no Coffee Hour or Sunday School (4th Sunday of Advent)
DESCRIPTION:Join us Sundays at 10:00 a.m. for a celebration of Holy Eucharist (Communion). This service has music (usually organ and choir\, along with special guest musicians) and uses a variety of prayers and language from traditional to inclusive and expansive\, drawing from Rite II of the 1979 Book of Common Prayer\, Enriching Our Worship\, and other sources. \nOn Sunday\, December 24th\, we will observe the Fourth Sunday of Advent at our 8 and 10 am services. There will not be Sunday School or Coffee Hour on the 24th. Christmas Eve services will be held at 6 and 10 pm in the evening.
URL:https://stjameshydepark.org/event/holy-eucharist-ii-fall-2023-4/
LOCATION:St. James’ Episcopal Church\, 4526 Albany Post Rd.\, Hyde Park\, NY\, 12538\, United States
CATEGORIES:Worship
END:VEVENT
BEGIN:VEVENT
DTSTART;TZID=America/New_York:20231224T180000
DTEND;TZID=America/New_York:20231224T193000
DTSTAMP:20260425T221552
CREATED:20231122T132321Z
LAST-MODIFIED:20231224T111044Z
UID:10002719-1703440800-1703446200@stjameshydepark.org
SUMMARY:6 pm Christmas Eve Service
DESCRIPTION:Merry Christmas! We look forward to celebrating with you!\nOur Christmas Eve services are at 6 and 10 pm. Both services include festive carols\, Holy Eucharist\, and a candlelight singing of “Silent Night.” Our 6 pm service features the blessing of the creche (Nativity scene) and our 10 pm service begins with a special candle lighting ceremony\, moving from darkness to light. Both Christmas Eve services will be livestreamed on YouTube\, and you can download the 6 pm bulletin and the 10 pm bulletin to follow along. \nOur Christmas Day service at 10 am is a quiet\, spoken service. The Christmas Day service is not livestreamed.
URL:https://stjameshydepark.org/event/2023-christmas-eve-6pm/
LOCATION:St. James’ Episcopal Church\, 4526 Albany Post Rd.\, Hyde Park\, NY\, 12538\, United States
CATEGORIES:Christmas
ATTACH;FMTTYPE=image/png:https://stjameshydepark.org/wp-content/uploads/2023/12/Christmas-at-St.-James-2023.png
END:VEVENT
BEGIN:VEVENT
DTSTART;TZID=America/New_York:20231224T183000
DTEND;TZID=America/New_York:20231224T210000
DTSTAMP:20260425T221552
CREATED:20230315T174027Z
LAST-MODIFIED:20231108T151435Z
UID:10001983-1703442600-1703451600@stjameshydepark.org
SUMMARY:AA Meeting (Parish Hall; Rm. 201)
DESCRIPTION:
URL:https://stjameshydepark.org/event/aa-meeting-parish-hall-rm-201/2023-12-24/
LOCATION:St. James’ Episcopal Church\, 4526 Albany Post Rd.\, Hyde Park\, NY\, 12538\, United States
END:VEVENT
BEGIN:VEVENT
DTSTART;TZID=America/New_York:20231224T220000
DTEND;TZID=America/New_York:20231224T233000
DTSTAMP:20260425T221552
CREATED:20231122T132416Z
LAST-MODIFIED:20231224T111143Z
UID:10002720-1703455200-1703460600@stjameshydepark.org
SUMMARY:10 pm Christmas Eve Service
DESCRIPTION:Merry Christmas! We look forward to celebrating with you!\nOur Christmas Eve services are at 6 and 10 pm. Both services include festive carols\, Holy Eucharist\, and a candlelight singing of “Silent Night.” Our 6 pm service features the blessing of the creche (Nativity scene) and our 10 pm service begins with a special candle lighting ceremony\, moving from darkness to light. Both Christmas Eve services will be livestreamed on YouTube\, and you can download the 6 pm bulletin and the 10 pm bulletin to follow along. \nOur Christmas Day service at 10 am is a quiet\, spoken service. The Christmas Day service is not livestreamed.
URL:https://stjameshydepark.org/event/2023-christmas-eve-10pm/
LOCATION:St. James’ Episcopal Church\, 4526 Albany Post Rd.\, Hyde Park\, NY\, 12538\, United States
CATEGORIES:Christmas
ATTACH;FMTTYPE=image/png:https://stjameshydepark.org/wp-content/uploads/2023/12/Christmas-at-St.-James-2023.png
END:VEVENT
BEGIN:VEVENT
DTSTART;VALUE=DATE:20231225
DTEND;VALUE=DATE:20231226
DTSTAMP:20260425T221552
CREATED:20220329T204444Z
LAST-MODIFIED:20230112T190336Z
UID:10001211-1703462400-1703548799@stjameshydepark.org
SUMMARY:Parish Office Closed
DESCRIPTION:
URL:https://stjameshydepark.org/event/parish-office-closed-2/2023-12-25/
LOCATION:NY
CATEGORIES:General
END:VEVENT
BEGIN:VEVENT
DTSTART;TZID=America/New_York:20231225T100000
DTEND;TZID=America/New_York:20231225T110000
DTSTAMP:20260425T221552
CREATED:20231122T132530Z
LAST-MODIFIED:20231224T111201Z
UID:10002721-1703498400-1703502000@stjameshydepark.org
SUMMARY:Christmas Day Service
DESCRIPTION:Merry Christmas! We look forward to celebrating with you!\nOur Christmas Eve services are at 6 and 10 pm. Both services include festive carols\, Holy Eucharist\, and a candlelight singing of “Silent Night.” Our 6 pm service features the blessing of the creche (Nativity scene) and our 10 pm service begins with a special candle lighting ceremony\, moving from darkness to light. Both Christmas Eve services will be livestreamed on YouTube\, and you can download the 6 pm bulletin and the 10 pm bulletin to follow along. \nOur Christmas Day service at 10 am is a quiet\, spoken service. The Christmas Day service is not livestreamed.
URL:https://stjameshydepark.org/event/2023-christmas-day-10am/
LOCATION:St. James’ Chapel\, 10 East Market Street\, Hyde Park\, NY\, 12567\, United States
CATEGORIES:Christmas
ATTACH;FMTTYPE=image/png:https://stjameshydepark.org/wp-content/uploads/2023/12/Christmas-at-St.-James-2023.png
END:VEVENT
BEGIN:VEVENT
DTSTART;TZID=America/New_York:20231229T100000
DTEND;TZID=America/New_York:20231229T150000
DTSTAMP:20260425T221552
CREATED:20230317T140310Z
LAST-MODIFIED:20230926T161211Z
UID:10001994-1703844000-1703862000@stjameshydepark.org
SUMMARY:Blood Drive (Parish Hall)
DESCRIPTION:Setup 8:45-10; Breadown 3-4:30
URL:https://stjameshydepark.org/event/blood-drive-parish-hall/
LOCATION:St. James’ Episcopal Church\, 4526 Albany Post Rd.\, Hyde Park\, NY\, 12538\, United States
CATEGORIES:Women's Group
END:VEVENT
BEGIN:VEVENT
DTSTART;TZID=America/New_York:20231231T080000
DTEND;TZID=America/New_York:20231231T090000
DTSTAMP:20260425T221552
CREATED:20230110T171732Z
LAST-MODIFIED:20230709T232408Z
UID:10001580-1704009600-1704013200@stjameshydepark.org
SUMMARY:Holy Eucharist (Rite I)
DESCRIPTION:Join us Sundays at 8:00 a.m. for a celebration of Holy Eucharist (Communion). This is a quiet service\, usually without music\, though we often have a soloist with acoustic guitar playing before and after the service. The service uses Rite 1 from the 1979 Book of Common Prayer\, with traditional language.
URL:https://stjameshydepark.org/event/holy-eucharist-rite-i-2023-05-28/2023-12-31/
LOCATION:St. James’ Episcopal Church\, 4526 Albany Post Rd.\, Hyde Park\, NY\, 12538\, United States
CATEGORIES:Worship
END:VEVENT
BEGIN:VEVENT
DTSTART;TZID=America/New_York:20231231T100000
DTEND;TZID=America/New_York:20231231T110000
DTSTAMP:20260425T221552
CREATED:20231222T014642Z
LAST-MODIFIED:20240104T115309Z
UID:10002140-1704016800-1704020400@stjameshydepark.org
SUMMARY:Holy Eucharist (Rite II) with Coffee Hour (No Sunday School)
DESCRIPTION:Join us Sundays at 10:00 a.m. for a celebration of Holy Eucharist (Communion). This service has music (usually organ and choir\, along with special guest musicians) and uses a variety of prayers and language from traditional to inclusive and expansive\, drawing from Rite II of the 1979 Book of Common Prayer\, Enriching Our Worship\, and other sources. Coffee hour in the Parish House usually follows this service. \nNo Sunday School today\, but join us when we return Sunday\, January 14th!\nAbout Sunday School: Sunday School for kindergarten and up meets on the second floor of the Parish House at 10:00 a.m. most Sundays. Students rejoin the congregation just before Holy Communion. New to St. James’? Your kids are welcome to Sunday School any Sunday. More details about St. James’ Sunday School at: https://stjameshydepark.org/for-children/
URL:https://stjameshydepark.org/event/holy-eucharist-ii-fall-2023-5/
LOCATION:St. James’ Episcopal Church\, 4526 Albany Post Rd.\, Hyde Park\, NY\, 12538\, United States
CATEGORIES:Worship
END:VEVENT
BEGIN:VEVENT
DTSTART;TZID=America/New_York:20231231T183000
DTEND;TZID=America/New_York:20231231T210000
DTSTAMP:20260425T221552
CREATED:20230315T174027Z
LAST-MODIFIED:20231108T151435Z
UID:10001984-1704047400-1704056400@stjameshydepark.org
SUMMARY:AA Meeting (Parish Hall; Rm. 201)
DESCRIPTION:
URL:https://stjameshydepark.org/event/aa-meeting-parish-hall-rm-201/2023-12-31/
LOCATION:St. James’ Episcopal Church\, 4526 Albany Post Rd.\, Hyde Park\, NY\, 12538\, United States
END:VEVENT
BEGIN:VEVENT
DTSTART;TZID=America/New_York:20231231T183000
DTEND;TZID=America/New_York:20231231T220000
DTSTAMP:20260425T221552
CREATED:20230622T132525Z
LAST-MODIFIED:20240112T181743Z
UID:10002107-1704047400-1704060000@stjameshydepark.org
SUMMARY:AA Ind. Anniversary (Parish Hall)
DESCRIPTION:
URL:https://stjameshydepark.org/event/aa-ind-anniversary-parish-hall/2023-12-31/
LOCATION:St. James’ Episcopal Church\, 4526 Albany Post Rd.\, Hyde Park\, NY\, 12538\, United States
END:VEVENT
BEGIN:VEVENT
DTSTART;TZID=America/New_York:20240102T190000
DTEND;TZID=America/New_York:20240102T200000
DTSTAMP:20260425T221552
CREATED:20240112T173004Z
LAST-MODIFIED:20240829T144849Z
UID:10002694-1704222000-1704225600@stjameshydepark.org
SUMMARY:Boy Scouts (Wilks Room)
DESCRIPTION:
URL:https://stjameshydepark.org/event/boy-scouts-wilks-room-2/2024-01-02/
LOCATION:St. James’ Episcopal Church\, 4526 Albany Post Rd.\, Hyde Park\, NY\, 12538\, United States
CATEGORIES:General
END:VEVENT
END:VCALENDAR