BEGIN:VCALENDAR
VERSION:2.0
PRODID:-//St. James&#039; Episcopal Church - ECPv6.15.20//NONSGML v1.0//EN
CALSCALE:GREGORIAN
METHOD:PUBLISH
X-WR-CALNAME:St. James&#039; Episcopal Church
X-ORIGINAL-URL:https://stjameshydepark.org
X-WR-CALDESC:Events for St. James&#039; Episcopal Church
REFRESH-INTERVAL;VALUE=DURATION:PT1H
X-Robots-Tag:noindex
X-PUBLISHED-TTL:PT1H
BEGIN:VTIMEZONE
TZID:America/New_York
BEGIN:DAYLIGHT
TZOFFSETFROM:-0500
TZOFFSETTO:-0400
TZNAME:EDT
DTSTART:20240310T070000
END:DAYLIGHT
BEGIN:STANDARD
TZOFFSETFROM:-0400
TZOFFSETTO:-0500
TZNAME:EST
DTSTART:20241103T060000
END:STANDARD
BEGIN:DAYLIGHT
TZOFFSETFROM:-0500
TZOFFSETTO:-0400
TZNAME:EDT
DTSTART:20250309T070000
END:DAYLIGHT
BEGIN:STANDARD
TZOFFSETFROM:-0400
TZOFFSETTO:-0500
TZNAME:EST
DTSTART:20251102T060000
END:STANDARD
BEGIN:DAYLIGHT
TZOFFSETFROM:-0500
TZOFFSETTO:-0400
TZNAME:EDT
DTSTART:20260308T070000
END:DAYLIGHT
BEGIN:STANDARD
TZOFFSETFROM:-0400
TZOFFSETTO:-0500
TZNAME:EST
DTSTART:20261101T060000
END:STANDARD
END:VTIMEZONE
BEGIN:VEVENT
DTSTART;TZID=America/New_York:20250910T110000
DTEND;TZID=America/New_York:20250910T121500
DTSTAMP:20260424T073916
CREATED:20241120T172057Z
LAST-MODIFIED:20250424T151851Z
UID:10006355-1757502000-1757506500@stjameshydepark.org
SUMMARY:Bible Study (Online)
DESCRIPTION:Our weekly Bible study on Zoom usually focuses on the Gospel for the upcoming Sunday and is led by Mtr. Meredith. We practice a contemplative\, prayerful style of Bible study that focuses on how God is speaking to us through our questions\, responses\, curiosities and doubts as we engage Scripture.  \nThe study is followed by a brief\, optional service of noonday prayer. \nJoin in any Wednesday at 11 am. No previous preparation is required. The Zoom link is distributed via our weekly email newsletter (or contact the parish office).
URL:https://stjameshydepark.org/event/bible-study-2025/2025-09-10/
LOCATION:Online
CATEGORIES:Christian Formation
END:VEVENT
BEGIN:VEVENT
DTSTART;TZID=America/New_York:20250910T180000
DTEND;TZID=America/New_York:20250910T200000
DTSTAMP:20260424T073916
CREATED:20250821T134151Z
LAST-MODIFIED:20250913T111059Z
UID:10006917-1757527200-1757534400@stjameshydepark.org
SUMMARY:Episcopal 101 (Parish Hall and Wilks Room)
DESCRIPTION:Discover (or rediscover) our faith life together in The Episcopal Church! \nThe course will meet in the Parish House (sometimes the Wilks Room\, sometimes the Hall) every Wednesday from 6-8 pm\,  through October 22. You can attend the whole series or pop in on a given week. Light supper is provided. If you’re popping in\, please RSVP to Mtr. Meredith and note any dietary restrictions. You can also get a copy of that week’s reading from her in advance. \nTopics include: \n\nThe Bible—What is the Bible? Why do we read it? How do we know what it means? \nBeliefs—What do Episcopalians believe? How do we talk about God? Why do we say the Nicene Creed every Sunday? Join us for this week’s Episcopal 101 as we explore these questions together. Light dinner provided—please RSVP to Mtr. Meredith.\nBaptism & Eucharist—What is a sacrament? What are the promises we make about our lives as Christians? How do the sacraments change our lives? \nHistory—Where does the Episcopal Church come from\, and why does that matter today? \nPrayer—What is prayer? How do we pray and how can we grow our lives of prayer together? \n\nRemember this is open to everyone\, from newcomers to longtime members. Those who complete the course will have the option to be Confirmed or Received when Bishop Matt visits St. James’ on Sunday\, October 26th.
URL:https://stjameshydepark.org/event/episcopal-101-fall-2025/2025-09-10/
LOCATION:St. James’ Episcopal Church\, 4526 Albany Post Rd.\, Hyde Park\, NY\, 12538\, United States
CATEGORIES:Christian Formation
ATTACH;FMTTYPE=image/png:https://stjameshydepark.org/wp-content/uploads/2025/08/Episcopal-101.png
END:VEVENT
BEGIN:VEVENT
DTSTART;TZID=America/New_York:20250910T183000
DTEND;TZID=America/New_York:20250910T190000
DTSTAMP:20260424T073916
CREATED:20241219T190934Z
LAST-MODIFIED:20241219T190934Z
UID:10004350-1757529000-1757530800@stjameshydepark.org
SUMMARY:Evening Prayer (Online)
DESCRIPTION:Join us online every Wednesday at 6:30 pm for a brief service of Evening Prayer led by Deacon Gail. Please email the parish office at stjames.hydepark@gmail.com to request the Zoom link.
URL:https://stjameshydepark.org/event/evening-prayer-2025/2025-09-10/
LOCATION:Online
CATEGORIES:Worship
END:VEVENT
BEGIN:VEVENT
DTSTART;TZID=America/New_York:20250912T173000
DTEND;TZID=America/New_York:20250912T190000
DTSTAMP:20260424T073916
CREATED:20251009T211609Z
LAST-MODIFIED:20251009T211707Z
UID:10007012-1757698200-1757703600@stjameshydepark.org
SUMMARY:Youth Confirmation Class (2025-2026)
DESCRIPTION:~ Youth Confirmation Class ~  \nFall 2025 Dates \n5:30-7 PM \npizza served \n\nSecond Fridays of the Month\nSeptember 12—St. Paul’s\, Pleasant Valley\nOctober 10—St. Paul’s\, Poughkeepsie\nNovember 14—Location TBD \nFirst Friday of the Month\nDecember 5—Location TBD \n\nHost location rotates: \nSt. James’ Episcopal Church\n4526 Albany Post Road\, Hyde Park \nSt. Paul’s Episcopal Church\n808 Traver Road\, Pleasant Valley \nSt. Paul’s Episcopal Church\n161 Mansion Street\, Poughkeepsie
URL:https://stjameshydepark.org/event/youth-confirmation-2025/2025-09-12/
LOCATION:NY
CATEGORIES:Christian Formation,Kids & Youth
END:VEVENT
BEGIN:VEVENT
DTSTART;TZID=America/New_York:20250913T100000
DTEND;TZID=America/New_York:20250913T120000
DTSTAMP:20260424T073916
CREATED:20250913T105715Z
LAST-MODIFIED:20250913T105728Z
UID:10006665-1757757600-1757764800@stjameshydepark.org
SUMMARY:Garden Committee ~ Gardening at the Meditation Garden
DESCRIPTION:St. James’ Garden Committee members will meet on the second Saturday of September\, 9/13\, to spread mulch and tend to our Meditation Garden at the Church. Breakfast treats are provided. All are welcome!
URL:https://stjameshydepark.org/event/garden-committee-meditation-garden/
LOCATION:St. James’ Episcopal Church\, 4526 Albany Post Rd.\, Hyde Park\, NY\, 12538\, United States
CATEGORIES:Fun
END:VEVENT
BEGIN:VEVENT
DTSTART;TZID=America/New_York:20250913T183000
DTEND;TZID=America/New_York:20250913T190000
DTSTAMP:20260424T073916
CREATED:20241219T191054Z
LAST-MODIFIED:20241219T191054Z
UID:10004403-1757788200-1757790000@stjameshydepark.org
SUMMARY:Compline (Online)
DESCRIPTION:Join us online every Saturday at 6:30 pm for a brief service of Compline (Night Prayer) facilitated by Deacon Gail. Please email the parish office at stjames.hydepark@gmail.com to request the Zoom link.
URL:https://stjameshydepark.org/event/compline-2025/2025-09-13/
LOCATION:Online
CATEGORIES:Worship
END:VEVENT
BEGIN:VEVENT
DTSTART;TZID=America/New_York:20250914T080000
DTEND;TZID=America/New_York:20250914T090000
DTSTAMP:20260424T073916
CREATED:20241219T191649Z
LAST-MODIFIED:20250325T172434Z
UID:10004567-1757836800-1757840400@stjameshydepark.org
SUMMARY:Sunday Worship—Holy Eucharist\, Rite I
DESCRIPTION:Join us Sundays at 8:00 a.m. for a celebration of Holy Eucharist (Communion). This is a quiet service\, usually without music\, though we often have a soloist with acoustic guitar playing before and after the service. The service uses Rite 1 from the 1979 Book of Common Prayer\, with traditional language.
URL:https://stjameshydepark.org/event/sunday-8am-2025/2025-09-14/
LOCATION:St. James’ Episcopal Church\, 4526 Albany Post Rd.\, Hyde Park\, NY\, 12538\, United States
CATEGORIES:Worship
END:VEVENT
BEGIN:VEVENT
DTSTART;TZID=America/New_York:20250914T100000
DTEND;TZID=America/New_York:20250914T113000
DTSTAMP:20260424T073916
CREATED:20241219T191432Z
LAST-MODIFIED:20251209T135212Z
UID:10004515-1757844000-1757849400@stjameshydepark.org
SUMMARY:Sunday Worship—Holy Eucharist\, Rite II with Sunday School and Coffee Hour
DESCRIPTION:Join us Sundays at 10:00 a.m. for a celebration of Holy Eucharist (Communion). This service has music (usually organ and choir\, along with special guest musicians) and uses a variety of prayers and language from traditional to inclusive and expansive\, drawing from Rite II of the 1979 Book of Common Prayer\, Enriching Our Worship\, and other sources. \nCoffee hour in the Parish House usually follows this service. \nSunday School for kindergarten and up meets today on the second floor of the Parish House at 10:00 a.m. Students will rejoin the congregation just before Holy Communion. New to St. James’ Church? Your kids are welcome to Sunday School any Sunday. More details about St. James’ Sunday School at: https://stjameshydepark.org/for-children/
URL:https://stjameshydepark.org/event/sunday-10am-2025/2025-09-14/
LOCATION:St. James’ Episcopal Church\, 4526 Albany Post Rd.\, Hyde Park\, NY\, 12538\, United States
CATEGORIES:Worship
END:VEVENT
BEGIN:VEVENT
DTSTART;TZID=America/New_York:20250914T183000
DTEND;TZID=America/New_York:20250914T210000
DTSTAMP:20260424T073916
CREATED:20250107T185818Z
LAST-MODIFIED:20250107T190058Z
UID:10005981-1757874600-1757883600@stjameshydepark.org
SUMMARY:Hyde Park Group AA (Parish Hall\, Rm. 201)
DESCRIPTION:
URL:https://stjameshydepark.org/event/hyde-park-group-aa-parish-hall-rm-201/2025-09-14/
LOCATION:St. James’ Episcopal Church\, 4526 Albany Post Rd.\, Hyde Park\, NY\, 12538\, United States
END:VEVENT
BEGIN:VEVENT
DTSTART;TZID=America/New_York:20250915T133000
DTEND;TZID=America/New_York:20250915T153000
DTSTAMP:20260424T073916
CREATED:20241110T012408Z
LAST-MODIFIED:20250708T131754Z
UID:10006878-1757943000-1757950200@stjameshydepark.org
SUMMARY:Knit+Craft+Chat (Wilks Room)
DESCRIPTION:A community of crafters and conversationalists meets Mondays from 2-4 pm (drop-in) at St. James’ Episcopal Church in the Wilks Room of our Parish House. We are a friendly group: knitters\, embroiderers\, crocheters\, conversationalists and miscellaneous other activities. All are welcome; no previous skill is required.
URL:https://stjameshydepark.org/event/knit-craft-chat-2/2025-09-15/
LOCATION:St. James’ Episcopal Church\, 4526 Albany Post Rd.\, Hyde Park\, NY\, 12538\, United States
END:VEVENT
BEGIN:VEVENT
DTSTART;TZID=America/New_York:20250916T190000
DTEND;TZID=America/New_York:20250916T203000
DTSTAMP:20260424T073916
CREATED:20250107T190949Z
LAST-MODIFIED:20250107T190949Z
UID:10006024-1758049200-1758054600@stjameshydepark.org
SUMMARY:Boy Scout Troop 80 (Parish Hall)
DESCRIPTION:
URL:https://stjameshydepark.org/event/boy-scout-troop-80-parish-hall/2025-09-16/
LOCATION:St. James’ Episcopal Church\, 4526 Albany Post Rd.\, Hyde Park\, NY\, 12538\, United States
END:VEVENT
BEGIN:VEVENT
DTSTART;TZID=America/New_York:20250917T110000
DTEND;TZID=America/New_York:20250917T121500
DTSTAMP:20260424T073916
CREATED:20241120T172057Z
LAST-MODIFIED:20250424T151851Z
UID:10006356-1758106800-1758111300@stjameshydepark.org
SUMMARY:Bible Study (Online)
DESCRIPTION:Our weekly Bible study on Zoom usually focuses on the Gospel for the upcoming Sunday and is led by Mtr. Meredith. We practice a contemplative\, prayerful style of Bible study that focuses on how God is speaking to us through our questions\, responses\, curiosities and doubts as we engage Scripture.  \nThe study is followed by a brief\, optional service of noonday prayer. \nJoin in any Wednesday at 11 am. No previous preparation is required. The Zoom link is distributed via our weekly email newsletter (or contact the parish office).
URL:https://stjameshydepark.org/event/bible-study-2025/2025-09-17/
LOCATION:Online
CATEGORIES:Christian Formation
END:VEVENT
BEGIN:VEVENT
DTSTART;TZID=America/New_York:20250917T180000
DTEND;TZID=America/New_York:20250917T200000
DTSTAMP:20260424T073916
CREATED:20250821T134151Z
LAST-MODIFIED:20250913T111059Z
UID:10006918-1758132000-1758139200@stjameshydepark.org
SUMMARY:Episcopal 101 (Parish Hall and Wilks Room)
DESCRIPTION:Discover (or rediscover) our faith life together in The Episcopal Church! \nThe course will meet in the Parish House (sometimes the Wilks Room\, sometimes the Hall) every Wednesday from 6-8 pm\,  through October 22. You can attend the whole series or pop in on a given week. Light supper is provided. If you’re popping in\, please RSVP to Mtr. Meredith and note any dietary restrictions. You can also get a copy of that week’s reading from her in advance. \nTopics include: \n\nThe Bible—What is the Bible? Why do we read it? How do we know what it means? \nBeliefs—What do Episcopalians believe? How do we talk about God? Why do we say the Nicene Creed every Sunday? Join us for this week’s Episcopal 101 as we explore these questions together. Light dinner provided—please RSVP to Mtr. Meredith.\nBaptism & Eucharist—What is a sacrament? What are the promises we make about our lives as Christians? How do the sacraments change our lives? \nHistory—Where does the Episcopal Church come from\, and why does that matter today? \nPrayer—What is prayer? How do we pray and how can we grow our lives of prayer together? \n\nRemember this is open to everyone\, from newcomers to longtime members. Those who complete the course will have the option to be Confirmed or Received when Bishop Matt visits St. James’ on Sunday\, October 26th.
URL:https://stjameshydepark.org/event/episcopal-101-fall-2025/2025-09-17/
LOCATION:St. James’ Episcopal Church\, 4526 Albany Post Rd.\, Hyde Park\, NY\, 12538\, United States
CATEGORIES:Christian Formation
ATTACH;FMTTYPE=image/png:https://stjameshydepark.org/wp-content/uploads/2025/08/Episcopal-101.png
END:VEVENT
BEGIN:VEVENT
DTSTART;TZID=America/New_York:20250917T183000
DTEND;TZID=America/New_York:20250917T190000
DTSTAMP:20260424T073916
CREATED:20241219T190934Z
LAST-MODIFIED:20241219T190934Z
UID:10004351-1758133800-1758135600@stjameshydepark.org
SUMMARY:Evening Prayer (Online)
DESCRIPTION:Join us online every Wednesday at 6:30 pm for a brief service of Evening Prayer led by Deacon Gail. Please email the parish office at stjames.hydepark@gmail.com to request the Zoom link.
URL:https://stjameshydepark.org/event/evening-prayer-2025/2025-09-17/
LOCATION:Online
CATEGORIES:Worship
END:VEVENT
BEGIN:VEVENT
DTSTART;TZID=America/New_York:20250917T183000
DTEND;TZID=America/New_York:20250917T200000
DTSTAMP:20260424T073916
CREATED:20250411T154808Z
LAST-MODIFIED:20251205T133526Z
UID:10006233-1758133800-1758139200@stjameshydepark.org
SUMMARY:Outreach Meeting (Wilks Room)
DESCRIPTION:
URL:https://stjameshydepark.org/event/outreach-meeting-wilks-room-2-2/2025-09-17/
LOCATION:St. James’ Episcopal Church\, 4526 Albany Post Rd.\, Hyde Park\, NY\, 12538\, United States
CATEGORIES:Outreach
END:VEVENT
BEGIN:VEVENT
DTSTART;TZID=America/New_York:20250917T190000
DTEND;TZID=America/New_York:20250917T200000
DTSTAMP:20260424T073916
CREATED:20250702T124213Z
LAST-MODIFIED:20251107T181059Z
UID:10006830-1758135600-1758139200@stjameshydepark.org
SUMMARY:Interviews for Legacy Project (Reading Room)
DESCRIPTION:
URL:https://stjameshydepark.org/event/interviews-for-legacy-project-reading-room/2025-09-17/
LOCATION:St. James’ Chapel\, 10 East Market Street\, Hyde Park\, NY\, 12567\, United States
END:VEVENT
BEGIN:VEVENT
DTSTART;TZID=America/New_York:20250919T170000
DTEND;TZID=America/New_York:20250919T190000
DTSTAMP:20260424T073916
CREATED:20250904T125349Z
LAST-MODIFIED:20250913T110924Z
UID:10006979-1758301200-1758308400@stjameshydepark.org
SUMMARY:Harvest Dinner (Parish Hall)
DESCRIPTION:The most delicious dinner of the year benefits the Hyde Park Community Garden\, a ministry of St. James’! Includes roast pork and veggies grown right here in the garden! Please call the church office for tickets ($5-$18): 845-229-2820
URL:https://stjameshydepark.org/event/harvest-dinner-2025/
LOCATION:St. James’ Episcopal Church\, 4526 Albany Post Rd.\, Hyde Park\, NY\, 12538\, United States
END:VEVENT
BEGIN:VEVENT
DTSTART;TZID=America/New_York:20250920T013000
DTEND;TZID=America/New_York:20250920T181500
DTSTAMP:20260424T073916
CREATED:20241112T154633Z
LAST-MODIFIED:20250819T131104Z
UID:10004233-1758331800-1758392100@stjameshydepark.org
SUMMARY:75th Birthday Party (Parish Hall)
DESCRIPTION:
URL:https://stjameshydepark.org/event/75th-birthday-party-parish-hall/
LOCATION:St. James’ Episcopal Church\, 4526 Albany Post Rd.\, Hyde Park\, NY\, 12538\, United States
END:VEVENT
BEGIN:VEVENT
DTSTART;TZID=America/New_York:20250920T100000
DTEND;TZID=America/New_York:20250920T150000
DTSTAMP:20260424T073916
CREATED:20250625T171920Z
LAST-MODIFIED:20250625T173828Z
UID:10006689-1758362400-1758380400@stjameshydepark.org
SUMMARY:Vestry Retreat: Mutual Ministry Review (Huntington House)
DESCRIPTION:
URL:https://stjameshydepark.org/event/vestry-retreat-mutual-ministry-review-location-tbd/
LOCATION:St. James’ Episcopal Church\, 4526 Albany Post Rd.\, Hyde Park\, NY\, 12538\, United States
END:VEVENT
BEGIN:VEVENT
DTSTART;TZID=America/New_York:20250920T160000
DTEND;TZID=America/New_York:20250920T180000
DTSTAMP:20260424T073916
CREATED:20250107T212102Z
LAST-MODIFIED:20251107T134209Z
UID:10007148-1758384000-1758391200@stjameshydepark.org
SUMMARY:Finance Committee Meeting (Wilks Room)
DESCRIPTION:
URL:https://stjameshydepark.org/event/finance-committee-2025/2025-09-20/
LOCATION:St. James’ Episcopal Church\, 4526 Albany Post Rd.\, Hyde Park\, NY\, 12538\, United States
CATEGORIES:Governance
END:VEVENT
BEGIN:VEVENT
DTSTART;TZID=America/New_York:20250920T183000
DTEND;TZID=America/New_York:20250920T190000
DTSTAMP:20260424T073916
CREATED:20241219T191054Z
LAST-MODIFIED:20241219T191054Z
UID:10004404-1758393000-1758394800@stjameshydepark.org
SUMMARY:Compline (Online)
DESCRIPTION:Join us online every Saturday at 6:30 pm for a brief service of Compline (Night Prayer) facilitated by Deacon Gail. Please email the parish office at stjames.hydepark@gmail.com to request the Zoom link.
URL:https://stjameshydepark.org/event/compline-2025/2025-09-20/
LOCATION:Online
CATEGORIES:Worship
END:VEVENT
BEGIN:VEVENT
DTSTART;TZID=America/New_York:20250921T080000
DTEND;TZID=America/New_York:20250921T090000
DTSTAMP:20260424T073916
CREATED:20241219T191649Z
LAST-MODIFIED:20250325T172434Z
UID:10004568-1758441600-1758445200@stjameshydepark.org
SUMMARY:Sunday Worship—Holy Eucharist\, Rite I
DESCRIPTION:Join us Sundays at 8:00 a.m. for a celebration of Holy Eucharist (Communion). This is a quiet service\, usually without music\, though we often have a soloist with acoustic guitar playing before and after the service. The service uses Rite 1 from the 1979 Book of Common Prayer\, with traditional language.
URL:https://stjameshydepark.org/event/sunday-8am-2025/2025-09-21/
LOCATION:St. James’ Episcopal Church\, 4526 Albany Post Rd.\, Hyde Park\, NY\, 12538\, United States
CATEGORIES:Worship
END:VEVENT
BEGIN:VEVENT
DTSTART;TZID=America/New_York:20250921T100000
DTEND;TZID=America/New_York:20250921T113000
DTSTAMP:20260424T073916
CREATED:20241219T191432Z
LAST-MODIFIED:20251209T135212Z
UID:10004516-1758448800-1758454200@stjameshydepark.org
SUMMARY:Sunday Worship—Holy Eucharist\, Rite II with Sunday School and Coffee Hour
DESCRIPTION:Join us Sundays at 10:00 a.m. for a celebration of Holy Eucharist (Communion). This service has music (usually organ and choir\, along with special guest musicians) and uses a variety of prayers and language from traditional to inclusive and expansive\, drawing from Rite II of the 1979 Book of Common Prayer\, Enriching Our Worship\, and other sources. \nCoffee hour in the Parish House usually follows this service. \nSunday School for kindergarten and up meets today on the second floor of the Parish House at 10:00 a.m. Students will rejoin the congregation just before Holy Communion. New to St. James’ Church? Your kids are welcome to Sunday School any Sunday. More details about St. James’ Sunday School at: https://stjameshydepark.org/for-children/
URL:https://stjameshydepark.org/event/sunday-10am-2025/2025-09-21/
LOCATION:St. James’ Episcopal Church\, 4526 Albany Post Rd.\, Hyde Park\, NY\, 12538\, United States
CATEGORIES:Worship
END:VEVENT
BEGIN:VEVENT
DTSTART;TZID=America/New_York:20250921T140000
DTEND;TZID=America/New_York:20250921T160000
DTSTAMP:20260424T073916
CREATED:20250701T152835Z
LAST-MODIFIED:20250913T111558Z
UID:10006825-1758463200-1758470400@stjameshydepark.org
SUMMARY:HPVEC Education Series: Talk by Robert Mooney\, Apiary Educator (Parish Hall)
DESCRIPTION:
URL:https://stjameshydepark.org/event/hpvec-honeybees/
LOCATION:St. James’ Episcopal Church\, 4526 Albany Post Rd.\, Hyde Park\, NY\, 12538\, United States
ATTACH;FMTTYPE=image/jpeg:https://stjameshydepark.org/wp-content/uploads/2025/07/hpvec-honeybees.jpg
END:VEVENT
BEGIN:VEVENT
DTSTART;TZID=America/New_York:20250921T183000
DTEND;TZID=America/New_York:20250921T210000
DTSTAMP:20260424T073916
CREATED:20250107T185818Z
LAST-MODIFIED:20250107T190058Z
UID:10005982-1758479400-1758488400@stjameshydepark.org
SUMMARY:Hyde Park Group AA (Parish Hall\, Rm. 201)
DESCRIPTION:
URL:https://stjameshydepark.org/event/hyde-park-group-aa-parish-hall-rm-201/2025-09-21/
LOCATION:St. James’ Episcopal Church\, 4526 Albany Post Rd.\, Hyde Park\, NY\, 12538\, United States
END:VEVENT
BEGIN:VEVENT
DTSTART;TZID=America/New_York:20250922T133000
DTEND;TZID=America/New_York:20250922T153000
DTSTAMP:20260424T073916
CREATED:20241110T012408Z
LAST-MODIFIED:20250708T131754Z
UID:10006879-1758547800-1758555000@stjameshydepark.org
SUMMARY:Knit+Craft+Chat (Wilks Room)
DESCRIPTION:A community of crafters and conversationalists meets Mondays from 2-4 pm (drop-in) at St. James’ Episcopal Church in the Wilks Room of our Parish House. We are a friendly group: knitters\, embroiderers\, crocheters\, conversationalists and miscellaneous other activities. All are welcome; no previous skill is required.
URL:https://stjameshydepark.org/event/knit-craft-chat-2/2025-09-22/
LOCATION:St. James’ Episcopal Church\, 4526 Albany Post Rd.\, Hyde Park\, NY\, 12538\, United States
END:VEVENT
BEGIN:VEVENT
DTSTART;TZID=America/New_York:20250922T180000
DTEND;TZID=America/New_York:20250922T200000
DTSTAMP:20260424T073916
CREATED:20250919T164647Z
LAST-MODIFIED:20250919T164647Z
UID:10006985-1758564000-1758571200@stjameshydepark.org
SUMMARY:Men's Dinner (Antonella's)
DESCRIPTION:
URL:https://stjameshydepark.org/event/mens-dinner-antonellas-2/
LOCATION:Antonella’s Restaurant\, Hyde Park\, NY\, 4246 Albany Post Rd #1700\, Hyde Park\, NY\, 12538\, United States
END:VEVENT
BEGIN:VEVENT
DTSTART;TZID=America/New_York:20250922T183000
DTEND;TZID=America/New_York:20250922T213000
DTSTAMP:20260424T073916
CREATED:20250919T171017Z
LAST-MODIFIED:20250919T172436Z
UID:10006990-1758565800-1758576600@stjameshydepark.org
SUMMARY:[New Deal] Rehearsals (Parish Hall)
DESCRIPTION:
URL:https://stjameshydepark.org/event/new-deal-rehearsals-parish-hall/2025-09-22/
LOCATION:St. James’ Episcopal Church\, 4526 Albany Post Rd.\, Hyde Park\, NY\, 12538\, United States
END:VEVENT
BEGIN:VEVENT
DTSTART;TZID=America/New_York:20250923T100000
DTEND;TZID=America/New_York:20250923T230000
DTSTAMP:20260424T073916
CREATED:20250603T135426Z
LAST-MODIFIED:20250913T112054Z
UID:10006571-1758621600-1758668400@stjameshydepark.org
SUMMARY:Five Guys Fundraiser to Benefit Sunday School
DESCRIPTION:Five Guys Fundraiser to benefit Sunday School\n\nSeptember 23 @ 11:00 am – 10:00 pm\n\n\n\nVisit Five Guys Burgers and Fries (2507 South Road\, Poughkeepsie) on Tuesday\, September 3rd from 11 am to 10 pm and mention St. James’ Sunday School —Five Guys will donate 20% of your order to our Sunday School ministries\, plus an additional $1 for every milkshake ordered! \n 
URL:https://stjameshydepark.org/event/five-guys-fundraiser-september-2025/
LOCATION:Five Guys\, 2507 South Road\, Poughkeepsie\, New York\, 12601
CATEGORIES:Fun,Kids & Youth
ATTACH;FMTTYPE=image/jpeg:https://stjameshydepark.org/wp-content/uploads/2025/06/Five-Guys-Fundraiser-Sept-2025.jpeg
END:VEVENT
BEGIN:VEVENT
DTSTART;TZID=America/New_York:20250923T190000
DTEND;TZID=America/New_York:20250923T203000
DTSTAMP:20260424T073916
CREATED:20250107T190949Z
LAST-MODIFIED:20250107T190949Z
UID:10006025-1758654000-1758659400@stjameshydepark.org
SUMMARY:Boy Scout Troop 80 (Parish Hall)
DESCRIPTION:
URL:https://stjameshydepark.org/event/boy-scout-troop-80-parish-hall/2025-09-23/
LOCATION:St. James’ Episcopal Church\, 4526 Albany Post Rd.\, Hyde Park\, NY\, 12538\, United States
END:VEVENT
END:VCALENDAR