BEGIN:VCALENDAR
VERSION:2.0
PRODID:-//St. James&#039; Episcopal Church - ECPv6.15.20//NONSGML v1.0//EN
CALSCALE:GREGORIAN
METHOD:PUBLISH
X-WR-CALNAME:St. James&#039; Episcopal Church
X-ORIGINAL-URL:https://stjameshydepark.org
X-WR-CALDESC:Events for St. James&#039; Episcopal Church
REFRESH-INTERVAL;VALUE=DURATION:PT1H
X-Robots-Tag:noindex
X-PUBLISHED-TTL:PT1H
BEGIN:VTIMEZONE
TZID:America/New_York
BEGIN:DAYLIGHT
TZOFFSETFROM:-0500
TZOFFSETTO:-0400
TZNAME:EDT
DTSTART:20250309T070000
END:DAYLIGHT
BEGIN:STANDARD
TZOFFSETFROM:-0400
TZOFFSETTO:-0500
TZNAME:EST
DTSTART:20251102T060000
END:STANDARD
BEGIN:DAYLIGHT
TZOFFSETFROM:-0500
TZOFFSETTO:-0400
TZNAME:EDT
DTSTART:20260308T070000
END:DAYLIGHT
BEGIN:STANDARD
TZOFFSETFROM:-0400
TZOFFSETTO:-0500
TZNAME:EST
DTSTART:20261101T060000
END:STANDARD
BEGIN:DAYLIGHT
TZOFFSETFROM:-0500
TZOFFSETTO:-0400
TZNAME:EDT
DTSTART:20270314T070000
END:DAYLIGHT
BEGIN:STANDARD
TZOFFSETFROM:-0400
TZOFFSETTO:-0500
TZNAME:EST
DTSTART:20271107T060000
END:STANDARD
END:VTIMEZONE
BEGIN:VEVENT
DTSTART;TZID=America/New_York:20260329T100000
DTEND;TZID=America/New_York:20260329T113000
DTSTAMP:20260423T165900
CREATED:20260302T024012Z
LAST-MODIFIED:20260302T024121Z
UID:10007296-1774778400-1774783800@stjameshydepark.org
SUMMARY:Palm Sunday Worship—Holy Eucharist\, Rite II
DESCRIPTION:Join us Sundays at 10:00 a.m. for a celebration of Holy Eucharist (Communion). This service has music (usually organ and choir\, along with special guest musicians) and uses a variety of prayers and language from traditional to inclusive and expansive\, drawing from Rite II of the 1979 Book of Common Prayer\, Enriching Our Worship\, and other sources. \nThere is no Coffee Hour or Sunday School on Palm Sunday.
URL:https://stjameshydepark.org/event/palm-sunday-2026/
LOCATION:St. James’ Episcopal Church\, 4526 Albany Post Rd.\, Hyde Park\, NY\, 12538\, United States
CATEGORIES:Worship
END:VEVENT
BEGIN:VEVENT
DTSTART;TZID=America/New_York:20260329T080000
DTEND;TZID=America/New_York:20260329T090000
DTSTAMP:20260423T165900
CREATED:20241219T191649Z
LAST-MODIFIED:20250325T172434Z
UID:10004595-1774771200-1774774800@stjameshydepark.org
SUMMARY:Sunday Worship—Holy Eucharist\, Rite I
DESCRIPTION:Join us Sundays at 8:00 a.m. for a celebration of Holy Eucharist (Communion). This is a quiet service\, usually without music\, though we often have a soloist with acoustic guitar playing before and after the service. The service uses Rite 1 from the 1979 Book of Common Prayer\, with traditional language.
URL:https://stjameshydepark.org/event/sunday-8am-2025/2026-03-29/
LOCATION:St. James’ Episcopal Church\, 4526 Albany Post Rd.\, Hyde Park\, NY\, 12538\, United States
CATEGORIES:Worship
END:VEVENT
BEGIN:VEVENT
DTSTART;TZID=America/New_York:20260328T183000
DTEND;TZID=America/New_York:20260328T190000
DTSTAMP:20260423T165900
CREATED:20260113T180750Z
LAST-MODIFIED:20260113T180750Z
UID:10007605-1774722600-1774724400@stjameshydepark.org
SUMMARY:Compline (Online)
DESCRIPTION:
URL:https://stjameshydepark.org/event/compline-online/2026-03-28/
LOCATION:St. James’ Episcopal Church\, 4526 Albany Post Rd.\, Hyde Park\, NY\, 12538\, United States
END:VEVENT
BEGIN:VEVENT
DTSTART;TZID=America/New_York:20260328T100000
DTEND;TZID=America/New_York:20260328T120000
DTSTAMP:20260423T165900
CREATED:20260303T150804Z
LAST-MODIFIED:20260303T150804Z
UID:10007852-1774692000-1774699200@stjameshydepark.org
SUMMARY:[New Deal] Wonka Kids Rehearsals (Parish Hall)
DESCRIPTION:
URL:https://stjameshydepark.org/event/new-deal-wonka-kids-rehearsals-parish-hall/2026-03-28/
LOCATION:St. James’ Episcopal Church\, 4526 Albany Post Rd.\, Hyde Park\, NY\, 12538\, United States
END:VEVENT
BEGIN:VEVENT
DTSTART;TZID=America/New_York:20260328T090000
DTEND;TZID=America/New_York:20260328T120000
DTSTAMP:20260423T165900
CREATED:20260313T154712Z
LAST-MODIFIED:20260313T154712Z
UID:10007872-1774688400-1774699200@stjameshydepark.org
SUMMARY:Discernment Committee Meeting (Church)
DESCRIPTION:
URL:https://stjameshydepark.org/event/discernment-committee-meeting-church/2026-03-28/
LOCATION:St. James’ Episcopal Church\, 4526 Albany Post Rd.\, Hyde Park\, NY\, 12538\, United States
END:VEVENT
BEGIN:VEVENT
DTSTART;TZID=America/New_York:20260326T181500
DTEND;TZID=America/New_York:20260326T191500
DTSTAMP:20260423T165900
CREATED:20260227T174308Z
LAST-MODIFIED:20260302T023048Z
UID:10007738-1774548900-1774552500@stjameshydepark.org
SUMMARY:Evening Prayer for the Common Good (Church)
DESCRIPTION:Every Thursday in Lent at 6:15 pm\, starting February 26 through March 26\, you are invited to the Church for a 30-minute service of Evening Prayer for the Common Good. We will pray together for justice and peace for our church\, our neighbors\, and our world community.\n\nOur Lenten book study will follow directly after the prayer service in the Wilks Room (February 26–March 19).
URL:https://stjameshydepark.org/event/evening-prayer-lent-2026/2026-03-26/
LOCATION:St. James’ Episcopal Church\, 4526 Albany Post Rd.\, Hyde Park\, NY\, 12538\, United States
ATTACH;FMTTYPE=image/jpeg:https://stjameshydepark.org/wp-content/uploads/2026/03/Lenten-Evening-Prayer-2026.jpg
END:VEVENT
BEGIN:VEVENT
DTSTART;TZID=America/New_York:20260326T120000
DTEND;TZID=America/New_York:20260326T130000
DTSTAMP:20260423T165900
CREATED:20260318T164411Z
LAST-MODIFIED:20260318T164411Z
UID:10007877-1774526400-1774530000@stjameshydepark.org
SUMMARY:Pitcher - Funeral Service (Church)
DESCRIPTION:
URL:https://stjameshydepark.org/event/pitcher-funeral-service-church/
LOCATION:St. James’ Episcopal Church\, 4526 Albany Post Rd.\, Hyde Park\, NY\, 12538\, United States
END:VEVENT
BEGIN:VEVENT
DTSTART;TZID=America/New_York:20260326T100000
DTEND;TZID=America/New_York:20260326T120000
DTSTAMP:20260423T165900
CREATED:20260318T164255Z
LAST-MODIFIED:20260318T164255Z
UID:10007876-1774519200-1774526400@stjameshydepark.org
SUMMARY:Pitcher - Calling Hours (Church)
DESCRIPTION:
URL:https://stjameshydepark.org/event/pitcher-calling-hours-church/
LOCATION:St. James’ Episcopal Church\, 4526 Albany Post Rd.\, Hyde Park\, NY\, 12538\, United States
END:VEVENT
BEGIN:VEVENT
DTSTART;TZID=America/New_York:20260325T190000
DTEND;TZID=America/New_York:20260325T210000
DTSTAMP:20260423T165900
CREATED:20251216T185809Z
LAST-MODIFIED:20251216T185809Z
UID:10007223-1774465200-1774472400@stjameshydepark.org
SUMMARY:Vestry Meeting (Wilks Room)
DESCRIPTION:
URL:https://stjameshydepark.org/event/vestry-meeting-wilks-room-4/2026-03-25/
LOCATION:St. James’ Episcopal Church\, 4526 Albany Post Rd.\, Hyde Park\, NY\, 12538\, United States
END:VEVENT
BEGIN:VEVENT
DTSTART;TZID=America/New_York:20260325T183000
DTEND;TZID=America/New_York:20260325T190000
DTSTAMP:20260423T165900
CREATED:20260113T180519Z
LAST-MODIFIED:20260113T180519Z
UID:10007554-1774463400-1774465200@stjameshydepark.org
SUMMARY:Evening Prayer (Online)
DESCRIPTION:
URL:https://stjameshydepark.org/event/evening-prayer-online/2026-03-25/
LOCATION:St. James’ Episcopal Church\, 4526 Albany Post Rd.\, Hyde Park\, NY\, 12538\, United States
END:VEVENT
BEGIN:VEVENT
DTSTART;TZID=America/New_York:20260325T110000
DTEND;TZID=America/New_York:20260325T121500
DTSTAMP:20260423T165900
CREATED:20260113T175632Z
LAST-MODIFIED:20260206T005925Z
UID:10007502-1774436400-1774440900@stjameshydepark.org
SUMMARY:Bible Study (Online)
DESCRIPTION:Our weekly Bible study on Zoom usually focuses on the Gospel for the upcoming Sunday and is led by Mtr. Meredith. We practice a contemplative\, prayerful style of Bible study that focuses on how God is speaking to us through our questions\, responses\, curiosities and doubts as we engage Scripture. \nThe study is followed by a brief\, optional service of noonday prayer. \nJoin in any Wednesday at 11 am. No previous preparation is required. The Zoom link is distributed via our weekly email newsletter (or contact the parish office).
URL:https://stjameshydepark.org/event/bible-study-online/2026-03-25/
LOCATION:St. James’ Episcopal Church\, 4526 Albany Post Rd.\, Hyde Park\, NY\, 12538\, United States
CATEGORIES:Christian Formation
END:VEVENT
BEGIN:VEVENT
DTSTART;VALUE=DATE:20260325
DTEND;VALUE=DATE:20260326
DTSTAMP:20260423T165900
CREATED:20251104T151721Z
LAST-MODIFIED:20251104T151721Z
UID:10007126-1774396800-1774483199@stjameshydepark.org
SUMMARY:Fresh Manna Church Evening Prayer and Bible Study (Chapel and Reading Room)
DESCRIPTION:
URL:https://stjameshydepark.org/event/fresh-manna-church-evening-prayer-and-bible-study-chapel-and-reading-room/2026-03-25/
LOCATION:St. James’ Chapel\, 10 East Market Street\, Hyde Park\, NY\, 12567\, United States
END:VEVENT
BEGIN:VEVENT
DTSTART;TZID=America/New_York:20260324T190000
DTEND;TZID=America/New_York:20260324T203000
DTSTAMP:20260423T165900
CREATED:20260410T130119Z
LAST-MODIFIED:20260410T130329Z
UID:10007970-1774378800-1774384200@stjameshydepark.org
SUMMARY:Boy Scout Troop 80 (Parish Hall)
DESCRIPTION:
URL:https://stjameshydepark.org/event/boyr-scout-troop-80-parish-hall/2026-03-24/
LOCATION:St. James’ Episcopal Church\, 4526 Albany Post Rd.\, Hyde Park\, NY\, 12538\, United States
END:VEVENT
BEGIN:VEVENT
DTSTART;TZID=America/New_York:20260323T180000
DTEND;TZID=America/New_York:20260323T200000
DTSTAMP:20260423T165900
CREATED:20260319T123932Z
LAST-MODIFIED:20260319T123932Z
UID:10007878-1774288800-1774296000@stjameshydepark.org
SUMMARY:Men's Group (Antonella's)
DESCRIPTION:
URL:https://stjameshydepark.org/event/mens-group-antonellas-2/
LOCATION:Antonella’s Restaurant\, Hyde Park\, NY\, 4246 Albany Post Rd #1700\, Hyde Park\, NY\, 12538\, United States
END:VEVENT
BEGIN:VEVENT
DTSTART;TZID=America/New_York:20260323T130000
DTEND;TZID=America/New_York:20260323T150000
DTSTAMP:20260423T165900
CREATED:20260113T175431Z
LAST-MODIFIED:20260123T215934Z
UID:10007451-1774270800-1774278000@stjameshydepark.org
SUMMARY:Knit + Craft + Chat (Wilks Room)
DESCRIPTION:A community of crafters and conversationalists meets Mondays from 1-3 pm (drop-in)—at St. James’ Episcopal Church in the Wilks Room of our Parish House. We are a friendly group: knitters\, embroiderers\, crocheters\, conversationalists and miscellaneous other activities. All are welcome; no previous skill is required.
URL:https://stjameshydepark.org/event/knit-craft-chat-2026/2026-03-23/
LOCATION:St. James’ Episcopal Church\, 4526 Albany Post Rd.\, Hyde Park\, NY\, 12538\, United States
CATEGORIES:Fun
ATTACH;FMTTYPE=image/png:https://stjameshydepark.org/wp-content/uploads/2024/09/Knit-Craft-Chat.png
END:VEVENT
BEGIN:VEVENT
DTSTART;TZID=America/New_York:20260322T183000
DTEND;TZID=America/New_York:20260322T210000
DTSTAMP:20260423T165900
CREATED:20260410T125621Z
LAST-MODIFIED:20260410T125621Z
UID:10007918-1774204200-1774213200@stjameshydepark.org
SUMMARY:Hyde Park Group AA (Parish Hall\, Rm. 201)
DESCRIPTION:
URL:https://stjameshydepark.org/event/hyde-park-group-aa-parish-hall-rm-201-2/2026-03-22/
LOCATION:St. James’ Episcopal Church\, 4526 Albany Post Rd.\, Hyde Park\, NY\, 12538\, United States
END:VEVENT
BEGIN:VEVENT
DTSTART;TZID=America/New_York:20260322T100000
DTEND;TZID=America/New_York:20260322T140000
DTSTAMP:20260423T165900
CREATED:20251104T151409Z
LAST-MODIFIED:20251209T150151Z
UID:10007100-1774173600-1774188000@stjameshydepark.org
SUMMARY:Fresh Manna Church (Chapel and Reading Room)
DESCRIPTION:
URL:https://stjameshydepark.org/event/fresh-manna-church-chapel-and-reading-room/2026-03-22/
LOCATION:St. James’ Chapel\, 10 East Market Street\, Hyde Park\, NY\, 12567\, United States
END:VEVENT
BEGIN:VEVENT
DTSTART;TZID=America/New_York:20260322T100000
DTEND;TZID=America/New_York:20260322T113000
DTSTAMP:20260423T165900
CREATED:20260302T024003Z
LAST-MODIFIED:20260302T024023Z
UID:10007295-1774173600-1774179000@stjameshydepark.org
SUMMARY:Sunday Worship—Holy Eucharist\, Rite II with Sunday School
DESCRIPTION:Join us Sundays at 10:00 a.m. for a celebration of Holy Eucharist (Communion). This service has music (usually organ and choir\, along with special guest musicians) and uses a variety of prayers and language from traditional to inclusive and expansive\, drawing from Rite II of the 1979 Book of Common Prayer\, Enriching Our Worship\, and other sources. \nThere is no Coffee Hour this Sunday\, but we hope you’ll join us before the service for breakfast at 9 am in the Parish Hall! \nSunday School for kindergarten and up meets today on the second floor of the Parish House at 10:00 a.m. Students will rejoin the congregation just before Holy Communion. New to St. James’ Church? Your kids are welcome to Sunday School any Sunday. More details about St. James’ Sunday School at: https://stjameshydepark.org/for-children/
URL:https://stjameshydepark.org/event/sunday-worship-march-22-2026/
LOCATION:St. James’ Episcopal Church\, 4526 Albany Post Rd.\, Hyde Park\, NY\, 12538\, United States
CATEGORIES:Worship
END:VEVENT
BEGIN:VEVENT
DTSTART;TZID=America/New_York:20260322T090000
DTEND;TZID=America/New_York:20260322T100000
DTSTAMP:20260423T165900
CREATED:20260302T023435Z
LAST-MODIFIED:20260302T023538Z
UID:10007794-1774170000-1774173600@stjameshydepark.org
SUMMARY:Lenten Breakfast
DESCRIPTION:Come for a delicious free hot breakfast in the Parish Hall between the 8 and 10 am services on Sundays in Lent (March 1–22). All are welcome.
URL:https://stjameshydepark.org/event/lenten-breakfast-2026/2026-03-22/
LOCATION:St. James’ Episcopal Church\, 4526 Albany Post Rd.\, Hyde Park\, NY\, 12538\, United States
CATEGORIES:Fun,Lent
ATTACH;FMTTYPE=image/jpeg:https://stjameshydepark.org/wp-content/uploads/2026/03/Lenten-Breakfasts-2026.jpg
END:VEVENT
BEGIN:VEVENT
DTSTART;TZID=America/New_York:20260322T080000
DTEND;TZID=America/New_York:20260322T090000
DTSTAMP:20260423T165900
CREATED:20241219T191649Z
LAST-MODIFIED:20250325T172434Z
UID:10004594-1774166400-1774170000@stjameshydepark.org
SUMMARY:Sunday Worship—Holy Eucharist\, Rite I
DESCRIPTION:Join us Sundays at 8:00 a.m. for a celebration of Holy Eucharist (Communion). This is a quiet service\, usually without music\, though we often have a soloist with acoustic guitar playing before and after the service. The service uses Rite 1 from the 1979 Book of Common Prayer\, with traditional language.
URL:https://stjameshydepark.org/event/sunday-8am-2025/2026-03-22/
LOCATION:St. James’ Episcopal Church\, 4526 Albany Post Rd.\, Hyde Park\, NY\, 12538\, United States
CATEGORIES:Worship
END:VEVENT
BEGIN:VEVENT
DTSTART;TZID=America/New_York:20260321T183000
DTEND;TZID=America/New_York:20260321T190000
DTSTAMP:20260423T165900
CREATED:20260113T180750Z
LAST-MODIFIED:20260113T180750Z
UID:10007604-1774117800-1774119600@stjameshydepark.org
SUMMARY:Compline (Online)
DESCRIPTION:
URL:https://stjameshydepark.org/event/compline-online/2026-03-21/
LOCATION:St. James’ Episcopal Church\, 4526 Albany Post Rd.\, Hyde Park\, NY\, 12538\, United States
END:VEVENT
BEGIN:VEVENT
DTSTART;TZID=America/New_York:20260321T100000
DTEND;TZID=America/New_York:20260321T120000
DTSTAMP:20260423T165900
CREATED:20260303T150804Z
LAST-MODIFIED:20260303T150804Z
UID:10007851-1774087200-1774094400@stjameshydepark.org
SUMMARY:[New Deal] Wonka Kids Rehearsals (Parish Hall)
DESCRIPTION:
URL:https://stjameshydepark.org/event/new-deal-wonka-kids-rehearsals-parish-hall/2026-03-21/
LOCATION:St. James’ Episcopal Church\, 4526 Albany Post Rd.\, Hyde Park\, NY\, 12538\, United States
END:VEVENT
BEGIN:VEVENT
DTSTART;TZID=America/New_York:20260319T190000
DTEND;TZID=America/New_York:20260319T200000
DTSTAMP:20260423T165900
CREATED:20260213T154621Z
LAST-MODIFIED:20260302T023137Z
UID:10007684-1773946800-1773950400@stjameshydepark.org
SUMMARY:"For Such a Time as This" Lenten Book Study (Wilks Room)
DESCRIPTION:St. James’ will join the Diocese of New York in a Lenten book study of For Such a Time as This: An Emergency Devotional\, a collection of 28 meditations for ordinary Christians seeking to live faithfully in extraordinary times. \nIn-Person Study with Mother Meredith\nThursdays at 7:00 p.m.\nWilks Room\nFebruary 26 – March 19 \nOnline Study with Bishop Matt\nThursdays at 12:00 noon\nBeginning February 19\nZoom link\n \nIn addition\, the Diocese will send daily Lenten meditations via text message throughout the season. You may sign up here.
URL:https://stjameshydepark.org/event/lent-study-2026/2026-03-19/
LOCATION:St. James’ Episcopal Church\, 4526 Albany Post Rd.\, Hyde Park\, NY\, 12538\, United States
CATEGORIES:Christian Formation,Lent
ATTACH;FMTTYPE=image/jpeg:https://stjameshydepark.org/wp-content/uploads/2026/03/Lenten-Book-Study-2026.jpg
END:VEVENT
BEGIN:VEVENT
DTSTART;TZID=America/New_York:20260319T181500
DTEND;TZID=America/New_York:20260319T191500
DTSTAMP:20260423T165900
CREATED:20260227T174308Z
LAST-MODIFIED:20260302T023048Z
UID:10007737-1773944100-1773947700@stjameshydepark.org
SUMMARY:Evening Prayer for the Common Good (Church)
DESCRIPTION:Every Thursday in Lent at 6:15 pm\, starting February 26 through March 26\, you are invited to the Church for a 30-minute service of Evening Prayer for the Common Good. We will pray together for justice and peace for our church\, our neighbors\, and our world community.\n\nOur Lenten book study will follow directly after the prayer service in the Wilks Room (February 26–March 19).
URL:https://stjameshydepark.org/event/evening-prayer-lent-2026/2026-03-19/
LOCATION:St. James’ Episcopal Church\, 4526 Albany Post Rd.\, Hyde Park\, NY\, 12538\, United States
ATTACH;FMTTYPE=image/jpeg:https://stjameshydepark.org/wp-content/uploads/2026/03/Lenten-Evening-Prayer-2026.jpg
END:VEVENT
BEGIN:VEVENT
DTSTART;TZID=America/New_York:20260318T183000
DTEND;TZID=America/New_York:20260318T190000
DTSTAMP:20260423T165900
CREATED:20260113T180519Z
LAST-MODIFIED:20260113T180519Z
UID:10007553-1773858600-1773860400@stjameshydepark.org
SUMMARY:Evening Prayer (Online)
DESCRIPTION:
URL:https://stjameshydepark.org/event/evening-prayer-online/2026-03-18/
LOCATION:St. James’ Episcopal Church\, 4526 Albany Post Rd.\, Hyde Park\, NY\, 12538\, United States
END:VEVENT
BEGIN:VEVENT
DTSTART;TZID=America/New_York:20260318T180000
DTEND;TZID=America/New_York:20260318T203000
DTSTAMP:20260423T165900
CREATED:20260217T181721Z
LAST-MODIFIED:20260217T182154Z
UID:10007717-1773856800-1773865800@stjameshydepark.org
SUMMARY:Outreach Meeting (Wilks Room)
DESCRIPTION:
URL:https://stjameshydepark.org/event/outreach-meeting-wilks-room-3/2026-03-18/
LOCATION:St. James’ Episcopal Church\, 4526 Albany Post Rd.\, Hyde Park\, NY\, 12538\, United States
END:VEVENT
BEGIN:VEVENT
DTSTART;TZID=America/New_York:20260318T110000
DTEND;TZID=America/New_York:20260318T121500
DTSTAMP:20260423T165900
CREATED:20260113T175632Z
LAST-MODIFIED:20260206T005925Z
UID:10007501-1773831600-1773836100@stjameshydepark.org
SUMMARY:Bible Study (Online)
DESCRIPTION:Our weekly Bible study on Zoom usually focuses on the Gospel for the upcoming Sunday and is led by Mtr. Meredith. We practice a contemplative\, prayerful style of Bible study that focuses on how God is speaking to us through our questions\, responses\, curiosities and doubts as we engage Scripture. \nThe study is followed by a brief\, optional service of noonday prayer. \nJoin in any Wednesday at 11 am. No previous preparation is required. The Zoom link is distributed via our weekly email newsletter (or contact the parish office).
URL:https://stjameshydepark.org/event/bible-study-online/2026-03-18/
LOCATION:St. James’ Episcopal Church\, 4526 Albany Post Rd.\, Hyde Park\, NY\, 12538\, United States
CATEGORIES:Christian Formation
END:VEVENT
BEGIN:VEVENT
DTSTART;VALUE=DATE:20260318
DTEND;VALUE=DATE:20260319
DTSTAMP:20260423T165900
CREATED:20251104T151721Z
LAST-MODIFIED:20251104T151721Z
UID:10007125-1773792000-1773878399@stjameshydepark.org
SUMMARY:Fresh Manna Church Evening Prayer and Bible Study (Chapel and Reading Room)
DESCRIPTION:
URL:https://stjameshydepark.org/event/fresh-manna-church-evening-prayer-and-bible-study-chapel-and-reading-room/2026-03-18/
LOCATION:St. James’ Chapel\, 10 East Market Street\, Hyde Park\, NY\, 12567\, United States
END:VEVENT
BEGIN:VEVENT
DTSTART;TZID=America/New_York:20260317T190000
DTEND;TZID=America/New_York:20260317T203000
DTSTAMP:20260423T165900
CREATED:20260410T130119Z
LAST-MODIFIED:20260410T130329Z
UID:10007969-1773774000-1773779400@stjameshydepark.org
SUMMARY:Boy Scout Troop 80 (Parish Hall)
DESCRIPTION:
URL:https://stjameshydepark.org/event/boyr-scout-troop-80-parish-hall/2026-03-17/
LOCATION:St. James’ Episcopal Church\, 4526 Albany Post Rd.\, Hyde Park\, NY\, 12538\, United States
END:VEVENT
BEGIN:VEVENT
DTSTART;TZID=America/New_York:20260316T130000
DTEND;TZID=America/New_York:20260316T150000
DTSTAMP:20260423T165900
CREATED:20260113T175431Z
LAST-MODIFIED:20260123T215934Z
UID:10007450-1773666000-1773673200@stjameshydepark.org
SUMMARY:Knit + Craft + Chat (Wilks Room)
DESCRIPTION:A community of crafters and conversationalists meets Mondays from 1-3 pm (drop-in)—at St. James’ Episcopal Church in the Wilks Room of our Parish House. We are a friendly group: knitters\, embroiderers\, crocheters\, conversationalists and miscellaneous other activities. All are welcome; no previous skill is required.
URL:https://stjameshydepark.org/event/knit-craft-chat-2026/2026-03-16/
LOCATION:St. James’ Episcopal Church\, 4526 Albany Post Rd.\, Hyde Park\, NY\, 12538\, United States
CATEGORIES:Fun
ATTACH;FMTTYPE=image/png:https://stjameshydepark.org/wp-content/uploads/2024/09/Knit-Craft-Chat.png
END:VEVENT
END:VCALENDAR