BEGIN:VCALENDAR
VERSION:2.0
PRODID:-//St. James&#039; Episcopal Church - ECPv6.15.20//NONSGML v1.0//EN
CALSCALE:GREGORIAN
METHOD:PUBLISH
X-WR-CALNAME:St. James&#039; Episcopal Church
X-ORIGINAL-URL:https://stjameshydepark.org
X-WR-CALDESC:Events for St. James&#039; Episcopal Church
REFRESH-INTERVAL;VALUE=DURATION:PT1H
X-Robots-Tag:noindex
X-PUBLISHED-TTL:PT1H
BEGIN:VTIMEZONE
TZID:America/New_York
BEGIN:DAYLIGHT
TZOFFSETFROM:-0500
TZOFFSETTO:-0400
TZNAME:EDT
DTSTART:20230312T070000
END:DAYLIGHT
BEGIN:STANDARD
TZOFFSETFROM:-0400
TZOFFSETTO:-0500
TZNAME:EST
DTSTART:20231105T060000
END:STANDARD
BEGIN:DAYLIGHT
TZOFFSETFROM:-0500
TZOFFSETTO:-0400
TZNAME:EDT
DTSTART:20240310T070000
END:DAYLIGHT
BEGIN:STANDARD
TZOFFSETFROM:-0400
TZOFFSETTO:-0500
TZNAME:EST
DTSTART:20241103T060000
END:STANDARD
BEGIN:DAYLIGHT
TZOFFSETFROM:-0500
TZOFFSETTO:-0400
TZNAME:EDT
DTSTART:20250309T070000
END:DAYLIGHT
BEGIN:STANDARD
TZOFFSETFROM:-0400
TZOFFSETTO:-0500
TZNAME:EST
DTSTART:20251102T060000
END:STANDARD
END:VTIMEZONE
BEGIN:VEVENT
DTSTART;TZID=America/New_York:20240719T103000
DTEND;TZID=America/New_York:20240719T130000
DTSTAMP:20260425T085022
CREATED:20240627T201400Z
LAST-MODIFIED:20240629T174216Z
UID:10003822-1721385000-1721394000@stjameshydepark.org
SUMMARY:Field Trip to Holy Cross Monastery
DESCRIPTION:On Friday\, July 19th\, join Mother Meredith for an informal field trip to Holy Cross Monastery. Discover this beautiful and sacred place—just 20 minutes from St. James’—that can be a resource for your own spiritual life. \nOur day together will include a tour of the monastery and grounds\, noonday prayer\, and a delicious lunch (prepared by a CIA-trained chef) with the monks and other guests. \nThe formal program will begin at 10:30 am and end after lunch. If you’d like to add Holy Eucharist with the monks to your day\, arrive at 8:45 am. You might also wish to plan to visit the monastery’s well-stocked book store and gift shop\, bring a book or quiet activity to enjoy in the afternoon\, or just stay for some time in quiet prayer. \nRSVP to Anne McGrath at mcgrath.mosto@gmail.com by July 10th\, please. Suggested donation is $15 for lunch (can be dropped off directly at the monastery). \n  \n 
URL:https://stjameshydepark.org/event/field-trip-to-holy-cross-monastery/
LOCATION:Holy Cross Monastery
CATEGORIES:Christian Formation,Worship
END:VEVENT
BEGIN:VEVENT
DTSTART;TZID=America/New_York:20240719T103000
DTEND;TZID=America/New_York:20240719T123000
DTSTAMP:20260425T085022
CREATED:20240625T140049Z
LAST-MODIFIED:20240625T140049Z
UID:10003813-1721385000-1721392200@stjameshydepark.org
SUMMARY:Co-Working (Wilks Room)
DESCRIPTION:
URL:https://stjameshydepark.org/event/co-working-wilks-room-4/2024-07-19/
LOCATION:St. James’ Episcopal Church\, 4526 Albany Post Rd.\, Hyde Park\, NY\, 12538\, United States
END:VEVENT
BEGIN:VEVENT
DTSTART;TZID=America/New_York:20240719T083000
DTEND;TZID=America/New_York:20240719T163000
DTSTAMP:20260425T085022
CREATED:20240216T182543Z
LAST-MODIFIED:20240709T135406Z
UID:10003562-1721377800-1721406600@stjameshydepark.org
SUMMARY:[New Deal] Summer Camp (Parish Hall)
DESCRIPTION:
URL:https://stjameshydepark.org/event/summer-camp-parish-hall/2024-07-19/
LOCATION:St. James’ Episcopal Church\, 4526 Albany Post Rd.\, Hyde Park\, NY\, 12538\, United States
CATEGORIES:New Deal
END:VEVENT
BEGIN:VEVENT
DTSTART;TZID=America/New_York:20240718T083000
DTEND;TZID=America/New_York:20240718T163000
DTSTAMP:20260425T085022
CREATED:20240216T182543Z
LAST-MODIFIED:20240709T135406Z
UID:10003561-1721291400-1721320200@stjameshydepark.org
SUMMARY:[New Deal] Summer Camp (Parish Hall)
DESCRIPTION:
URL:https://stjameshydepark.org/event/summer-camp-parish-hall/2024-07-18/
LOCATION:St. James’ Episcopal Church\, 4526 Albany Post Rd.\, Hyde Park\, NY\, 12538\, United States
CATEGORIES:New Deal
END:VEVENT
BEGIN:VEVENT
DTSTART;TZID=America/New_York:20240717T183000
DTEND;TZID=America/New_York:20240717T193000
DTSTAMP:20260425T085023
CREATED:20240112T175112Z
LAST-MODIFIED:20240112T175307Z
UID:10003091-1721241000-1721244600@stjameshydepark.org
SUMMARY:Evening Prayer (Remote)
DESCRIPTION:
URL:https://stjameshydepark.org/event/evening-prayer-remote-2-2/2024-07-17/
LOCATION:Online
CATEGORIES:Worship
END:VEVENT
BEGIN:VEVENT
DTSTART;TZID=America/New_York:20240717T110000
DTEND;TZID=America/New_York:20240717T120000
DTSTAMP:20260425T085023
CREATED:20240203T231706Z
LAST-MODIFIED:20240508T020856Z
UID:10003429-1721214000-1721217600@stjameshydepark.org
SUMMARY:Bible Study
DESCRIPTION:Our weekly Bible study on Zoom usually focuses on the Gospel for the upcoming Sunday and is led by Mtr. Meredith. We practice a contemplative\, prayerful style of Bible study that focuses on how God is speaking to us through our questions\, responses\, curiosities and doubts as we engage Scripture.  \nThe study is followed by a brief\, optional service of noonday prayer. \nJoin in any Wednesday at 11 am. No previous preparation is required. The Zoom link is distributed via our weekly email newsletter (or contact the parish office). \n 
URL:https://stjameshydepark.org/event/bible-study-2024/2024-07-17/
LOCATION:Online
CATEGORIES:Christian Formation
ATTACH;FMTTYPE=image/png:https://stjameshydepark.org/wp-content/uploads/2024/05/Bible-Study.png
END:VEVENT
BEGIN:VEVENT
DTSTART;TZID=America/New_York:20240717T103000
DTEND;TZID=America/New_York:20240717T123000
DTSTAMP:20260425T085023
CREATED:20240625T140049Z
LAST-MODIFIED:20240625T140049Z
UID:10003812-1721212200-1721219400@stjameshydepark.org
SUMMARY:Co-Working (Wilks Room)
DESCRIPTION:
URL:https://stjameshydepark.org/event/co-working-wilks-room-4/2024-07-17/
LOCATION:St. James’ Episcopal Church\, 4526 Albany Post Rd.\, Hyde Park\, NY\, 12538\, United States
END:VEVENT
BEGIN:VEVENT
DTSTART;TZID=America/New_York:20240717T083000
DTEND;TZID=America/New_York:20240717T163000
DTSTAMP:20260425T085023
CREATED:20240216T182543Z
LAST-MODIFIED:20240709T135406Z
UID:10003560-1721205000-1721233800@stjameshydepark.org
SUMMARY:[New Deal] Summer Camp (Parish Hall)
DESCRIPTION:
URL:https://stjameshydepark.org/event/summer-camp-parish-hall/2024-07-17/
LOCATION:St. James’ Episcopal Church\, 4526 Albany Post Rd.\, Hyde Park\, NY\, 12538\, United States
CATEGORIES:New Deal
END:VEVENT
BEGIN:VEVENT
DTSTART;TZID=America/New_York:20240716T190000
DTEND;TZID=America/New_York:20240716T210000
DTSTAMP:20260425T085023
CREATED:20240610T011301Z
LAST-MODIFIED:20240716T210001Z
UID:10003800-1721156400-1721163600@stjameshydepark.org
SUMMARY:~ CANCELLED ~ Free Concert: Rhinebeck Legion Band
DESCRIPTION:TONIGHT’S OUTDOOR CONCERT AT ST. JAMES’ IS CANCELED.\nDue to the extreme heat and threat of severe thunderstorms\, the Tuesday July 16th Rhinebeck Legion Band outdoor concert at St. James’ Episcopal Church is canceled.\n\n~~~~~~~~~~~~~~~~~~~~~~~~~~~~~~~~~~~~~~~~~~~~~~\nJoin St. James’ Episcopal Church for a free concert with the Rhinebeck Legion Band! \nTuesday\, July 16th at 7 pm. Please bring your own seating. We’ll be on the lawn just south of the Parish House\, or in the Parish Hall in case of rain.
URL:https://stjameshydepark.org/event/free-concert-rhinebeck-legion-band-south-lawn-or-parish-hall-in-case-of-rain/
LOCATION:St. James’ Episcopal Church\, 4526 Albany Post Rd.\, Hyde Park\, NY\, 12538\, United States
CATEGORIES:Fun
END:VEVENT
BEGIN:VEVENT
DTSTART;TZID=America/New_York:20240716T083000
DTEND;TZID=America/New_York:20240716T163000
DTSTAMP:20260425T085023
CREATED:20240216T182543Z
LAST-MODIFIED:20240709T135406Z
UID:10003559-1721118600-1721147400@stjameshydepark.org
SUMMARY:[New Deal] Summer Camp (Parish Hall)
DESCRIPTION:
URL:https://stjameshydepark.org/event/summer-camp-parish-hall/2024-07-16/
LOCATION:St. James’ Episcopal Church\, 4526 Albany Post Rd.\, Hyde Park\, NY\, 12538\, United States
CATEGORIES:New Deal
END:VEVENT
BEGIN:VEVENT
DTSTART;TZID=America/New_York:20240715T140000
DTEND;TZID=America/New_York:20240715T160000
DTSTAMP:20260425T085023
CREATED:20240112T141137Z
LAST-MODIFIED:20241009T191510Z
UID:10002924-1721052000-1721059200@stjameshydepark.org
SUMMARY:Knitters and Crafters Group (Wilks Room)
DESCRIPTION:A New Group! A community of crafters begins on Mondays starting February 5\, from 2- 4 pm (drop-in). \nAll are welcome: knitters\, crocheters\, embroiderers\, crocheters\, conversationalists and miscellaneous other activities. No particular talent required. Meet in the Wilks Room at St. James Parish Hall.
URL:https://stjameshydepark.org/event/knitters-crafters/2024-07-15/
LOCATION:St. James’ Episcopal Church\, 4526 Albany Post Rd.\, Hyde Park\, NY\, 12538\, United States
CATEGORIES:Fun
END:VEVENT
BEGIN:VEVENT
DTSTART;TZID=America/New_York:20240715T103000
DTEND;TZID=America/New_York:20240715T123000
DTSTAMP:20260425T085023
CREATED:20240625T140049Z
LAST-MODIFIED:20240625T140049Z
UID:10003811-1721039400-1721046600@stjameshydepark.org
SUMMARY:Co-Working (Wilks Room)
DESCRIPTION:
URL:https://stjameshydepark.org/event/co-working-wilks-room-4/2024-07-15/
LOCATION:St. James’ Episcopal Church\, 4526 Albany Post Rd.\, Hyde Park\, NY\, 12538\, United States
END:VEVENT
BEGIN:VEVENT
DTSTART;TZID=America/New_York:20240715T083000
DTEND;TZID=America/New_York:20240715T163000
DTSTAMP:20260425T085023
CREATED:20240216T182543Z
LAST-MODIFIED:20240709T135406Z
UID:10003558-1721032200-1721061000@stjameshydepark.org
SUMMARY:[New Deal] Summer Camp (Parish Hall)
DESCRIPTION:
URL:https://stjameshydepark.org/event/summer-camp-parish-hall/2024-07-15/
LOCATION:St. James’ Episcopal Church\, 4526 Albany Post Rd.\, Hyde Park\, NY\, 12538\, United States
CATEGORIES:New Deal
END:VEVENT
BEGIN:VEVENT
DTSTART;VALUE=DATE:20240715
DTEND;VALUE=DATE:20240716
DTSTAMP:20260425T085023
CREATED:20240112T172541Z
LAST-MODIFIED:20240112T172541Z
UID:10002977-1721001600-1721087999@stjameshydepark.org
SUMMARY:Parish Office Closed
DESCRIPTION:
URL:https://stjameshydepark.org/event/parish-office-closed-4/2024-07-15/
LOCATION:St. James’ Episcopal Church\, 4526 Albany Post Rd.\, Hyde Park\, NY\, 12538\, United States
CATEGORIES:General
END:VEVENT
BEGIN:VEVENT
DTSTART;TZID=America/New_York:20240714T183000
DTEND;TZID=America/New_York:20240714T210000
DTSTAMP:20260425T085023
CREATED:20240112T181055Z
LAST-MODIFIED:20241001T152045Z
UID:10003254-1720981800-1720990800@stjameshydepark.org
SUMMARY:AA Meeting (Parish Hall; Rm. 201)
DESCRIPTION:
URL:https://stjameshydepark.org/event/aa-meeting-parish-hall-rm-201-2/2024-07-14/
LOCATION:St. James’ Episcopal Church\, 4526 Albany Post Rd.\, Hyde Park\, NY\, 12538\, United States
CATEGORIES:General
END:VEVENT
BEGIN:VEVENT
DTSTART;TZID=America/New_York:20240714T100000
DTEND;TZID=America/New_York:20240714T113000
DTSTAMP:20260425T085023
CREATED:20240628T203410Z
LAST-MODIFIED:20240628T203412Z
UID:10002755-1720951200-1720956600@stjameshydepark.org
SUMMARY:Holy Eucharist (Rite II) (Summer—No Sunday School\, No Coffee Hour)
DESCRIPTION:Join us Sundays at 10:00 a.m. for a celebration of Holy Eucharist (Communion). This service has music (usually organ and choir\, along with special guest musicians) and uses a variety of prayers and language from traditional to inclusive and expansive\, drawing from Rite II of the 1979 Book of Common Prayer\, Enriching Our Worship\, and other sources. \nSunday School and Coffee Hour are on haitus for the summer.
URL:https://stjameshydepark.org/event/2024-eucharist-rite-ii-10/2024-07-14/
LOCATION:St. James’ Episcopal Church\, 4526 Albany Post Rd.\, Hyde Park\, NY\, 12538\, United States
CATEGORIES:Worship
END:VEVENT
BEGIN:VEVENT
DTSTART;TZID=America/New_York:20240714T080000
DTEND;TZID=America/New_York:20240714T090000
DTSTAMP:20260425T085023
CREATED:20231222T015421Z
LAST-MODIFIED:20241213T230031Z
UID:10002859-1720944000-1720947600@stjameshydepark.org
SUMMARY:Holy Eucharist (Rite I)
DESCRIPTION:Join us Sundays at 8:00 a.m. for a celebration of Holy Eucharist (Communion). This is a quiet service\, usually without music\, though we often have a soloist with acoustic guitar playing before and after the service. The service uses Rite 1 from the 1979 Book of Common Prayer\, with traditional language.
URL:https://stjameshydepark.org/event/2024-eucharist-8am/2024-07-14/
LOCATION:St. James’ Episcopal Church\, 4526 Albany Post Rd.\, Hyde Park\, NY\, 12538\, United States
CATEGORIES:Worship
END:VEVENT
BEGIN:VEVENT
DTSTART;TZID=America/New_York:20240713T183000
DTEND;TZID=America/New_York:20240713T193000
DTSTAMP:20260425T085023
CREATED:20240112T175527Z
LAST-MODIFIED:20240112T175653Z
UID:10003140-1720895400-1720899000@stjameshydepark.org
SUMMARY:Compline (Remote)
DESCRIPTION:
URL:https://stjameshydepark.org/event/compline-remote-3-2023-01-07-2/2024-07-13/
LOCATION:Online
CATEGORIES:Worship
END:VEVENT
BEGIN:VEVENT
DTSTART;TZID=America/New_York:20240713T130000
DTEND;TZID=America/New_York:20240713T220000
DTSTAMP:20260425T085023
CREATED:20240604T173426Z
LAST-MODIFIED:20240604T173426Z
UID:10003788-1720875600-1720908000@stjameshydepark.org
SUMMARY:Private event (Parish Hall)
DESCRIPTION:
URL:https://stjameshydepark.org/event/private-event-parish-hall/
LOCATION:St. James’ Episcopal Church\, 4526 Albany Post Rd.\, Hyde Park\, NY\, 12538\, United States
END:VEVENT
BEGIN:VEVENT
DTSTART;TZID=America/New_York:20240713T090000
DTEND;TZID=America/New_York:20240713T140000
DTSTAMP:20260425T085023
CREATED:20240712T201852Z
LAST-MODIFIED:20240712T201853Z
UID:10003598-1720861200-1720879200@stjameshydepark.org
SUMMARY:Canceled: Pop-up Craft Fair at the Yellow Chapel
DESCRIPTION:The July Pop-up is CANCELED due to weather conditions. \nPop-up craft fair at our Chapel on East Market Street—food\, local crafts and gifts\, live music and more! All table fee proceeds benefit the Hyde Park Community Garden\, a ministry of St. James’ Church. Call Deb Belding at 845-240-3194 for more info or to reserve a table. \nSaturdays May 11th\, June 15th\, July 13th\, September 14th\, and October 12th\, 9 am to 2 pm.
URL:https://stjameshydepark.org/event/chapel-popups-2024-2/
LOCATION:St. James’ Chapel\, 10 East Market Street\, Hyde Park\, NY\, 12567\, United States
CATEGORIES:Community Garden
ATTACH;FMTTYPE=image/jpeg:https://stjameshydepark.org/wp-content/uploads/2024/03/Yellow-Chapel-pop-ups.jpeg
END:VEVENT
BEGIN:VEVENT
DTSTART;TZID=America/New_York:20240712T180000
DTEND;TZID=America/New_York:20240712T210000
DTSTAMP:20260425T085023
CREATED:20240604T173322Z
LAST-MODIFIED:20240604T173322Z
UID:10003787-1720807200-1720818000@stjameshydepark.org
SUMMARY:Private event setup (Parish Hall)
DESCRIPTION:
URL:https://stjameshydepark.org/event/private-event-setup-parish-hall/
LOCATION:St. James’ Episcopal Church\, 4526 Albany Post Rd.\, Hyde Park\, NY\, 12538\, United States
END:VEVENT
BEGIN:VEVENT
DTSTART;TZID=America/New_York:20240712T103000
DTEND;TZID=America/New_York:20240712T123000
DTSTAMP:20260425T085023
CREATED:20240625T140049Z
LAST-MODIFIED:20240625T140049Z
UID:10003810-1720780200-1720787400@stjameshydepark.org
SUMMARY:Co-Working (Wilks Room)
DESCRIPTION:
URL:https://stjameshydepark.org/event/co-working-wilks-room-4/2024-07-12/
LOCATION:St. James’ Episcopal Church\, 4526 Albany Post Rd.\, Hyde Park\, NY\, 12538\, United States
END:VEVENT
BEGIN:VEVENT
DTSTART;TZID=America/New_York:20240712T083000
DTEND;TZID=America/New_York:20240712T163000
DTSTAMP:20260425T085023
CREATED:20240216T182543Z
LAST-MODIFIED:20240709T135406Z
UID:10003557-1720773000-1720801800@stjameshydepark.org
SUMMARY:[New Deal] Summer Camp (Parish Hall)
DESCRIPTION:
URL:https://stjameshydepark.org/event/summer-camp-parish-hall/2024-07-12/
LOCATION:St. James’ Episcopal Church\, 4526 Albany Post Rd.\, Hyde Park\, NY\, 12538\, United States
CATEGORIES:New Deal
END:VEVENT
BEGIN:VEVENT
DTSTART;TZID=America/New_York:20240711T190000
DTEND;TZID=America/New_York:20240711T210000
DTSTAMP:20260425T085023
CREATED:20240711T131226Z
LAST-MODIFIED:20240711T131226Z
UID:10003831-1720724400-1720731600@stjameshydepark.org
SUMMARY:Finance Committee Meeting (Wilks Room)
DESCRIPTION:
URL:https://stjameshydepark.org/event/finance-committee-meeting-wilks-room-2/
LOCATION:St. James’ Episcopal Church\, 4526 Albany Post Rd.\, Hyde Park\, NY\, 12538\, United States
END:VEVENT
BEGIN:VEVENT
DTSTART;TZID=America/New_York:20240711T083000
DTEND;TZID=America/New_York:20240711T163000
DTSTAMP:20260425T085023
CREATED:20240216T182543Z
LAST-MODIFIED:20240709T135406Z
UID:10003556-1720686600-1720715400@stjameshydepark.org
SUMMARY:[New Deal] Summer Camp (Parish Hall)
DESCRIPTION:
URL:https://stjameshydepark.org/event/summer-camp-parish-hall/2024-07-11/
LOCATION:St. James’ Episcopal Church\, 4526 Albany Post Rd.\, Hyde Park\, NY\, 12538\, United States
CATEGORIES:New Deal
END:VEVENT
BEGIN:VEVENT
DTSTART;TZID=America/New_York:20240710T183000
DTEND;TZID=America/New_York:20240710T193000
DTSTAMP:20260425T085023
CREATED:20240112T175112Z
LAST-MODIFIED:20240112T175307Z
UID:10003090-1720636200-1720639800@stjameshydepark.org
SUMMARY:Evening Prayer (Remote)
DESCRIPTION:
URL:https://stjameshydepark.org/event/evening-prayer-remote-2-2/2024-07-10/
LOCATION:Online
CATEGORIES:Worship
END:VEVENT
BEGIN:VEVENT
DTSTART;TZID=America/New_York:20240710T110000
DTEND;TZID=America/New_York:20240710T120000
DTSTAMP:20260425T085023
CREATED:20240625T202507Z
LAST-MODIFIED:20240625T202510Z
UID:10003428-1720609200-1720612800@stjameshydepark.org
SUMMARY:No Bible study July 10th
DESCRIPTION:There will be no Bible study on July 10\, 2024.  \nOur weekly Bible study on Zoom usually focuses on the Gospel for the upcoming Sunday and is led by Mtr. Meredith. We practice a contemplative\, prayerful style of Bible study that focuses on how God is speaking to us through our questions\, responses\, curiosities and doubts as we engage Scripture.  \nThe study is followed by a brief\, optional service of noonday prayer. \nJoin in any Wednesday at 11 am. No previous preparation is required. The Zoom link is distributed via our weekly email newsletter (or contact the parish office). \n 
URL:https://stjameshydepark.org/event/bible-study-2024-8/
LOCATION:Online
CATEGORIES:Christian Formation
ATTACH;FMTTYPE=image/png:https://stjameshydepark.org/wp-content/uploads/2024/05/Bible-Study.png
END:VEVENT
BEGIN:VEVENT
DTSTART;TZID=America/New_York:20240710T103000
DTEND;TZID=America/New_York:20240710T123000
DTSTAMP:20260425T085023
CREATED:20240625T140049Z
LAST-MODIFIED:20240625T140049Z
UID:10003809-1720607400-1720614600@stjameshydepark.org
SUMMARY:Co-Working (Wilks Room)
DESCRIPTION:
URL:https://stjameshydepark.org/event/co-working-wilks-room-4/2024-07-10/
LOCATION:St. James’ Episcopal Church\, 4526 Albany Post Rd.\, Hyde Park\, NY\, 12538\, United States
END:VEVENT
BEGIN:VEVENT
DTSTART;TZID=America/New_York:20240710T083000
DTEND;TZID=America/New_York:20240710T163000
DTSTAMP:20260425T085023
CREATED:20240216T182543Z
LAST-MODIFIED:20240709T135406Z
UID:10003555-1720600200-1720629000@stjameshydepark.org
SUMMARY:[New Deal] Summer Camp (Parish Hall)
DESCRIPTION:
URL:https://stjameshydepark.org/event/summer-camp-parish-hall/2024-07-10/
LOCATION:St. James’ Episcopal Church\, 4526 Albany Post Rd.\, Hyde Park\, NY\, 12538\, United States
CATEGORIES:New Deal
END:VEVENT
BEGIN:VEVENT
DTSTART;TZID=America/New_York:20240709T123000
DTEND;TZID=America/New_York:20240709T143000
DTSTAMP:20260425T085023
CREATED:20240627T142151Z
LAST-MODIFIED:20240627T142151Z
UID:10003818-1720528200-1720535400@stjameshydepark.org
SUMMARY:Service Call for Office Computer
DESCRIPTION:
URL:https://stjameshydepark.org/event/service-call-for-office-computer/
LOCATION:St. James’ Episcopal Church\, 4526 Albany Post Rd.\, Hyde Park\, NY\, 12538\, United States
END:VEVENT
END:VCALENDAR