BEGIN:VCALENDAR
VERSION:2.0
PRODID:-//St. James&#039; Episcopal Church - ECPv6.15.20//NONSGML v1.0//EN
CALSCALE:GREGORIAN
METHOD:PUBLISH
X-ORIGINAL-URL:https://stjameshydepark.org
X-WR-CALDESC:Events for St. James&#039; Episcopal Church
REFRESH-INTERVAL;VALUE=DURATION:PT1H
X-Robots-Tag:noindex
X-PUBLISHED-TTL:PT1H
BEGIN:VTIMEZONE
TZID:America/New_York
BEGIN:DAYLIGHT
TZOFFSETFROM:-0500
TZOFFSETTO:-0400
TZNAME:EDT
DTSTART:20240310T070000
END:DAYLIGHT
BEGIN:STANDARD
TZOFFSETFROM:-0400
TZOFFSETTO:-0500
TZNAME:EST
DTSTART:20241103T060000
END:STANDARD
BEGIN:DAYLIGHT
TZOFFSETFROM:-0500
TZOFFSETTO:-0400
TZNAME:EDT
DTSTART:20250309T070000
END:DAYLIGHT
BEGIN:STANDARD
TZOFFSETFROM:-0400
TZOFFSETTO:-0500
TZNAME:EST
DTSTART:20251102T060000
END:STANDARD
BEGIN:DAYLIGHT
TZOFFSETFROM:-0500
TZOFFSETTO:-0400
TZNAME:EDT
DTSTART:20260308T070000
END:DAYLIGHT
BEGIN:STANDARD
TZOFFSETFROM:-0400
TZOFFSETTO:-0500
TZNAME:EST
DTSTART:20261101T060000
END:STANDARD
END:VTIMEZONE
BEGIN:VEVENT
DTSTART;TZID=America/New_York:20250420T183000
DTEND;TZID=America/New_York:20250420T210000
DTSTAMP:20260425T100844
CREATED:20250107T185818Z
LAST-MODIFIED:20250107T190058Z
UID:10005960-1745173800-1745182800@stjameshydepark.org
SUMMARY:Hyde Park Group AA (Parish Hall\, Rm. 201)
DESCRIPTION:
URL:https://stjameshydepark.org/event/hyde-park-group-aa-parish-hall-rm-201/2025-04-20/
LOCATION:St. James’ Episcopal Church\, 4526 Albany Post Rd.\, Hyde Park\, NY\, 12538\, United States
END:VEVENT
BEGIN:VEVENT
DTSTART;TZID=America/New_York:20250421T133000
DTEND;TZID=America/New_York:20250421T153000
DTSTAMP:20260425T100844
CREATED:20241110T012408Z
LAST-MODIFIED:20250708T131754Z
UID:10006857-1745242200-1745249400@stjameshydepark.org
SUMMARY:Knit+Craft+Chat (Wilks Room)
DESCRIPTION:A community of crafters and conversationalists meets Mondays from 2-4 pm (drop-in) at St. James’ Episcopal Church in the Wilks Room of our Parish House. We are a friendly group: knitters\, embroiderers\, crocheters\, conversationalists and miscellaneous other activities. All are welcome; no previous skill is required.
URL:https://stjameshydepark.org/event/knit-craft-chat-2/2025-04-21/
LOCATION:St. James’ Episcopal Church\, 4526 Albany Post Rd.\, Hyde Park\, NY\, 12538\, United States
END:VEVENT
BEGIN:VEVENT
DTSTART;TZID=America/New_York:20250421T183000
DTEND;TZID=America/New_York:20250421T203000
DTSTAMP:20260425T100844
CREATED:20250403T143507Z
LAST-MODIFIED:20250403T143507Z
UID:10006470-1745260200-1745267400@stjameshydepark.org
SUMMARY:[New Deal] (Parish Hall)
DESCRIPTION:
URL:https://stjameshydepark.org/event/new-deal-parish-hall-3/2025-04-21/
LOCATION:St. James’ Episcopal Church\, 4526 Albany Post Rd.\, Hyde Park\, NY\, 12538\, United States
END:VEVENT
BEGIN:VEVENT
DTSTART;TZID=America/New_York:20250422T113000
DTEND;TZID=America/New_York:20250422T120000
DTSTAMP:20260425T100844
CREATED:20241008T150243Z
LAST-MODIFIED:20241008T150243Z
UID:10004185-1745321400-1745323200@stjameshydepark.org
SUMMARY:ARC Lunch
DESCRIPTION:
URL:https://stjameshydepark.org/event/arc-lunch/2025-04-22/
LOCATION:St. James’ Episcopal Church\, 4526 Albany Post Rd.\, Hyde Park\, NY\, 12538\, United States
END:VEVENT
BEGIN:VEVENT
DTSTART;TZID=America/New_York:20250422T120000
DTEND;TZID=America/New_York:20250422T130000
DTSTAMP:20260425T100844
CREATED:20250401T145346Z
LAST-MODIFIED:20250401T145346Z
UID:10006461-1745323200-1745326800@stjameshydepark.org
SUMMARY:Piano Tuner (Parish Hall)
DESCRIPTION:
URL:https://stjameshydepark.org/event/piano-tuner-parish-hall/
LOCATION:St. James’ Episcopal Church\, 4526 Albany Post Rd.\, Hyde Park\, NY\, 12538\, United States
END:VEVENT
BEGIN:VEVENT
DTSTART;TZID=America/New_York:20250422T190000
DTEND;TZID=America/New_York:20250422T203000
DTSTAMP:20260425T100844
CREATED:20250107T190949Z
LAST-MODIFIED:20250107T190949Z
UID:10006013-1745348400-1745353800@stjameshydepark.org
SUMMARY:Boy Scout Troop 80 (Parish Hall)
DESCRIPTION:
URL:https://stjameshydepark.org/event/boy-scout-troop-80-parish-hall/2025-04-22/
LOCATION:St. James’ Episcopal Church\, 4526 Albany Post Rd.\, Hyde Park\, NY\, 12538\, United States
END:VEVENT
BEGIN:VEVENT
DTSTART;TZID=America/New_York:20250423T080000
DTEND;TZID=America/New_York:20250423T110000
DTSTAMP:20260425T100844
CREATED:20250422T153020Z
LAST-MODIFIED:20250422T153020Z
UID:10006538-1745395200-1745406000@stjameshydepark.org
SUMMARY:Optimum Phone Upgrade (Chapel)
DESCRIPTION:
URL:https://stjameshydepark.org/event/optimum-phone-upgrade-chapel/
LOCATION:St. James’ Chapel\, 10 East Market Street\, Hyde Park\, NY\, 12567\, United States
END:VEVENT
BEGIN:VEVENT
DTSTART;TZID=America/New_York:20250423T110000
DTEND;TZID=America/New_York:20250423T121500
DTSTAMP:20260425T100844
CREATED:20241120T172057Z
LAST-MODIFIED:20250424T151851Z
UID:10006335-1745406000-1745410500@stjameshydepark.org
SUMMARY:Bible Study (Online)
DESCRIPTION:Our weekly Bible study on Zoom usually focuses on the Gospel for the upcoming Sunday and is led by Mtr. Meredith. We practice a contemplative\, prayerful style of Bible study that focuses on how God is speaking to us through our questions\, responses\, curiosities and doubts as we engage Scripture.  \nThe study is followed by a brief\, optional service of noonday prayer. \nJoin in any Wednesday at 11 am. No previous preparation is required. The Zoom link is distributed via our weekly email newsletter (or contact the parish office).
URL:https://stjameshydepark.org/event/bible-study-2025/2025-04-23/
LOCATION:Online
CATEGORIES:Christian Formation
END:VEVENT
BEGIN:VEVENT
DTSTART;TZID=America/New_York:20250423T183000
DTEND;TZID=America/New_York:20250423T190000
DTSTAMP:20260425T100844
CREATED:20241219T190934Z
LAST-MODIFIED:20241219T190934Z
UID:10004330-1745433000-1745434800@stjameshydepark.org
SUMMARY:Evening Prayer (Online)
DESCRIPTION:Join us online every Wednesday at 6:30 pm for a brief service of Evening Prayer led by Deacon Gail. Please email the parish office at stjames.hydepark@gmail.com to request the Zoom link.
URL:https://stjameshydepark.org/event/evening-prayer-2025/2025-04-23/
LOCATION:Online
CATEGORIES:Worship
END:VEVENT
BEGIN:VEVENT
DTSTART;TZID=America/New_York:20250423T183000
DTEND;TZID=America/New_York:20250423T200000
DTSTAMP:20260425T100844
CREATED:20250411T154808Z
LAST-MODIFIED:20251205T133526Z
UID:10006534-1745433000-1745438400@stjameshydepark.org
SUMMARY:Outreach Meeting (Wilks Room)
DESCRIPTION:
URL:https://stjameshydepark.org/event/outreach-meeting-wilks-room-2-2/2025-04-23/
LOCATION:St. James’ Episcopal Church\, 4526 Albany Post Rd.\, Hyde Park\, NY\, 12538\, United States
CATEGORIES:Outreach
END:VEVENT
BEGIN:VEVENT
DTSTART;TZID=America/New_York:20250423T183000
DTEND;TZID=America/New_York:20250423T203000
DTSTAMP:20260425T100844
CREATED:20250403T143507Z
LAST-MODIFIED:20250403T143507Z
UID:10006471-1745433000-1745440200@stjameshydepark.org
SUMMARY:[New Deal] (Parish Hall)
DESCRIPTION:
URL:https://stjameshydepark.org/event/new-deal-parish-hall-3/2025-04-23/
LOCATION:St. James’ Episcopal Church\, 4526 Albany Post Rd.\, Hyde Park\, NY\, 12538\, United States
END:VEVENT
BEGIN:VEVENT
DTSTART;TZID=America/New_York:20250424T173000
DTEND;TZID=America/New_York:20250424T183000
DTSTAMP:20260425T100844
CREATED:20250218T134905Z
LAST-MODIFIED:20250218T135029Z
UID:10006384-1745515800-1745519400@stjameshydepark.org
SUMMARY:[New Deal] Zumba Broadway Class (Parish Hall)
DESCRIPTION:
URL:https://stjameshydepark.org/event/zumba-broadway-class-parish-hall-new-deal/2025-04-24/
LOCATION:St. James’ Episcopal Church\, 4526 Albany Post Rd.\, Hyde Park\, NY\, 12538\, United States
END:VEVENT
BEGIN:VEVENT
DTSTART;TZID=America/New_York:20250426T090000
DTEND;TZID=America/New_York:20250426T150000
DTSTAMP:20260425T100844
CREATED:20250313T173347Z
LAST-MODIFIED:20250403T120800Z
UID:10006429-1745658000-1745679600@stjameshydepark.org
SUMMARY:Playground Cleanup
DESCRIPTION:
URL:https://stjameshydepark.org/event/playground-cleanup-rain-date/
LOCATION:St. James’ Episcopal Church\, 4526 Albany Post Rd.\, Hyde Park\, NY\, 12538\, United States
END:VEVENT
BEGIN:VEVENT
DTSTART;TZID=America/New_York:20250426T180000
DTEND;TZID=America/New_York:20250426T200000
DTSTAMP:20260425T100844
CREATED:20250211T153252Z
LAST-MODIFIED:20250211T153252Z
UID:10006372-1745690400-1745697600@stjameshydepark.org
SUMMARY:Vocal Intensive Studios Cabaret/Potluck (Parish Hall)
DESCRIPTION:
URL:https://stjameshydepark.org/event/vocal-intensive-studios-cabaret-potluck-parish-hall/
LOCATION:St. James’ Episcopal Church\, 4526 Albany Post Rd.\, Hyde Park\, NY\, 12538\, United States
END:VEVENT
BEGIN:VEVENT
DTSTART;TZID=America/New_York:20250426T183000
DTEND;TZID=America/New_York:20250426T190000
DTSTAMP:20260425T100844
CREATED:20241219T191054Z
LAST-MODIFIED:20241219T191054Z
UID:10004383-1745692200-1745694000@stjameshydepark.org
SUMMARY:Compline (Online)
DESCRIPTION:Join us online every Saturday at 6:30 pm for a brief service of Compline (Night Prayer) facilitated by Deacon Gail. Please email the parish office at stjames.hydepark@gmail.com to request the Zoom link.
URL:https://stjameshydepark.org/event/compline-2025/2025-04-26/
LOCATION:Online
CATEGORIES:Worship
END:VEVENT
BEGIN:VEVENT
DTSTART;TZID=America/New_York:20250427T080000
DTEND;TZID=America/New_York:20250427T090000
DTSTAMP:20260425T100844
CREATED:20241219T191649Z
LAST-MODIFIED:20250325T172434Z
UID:10004547-1745740800-1745744400@stjameshydepark.org
SUMMARY:Sunday Worship—Holy Eucharist\, Rite I
DESCRIPTION:Join us Sundays at 8:00 a.m. for a celebration of Holy Eucharist (Communion). This is a quiet service\, usually without music\, though we often have a soloist with acoustic guitar playing before and after the service. The service uses Rite 1 from the 1979 Book of Common Prayer\, with traditional language.
URL:https://stjameshydepark.org/event/sunday-8am-2025/2025-04-27/
LOCATION:St. James’ Episcopal Church\, 4526 Albany Post Rd.\, Hyde Park\, NY\, 12538\, United States
CATEGORIES:Worship
END:VEVENT
BEGIN:VEVENT
DTSTART;TZID=America/New_York:20250427T100000
DTEND;TZID=America/New_York:20250427T113000
DTSTAMP:20260425T100844
CREATED:20241219T191432Z
LAST-MODIFIED:20251209T135212Z
UID:10004495-1745748000-1745753400@stjameshydepark.org
SUMMARY:Sunday Worship—Holy Eucharist\, Rite II with Sunday School and Coffee Hour
DESCRIPTION:Join us Sundays at 10:00 a.m. for a celebration of Holy Eucharist (Communion). This service has music (usually organ and choir\, along with special guest musicians) and uses a variety of prayers and language from traditional to inclusive and expansive\, drawing from Rite II of the 1979 Book of Common Prayer\, Enriching Our Worship\, and other sources. \nCoffee hour in the Parish House usually follows this service. \nSunday School for kindergarten and up meets today on the second floor of the Parish House at 10:00 a.m. Students will rejoin the congregation just before Holy Communion. New to St. James’ Church? Your kids are welcome to Sunday School any Sunday. More details about St. James’ Sunday School at: https://stjameshydepark.org/for-children/
URL:https://stjameshydepark.org/event/sunday-10am-2025/2025-04-27/
LOCATION:St. James’ Episcopal Church\, 4526 Albany Post Rd.\, Hyde Park\, NY\, 12538\, United States
CATEGORIES:Worship
END:VEVENT
BEGIN:VEVENT
DTSTART;TZID=America/New_York:20250427T183000
DTEND;TZID=America/New_York:20250427T210000
DTSTAMP:20260425T100844
CREATED:20250107T185818Z
LAST-MODIFIED:20250107T190058Z
UID:10005961-1745778600-1745787600@stjameshydepark.org
SUMMARY:Hyde Park Group AA (Parish Hall\, Rm. 201)
DESCRIPTION:
URL:https://stjameshydepark.org/event/hyde-park-group-aa-parish-hall-rm-201/2025-04-27/
LOCATION:St. James’ Episcopal Church\, 4526 Albany Post Rd.\, Hyde Park\, NY\, 12538\, United States
END:VEVENT
BEGIN:VEVENT
DTSTART;TZID=America/New_York:20250428T133000
DTEND;TZID=America/New_York:20250428T153000
DTSTAMP:20260425T100844
CREATED:20241110T012408Z
LAST-MODIFIED:20250708T131754Z
UID:10006858-1745847000-1745854200@stjameshydepark.org
SUMMARY:Knit+Craft+Chat (Wilks Room)
DESCRIPTION:A community of crafters and conversationalists meets Mondays from 2-4 pm (drop-in) at St. James’ Episcopal Church in the Wilks Room of our Parish House. We are a friendly group: knitters\, embroiderers\, crocheters\, conversationalists and miscellaneous other activities. All are welcome; no previous skill is required.
URL:https://stjameshydepark.org/event/knit-craft-chat-2/2025-04-28/
LOCATION:St. James’ Episcopal Church\, 4526 Albany Post Rd.\, Hyde Park\, NY\, 12538\, United States
END:VEVENT
BEGIN:VEVENT
DTSTART;TZID=America/New_York:20250428T180000
DTEND;TZID=America/New_York:20250428T200000
DTSTAMP:20260425T100844
CREATED:20250225T145508Z
LAST-MODIFIED:20250326T125406Z
UID:10006459-1745863200-1745870400@stjameshydepark.org
SUMMARY:Men's Gathering (Antonella's)
DESCRIPTION:
URL:https://stjameshydepark.org/event/mens-gathering-antonellas-2/2025-04-28/
LOCATION:Antonella’s Restaurant\, Hyde Park\, NY\, 4246 Albany Post Rd #1700\, Hyde Park\, NY\, 12538\, United States
END:VEVENT
BEGIN:VEVENT
DTSTART;TZID=America/New_York:20250428T183000
DTEND;TZID=America/New_York:20250428T203000
DTSTAMP:20260425T100844
CREATED:20250415T142921Z
LAST-MODIFIED:20250415T143421Z
UID:10006535-1745865000-1745872200@stjameshydepark.org
SUMMARY:[New Deal] (Parish Hall)
DESCRIPTION:
URL:https://stjameshydepark.org/event/new-deal-parish-hall-4/
LOCATION:St. James’ Episcopal Church\, 4526 Albany Post Rd.\, Hyde Park\, NY\, 12538\, United States
END:VEVENT
BEGIN:VEVENT
DTSTART;TZID=America/New_York:20250429T113000
DTEND;TZID=America/New_York:20250429T120000
DTSTAMP:20260425T100844
CREATED:20241008T150243Z
LAST-MODIFIED:20241008T150243Z
UID:10004186-1745926200-1745928000@stjameshydepark.org
SUMMARY:ARC Lunch
DESCRIPTION:
URL:https://stjameshydepark.org/event/arc-lunch/2025-04-29/
LOCATION:St. James’ Episcopal Church\, 4526 Albany Post Rd.\, Hyde Park\, NY\, 12538\, United States
END:VEVENT
BEGIN:VEVENT
DTSTART;TZID=America/New_York:20250429T190000
DTEND;TZID=America/New_York:20250429T203000
DTSTAMP:20260425T100844
CREATED:20250107T190949Z
LAST-MODIFIED:20250107T190949Z
UID:10006014-1745953200-1745958600@stjameshydepark.org
SUMMARY:Boy Scout Troop 80 (Parish Hall)
DESCRIPTION:
URL:https://stjameshydepark.org/event/boy-scout-troop-80-parish-hall/2025-04-29/
LOCATION:St. James’ Episcopal Church\, 4526 Albany Post Rd.\, Hyde Park\, NY\, 12538\, United States
END:VEVENT
BEGIN:VEVENT
DTSTART;TZID=America/New_York:20250430T183000
DTEND;TZID=America/New_York:20250430T190000
DTSTAMP:20260425T100844
CREATED:20241219T190934Z
LAST-MODIFIED:20241219T190934Z
UID:10004331-1746037800-1746039600@stjameshydepark.org
SUMMARY:Evening Prayer (Online)
DESCRIPTION:Join us online every Wednesday at 6:30 pm for a brief service of Evening Prayer led by Deacon Gail. Please email the parish office at stjames.hydepark@gmail.com to request the Zoom link.
URL:https://stjameshydepark.org/event/evening-prayer-2025/2025-04-30/
LOCATION:Online
CATEGORIES:Worship
END:VEVENT
BEGIN:VEVENT
DTSTART;TZID=America/New_York:20250430T190000
DTEND;TZID=America/New_York:20250430T210000
DTSTAMP:20260425T100844
CREATED:20250110T161004Z
LAST-MODIFIED:20251106T213047Z
UID:10006296-1746039600-1746046800@stjameshydepark.org
SUMMARY:Vestry Meeting (Wilks Room)
DESCRIPTION:The Vestry meets on the 4th Wednesday of the month at 7 pm in the Wilks Room (exceptions noted). 2025 meeting dates are:  \nJanuary 22 \nSunday\, January 26—Annual Meeting (following 9 am worship) \nFebruary 26 \nMarch 26 \nApril 30th (5th Wednesday) \nMay 28 \nJune 25 \nJuly 23 \nNo meeting in August \nSeptember 24 \nOctober 22 \nNovember 19 \nDecember 17th (3rd Wednesday) \nJanuary 21\, 2026 (3rd Wednesday) \nJanuary 26\, 2026—Annual Meeting
URL:https://stjameshydepark.org/event/vestry-meetings-2025/2025-04-30/
LOCATION:St. James’ Episcopal Church\, 4526 Albany Post Rd.\, Hyde Park\, NY\, 12538\, United States
CATEGORIES:Governance
END:VEVENT
BEGIN:VEVENT
DTSTART;VALUE=DATE:20250501
DTEND;VALUE=DATE:20250502
DTSTAMP:20260425T100844
CREATED:20250325T171107Z
LAST-MODIFIED:20250325T171107Z
UID:10006445-1746057600-1746143999@stjameshydepark.org
SUMMARY:Setup for Tea Party (Parish Hall)
DESCRIPTION:
URL:https://stjameshydepark.org/event/setup-for-tea-party-parish-hall/2025-05-01/
LOCATION:St. James’ Episcopal Church\, 4526 Albany Post Rd.\, Hyde Park\, NY\, 12538\, United States
END:VEVENT
BEGIN:VEVENT
DTSTART;TZID=America/New_York:20250501T110000
DTEND;TZID=America/New_York:20250501T120000
DTSTAMP:20260425T100844
CREATED:20241120T172057Z
LAST-MODIFIED:20250424T151851Z
UID:10006541-1746097200-1746100800@stjameshydepark.org
SUMMARY:Bible Study (Online)
DESCRIPTION:Our weekly Bible study on Zoom usually focuses on the Gospel for the upcoming Sunday and is led by Mtr. Meredith. We practice a contemplative\, prayerful style of Bible study that focuses on how God is speaking to us through our questions\, responses\, curiosities and doubts as we engage Scripture.  \nThe study is followed by a brief\, optional service of noonday prayer. \nJoin in any Wednesday at 11 am. No previous preparation is required. The Zoom link is distributed via our weekly email newsletter (or contact the parish office).
URL:https://stjameshydepark.org/event/bible-study-2025/2025-05-01/
LOCATION:Online
CATEGORIES:Christian Formation
END:VEVENT
BEGIN:VEVENT
DTSTART;VALUE=DATE:20250502
DTEND;VALUE=DATE:20250503
DTSTAMP:20260425T100844
CREATED:20250325T171107Z
LAST-MODIFIED:20250325T171107Z
UID:10006446-1746172800-1746205200@stjameshydepark.org
SUMMARY:Setup for Tea Party (Parish Hall)
DESCRIPTION:
URL:https://stjameshydepark.org/event/setup-for-tea-party-parish-hall/2025-05-02/
LOCATION:St. James’ Episcopal Church\, 4526 Albany Post Rd.\, Hyde Park\, NY\, 12538\, United States
END:VEVENT
BEGIN:VEVENT
DTSTART;TZID=America/New_York:20250503T120000
DTEND;TZID=America/New_York:20250503T170000
DTSTAMP:20260425T100844
CREATED:20250325T171004Z
LAST-MODIFIED:20250424T151705Z
UID:10006444-1746273600-1746291600@stjameshydepark.org
SUMMARY:Mother's Day Tea Party
DESCRIPTION:St. James’ Episcopal Church presents “A Mother’s Day Tea Party” with four-course luncheon and light entertainment. \nTwo seatings on Saturday\, May 11th: noon and 3:00 p.m. $30 per person. \nCelebrate with your mother\, sister\, daughter\, or best friend in a special way at a special place. \nReservations are required; please call Dyan in the Church Office at 845-229-2820.
URL:https://stjameshydepark.org/event/mothers-day-tea-2025/
LOCATION:St. James’ Episcopal Church\, 4526 Albany Post Rd.\, Hyde Park\, NY\, 12538\, United States
CATEGORIES:Fun,Outreach
ATTACH;FMTTYPE=image/jpeg:https://stjameshydepark.org/wp-content/uploads/2025/03/Mothers-Day-Tea-2025.jpg
END:VEVENT
BEGIN:VEVENT
DTSTART;TZID=America/New_York:20250503T160000
DTEND;TZID=America/New_York:20250503T200000
DTSTAMP:20260425T100844
CREATED:20250429T124132Z
LAST-MODIFIED:20250429T124351Z
UID:10006543-1746288000-1746302400@stjameshydepark.org
SUMMARY:[New Deal] (Chapel & Reading Room)
DESCRIPTION:
URL:https://stjameshydepark.org/event/new-deal-chapel/
LOCATION:St. James’ Chapel\, 10 East Market Street\, Hyde Park\, NY\, 12567\, United States
END:VEVENT
END:VCALENDAR