BEGIN:VCALENDAR
VERSION:2.0
PRODID:-//St. James&#039; Episcopal Church - ECPv6.15.20//NONSGML v1.0//EN
CALSCALE:GREGORIAN
METHOD:PUBLISH
X-ORIGINAL-URL:https://stjameshydepark.org
X-WR-CALDESC:Events for St. James&#039; Episcopal Church
REFRESH-INTERVAL;VALUE=DURATION:PT1H
X-Robots-Tag:noindex
X-PUBLISHED-TTL:PT1H
BEGIN:VTIMEZONE
TZID:America/New_York
BEGIN:DAYLIGHT
TZOFFSETFROM:-0500
TZOFFSETTO:-0400
TZNAME:EDT
DTSTART:20240310T070000
END:DAYLIGHT
BEGIN:STANDARD
TZOFFSETFROM:-0400
TZOFFSETTO:-0500
TZNAME:EST
DTSTART:20241103T060000
END:STANDARD
BEGIN:DAYLIGHT
TZOFFSETFROM:-0500
TZOFFSETTO:-0400
TZNAME:EDT
DTSTART:20250309T070000
END:DAYLIGHT
BEGIN:STANDARD
TZOFFSETFROM:-0400
TZOFFSETTO:-0500
TZNAME:EST
DTSTART:20251102T060000
END:STANDARD
BEGIN:DAYLIGHT
TZOFFSETFROM:-0500
TZOFFSETTO:-0400
TZNAME:EDT
DTSTART:20260308T070000
END:DAYLIGHT
BEGIN:STANDARD
TZOFFSETFROM:-0400
TZOFFSETTO:-0500
TZNAME:EST
DTSTART:20261101T060000
END:STANDARD
END:VTIMEZONE
BEGIN:VEVENT
DTSTART;TZID=America/New_York:20251203T183000
DTEND;TZID=America/New_York:20251203T190000
DTSTAMP:20260425T101655
CREATED:20241219T190934Z
LAST-MODIFIED:20241219T190934Z
UID:10004362-1764786600-1764788400@stjameshydepark.org
SUMMARY:Evening Prayer (Online)
DESCRIPTION:Join us online every Wednesday at 6:30 pm for a brief service of Evening Prayer led by Deacon Gail. Please email the parish office at stjames.hydepark@gmail.com to request the Zoom link.
URL:https://stjameshydepark.org/event/evening-prayer-2025/2025-12-03/
LOCATION:Online
CATEGORIES:Worship
END:VEVENT
BEGIN:VEVENT
DTSTART;TZID=America/New_York:20251205T160000
DTEND;TZID=America/New_York:20251205T200000
DTSTAMP:20260425T101655
CREATED:20250424T144952Z
LAST-MODIFIED:20251119T142705Z
UID:10006539-1764950400-1764964800@stjameshydepark.org
SUMMARY:Outreach Cookie Sale Setup (Parish Hall)
DESCRIPTION:
URL:https://stjameshydepark.org/event/outreach-cookie-sale-setup-parish-hall-2/
LOCATION:St. James’ Episcopal Church\, 4526 Albany Post Rd.\, Hyde Park\, NY\, 12538\, United States
END:VEVENT
BEGIN:VEVENT
DTSTART;TZID=America/New_York:20251205T173000
DTEND;TZID=America/New_York:20251205T190000
DTSTAMP:20260425T101655
CREATED:20251205T134334Z
LAST-MODIFIED:20251205T134448Z
UID:10007015-1764955800-1764961200@stjameshydepark.org
SUMMARY:[December Meeting Canceled] Youth Confirmation Class (2025-2026)
DESCRIPTION:~ Youth Confirmation Class ~  \nFall 2025 Dates \n5:30-7 PM \npizza served \n\nSecond Fridays of the Month\nSeptember 12—St. Paul’s\, Pleasant Valley\nOctober 10—St. Paul’s\, Poughkeepsie\nNovember 14—Canceled \nFirst Friday of the Month\nDecember 5—Canceled \n  \n\nHost location rotates: \nSt. James’ Episcopal Church\n4526 Albany Post Road\, Hyde Park \nSt. Paul’s Episcopal Church\n808 Traver Road\, Pleasant Valley \nSt. Paul’s Episcopal Church\n161 Mansion Street\, Poughkeepsie
URL:https://stjameshydepark.org/event/youth-confirmation-2025-dec-canceled/
LOCATION:NY
CATEGORIES:Christian Formation,Kids & Youth
END:VEVENT
BEGIN:VEVENT
DTSTART;TZID=America/New_York:20251206T080000
DTEND;TZID=America/New_York:20251206T150000
DTSTAMP:20260425T101655
CREATED:20250424T145035Z
LAST-MODIFIED:20251119T142802Z
UID:10006540-1765008000-1765033200@stjameshydepark.org
SUMMARY:Outreach Cookie Sale (Parish Hall)
DESCRIPTION:
URL:https://stjameshydepark.org/event/outreach-cookie-sale-parish-hall/
LOCATION:St. James’ Episcopal Church\, 4526 Albany Post Rd.\, Hyde Park\, NY\, 12538\, United States
END:VEVENT
BEGIN:VEVENT
DTSTART;TZID=America/New_York:20251206T183000
DTEND;TZID=America/New_York:20251206T190000
DTSTAMP:20260425T101655
CREATED:20241219T191054Z
LAST-MODIFIED:20241219T191054Z
UID:10004415-1765045800-1765047600@stjameshydepark.org
SUMMARY:Compline (Online)
DESCRIPTION:Join us online every Saturday at 6:30 pm for a brief service of Compline (Night Prayer) facilitated by Deacon Gail. Please email the parish office at stjames.hydepark@gmail.com to request the Zoom link.
URL:https://stjameshydepark.org/event/compline-2025/2025-12-06/
LOCATION:Online
CATEGORIES:Worship
END:VEVENT
BEGIN:VEVENT
DTSTART;TZID=America/New_York:20251207T080000
DTEND;TZID=America/New_York:20251207T090000
DTSTAMP:20260425T101655
CREATED:20241219T191649Z
LAST-MODIFIED:20250325T172434Z
UID:10004579-1765094400-1765098000@stjameshydepark.org
SUMMARY:Sunday Worship—Holy Eucharist\, Rite I
DESCRIPTION:Join us Sundays at 8:00 a.m. for a celebration of Holy Eucharist (Communion). This is a quiet service\, usually without music\, though we often have a soloist with acoustic guitar playing before and after the service. The service uses Rite 1 from the 1979 Book of Common Prayer\, with traditional language.
URL:https://stjameshydepark.org/event/sunday-8am-2025/2025-12-07/
LOCATION:St. James’ Episcopal Church\, 4526 Albany Post Rd.\, Hyde Park\, NY\, 12538\, United States
CATEGORIES:Worship
END:VEVENT
BEGIN:VEVENT
DTSTART;TZID=America/New_York:20251207T100000
DTEND;TZID=America/New_York:20251207T113000
DTSTAMP:20260425T101655
CREATED:20241219T191432Z
LAST-MODIFIED:20251209T135212Z
UID:10004527-1765101600-1765107000@stjameshydepark.org
SUMMARY:Sunday Worship—Holy Eucharist\, Rite II with Sunday School and Coffee Hour
DESCRIPTION:Join us Sundays at 10:00 a.m. for a celebration of Holy Eucharist (Communion). This service has music (usually organ and choir\, along with special guest musicians) and uses a variety of prayers and language from traditional to inclusive and expansive\, drawing from Rite II of the 1979 Book of Common Prayer\, Enriching Our Worship\, and other sources. \nCoffee hour in the Parish House usually follows this service. \nSunday School for kindergarten and up meets today on the second floor of the Parish House at 10:00 a.m. Students will rejoin the congregation just before Holy Communion. New to St. James’ Church? Your kids are welcome to Sunday School any Sunday. More details about St. James’ Sunday School at: https://stjameshydepark.org/for-children/
URL:https://stjameshydepark.org/event/sunday-10am-2025/2025-12-07/
LOCATION:St. James’ Episcopal Church\, 4526 Albany Post Rd.\, Hyde Park\, NY\, 12538\, United States
CATEGORIES:Worship
END:VEVENT
BEGIN:VEVENT
DTSTART;TZID=America/New_York:20251207T100000
DTEND;TZID=America/New_York:20251207T140000
DTSTAMP:20260425T101655
CREATED:20251104T151409Z
LAST-MODIFIED:20251209T150151Z
UID:10007085-1765101600-1765116000@stjameshydepark.org
SUMMARY:Fresh Manna Church (Chapel and Reading Room)
DESCRIPTION:
URL:https://stjameshydepark.org/event/fresh-manna-church-chapel-and-reading-room/2025-12-07/
LOCATION:St. James’ Chapel\, 10 East Market Street\, Hyde Park\, NY\, 12567\, United States
END:VEVENT
BEGIN:VEVENT
DTSTART;TZID=America/New_York:20251207T183000
DTEND;TZID=America/New_York:20251207T210000
DTSTAMP:20260425T101655
CREATED:20250107T185818Z
LAST-MODIFIED:20250107T190058Z
UID:10005993-1765132200-1765141200@stjameshydepark.org
SUMMARY:Hyde Park Group AA (Parish Hall\, Rm. 201)
DESCRIPTION:
URL:https://stjameshydepark.org/event/hyde-park-group-aa-parish-hall-rm-201/2025-12-07/
LOCATION:St. James’ Episcopal Church\, 4526 Albany Post Rd.\, Hyde Park\, NY\, 12538\, United States
END:VEVENT
BEGIN:VEVENT
DTSTART;TZID=America/New_York:20251208T133000
DTEND;TZID=America/New_York:20251208T153000
DTSTAMP:20260425T101655
CREATED:20241110T012408Z
LAST-MODIFIED:20250708T131754Z
UID:10006890-1765200600-1765207800@stjameshydepark.org
SUMMARY:Knit+Craft+Chat (Wilks Room)
DESCRIPTION:A community of crafters and conversationalists meets Mondays from 2-4 pm (drop-in) at St. James’ Episcopal Church in the Wilks Room of our Parish House. We are a friendly group: knitters\, embroiderers\, crocheters\, conversationalists and miscellaneous other activities. All are welcome; no previous skill is required.
URL:https://stjameshydepark.org/event/knit-craft-chat-2/2025-12-08/
LOCATION:St. James’ Episcopal Church\, 4526 Albany Post Rd.\, Hyde Park\, NY\, 12538\, United States
END:VEVENT
BEGIN:VEVENT
DTSTART;TZID=America/New_York:20251209T100000
DTEND;TZID=America/New_York:20251209T140000
DTSTAMP:20260425T101655
CREATED:20251126T182445Z
LAST-MODIFIED:20251126T182445Z
UID:10007170-1765274400-1765288800@stjameshydepark.org
SUMMARY:Organ Tuning
DESCRIPTION:
URL:https://stjameshydepark.org/event/organ-tuning/
LOCATION:St. James’ Episcopal Church\, 4526 Albany Post Rd.\, Hyde Park\, NY\, 12538\, United States
END:VEVENT
BEGIN:VEVENT
DTSTART;TZID=America/New_York:20251209T190000
DTEND;TZID=America/New_York:20251209T203000
DTSTAMP:20260425T101655
CREATED:20250107T190949Z
LAST-MODIFIED:20250107T190949Z
UID:10006036-1765306800-1765312200@stjameshydepark.org
SUMMARY:Boy Scout Troop 80 (Parish Hall)
DESCRIPTION:
URL:https://stjameshydepark.org/event/boy-scout-troop-80-parish-hall/2025-12-09/
LOCATION:St. James’ Episcopal Church\, 4526 Albany Post Rd.\, Hyde Park\, NY\, 12538\, United States
END:VEVENT
BEGIN:VEVENT
DTSTART;VALUE=DATE:20251210
DTEND;VALUE=DATE:20251211
DTSTAMP:20260425T101655
CREATED:20251104T151721Z
LAST-MODIFIED:20251104T151721Z
UID:10007111-1765324800-1765411199@stjameshydepark.org
SUMMARY:Fresh Manna Church Evening Prayer and Bible Study (Chapel and Reading Room)
DESCRIPTION:
URL:https://stjameshydepark.org/event/fresh-manna-church-evening-prayer-and-bible-study-chapel-and-reading-room/2025-12-10/
LOCATION:St. James’ Chapel\, 10 East Market Street\, Hyde Park\, NY\, 12567\, United States
END:VEVENT
BEGIN:VEVENT
DTSTART;TZID=America/New_York:20251210T090000
DTEND;TZID=America/New_York:20251210T160000
DTSTAMP:20260425T101655
CREATED:20251209T142457Z
LAST-MODIFIED:20251209T142457Z
UID:10007186-1765357200-1765382400@stjameshydepark.org
SUMMARY:Wilks Room Reserved for Writing
DESCRIPTION:
URL:https://stjameshydepark.org/event/wilks-room-reserved-for-writing/2025-12-10/
LOCATION:St. James’ Episcopal Church\, 4526 Albany Post Rd.\, Hyde Park\, NY\, 12538\, United States
END:VEVENT
BEGIN:VEVENT
DTSTART;TZID=America/New_York:20251210T110000
DTEND;TZID=America/New_York:20251210T121500
DTSTAMP:20260425T101655
CREATED:20241120T172057Z
LAST-MODIFIED:20250424T151851Z
UID:10006368-1765364400-1765368900@stjameshydepark.org
SUMMARY:Bible Study (Online)
DESCRIPTION:Our weekly Bible study on Zoom usually focuses on the Gospel for the upcoming Sunday and is led by Mtr. Meredith. We practice a contemplative\, prayerful style of Bible study that focuses on how God is speaking to us through our questions\, responses\, curiosities and doubts as we engage Scripture.  \nThe study is followed by a brief\, optional service of noonday prayer. \nJoin in any Wednesday at 11 am. No previous preparation is required. The Zoom link is distributed via our weekly email newsletter (or contact the parish office).
URL:https://stjameshydepark.org/event/bible-study-2025/2025-12-10/
LOCATION:Online
CATEGORIES:Christian Formation
END:VEVENT
BEGIN:VEVENT
DTSTART;TZID=America/New_York:20251210T160000
DTEND;TZID=America/New_York:20251210T180000
DTSTAMP:20260425T101655
CREATED:20251126T181618Z
LAST-MODIFIED:20251126T181618Z
UID:10007169-1765382400-1765389600@stjameshydepark.org
SUMMARY:Finance Committee Meeting (Wilks Rm.)
DESCRIPTION:
URL:https://stjameshydepark.org/event/finance-committee-meeting-wilks-rm/
LOCATION:St. James’ Episcopal Church\, 4526 Albany Post Rd.\, Hyde Park\, NY\, 12538\, United States
END:VEVENT
BEGIN:VEVENT
DTSTART;TZID=America/New_York:20251210T180000
DTEND;TZID=America/New_York:20251210T200000
DTSTAMP:20260425T101655
CREATED:20251014T130158Z
LAST-MODIFIED:20251206T124905Z
UID:10007018-1765389600-1765396800@stjameshydepark.org
SUMMARY:Combined Women's and Men's Group Holiday Dinner (Antonella's)
DESCRIPTION:Once again this year\, the Men’s and Women’s Group will be combining their respective monthly dinners. We had a nice gathering last year just before the holidays and thought we would repeat it again this year. \nYou are welcome to come solo\, or you are encouraged to bring a plus one. The combined dinner will follow the same format as our monthly dinners—private backroom\, individual checks\, order what you desire from the menu\, etc.
URL:https://stjameshydepark.org/event/holiday-dinner-2025/
LOCATION:Antonella’s Restaurant\, Hyde Park\, NY\, 4246 Albany Post Rd #1700\, Hyde Park\, NY\, 12538\, United States
END:VEVENT
BEGIN:VEVENT
DTSTART;TZID=America/New_York:20251210T183000
DTEND;TZID=America/New_York:20251210T190000
DTSTAMP:20260425T101655
CREATED:20241219T190934Z
LAST-MODIFIED:20241219T190934Z
UID:10004363-1765391400-1765393200@stjameshydepark.org
SUMMARY:Evening Prayer (Online)
DESCRIPTION:Join us online every Wednesday at 6:30 pm for a brief service of Evening Prayer led by Deacon Gail. Please email the parish office at stjames.hydepark@gmail.com to request the Zoom link.
URL:https://stjameshydepark.org/event/evening-prayer-2025/2025-12-10/
LOCATION:Online
CATEGORIES:Worship
END:VEVENT
BEGIN:VEVENT
DTSTART;TZID=America/New_York:20251211T153000
DTEND;TZID=America/New_York:20251211T163000
DTSTAMP:20260425T101655
CREATED:20251209T151612Z
LAST-MODIFIED:20251209T151612Z
UID:10007188-1765467000-1765470600@stjameshydepark.org
SUMMARY:Nominating Committee Meeting (Wilks Room)
DESCRIPTION:
URL:https://stjameshydepark.org/event/nominating-committee-meeting-wilks-room/
LOCATION:St. James’ Episcopal Church\, 4526 Albany Post Rd.\, Hyde Park\, NY\, 12538\, United States
END:VEVENT
BEGIN:VEVENT
DTSTART;TZID=America/New_York:20251211T190000
DTEND;TZID=America/New_York:20251211T200000
DTSTAMP:20260425T101655
CREATED:20251126T160324Z
LAST-MODIFIED:20251126T160324Z
UID:10007163-1765479600-1765483200@stjameshydepark.org
SUMMARY:Blue Christmas Service (St. Margaret's)
DESCRIPTION:For anyone holding grief in the holiday season.
URL:https://stjameshydepark.org/event/blue-christmas-service-st-margarets/
LOCATION:St. Margaret’s Church\, E. Elm Ave.\, Staatsburg\, NY\, 12580\, United States
END:VEVENT
BEGIN:VEVENT
DTSTART;TZID=America/New_York:20251212T090000
DTEND;TZID=America/New_York:20251212T120000
DTSTAMP:20260425T101655
CREATED:20251209T142457Z
LAST-MODIFIED:20251209T142457Z
UID:10007187-1765530000-1765540800@stjameshydepark.org
SUMMARY:Wilks Room Reserved for Writing
DESCRIPTION:
URL:https://stjameshydepark.org/event/wilks-room-reserved-for-writing/2025-12-12/
LOCATION:St. James’ Episcopal Church\, 4526 Albany Post Rd.\, Hyde Park\, NY\, 12538\, United States
END:VEVENT
BEGIN:VEVENT
DTSTART;TZID=America/New_York:20251213T170000
DTEND;TZID=America/New_York:20251213T210000
DTSTAMP:20260425T101655
CREATED:20251106T180252Z
LAST-MODIFIED:20251106T180252Z
UID:10007135-1765645200-1765659600@stjameshydepark.org
SUMMARY:[New Deal] WWII Radio Show (Parish Hall)
DESCRIPTION:
URL:https://stjameshydepark.org/event/new-deal-wwii-radio-show-parish-hall/2025-12-13/
LOCATION:HP Farmers Market
END:VEVENT
BEGIN:VEVENT
DTSTART;TZID=America/New_York:20251213T183000
DTEND;TZID=America/New_York:20251213T190000
DTSTAMP:20260425T101655
CREATED:20241219T191054Z
LAST-MODIFIED:20241219T191054Z
UID:10004416-1765650600-1765652400@stjameshydepark.org
SUMMARY:Compline (Online)
DESCRIPTION:Join us online every Saturday at 6:30 pm for a brief service of Compline (Night Prayer) facilitated by Deacon Gail. Please email the parish office at stjames.hydepark@gmail.com to request the Zoom link.
URL:https://stjameshydepark.org/event/compline-2025/2025-12-13/
LOCATION:Online
CATEGORIES:Worship
END:VEVENT
BEGIN:VEVENT
DTSTART;TZID=America/New_York:20251214T080000
DTEND;TZID=America/New_York:20251214T090000
DTSTAMP:20260425T101655
CREATED:20241219T191649Z
LAST-MODIFIED:20250325T172434Z
UID:10004580-1765699200-1765702800@stjameshydepark.org
SUMMARY:Sunday Worship—Holy Eucharist\, Rite I
DESCRIPTION:Join us Sundays at 8:00 a.m. for a celebration of Holy Eucharist (Communion). This is a quiet service\, usually without music\, though we often have a soloist with acoustic guitar playing before and after the service. The service uses Rite 1 from the 1979 Book of Common Prayer\, with traditional language.
URL:https://stjameshydepark.org/event/sunday-8am-2025/2025-12-14/
LOCATION:St. James’ Episcopal Church\, 4526 Albany Post Rd.\, Hyde Park\, NY\, 12538\, United States
CATEGORIES:Worship
END:VEVENT
BEGIN:VEVENT
DTSTART;TZID=America/New_York:20251214T100000
DTEND;TZID=America/New_York:20251214T113000
DTSTAMP:20260425T101655
CREATED:20241219T191432Z
LAST-MODIFIED:20251209T135212Z
UID:10004528-1765706400-1765711800@stjameshydepark.org
SUMMARY:Sunday Worship—Holy Eucharist\, Rite II with Sunday School and Coffee Hour
DESCRIPTION:Join us Sundays at 10:00 a.m. for a celebration of Holy Eucharist (Communion). This service has music (usually organ and choir\, along with special guest musicians) and uses a variety of prayers and language from traditional to inclusive and expansive\, drawing from Rite II of the 1979 Book of Common Prayer\, Enriching Our Worship\, and other sources. \nCoffee hour in the Parish House usually follows this service. \nSunday School for kindergarten and up meets today on the second floor of the Parish House at 10:00 a.m. Students will rejoin the congregation just before Holy Communion. New to St. James’ Church? Your kids are welcome to Sunday School any Sunday. More details about St. James’ Sunday School at: https://stjameshydepark.org/for-children/
URL:https://stjameshydepark.org/event/sunday-10am-2025/2025-12-14/
LOCATION:St. James’ Episcopal Church\, 4526 Albany Post Rd.\, Hyde Park\, NY\, 12538\, United States
CATEGORIES:Worship
END:VEVENT
BEGIN:VEVENT
DTSTART;TZID=America/New_York:20251214T130000
DTEND;TZID=America/New_York:20251214T170000
DTSTAMP:20260425T101655
CREATED:20251106T180252Z
LAST-MODIFIED:20251106T180252Z
UID:10007136-1765717200-1765731600@stjameshydepark.org
SUMMARY:[New Deal] WWII Radio Show (Parish Hall)
DESCRIPTION:
URL:https://stjameshydepark.org/event/new-deal-wwii-radio-show-parish-hall/2025-12-14/
LOCATION:HP Farmers Market
END:VEVENT
BEGIN:VEVENT
DTSTART;TZID=America/New_York:20251214T180000
DTEND;TZID=America/New_York:20251214T190000
DTSTAMP:20260425T101655
CREATED:20251126T160459Z
LAST-MODIFIED:20251126T160459Z
UID:10007164-1765735200-1765738800@stjameshydepark.org
SUMMARY:Caroling in the Village of Staatsburg (starts at St. Margaret's)
DESCRIPTION:
URL:https://stjameshydepark.org/event/caroling-in-the-village-of-staatsburg-starts-at-st-margarets/
LOCATION:St. Margaret’s Church\, E. Elm Ave.\, Staatsburg\, NY\, 12580\, United States
END:VEVENT
BEGIN:VEVENT
DTSTART;TZID=America/New_York:20251214T183000
DTEND;TZID=America/New_York:20251214T210000
DTSTAMP:20260425T101655
CREATED:20250107T185818Z
LAST-MODIFIED:20250107T190058Z
UID:10005994-1765737000-1765746000@stjameshydepark.org
SUMMARY:Hyde Park Group AA (Parish Hall\, Rm. 201)
DESCRIPTION:
URL:https://stjameshydepark.org/event/hyde-park-group-aa-parish-hall-rm-201/2025-12-14/
LOCATION:St. James’ Episcopal Church\, 4526 Albany Post Rd.\, Hyde Park\, NY\, 12538\, United States
END:VEVENT
BEGIN:VEVENT
DTSTART;TZID=America/New_York:20251215T133000
DTEND;TZID=America/New_York:20251215T153000
DTSTAMP:20260425T101655
CREATED:20241110T012408Z
LAST-MODIFIED:20250708T131754Z
UID:10006891-1765805400-1765812600@stjameshydepark.org
SUMMARY:Knit+Craft+Chat (Wilks Room)
DESCRIPTION:A community of crafters and conversationalists meets Mondays from 2-4 pm (drop-in) at St. James’ Episcopal Church in the Wilks Room of our Parish House. We are a friendly group: knitters\, embroiderers\, crocheters\, conversationalists and miscellaneous other activities. All are welcome; no previous skill is required.
URL:https://stjameshydepark.org/event/knit-craft-chat-2/2025-12-15/
LOCATION:St. James’ Episcopal Church\, 4526 Albany Post Rd.\, Hyde Park\, NY\, 12538\, United States
END:VEVENT
BEGIN:VEVENT
DTSTART;TZID=America/New_York:20251216T190000
DTEND;TZID=America/New_York:20251216T203000
DTSTAMP:20260425T101655
CREATED:20250107T190949Z
LAST-MODIFIED:20250107T190949Z
UID:10006037-1765911600-1765917000@stjameshydepark.org
SUMMARY:Boy Scout Troop 80 (Parish Hall)
DESCRIPTION:
URL:https://stjameshydepark.org/event/boy-scout-troop-80-parish-hall/2025-12-16/
LOCATION:St. James’ Episcopal Church\, 4526 Albany Post Rd.\, Hyde Park\, NY\, 12538\, United States
END:VEVENT
END:VCALENDAR