BEGIN:VCALENDAR
VERSION:2.0
PRODID:-//St. James&#039; Episcopal Church - ECPv6.15.20//NONSGML v1.0//EN
CALSCALE:GREGORIAN
METHOD:PUBLISH
X-ORIGINAL-URL:https://stjameshydepark.org
X-WR-CALDESC:Events for St. James&#039; Episcopal Church
REFRESH-INTERVAL;VALUE=DURATION:PT1H
X-Robots-Tag:noindex
X-PUBLISHED-TTL:PT1H
BEGIN:VTIMEZONE
TZID:America/New_York
BEGIN:DAYLIGHT
TZOFFSETFROM:-0500
TZOFFSETTO:-0400
TZNAME:EDT
DTSTART:20250309T070000
END:DAYLIGHT
BEGIN:STANDARD
TZOFFSETFROM:-0400
TZOFFSETTO:-0500
TZNAME:EST
DTSTART:20251102T060000
END:STANDARD
BEGIN:DAYLIGHT
TZOFFSETFROM:-0500
TZOFFSETTO:-0400
TZNAME:EDT
DTSTART:20260308T070000
END:DAYLIGHT
BEGIN:STANDARD
TZOFFSETFROM:-0400
TZOFFSETTO:-0500
TZNAME:EST
DTSTART:20261101T060000
END:STANDARD
BEGIN:DAYLIGHT
TZOFFSETFROM:-0500
TZOFFSETTO:-0400
TZNAME:EDT
DTSTART:20270314T070000
END:DAYLIGHT
BEGIN:STANDARD
TZOFFSETFROM:-0400
TZOFFSETTO:-0500
TZNAME:EST
DTSTART:20271107T060000
END:STANDARD
END:VTIMEZONE
BEGIN:VEVENT
DTSTART;VALUE=DATE:20260213
DTEND;VALUE=DATE:20260214
DTSTAMP:20260423T230551
CREATED:20260113T182144Z
LAST-MODIFIED:20260113T182144Z
UID:10007650-1770940800-1771027199@stjameshydepark.org
SUMMARY:[New Deal] Valentine's Cabaret (Parish Hall)
DESCRIPTION:
URL:https://stjameshydepark.org/event/new-deal-valentines-cabaret-parish-hall/
LOCATION:St. James’ Episcopal Church\, 4526 Albany Post Rd.\, Hyde Park\, NY\, 12538\, United States
END:VEVENT
BEGIN:VEVENT
DTSTART;TZID=America/New_York:20260213T173000
DTEND;TZID=America/New_York:20260213T190000
DTSTAMP:20260423T230551
CREATED:20251205T134804Z
LAST-MODIFIED:20260421T145747Z
UID:10007180-1771003800-1771009200@stjameshydepark.org
SUMMARY:Youth Confirmation Class (2025-2026)
DESCRIPTION:~ Youth Confirmation Class ~  \nSpring 2026 Dates \n5:30-7 PM \npizza served \n\nSecond Fridays of the Month\nFriday\, January 9\, 2026\nFriday\, February 13\, 2026\nFriday\, March 13\, 2026\nFriday\, April 10 24\, 2026 at St. James’ Hyde Park\nFriday\, May 8\, 2026 at St. Paul’s Pleasant Valley \nNightwatch at St. John the Divine\nFriday\, February 27—Saturday\, February 28 \n\nHost location rotates: \nSt. James’ Episcopal Church\n4526 Albany Post Road\, Hyde Park \nSt. Paul’s Episcopal Church\n808 Traver Road\, Pleasant Valley \nSt. Paul’s Episcopal Church\n161 Mansion Street\, Poughkeepsie
URL:https://stjameshydepark.org/event/youth-confirmation-2026/2026-02-13/
LOCATION:NY
CATEGORIES:Christian Formation,Kids & Youth
END:VEVENT
BEGIN:VEVENT
DTSTART;TZID=America/New_York:20260214T090000
DTEND;TZID=America/New_York:20260214T140000
DTSTAMP:20260423T230551
CREATED:20260212T133724Z
LAST-MODIFIED:20260212T133740Z
UID:10007679-1771059600-1771077600@stjameshydepark.org
SUMMARY:Discernment Committee (Wilks Room)
DESCRIPTION:
URL:https://stjameshydepark.org/event/discernment-committee-wilks-room/
LOCATION:St. James’ Episcopal Church\, 4526 Albany Post Rd.\, Hyde Park\, NY\, 12538\, United States
END:VEVENT
BEGIN:VEVENT
DTSTART;TZID=America/New_York:20260214T140000
DTEND;TZID=America/New_York:20260214T150000
DTSTAMP:20260423T230551
CREATED:20260123T142313Z
LAST-MODIFIED:20260123T142313Z
UID:10007656-1771077600-1771081200@stjameshydepark.org
SUMMARY:Memorial Service (Chapel)
DESCRIPTION:
URL:https://stjameshydepark.org/event/memorial-service-chapel-2/
LOCATION:St. James’ Chapel\, 10 East Market Street\, Hyde Park\, NY\, 12567\, United States
END:VEVENT
BEGIN:VEVENT
DTSTART;TZID=America/New_York:20260214T183000
DTEND;TZID=America/New_York:20260214T190000
DTSTAMP:20260423T230551
CREATED:20260113T180750Z
LAST-MODIFIED:20260113T180750Z
UID:10007599-1771093800-1771095600@stjameshydepark.org
SUMMARY:Compline (Online)
DESCRIPTION:
URL:https://stjameshydepark.org/event/compline-online/2026-02-14/
LOCATION:St. James’ Episcopal Church\, 4526 Albany Post Rd.\, Hyde Park\, NY\, 12538\, United States
END:VEVENT
BEGIN:VEVENT
DTSTART;TZID=America/New_York:20260215T080000
DTEND;TZID=America/New_York:20260215T090000
DTSTAMP:20260423T230551
CREATED:20241219T191649Z
LAST-MODIFIED:20250325T172434Z
UID:10004589-1771142400-1771146000@stjameshydepark.org
SUMMARY:Sunday Worship—Holy Eucharist\, Rite I
DESCRIPTION:Join us Sundays at 8:00 a.m. for a celebration of Holy Eucharist (Communion). This is a quiet service\, usually without music\, though we often have a soloist with acoustic guitar playing before and after the service. The service uses Rite 1 from the 1979 Book of Common Prayer\, with traditional language.
URL:https://stjameshydepark.org/event/sunday-8am-2025/2026-02-15/
LOCATION:St. James’ Episcopal Church\, 4526 Albany Post Rd.\, Hyde Park\, NY\, 12538\, United States
CATEGORIES:Worship
END:VEVENT
BEGIN:VEVENT
DTSTART;TZID=America/New_York:20260215T100000
DTEND;TZID=America/New_York:20260215T113000
DTSTAMP:20260423T230551
CREATED:20251220T015723Z
LAST-MODIFIED:20260402T145034Z
UID:10007290-1771149600-1771155000@stjameshydepark.org
SUMMARY:Sunday Worship—Holy Eucharist\, Rite II with Sunday School and Coffee Hour
DESCRIPTION:Join us Sundays at 10:00 a.m. for a celebration of Holy Eucharist (Communion). This service has music (usually organ and choir\, along with special guest musicians) and uses a variety of prayers and language from traditional to inclusive and expansive\, drawing from Rite II of the 1979 Book of Common Prayer\, Enriching Our Worship\, and other sources. \nCoffee hour in the Parish House usually follows this service. \nSunday School for kindergarten and up meets today on the second floor of the Parish House at 10:00 a.m. Students will rejoin the congregation just before Holy Communion. New to St. James’ Church? Your kids are welcome to Sunday School any Sunday. More details about St. James’ Sunday School at: https://stjameshydepark.org/for-children/
URL:https://stjameshydepark.org/event/sunday-worship-holy-eucharist-rite-ii-with-sunday-school-and-coffee-hour/2026-02-15/
LOCATION:St. James’ Episcopal Church\, 4526 Albany Post Rd.\, Hyde Park\, NY\, 12538\, United States
CATEGORIES:Worship
END:VEVENT
BEGIN:VEVENT
DTSTART;TZID=America/New_York:20260215T100000
DTEND;TZID=America/New_York:20260215T140000
DTSTAMP:20260423T230551
CREATED:20251104T151409Z
LAST-MODIFIED:20251209T150151Z
UID:10007095-1771149600-1771164000@stjameshydepark.org
SUMMARY:Fresh Manna Church (Chapel and Reading Room)
DESCRIPTION:
URL:https://stjameshydepark.org/event/fresh-manna-church-chapel-and-reading-room/2026-02-15/
LOCATION:St. James’ Chapel\, 10 East Market Street\, Hyde Park\, NY\, 12567\, United States
END:VEVENT
BEGIN:VEVENT
DTSTART;TZID=America/New_York:20260215T183000
DTEND;TZID=America/New_York:20260215T210000
DTSTAMP:20260423T230551
CREATED:20260410T125621Z
LAST-MODIFIED:20260410T125621Z
UID:10007913-1771180200-1771189200@stjameshydepark.org
SUMMARY:Hyde Park Group AA (Parish Hall\, Rm. 201)
DESCRIPTION:
URL:https://stjameshydepark.org/event/hyde-park-group-aa-parish-hall-rm-201-2/2026-02-15/
LOCATION:St. James’ Episcopal Church\, 4526 Albany Post Rd.\, Hyde Park\, NY\, 12538\, United States
END:VEVENT
BEGIN:VEVENT
DTSTART;TZID=America/New_York:20260216T130000
DTEND;TZID=America/New_York:20260216T150000
DTSTAMP:20260423T230551
CREATED:20260113T175431Z
LAST-MODIFIED:20260123T215934Z
UID:10007446-1771246800-1771254000@stjameshydepark.org
SUMMARY:Knit + Craft + Chat (Wilks Room)
DESCRIPTION:A community of crafters and conversationalists meets Mondays from 1-3 pm (drop-in)—at St. James’ Episcopal Church in the Wilks Room of our Parish House. We are a friendly group: knitters\, embroiderers\, crocheters\, conversationalists and miscellaneous other activities. All are welcome; no previous skill is required.
URL:https://stjameshydepark.org/event/knit-craft-chat-2026/2026-02-16/
LOCATION:St. James’ Episcopal Church\, 4526 Albany Post Rd.\, Hyde Park\, NY\, 12538\, United States
CATEGORIES:Fun
ATTACH;FMTTYPE=image/png:https://stjameshydepark.org/wp-content/uploads/2024/09/Knit-Craft-Chat.png
END:VEVENT
BEGIN:VEVENT
DTSTART;TZID=America/New_York:20260217T173000
DTEND;TZID=America/New_York:20260217T190000
DTSTAMP:20260423T230551
CREATED:20260113T180908Z
LAST-MODIFIED:20260206T005721Z
UID:10007645-1771349400-1771354800@stjameshydepark.org
SUMMARY:Shrove Tuesday Pancake Supper and Burning of the Palms (Parish Hall)
DESCRIPTION:Join St. James’ for our annual Shrove Tuesday Pancake Supper in the parish hall on February 17 at 5:30 p.m. \nFeaturing: \n\nPancakes\, and pancake-decorating for kids!\nMother Meredith’s famous Wheel of Lenten Disciplines!\nKing cake!\nHelp decorate our Alleluia banner\, then “bury” it until Easter!\nPrayer service with burning of last year’s Palm Sunday palms to make this year’s Ash Wednesday ashes!\nAnd more!\n\nCome\, eat and be merry! \nBring a friend! \nThis event is totally free! ALL are welcome! Donations are gratefully accepted.
URL:https://stjameshydepark.org/event/shrove-tuesday-2026/
LOCATION:St. James’ Episcopal Church\, 4526 Albany Post Rd.\, Hyde Park\, NY\, 12538\, United States
CATEGORIES:Fun,Kids & Youth
ATTACH;FMTTYPE=image/png:https://stjameshydepark.org/wp-content/uploads/2026/01/Shrove-Tuesday-2026.png
END:VEVENT
BEGIN:VEVENT
DTSTART;TZID=America/New_York:20260217T190000
DTEND;TZID=America/New_York:20260217T203000
DTSTAMP:20260423T230551
CREATED:20260410T130119Z
LAST-MODIFIED:20260410T130329Z
UID:10007965-1771354800-1771360200@stjameshydepark.org
SUMMARY:Boy Scout Troop 80 (Parish Hall)
DESCRIPTION:
URL:https://stjameshydepark.org/event/boyr-scout-troop-80-parish-hall/2026-02-17/
LOCATION:St. James’ Episcopal Church\, 4526 Albany Post Rd.\, Hyde Park\, NY\, 12538\, United States
END:VEVENT
BEGIN:VEVENT
DTSTART;VALUE=DATE:20260218
DTEND;VALUE=DATE:20260219
DTSTAMP:20260423T230551
CREATED:20251104T151721Z
LAST-MODIFIED:20251104T151721Z
UID:10007121-1771372800-1771459199@stjameshydepark.org
SUMMARY:Fresh Manna Church Evening Prayer and Bible Study (Chapel and Reading Room)
DESCRIPTION:
URL:https://stjameshydepark.org/event/fresh-manna-church-evening-prayer-and-bible-study-chapel-and-reading-room/2026-02-18/
LOCATION:St. James’ Chapel\, 10 East Market Street\, Hyde Park\, NY\, 12567\, United States
END:VEVENT
BEGIN:VEVENT
DTSTART;TZID=America/New_York:20260218T073000
DTEND;TZID=America/New_York:20260218T200000
DTSTAMP:20260423T230551
CREATED:20260206T005402Z
LAST-MODIFIED:20260206T005545Z
UID:10007673-1771399800-1771444800@stjameshydepark.org
SUMMARY:Ash Wednesday—Services at noon and 7 pm + Ashes-to-Go and prayer in the parking lot 4:30-6 pm
DESCRIPTION:Ash Wednesday Services at St. James’ will be offered at 12 noon and 7 pm in the Church. \nAshes-to-Go with prayer will be available in the driveway in front of the Church from 4:30-6:00 pm (please carefully drive up to the red church doors).
URL:https://stjameshydepark.org/event/ash-weds-2026/
LOCATION:St. James’ Episcopal Church\, 4526 Albany Post Rd.\, Hyde Park\, NY\, 12538\, United States
CATEGORIES:Ash Wednesday,Lent,Outreach,Worship
ATTACH;FMTTYPE=image/png:https://stjameshydepark.org/wp-content/uploads/2026/02/Ash-Wednesday-2026.png
END:VEVENT
BEGIN:VEVENT
DTSTART;TZID=America/New_York:20260218T110000
DTEND;TZID=America/New_York:20260218T121500
DTSTAMP:20260423T230551
CREATED:20260206T005815Z
LAST-MODIFIED:20260206T005816Z
UID:10007497-1771412400-1771416900@stjameshydepark.org
SUMMARY:No Bible Study on Ash Wednesday
DESCRIPTION:
URL:https://stjameshydepark.org/event/bible-study-online-3/
LOCATION:St. James’ Episcopal Church\, 4526 Albany Post Rd.\, Hyde Park\, NY\, 12538\, United States
CATEGORIES:Christian Formation
END:VEVENT
BEGIN:VEVENT
DTSTART;TZID=America/New_York:20260218T120000
DTEND;TZID=America/New_York:20260218T130000
DTSTAMP:20260423T230551
CREATED:20260113T181032Z
LAST-MODIFIED:20260113T181328Z
UID:10007646-1771416000-1771419600@stjameshydepark.org
SUMMARY:Ash Wednesday Service
DESCRIPTION:
URL:https://stjameshydepark.org/event/ash-wednesday-services/2026-02-18/1/
LOCATION:St. James’ Episcopal Church\, 4526 Albany Post Rd.\, Hyde Park\, NY\, 12538\, United States
END:VEVENT
BEGIN:VEVENT
DTSTART;TZID=America/New_York:20260218T163000
DTEND;TZID=America/New_York:20260218T180000
DTSTAMP:20260423T230551
CREATED:20260113T181145Z
LAST-MODIFIED:20260113T181145Z
UID:10007648-1771432200-1771437600@stjameshydepark.org
SUMMARY:Ashes-to-Go
DESCRIPTION:
URL:https://stjameshydepark.org/event/ashes-to-go/
LOCATION:St. James’ Episcopal Church\, 4526 Albany Post Rd.\, Hyde Park\, NY\, 12538\, United States
END:VEVENT
BEGIN:VEVENT
DTSTART;TZID=America/New_York:20260218T183000
DTEND;TZID=America/New_York:20260218T190000
DTSTAMP:20260423T230551
CREATED:20260113T180519Z
LAST-MODIFIED:20260113T180519Z
UID:10007549-1771439400-1771441200@stjameshydepark.org
SUMMARY:Evening Prayer (Online)
DESCRIPTION:
URL:https://stjameshydepark.org/event/evening-prayer-online/2026-02-18/
LOCATION:St. James’ Episcopal Church\, 4526 Albany Post Rd.\, Hyde Park\, NY\, 12538\, United States
END:VEVENT
BEGIN:VEVENT
DTSTART;TZID=America/New_York:20260218T190000
DTEND;TZID=America/New_York:20260218T200000
DTSTAMP:20260423T230551
CREATED:20260113T181032Z
LAST-MODIFIED:20260113T181328Z
UID:10007647-1771441200-1771444800@stjameshydepark.org
SUMMARY:Ash Wednesday Service
DESCRIPTION:
URL:https://stjameshydepark.org/event/ash-wednesday-services/2026-02-18/2/
LOCATION:St. James’ Episcopal Church\, 4526 Albany Post Rd.\, Hyde Park\, NY\, 12538\, United States
END:VEVENT
BEGIN:VEVENT
DTSTART;TZID=America/New_York:20260219T180000
DTEND;TZID=America/New_York:20260219T203000
DTSTAMP:20260423T230551
CREATED:20260217T174606Z
LAST-MODIFIED:20260217T181300Z
UID:10007708-1771524000-1771533000@stjameshydepark.org
SUMMARY:Outreach Meeting (Wilks Room)
DESCRIPTION:
URL:https://stjameshydepark.org/event/outreach-meeting-wilks-room-3-2/
LOCATION:St. James’ Episcopal Church\, 4526 Albany Post Rd.\, Hyde Park\, NY\, 12538\, United States
END:VEVENT
BEGIN:VEVENT
DTSTART;TZID=America/New_York:20260221T160000
DTEND;TZID=America/New_York:20260222T113000
DTSTAMP:20260423T230551
CREATED:20260123T170633Z
LAST-MODIFIED:20260123T170633Z
UID:10007658-1771689600-1771759800@stjameshydepark.org
SUMMARY:Fresh Manna Church - New Year's Revival (Chapel)
DESCRIPTION:
URL:https://stjameshydepark.org/event/fresh-manna-church-new-years-revival-chapel/
LOCATION:St. James’ Chapel\, 10 East Market Street\, Hyde Park\, NY\, 12567\, United States
END:VEVENT
BEGIN:VEVENT
DTSTART;TZID=America/New_York:20260221T183000
DTEND;TZID=America/New_York:20260221T190000
DTSTAMP:20260423T230551
CREATED:20260113T180750Z
LAST-MODIFIED:20260113T180750Z
UID:10007600-1771698600-1771700400@stjameshydepark.org
SUMMARY:Compline (Online)
DESCRIPTION:
URL:https://stjameshydepark.org/event/compline-online/2026-02-21/
LOCATION:St. James’ Episcopal Church\, 4526 Albany Post Rd.\, Hyde Park\, NY\, 12538\, United States
END:VEVENT
BEGIN:VEVENT
DTSTART;TZID=America/New_York:20260222T080000
DTEND;TZID=America/New_York:20260222T090000
DTSTAMP:20260423T230551
CREATED:20241219T191649Z
LAST-MODIFIED:20250325T172434Z
UID:10004590-1771747200-1771750800@stjameshydepark.org
SUMMARY:Sunday Worship—Holy Eucharist\, Rite I
DESCRIPTION:Join us Sundays at 8:00 a.m. for a celebration of Holy Eucharist (Communion). This is a quiet service\, usually without music\, though we often have a soloist with acoustic guitar playing before and after the service. The service uses Rite 1 from the 1979 Book of Common Prayer\, with traditional language.
URL:https://stjameshydepark.org/event/sunday-8am-2025/2026-02-22/
LOCATION:St. James’ Episcopal Church\, 4526 Albany Post Rd.\, Hyde Park\, NY\, 12538\, United States
CATEGORIES:Worship
END:VEVENT
BEGIN:VEVENT
DTSTART;TZID=America/New_York:20260222T100000
DTEND;TZID=America/New_York:20260222T113000
DTSTAMP:20260423T230551
CREATED:20251220T015723Z
LAST-MODIFIED:20260402T145034Z
UID:10007291-1771754400-1771759800@stjameshydepark.org
SUMMARY:Sunday Worship—Holy Eucharist\, Rite II with Sunday School and Coffee Hour
DESCRIPTION:Join us Sundays at 10:00 a.m. for a celebration of Holy Eucharist (Communion). This service has music (usually organ and choir\, along with special guest musicians) and uses a variety of prayers and language from traditional to inclusive and expansive\, drawing from Rite II of the 1979 Book of Common Prayer\, Enriching Our Worship\, and other sources. \nCoffee hour in the Parish House usually follows this service. \nSunday School for kindergarten and up meets today on the second floor of the Parish House at 10:00 a.m. Students will rejoin the congregation just before Holy Communion. New to St. James’ Church? Your kids are welcome to Sunday School any Sunday. More details about St. James’ Sunday School at: https://stjameshydepark.org/for-children/
URL:https://stjameshydepark.org/event/sunday-worship-holy-eucharist-rite-ii-with-sunday-school-and-coffee-hour/2026-02-22/
LOCATION:St. James’ Episcopal Church\, 4526 Albany Post Rd.\, Hyde Park\, NY\, 12538\, United States
CATEGORIES:Worship
END:VEVENT
BEGIN:VEVENT
DTSTART;TZID=America/New_York:20260222T100000
DTEND;TZID=America/New_York:20260222T140000
DTSTAMP:20260423T230551
CREATED:20251104T151409Z
LAST-MODIFIED:20251209T150151Z
UID:10007096-1771754400-1771768800@stjameshydepark.org
SUMMARY:Fresh Manna Church (Chapel and Reading Room)
DESCRIPTION:
URL:https://stjameshydepark.org/event/fresh-manna-church-chapel-and-reading-room/2026-02-22/
LOCATION:St. James’ Chapel\, 10 East Market Street\, Hyde Park\, NY\, 12567\, United States
END:VEVENT
BEGIN:VEVENT
DTSTART;TZID=America/New_York:20260222T150000
DTEND;TZID=America/New_York:20260222T170000
DTSTAMP:20260423T230551
CREATED:20260115T183916Z
LAST-MODIFIED:20260221T190301Z
UID:10007240-1771772400-1771779600@stjameshydepark.org
SUMMARY:"Eleanor Roosevelt's Nightly Prayer" with author Donn Mitchell (MOVED ONLINE DUE TO WINTER STORM)
DESCRIPTION:Due to winter weather\, our event with Donn Mitchell\, author of Eleanor Roosevelt’s Nightly Prayer\, has been moved online. \nPlease join us on Sunday\, February 22 at 3 pm via Zoom or YouTube.\n(Those who wish to participate in Q&A should please use the Zoom option.) \n  \n\n\n  \nSt. James’ Episcopal Church and the Eleanor Roosevelt Center at Val-Kill welcome \nDonn Mitchell\nauthor of \nEleanor Roosevelt’s Nightly Prayer\n(new from Morehouse Publishing) \n\nReading\, Presentation\, and Q&A\nSunday\, February 22 at 3 pm\nOnline only due to winter storm. Please join us on Zoom or on St. James’ YouTube Channel. Those who wish to participate in the Q&A portion\, please use Zoom. \nReception and book-signing in the Parish Hall are canceled. \n\n\nAbout the Book\nEleanor Roosevelt’s Nightly Prayer uncovers how Eleanor Roosevelt’s faith—shaped in part at St. James’ Episcopal Church—served as a wellspring for her courage\, compassion\, and moral clarity. Her tireless work for racial equality\, refugee protection\, women’s and workers’ rights\, and the Universal Declaration of Human Rights all bear the imprint of a woman whose belief in justice was inseparable from her belief in God. \n“No account of the extraordinary life and achievements of Eleanor Roosevelt is complete without attention to the ways her deep Christian faith affected every aspect of her public and private life. Yet most of her biographers have followed the trend of political historians to minimize the role of religion in the lives of their subjects. Now\, thanks to this richly sourced spiritual biography by Donn Mitchell\, no one will be able to make that mistake again.”\n— Mary Ann Glendon\, Learned Hand Professor of Law at Harvard Law School; author of A World Made New: Eleanor Roosevelt and the Universal Declaration of Human Rights; Former U.S. Ambassador to the Holy See\n\n\nAbout the Author\nDonn Mitchell currently teaches at Fordham University. His work has appeared in the Christian Century\, the Living Church\, and the Anglican Theological Review. He is the author of Tread the City’s Streets Again: Frances Perkins Shares Her Theology. He has previously taught at Manhattan College\, the General Theological Seminary\, and Princeton Theological Seminary.
URL:https://stjameshydepark.org/event/eleanor-roosevelt-nightly-prayer/
LOCATION:St. James’ Episcopal Church\, 4526 Albany Post Rd.\, Hyde Park\, NY\, 12538\, United States
CATEGORIES:Christian Formation,Outreach
ATTACH;FMTTYPE=image/png:https://stjameshydepark.org/wp-content/uploads/2026/02/Eleanor-Roosevelts-Nightly-Prayer-Book-Event-moved-online.png
END:VEVENT
BEGIN:VEVENT
DTSTART;TZID=America/New_York:20260222T183000
DTEND;TZID=America/New_York:20260222T210000
DTSTAMP:20260423T230551
CREATED:20260410T125621Z
LAST-MODIFIED:20260410T125621Z
UID:10007914-1771785000-1771794000@stjameshydepark.org
SUMMARY:Hyde Park Group AA (Parish Hall\, Rm. 201)
DESCRIPTION:
URL:https://stjameshydepark.org/event/hyde-park-group-aa-parish-hall-rm-201-2/2026-02-22/
LOCATION:St. James’ Episcopal Church\, 4526 Albany Post Rd.\, Hyde Park\, NY\, 12538\, United States
END:VEVENT
BEGIN:VEVENT
DTSTART;TZID=America/New_York:20260223T130000
DTEND;TZID=America/New_York:20260223T150000
DTSTAMP:20260423T230551
CREATED:20260113T175431Z
LAST-MODIFIED:20260123T215934Z
UID:10007447-1771851600-1771858800@stjameshydepark.org
SUMMARY:Knit + Craft + Chat (Wilks Room)
DESCRIPTION:A community of crafters and conversationalists meets Mondays from 1-3 pm (drop-in)—at St. James’ Episcopal Church in the Wilks Room of our Parish House. We are a friendly group: knitters\, embroiderers\, crocheters\, conversationalists and miscellaneous other activities. All are welcome; no previous skill is required.
URL:https://stjameshydepark.org/event/knit-craft-chat-2026/2026-02-23/
LOCATION:St. James’ Episcopal Church\, 4526 Albany Post Rd.\, Hyde Park\, NY\, 12538\, United States
CATEGORIES:Fun
ATTACH;FMTTYPE=image/png:https://stjameshydepark.org/wp-content/uploads/2024/09/Knit-Craft-Chat.png
END:VEVENT
BEGIN:VEVENT
DTSTART;TZID=America/New_York:20260224T080000
DTEND;TZID=America/New_York:20260224T100000
DTSTAMP:20260423T230551
CREATED:20260220T170428Z
LAST-MODIFIED:20260220T170428Z
UID:10007730-1771920000-1771927200@stjameshydepark.org
SUMMARY:Johnson Controls Fire Extinguisher Inspections (all buildings)
DESCRIPTION:
URL:https://stjameshydepark.org/event/johnson-controls-fire-extinguisher-inspections-all-buildings-2/
LOCATION:St. James’ Episcopal Church\, 4526 Albany Post Rd.\, Hyde Park\, NY\, 12538\, United States
END:VEVENT
BEGIN:VEVENT
DTSTART;TZID=America/New_York:20260224T190000
DTEND;TZID=America/New_York:20260224T203000
DTSTAMP:20260423T230551
CREATED:20260410T130119Z
LAST-MODIFIED:20260410T130329Z
UID:10007966-1771959600-1771965000@stjameshydepark.org
SUMMARY:Boy Scout Troop 80 (Parish Hall)
DESCRIPTION:
URL:https://stjameshydepark.org/event/boyr-scout-troop-80-parish-hall/2026-02-24/
LOCATION:St. James’ Episcopal Church\, 4526 Albany Post Rd.\, Hyde Park\, NY\, 12538\, United States
END:VEVENT
END:VCALENDAR