BEGIN:VCALENDAR
VERSION:2.0
PRODID:-//St. James&#039; Episcopal Church - ECPv6.15.20//NONSGML v1.0//EN
CALSCALE:GREGORIAN
METHOD:PUBLISH
X-ORIGINAL-URL:https://stjameshydepark.org
X-WR-CALDESC:Events for St. James&#039; Episcopal Church
REFRESH-INTERVAL;VALUE=DURATION:PT1H
X-Robots-Tag:noindex
X-PUBLISHED-TTL:PT1H
BEGIN:VTIMEZONE
TZID:America/New_York
BEGIN:DAYLIGHT
TZOFFSETFROM:-0500
TZOFFSETTO:-0400
TZNAME:EDT
DTSTART:20240310T070000
END:DAYLIGHT
BEGIN:STANDARD
TZOFFSETFROM:-0400
TZOFFSETTO:-0500
TZNAME:EST
DTSTART:20241103T060000
END:STANDARD
BEGIN:DAYLIGHT
TZOFFSETFROM:-0500
TZOFFSETTO:-0400
TZNAME:EDT
DTSTART:20250309T070000
END:DAYLIGHT
BEGIN:STANDARD
TZOFFSETFROM:-0400
TZOFFSETTO:-0500
TZNAME:EST
DTSTART:20251102T060000
END:STANDARD
BEGIN:DAYLIGHT
TZOFFSETFROM:-0500
TZOFFSETTO:-0400
TZNAME:EDT
DTSTART:20260308T070000
END:DAYLIGHT
BEGIN:STANDARD
TZOFFSETFROM:-0400
TZOFFSETTO:-0500
TZNAME:EST
DTSTART:20261101T060000
END:STANDARD
END:VTIMEZONE
BEGIN:VEVENT
DTSTART;VALUE=DATE:20250618
DTEND;VALUE=DATE:20250619
DTSTAMP:20260424T113841
CREATED:20250612T150405Z
LAST-MODIFIED:20250612T150405Z
UID:10006595-1750204800-1750291199@stjameshydepark.org
SUMMARY:Doyle Fire Alarm Testing (Parish Hall)
DESCRIPTION:
URL:https://stjameshydepark.org/event/doyle-fire-alarm-testing-parish-hall/
LOCATION:St. James’ Episcopal Church\, 4526 Albany Post Rd.\, Hyde Park\, NY\, 12538\, United States
END:VEVENT
BEGIN:VEVENT
DTSTART;TZID=America/New_York:20250618T110000
DTEND;TZID=America/New_York:20250618T121500
DTSTAMP:20260424T113841
CREATED:20241120T172057Z
LAST-MODIFIED:20250424T151851Z
UID:10006343-1750244400-1750248900@stjameshydepark.org
SUMMARY:Bible Study (Online)
DESCRIPTION:Our weekly Bible study on Zoom usually focuses on the Gospel for the upcoming Sunday and is led by Mtr. Meredith. We practice a contemplative\, prayerful style of Bible study that focuses on how God is speaking to us through our questions\, responses\, curiosities and doubts as we engage Scripture.  \nThe study is followed by a brief\, optional service of noonday prayer. \nJoin in any Wednesday at 11 am. No previous preparation is required. The Zoom link is distributed via our weekly email newsletter (or contact the parish office).
URL:https://stjameshydepark.org/event/bible-study-2025/2025-06-18/
LOCATION:Online
CATEGORIES:Christian Formation
END:VEVENT
BEGIN:VEVENT
DTSTART;TZID=America/New_York:20250618T183000
DTEND;TZID=America/New_York:20250618T190000
DTSTAMP:20260424T113841
CREATED:20241219T190934Z
LAST-MODIFIED:20241219T190934Z
UID:10004338-1750271400-1750273200@stjameshydepark.org
SUMMARY:Evening Prayer (Online)
DESCRIPTION:Join us online every Wednesday at 6:30 pm for a brief service of Evening Prayer led by Deacon Gail. Please email the parish office at stjames.hydepark@gmail.com to request the Zoom link.
URL:https://stjameshydepark.org/event/evening-prayer-2025/2025-06-18/
LOCATION:Online
CATEGORIES:Worship
END:VEVENT
BEGIN:VEVENT
DTSTART;TZID=America/New_York:20250618T183000
DTEND;TZID=America/New_York:20250618T200000
DTSTAMP:20260424T113841
CREATED:20250411T154808Z
LAST-MODIFIED:20251205T133526Z
UID:10006232-1750271400-1750276800@stjameshydepark.org
SUMMARY:Outreach Meeting (Wilks Room)
DESCRIPTION:
URL:https://stjameshydepark.org/event/outreach-meeting-wilks-room-2-2/2025-06-18/
LOCATION:St. James’ Episcopal Church\, 4526 Albany Post Rd.\, Hyde Park\, NY\, 12538\, United States
CATEGORIES:Outreach
END:VEVENT
BEGIN:VEVENT
DTSTART;TZID=America/New_York:20250618T190000
DTEND;TZID=America/New_York:20250618T200000
DTSTAMP:20260424T113841
CREATED:20250603T175439Z
LAST-MODIFIED:20250603T175439Z
UID:10006572-1750273200-1750276800@stjameshydepark.org
SUMMARY:Legacy Project Kick-off Meeting (Parish Hall)
DESCRIPTION:
URL:https://stjameshydepark.org/event/legacy-project-kick-off-meeting-parish-hall/
LOCATION:St. James’ Episcopal Church\, 4526 Albany Post Rd.\, Hyde Park\, NY\, 12538\, United States
END:VEVENT
BEGIN:VEVENT
DTSTART;TZID=America/New_York:20250619T180000
DTEND;TZID=America/New_York:20250619T193000
DTSTAMP:20260424T113841
CREATED:20250411T150516Z
LAST-MODIFIED:20250509T201121Z
UID:10006481-1750356000-1750361400@stjameshydepark.org
SUMMARY:Episcopal 101 (Wilks Room & Parish Hall)
DESCRIPTION:Discover (or rediscover) our faith life together in The Episcopal Church! \nThe course will meet in the Parish Hall every Thursday from 6-7:30 pm through June 19th. You can attend the whole series or pop in on a given week. Light supper is provided. If you’re popping in\, please RSVP to Mtr. Meredith and note any dietary restrictions. You can also get a copy of that week’s reading from her in advance. \n5/8—Welcome to the Episcopal Church\, this is who we are! \n5/15—The Bible\, and How and Why We Read It\n5/22—God and God’s People (Theology)\n5/29—Baptism and Christian Life\n6/5—History\n6/12—Eucharist and Worship\n6/19—Prayer and Practice \nRemember this is open to everyone\, from newcomers to longtime members. New members who complete this course have the option to be formally welcomed in the fall when we celebrate our patronal feast day\, St. James’ of Jerusalem\, and also to be confirmed or received as an Episcopalian on the bishop’s next visit!
URL:https://stjameshydepark.org/event/episcopal-101-spring-2025/2025-06-19/
LOCATION:St. James’ Episcopal Church\, 4526 Albany Post Rd.\, Hyde Park\, NY\, 12538\, United States
CATEGORIES:Christian Formation
END:VEVENT
BEGIN:VEVENT
DTSTART;TZID=America/New_York:20250619T183000
DTEND;TZID=America/New_York:20250619T210000
DTSTAMP:20260424T113841
CREATED:20250508T132153Z
LAST-MODIFIED:20250508T132153Z
UID:10006556-1750357800-1750366800@stjameshydepark.org
SUMMARY:Rehearsal for Quintet Concert (Parish Hall)
DESCRIPTION:
URL:https://stjameshydepark.org/event/rehearsal-for-quintet-concert-parish-hall/
LOCATION:St. James’ Episcopal Church\, 4526 Albany Post Rd.\, Hyde Park\, NY\, 12538\, United States
END:VEVENT
BEGIN:VEVENT
DTSTART;TZID=America/New_York:20250620T173000
DTEND;TZID=America/New_York:20250620T190000
DTSTAMP:20260424T113841
CREATED:20250522T131733Z
LAST-MODIFIED:20250617T154721Z
UID:10006563-1750440600-1750446000@stjameshydepark.org
SUMMARY:Youth Confirmation Class (hosted by St. Paul's\, Pleasant Valley in June))
DESCRIPTION:This monthly series for youth age 11-15 explores the basics of our Christian faith as expressed in The Episcopal Church. Candidates who complete the course will be ready for Confirmation—a rite where we express a mature commitment to Christ\, and receive strength from the Holy Spirit by prayer and the laying on of hands by a bishop. Youth who are already confirmed are welcome to join us and share their faith! \nYouth from four churches are participating: St. James’ in Hyde Park\, St. Paul’s in Pleasant Valley\, St. Margaret’s in Staatsburg\, and St. Paul’s in Poughkeepsie. Instructors are the Rev. Heather K. Sisk (St. Paul’s\, Pleasant Valley) and the Rev. Meredith Kadet Sanderson (St. James’ Hyde Park). We’re using the J2A (Journey to Adulthood) curriculum.\n \nFriday nights 5:30 – 7 pm\nPizza\, conversation\, activities\, and prayer \nWe will be alternating between St. Paul’s\, Pleasant Valley\, St. James\, Hyde Park\, and St. Paul’s\, Poughkeepsie (and we are willing to go to other churches if kids would like to host us at their home church)… \nSchedule for first part of 2025\nDecember 20th (meets in Pleasant Valley\, St. Paul’s Church\, 808 Traver Road)\nJanuary 24th (meets in Hyde Park)\nFebruary 28 (meets in Poughkeepsie\, St. Paul’s Church\, 161 Mansion Street)\nMarch 28th (meets in Pleasant Valley\, St. Paul’s Church\, 808 Traver Road)\n(NO APRIL)\n(NO MAY)\nJune 20th (meets in Pleasant Valley\, St. Paul’s Church\, 808 Traver Road)\nEnjoy the summer! 
URL:https://stjameshydepark.org/event/youth-confirmation-class-june-2025/
LOCATION:St. James’ Episcopal Church\, 4526 Albany Post Rd.\, Hyde Park\, NY\, 12538\, United States
CATEGORIES:Christian Formation,Kids & Youth
END:VEVENT
BEGIN:VEVENT
DTSTART;TZID=America/New_York:20250621T090000
DTEND;TZID=America/New_York:20250621T110000
DTSTAMP:20260424T113841
CREATED:20250604T181622Z
LAST-MODIFIED:20250604T181817Z
UID:10006582-1750496400-1750503600@stjameshydepark.org
SUMMARY:H.P. Community Garden Pie Pickups (Chapel - Reading Room)
DESCRIPTION:
URL:https://stjameshydepark.org/event/h-p-community-garden-pie-pickups-chapel-reading-room/2025-06-21/
LOCATION:St. James’ Chapel\, 10 East Market Street\, Hyde Park\, NY\, 12567\, United States
END:VEVENT
BEGIN:VEVENT
DTSTART;TZID=America/New_York:20250621T100000
DTEND;TZID=America/New_York:20250621T120000
DTSTAMP:20260424T113841
CREATED:20250613T152548Z
LAST-MODIFIED:20250613T152614Z
UID:10006662-1750500000-1750507200@stjameshydepark.org
SUMMARY:Garden Committee ~ Gardening at the Chapel
DESCRIPTION:St. James’ Garden Committee members meet at the Chapel for garden maintenance at 10 am on the third Saturday of each month. Breakfast treats are provided. All are welcome!
URL:https://stjameshydepark.org/event/garden-committee-chapel/2025-06-21/
LOCATION:St. James’ Chapel\, 10 East Market Street\, Hyde Park\, NY\, 12567\, United States
CATEGORIES:Fun
END:VEVENT
BEGIN:VEVENT
DTSTART;TZID=America/New_York:20250621T160000
DTEND;TZID=America/New_York:20250621T180000
DTSTAMP:20260424T113841
CREATED:20250107T212102Z
LAST-MODIFIED:20251107T134209Z
UID:10007145-1750521600-1750528800@stjameshydepark.org
SUMMARY:Finance Committee Meeting (Wilks Room)
DESCRIPTION:
URL:https://stjameshydepark.org/event/finance-committee-2025/2025-06-21/
LOCATION:St. James’ Episcopal Church\, 4526 Albany Post Rd.\, Hyde Park\, NY\, 12538\, United States
CATEGORIES:Governance
END:VEVENT
BEGIN:VEVENT
DTSTART;TZID=America/New_York:20250621T183000
DTEND;TZID=America/New_York:20250621T190000
DTSTAMP:20260424T113841
CREATED:20241219T191054Z
LAST-MODIFIED:20241219T191054Z
UID:10004391-1750530600-1750532400@stjameshydepark.org
SUMMARY:Compline (Online)
DESCRIPTION:Join us online every Saturday at 6:30 pm for a brief service of Compline (Night Prayer) facilitated by Deacon Gail. Please email the parish office at stjames.hydepark@gmail.com to request the Zoom link.
URL:https://stjameshydepark.org/event/compline-2025/2025-06-21/
LOCATION:Online
CATEGORIES:Worship
END:VEVENT
BEGIN:VEVENT
DTSTART;TZID=America/New_York:20250621T190000
DTEND;TZID=America/New_York:20250621T210000
DTSTAMP:20260424T113841
CREATED:20250429T153115Z
LAST-MODIFIED:20250613T151546Z
UID:10006550-1750532400-1750539600@stjameshydepark.org
SUMMARY:Hyde Park Chamber Ensemble Concert
DESCRIPTION:Enjoy a delightful evening of music in our Parish Hall with the Hyde Park Chamber Ensemble\, a woodwind quintet featuring our own Russell Urban-Mead on clarinet. Proceeds will benefit upcoming improvements to our Parish House\, including creation of a handicap-accessible bathroom.
URL:https://stjameshydepark.org/event/quintet-concert/
LOCATION:St. James’ Episcopal Church\, 4526 Albany Post Rd.\, Hyde Park\, NY\, 12538\, United States
ATTACH;FMTTYPE=image/jpeg:https://stjameshydepark.org/wp-content/uploads/2025/06/Flier-HPCE-2025-06-21HP-Chamber-Ensemble-at-St-James-EC-scaled.jpg
END:VEVENT
BEGIN:VEVENT
DTSTART;TZID=America/New_York:20250622T080000
DTEND;TZID=America/New_York:20250622T090000
DTSTAMP:20260424T113841
CREATED:20241219T191649Z
LAST-MODIFIED:20250325T172434Z
UID:10004555-1750579200-1750582800@stjameshydepark.org
SUMMARY:Sunday Worship—Holy Eucharist\, Rite I
DESCRIPTION:Join us Sundays at 8:00 a.m. for a celebration of Holy Eucharist (Communion). This is a quiet service\, usually without music\, though we often have a soloist with acoustic guitar playing before and after the service. The service uses Rite 1 from the 1979 Book of Common Prayer\, with traditional language.
URL:https://stjameshydepark.org/event/sunday-8am-2025/2025-06-22/
LOCATION:St. James’ Episcopal Church\, 4526 Albany Post Rd.\, Hyde Park\, NY\, 12538\, United States
CATEGORIES:Worship
END:VEVENT
BEGIN:VEVENT
DTSTART;TZID=America/New_York:20250622T100000
DTEND;TZID=America/New_York:20250622T113000
DTSTAMP:20260424T113841
CREATED:20241219T191432Z
LAST-MODIFIED:20251209T135212Z
UID:10004503-1750586400-1750591800@stjameshydepark.org
SUMMARY:Sunday Worship—Holy Eucharist\, Rite II with Sunday School and Coffee Hour
DESCRIPTION:Join us Sundays at 10:00 a.m. for a celebration of Holy Eucharist (Communion). This service has music (usually organ and choir\, along with special guest musicians) and uses a variety of prayers and language from traditional to inclusive and expansive\, drawing from Rite II of the 1979 Book of Common Prayer\, Enriching Our Worship\, and other sources. \nCoffee hour in the Parish House usually follows this service. \nSunday School for kindergarten and up meets today on the second floor of the Parish House at 10:00 a.m. Students will rejoin the congregation just before Holy Communion. New to St. James’ Church? Your kids are welcome to Sunday School any Sunday. More details about St. James’ Sunday School at: https://stjameshydepark.org/for-children/
URL:https://stjameshydepark.org/event/sunday-10am-2025/2025-06-22/
LOCATION:St. James’ Episcopal Church\, 4526 Albany Post Rd.\, Hyde Park\, NY\, 12538\, United States
CATEGORIES:Worship
END:VEVENT
BEGIN:VEVENT
DTSTART;TZID=America/New_York:20250622T183000
DTEND;TZID=America/New_York:20250622T210000
DTSTAMP:20260424T113841
CREATED:20250107T185818Z
LAST-MODIFIED:20250107T190058Z
UID:10005969-1750617000-1750626000@stjameshydepark.org
SUMMARY:Hyde Park Group AA (Parish Hall\, Rm. 201)
DESCRIPTION:
URL:https://stjameshydepark.org/event/hyde-park-group-aa-parish-hall-rm-201/2025-06-22/
LOCATION:St. James’ Episcopal Church\, 4526 Albany Post Rd.\, Hyde Park\, NY\, 12538\, United States
END:VEVENT
BEGIN:VEVENT
DTSTART;TZID=America/New_York:20250623T133000
DTEND;TZID=America/New_York:20250623T153000
DTSTAMP:20260424T113841
CREATED:20241110T012408Z
LAST-MODIFIED:20250708T131754Z
UID:10006866-1750685400-1750692600@stjameshydepark.org
SUMMARY:Knit+Craft+Chat (Wilks Room)
DESCRIPTION:A community of crafters and conversationalists meets Mondays from 2-4 pm (drop-in) at St. James’ Episcopal Church in the Wilks Room of our Parish House. We are a friendly group: knitters\, embroiderers\, crocheters\, conversationalists and miscellaneous other activities. All are welcome; no previous skill is required.
URL:https://stjameshydepark.org/event/knit-craft-chat-2/2025-06-23/
LOCATION:St. James’ Episcopal Church\, 4526 Albany Post Rd.\, Hyde Park\, NY\, 12538\, United States
END:VEVENT
BEGIN:VEVENT
DTSTART;TZID=America/New_York:20250623T180000
DTEND;TZID=America/New_York:20250623T200000
DTSTAMP:20260424T113841
CREATED:20250612T163440Z
LAST-MODIFIED:20250612T163440Z
UID:10006598-1750701600-1750708800@stjameshydepark.org
SUMMARY:Men's Dinner (Antonella's)
DESCRIPTION:
URL:https://stjameshydepark.org/event/mens-dinner-antonellas/
LOCATION:Antonella’s Restaurant\, Hyde Park\, NY\, 4246 Albany Post Rd #1700\, Hyde Park\, NY\, 12538\, United States
END:VEVENT
BEGIN:VEVENT
DTSTART;TZID=America/New_York:20250624T100000
DTEND;TZID=America/New_York:20250624T110000
DTSTAMP:20260424T113841
CREATED:20250603T133110Z
LAST-MODIFIED:20250603T133110Z
UID:10006570-1750759200-1750762800@stjameshydepark.org
SUMMARY:Organ Lessons (Church)
DESCRIPTION:
URL:https://stjameshydepark.org/event/organ-lessons-church/2025-06-24/
LOCATION:St. James’ Episcopal Church\, 4526 Albany Post Rd.\, Hyde Park\, NY\, 12538\, United States
END:VEVENT
BEGIN:VEVENT
DTSTART;TZID=America/New_York:20250624T190000
DTEND;TZID=America/New_York:20250624T203000
DTSTAMP:20260424T113841
CREATED:20250107T190949Z
LAST-MODIFIED:20250107T190949Z
UID:10006022-1750791600-1750797000@stjameshydepark.org
SUMMARY:Boy Scout Troop 80 (Parish Hall)
DESCRIPTION:
URL:https://stjameshydepark.org/event/boy-scout-troop-80-parish-hall/2025-06-24/
LOCATION:St. James’ Episcopal Church\, 4526 Albany Post Rd.\, Hyde Park\, NY\, 12538\, United States
END:VEVENT
BEGIN:VEVENT
DTSTART;TZID=America/New_York:20250625T110000
DTEND;TZID=America/New_York:20250625T121500
DTSTAMP:20260424T113841
CREATED:20241120T172057Z
LAST-MODIFIED:20250424T151851Z
UID:10006344-1750849200-1750853700@stjameshydepark.org
SUMMARY:Bible Study (Online)
DESCRIPTION:Our weekly Bible study on Zoom usually focuses on the Gospel for the upcoming Sunday and is led by Mtr. Meredith. We practice a contemplative\, prayerful style of Bible study that focuses on how God is speaking to us through our questions\, responses\, curiosities and doubts as we engage Scripture.  \nThe study is followed by a brief\, optional service of noonday prayer. \nJoin in any Wednesday at 11 am. No previous preparation is required. The Zoom link is distributed via our weekly email newsletter (or contact the parish office).
URL:https://stjameshydepark.org/event/bible-study-2025/2025-06-25/
LOCATION:Online
CATEGORIES:Christian Formation
END:VEVENT
BEGIN:VEVENT
DTSTART;TZID=America/New_York:20250625T183000
DTEND;TZID=America/New_York:20250625T190000
DTSTAMP:20260424T113841
CREATED:20241219T190934Z
LAST-MODIFIED:20241219T190934Z
UID:10004339-1750876200-1750878000@stjameshydepark.org
SUMMARY:Evening Prayer (Online)
DESCRIPTION:Join us online every Wednesday at 6:30 pm for a brief service of Evening Prayer led by Deacon Gail. Please email the parish office at stjames.hydepark@gmail.com to request the Zoom link.
URL:https://stjameshydepark.org/event/evening-prayer-2025/2025-06-25/
LOCATION:Online
CATEGORIES:Worship
END:VEVENT
BEGIN:VEVENT
DTSTART;TZID=America/New_York:20250625T190000
DTEND;TZID=America/New_York:20250625T210000
DTSTAMP:20260424T113841
CREATED:20250110T161004Z
LAST-MODIFIED:20251106T213047Z
UID:10006241-1750878000-1750885200@stjameshydepark.org
SUMMARY:Vestry Meeting (Wilks Room)
DESCRIPTION:The Vestry meets on the 4th Wednesday of the month at 7 pm in the Wilks Room (exceptions noted). 2025 meeting dates are:  \nJanuary 22 \nSunday\, January 26—Annual Meeting (following 9 am worship) \nFebruary 26 \nMarch 26 \nApril 30th (5th Wednesday) \nMay 28 \nJune 25 \nJuly 23 \nNo meeting in August \nSeptember 24 \nOctober 22 \nNovember 19 \nDecember 17th (3rd Wednesday) \nJanuary 21\, 2026 (3rd Wednesday) \nJanuary 26\, 2026—Annual Meeting
URL:https://stjameshydepark.org/event/vestry-meetings-2025/2025-06-25/
LOCATION:St. James’ Episcopal Church\, 4526 Albany Post Rd.\, Hyde Park\, NY\, 12538\, United States
CATEGORIES:Governance
END:VEVENT
BEGIN:VEVENT
DTSTART;TZID=America/New_York:20250626T183000
DTEND;TZID=America/New_York:20250626T203000
DTSTAMP:20260424T113841
CREATED:20250626T213023Z
LAST-MODIFIED:20250626T213025Z
UID:10006600-1750962600-1750969800@stjameshydepark.org
SUMMARY:[6/26 Canceled] ~ See you next week\, 7/3\, for Summer Hangs @ St. James'
DESCRIPTION:On Thursday evenings from about 6:30 pm\, starting on June 26th\, come by to hang out on the church front lawn—no agenda\, just good company. \nYou might bring a chair or blanket\, a game\, or snack or drink to share. You could bring a book or a craft! The church will be open for prayer and air-conditioning (and the restroom).
URL:https://stjameshydepark.org/event/summer-hangs-2025-2/
LOCATION:St. James’ Episcopal Church\, 4526 Albany Post Rd.\, Hyde Park\, NY\, 12538\, United States
CATEGORIES:Fun
ATTACH;FMTTYPE=image/png:https://stjameshydepark.org/wp-content/uploads/2025/06/Summer-Hangs.png
END:VEVENT
BEGIN:VEVENT
DTSTART;TZID=America/New_York:20250628T100000
DTEND;TZID=America/New_York:20250628T140000
DTSTAMP:20260424T113841
CREATED:20250612T122411Z
LAST-MODIFIED:20250612T122411Z
UID:10006593-1751104800-1751119200@stjameshydepark.org
SUMMARY:Rain Date for Birthday Party (Parish Hall)
DESCRIPTION:
URL:https://stjameshydepark.org/event/rain-date-for-birthday-party-parish-hall/
LOCATION:St. James’ Episcopal Church\, 4526 Albany Post Rd.\, Hyde Park\, NY\, 12538\, United States
END:VEVENT
BEGIN:VEVENT
DTSTART;TZID=America/New_York:20250628T173000
DTEND;TZID=America/New_York:20250628T200000
DTSTAMP:20260424T113841
CREATED:20250606T162129Z
LAST-MODIFIED:20250613T155027Z
UID:10006589-1751131800-1751140800@stjameshydepark.org
SUMMARY:St. James' @ Kingston Stockade Soccer!
DESCRIPTION:Come join the St. James’ cheering section for our Kingston Stockade Division 4 soccer team!\nEnjoy a fun evening with St. James’ friends on Saturday nights at 6 pm at Dietz Stadium in Kingston. What could be better on a summer evening than friendly conversation\, kids running around\, food trucks\, and an occasional goal to celebrate! \nSAT JUNE 7 6 PM vs LIGHTHOUSE SC\nSAT JUNE 28 6 PM vs ATLANTIC CITY FC\nSAT JULY 12 6 PM vs BRAVEHEART SC \nMany St. James’ members & friends have enjoyed attending these games recently. \nTickets are $11/adults and $6/children ages 3-12. We have found that arriving about a half hour before the game start time provides a head start on the food truck lines. You are welcome to bring water bottles and snacks. Details on games at stockadefc.com. No RSVP needed\, but if you’d like to coordinate\, text or call Russell Urban-Mead at 914-456-1095.
URL:https://stjameshydepark.org/event/stockade-2025/2025-06-28/
LOCATION:NY
CATEGORIES:Fun
END:VEVENT
BEGIN:VEVENT
DTSTART;TZID=America/New_York:20250628T183000
DTEND;TZID=America/New_York:20250628T190000
DTSTAMP:20260424T113841
CREATED:20241219T191054Z
LAST-MODIFIED:20241219T191054Z
UID:10004392-1751135400-1751137200@stjameshydepark.org
SUMMARY:Compline (Online)
DESCRIPTION:Join us online every Saturday at 6:30 pm for a brief service of Compline (Night Prayer) facilitated by Deacon Gail. Please email the parish office at stjames.hydepark@gmail.com to request the Zoom link.
URL:https://stjameshydepark.org/event/compline-2025/2025-06-28/
LOCATION:Online
CATEGORIES:Worship
END:VEVENT
BEGIN:VEVENT
DTSTART;TZID=America/New_York:20250629T080000
DTEND;TZID=America/New_York:20250629T090000
DTSTAMP:20260424T113841
CREATED:20241219T191649Z
LAST-MODIFIED:20250325T172434Z
UID:10004556-1751184000-1751187600@stjameshydepark.org
SUMMARY:Sunday Worship—Holy Eucharist\, Rite I
DESCRIPTION:Join us Sundays at 8:00 a.m. for a celebration of Holy Eucharist (Communion). This is a quiet service\, usually without music\, though we often have a soloist with acoustic guitar playing before and after the service. The service uses Rite 1 from the 1979 Book of Common Prayer\, with traditional language.
URL:https://stjameshydepark.org/event/sunday-8am-2025/2025-06-29/
LOCATION:St. James’ Episcopal Church\, 4526 Albany Post Rd.\, Hyde Park\, NY\, 12538\, United States
CATEGORIES:Worship
END:VEVENT
BEGIN:VEVENT
DTSTART;TZID=America/New_York:20250629T100000
DTEND;TZID=America/New_York:20250629T113000
DTSTAMP:20260424T113841
CREATED:20241219T191432Z
LAST-MODIFIED:20251209T135212Z
UID:10004504-1751191200-1751196600@stjameshydepark.org
SUMMARY:Sunday Worship—Holy Eucharist\, Rite II with Sunday School and Coffee Hour
DESCRIPTION:Join us Sundays at 10:00 a.m. for a celebration of Holy Eucharist (Communion). This service has music (usually organ and choir\, along with special guest musicians) and uses a variety of prayers and language from traditional to inclusive and expansive\, drawing from Rite II of the 1979 Book of Common Prayer\, Enriching Our Worship\, and other sources. \nCoffee hour in the Parish House usually follows this service. \nSunday School for kindergarten and up meets today on the second floor of the Parish House at 10:00 a.m. Students will rejoin the congregation just before Holy Communion. New to St. James’ Church? Your kids are welcome to Sunday School any Sunday. More details about St. James’ Sunday School at: https://stjameshydepark.org/for-children/
URL:https://stjameshydepark.org/event/sunday-10am-2025/2025-06-29/
LOCATION:St. James’ Episcopal Church\, 4526 Albany Post Rd.\, Hyde Park\, NY\, 12538\, United States
CATEGORIES:Worship
END:VEVENT
BEGIN:VEVENT
DTSTART;TZID=America/New_York:20250629T183000
DTEND;TZID=America/New_York:20250629T210000
DTSTAMP:20260424T113841
CREATED:20250107T185818Z
LAST-MODIFIED:20250107T190058Z
UID:10005970-1751221800-1751230800@stjameshydepark.org
SUMMARY:Hyde Park Group AA (Parish Hall\, Rm. 201)
DESCRIPTION:
URL:https://stjameshydepark.org/event/hyde-park-group-aa-parish-hall-rm-201/2025-06-29/
LOCATION:St. James’ Episcopal Church\, 4526 Albany Post Rd.\, Hyde Park\, NY\, 12538\, United States
END:VEVENT
END:VCALENDAR