BEGIN:VCALENDAR
VERSION:2.0
PRODID:-//St. James&#039; Episcopal Church - ECPv6.15.20//NONSGML v1.0//EN
CALSCALE:GREGORIAN
METHOD:PUBLISH
X-ORIGINAL-URL:https://stjameshydepark.org
X-WR-CALDESC:Events for St. James&#039; Episcopal Church
REFRESH-INTERVAL;VALUE=DURATION:PT1H
X-Robots-Tag:noindex
X-PUBLISHED-TTL:PT1H
BEGIN:VTIMEZONE
TZID:America/New_York
BEGIN:DAYLIGHT
TZOFFSETFROM:-0500
TZOFFSETTO:-0400
TZNAME:EDT
DTSTART:20230312T070000
END:DAYLIGHT
BEGIN:STANDARD
TZOFFSETFROM:-0400
TZOFFSETTO:-0500
TZNAME:EST
DTSTART:20231105T060000
END:STANDARD
BEGIN:DAYLIGHT
TZOFFSETFROM:-0500
TZOFFSETTO:-0400
TZNAME:EDT
DTSTART:20240310T070000
END:DAYLIGHT
BEGIN:STANDARD
TZOFFSETFROM:-0400
TZOFFSETTO:-0500
TZNAME:EST
DTSTART:20241103T060000
END:STANDARD
BEGIN:DAYLIGHT
TZOFFSETFROM:-0500
TZOFFSETTO:-0400
TZNAME:EDT
DTSTART:20250309T070000
END:DAYLIGHT
BEGIN:STANDARD
TZOFFSETFROM:-0400
TZOFFSETTO:-0500
TZNAME:EST
DTSTART:20251102T060000
END:STANDARD
END:VTIMEZONE
BEGIN:VEVENT
DTSTART;TZID=America/New_York:20240528T190000
DTEND;TZID=America/New_York:20240528T200000
DTSTAMP:20260425T075328
CREATED:20240112T173633Z
LAST-MODIFIED:20240216T165320Z
UID:10003033-1716922800-1716926400@stjameshydepark.org
SUMMARY:Boy Scouts Troop 80 (Parish Hall)
DESCRIPTION:
URL:https://stjameshydepark.org/event/boy-scouts-troop-80-parish-hall-rm-203-2-2/2024-05-28/
LOCATION:St. James’ Episcopal Church\, 4526 Albany Post Rd.\, Hyde Park\, NY\, 12538\, United States
CATEGORIES:General
END:VEVENT
BEGIN:VEVENT
DTSTART;TZID=America/New_York:20240529T110000
DTEND;TZID=America/New_York:20240529T120000
DTSTAMP:20260425T075328
CREATED:20240203T231706Z
LAST-MODIFIED:20240508T020856Z
UID:10003422-1716980400-1716984000@stjameshydepark.org
SUMMARY:Bible Study
DESCRIPTION:Our weekly Bible study on Zoom usually focuses on the Gospel for the upcoming Sunday and is led by Mtr. Meredith. We practice a contemplative\, prayerful style of Bible study that focuses on how God is speaking to us through our questions\, responses\, curiosities and doubts as we engage Scripture.  \nThe study is followed by a brief\, optional service of noonday prayer. \nJoin in any Wednesday at 11 am. No previous preparation is required. The Zoom link is distributed via our weekly email newsletter (or contact the parish office). \n 
URL:https://stjameshydepark.org/event/bible-study-2024/2024-05-29/
LOCATION:Online
CATEGORIES:Christian Formation
ATTACH;FMTTYPE=image/png:https://stjameshydepark.org/wp-content/uploads/2024/05/Bible-Study.png
END:VEVENT
BEGIN:VEVENT
DTSTART;TZID=America/New_York:20240529T183000
DTEND;TZID=America/New_York:20240529T193000
DTSTAMP:20260425T075328
CREATED:20240112T175112Z
LAST-MODIFIED:20240112T175307Z
UID:10003084-1717007400-1717011000@stjameshydepark.org
SUMMARY:Evening Prayer (Remote)
DESCRIPTION:
URL:https://stjameshydepark.org/event/evening-prayer-remote-2-2/2024-05-29/
LOCATION:Online
CATEGORIES:Worship
END:VEVENT
BEGIN:VEVENT
DTSTART;TZID=America/New_York:20240531T070000
DTEND;TZID=America/New_York:20240531T180000
DTSTAMP:20260425T075328
CREATED:20240502T005843Z
LAST-MODIFIED:20240502T010102Z
UID:10003737-1717138800-1717178400@stjameshydepark.org
SUMMARY:Hall reserved for Tag Sale setup
DESCRIPTION:
URL:https://stjameshydepark.org/event/tag-sale-setup/
LOCATION:St. James’ Episcopal Church\, 4526 Albany Post Rd.\, Hyde Park\, NY\, 12538\, United States
CATEGORIES:Outreach
END:VEVENT
BEGIN:VEVENT
DTSTART;TZID=America/New_York:20240531T100000
DTEND;TZID=America/New_York:20240531T110000
DTSTAMP:20260425T075328
CREATED:20240419T150827Z
LAST-MODIFIED:20240419T150827Z
UID:10003754-1717149600-1717153200@stjameshydepark.org
SUMMARY:Kennelly Memorial Service
DESCRIPTION:
URL:https://stjameshydepark.org/event/kennelly-memorial-service/
LOCATION:St. James’ Episcopal Church\, 4526 Albany Post Rd.\, Hyde Park\, NY\, 12538\, United States
END:VEVENT
BEGIN:VEVENT
DTSTART;TZID=America/New_York:20240601T090000
DTEND;TZID=America/New_York:20240601T160000
DTSTAMP:20260425T075328
CREATED:20240502T005911Z
LAST-MODIFIED:20240524T190401Z
UID:10003773-1717232400-1717257600@stjameshydepark.org
SUMMARY:Tag Sale
DESCRIPTION:St. James’ is hosting a community Tag Sale in our parking lot and parish hall on Saturday\, June 1st from 9 am to 4 pm! \nTag sale proceeds benefit St. James’ outreach ministries. \nDonations of items to be sold may  be dropped off in the Parish Hall during church office hours (T-F 9am-2pm) or contact Lillian Peralta at 845-282-6328 for special arrangements. \nVendors may contact Lillian Peralta at 845-282-6328 to reserve a table ($25-35 per table\, spots are limited). All proceeds benefit the church’s community outreach ministries.  \nPlus help fill Tommy’s Truck for local veterans in need\, during the Tag Sale from 10 am-2 pm only! Pease bring breakfast cereal\, pasta & sauce\, granola bars\, trail mix\, microwave meals\, and toiletries to donate.
URL:https://stjameshydepark.org/event/tag-sale/
LOCATION:St. James’ Episcopal Church\, 4526 Albany Post Rd.\, Hyde Park\, NY\, 12538\, United States
CATEGORIES:Outreach
ATTACH;FMTTYPE=image/png:https://stjameshydepark.org/wp-content/uploads/2024/05/Tag-Sale-Flyer-Instagram-Post.png
END:VEVENT
BEGIN:VEVENT
DTSTART;TZID=America/New_York:20240601T183000
DTEND;TZID=America/New_York:20240601T193000
DTSTAMP:20260425T075328
CREATED:20240112T175527Z
LAST-MODIFIED:20240112T175653Z
UID:10003134-1717266600-1717270200@stjameshydepark.org
SUMMARY:Compline (Remote)
DESCRIPTION:
URL:https://stjameshydepark.org/event/compline-remote-3-2023-01-07-2/2024-06-01/
LOCATION:Online
CATEGORIES:Worship
END:VEVENT
BEGIN:VEVENT
DTSTART;TZID=America/New_York:20240602T080000
DTEND;TZID=America/New_York:20240602T090000
DTSTAMP:20260425T075328
CREATED:20231222T015421Z
LAST-MODIFIED:20241213T230031Z
UID:10002853-1717315200-1717318800@stjameshydepark.org
SUMMARY:Holy Eucharist (Rite I)
DESCRIPTION:Join us Sundays at 8:00 a.m. for a celebration of Holy Eucharist (Communion). This is a quiet service\, usually without music\, though we often have a soloist with acoustic guitar playing before and after the service. The service uses Rite 1 from the 1979 Book of Common Prayer\, with traditional language.
URL:https://stjameshydepark.org/event/2024-eucharist-8am/2024-06-02/
LOCATION:St. James’ Episcopal Church\, 4526 Albany Post Rd.\, Hyde Park\, NY\, 12538\, United States
CATEGORIES:Worship
END:VEVENT
BEGIN:VEVENT
DTSTART;TZID=America/New_York:20240602T091500
DTEND;TZID=America/New_York:20240602T094500
DTSTAMP:20260425T075328
CREATED:20240415T115702Z
LAST-MODIFIED:20240415T115712Z
UID:10003682-1717319700-1717321500@stjameshydepark.org
SUMMARY:"Mary Strong" Rosary Prayer Group
DESCRIPTION:The “Mary Strong” rosary prayer group meets on the first Sunday of each month. We meet in the Church at 9:15 between our 8 and 10 am services. All are welcome! \nNever prayed the rosary before? No problem! This group will teach you everything you need to know. \nYes\, Episcopalians can and do pray the rosary! Just as we ask our friends to pray for us\, we can ask the saints—that great cloud of witnesses—to intercede on our behalf. Praying the rosary draws us close to the heart of St. Mary the God-bearer as we meditate on Jesus’ ministry\, crucifixion\, resurrection and ascension.
URL:https://stjameshydepark.org/event/rosary-prayer-group-2/2024-06-02/
LOCATION:St. James’ Episcopal Church\, 4526 Albany Post Rd.\, Hyde Park\, NY\, 12538\, United States
CATEGORIES:Christian Formation,Worship
END:VEVENT
BEGIN:VEVENT
DTSTART;TZID=America/New_York:20240602T100000
DTEND;TZID=America/New_York:20240602T113000
DTSTAMP:20260425T075328
CREATED:20240526T112425Z
LAST-MODIFIED:20240602T092746Z
UID:10002749-1717322400-1717327800@stjameshydepark.org
SUMMARY:Holy Eucharist (Rite II) with Sunday School and Coffee Hour
DESCRIPTION:Join us Sundays at 10:00 a.m. for a celebration of Holy Eucharist (Communion). This service has music (usually organ and choir\, along with special guest musicians) and uses a variety of prayers and language from traditional to inclusive and expansive\, drawing from Rite II of the 1979 Book of Common Prayer\, Enriching Our Worship\, and other sources. \nCoffee hour in the Parish House usually follows this service. \nSunday School for kindergarten and up meets today on the second floor of the Parish House at 10:00 a.m. Students will rejoin the congregation just before Holy Communion. New to St. James’ Church? Your kids are welcome to Sunday School any Sunday. More details about St. James’ Sunday School at: https://stjameshydepark.org/for-children/
URL:https://stjameshydepark.org/event/2024-eucharist-rite-ii-6/
LOCATION:St. James’ Episcopal Church\, 4526 Albany Post Rd.\, Hyde Park\, NY\, 12538\, United States
CATEGORIES:Worship
END:VEVENT
BEGIN:VEVENT
DTSTART;TZID=America/New_York:20240602T183000
DTEND;TZID=America/New_York:20240602T210000
DTSTAMP:20260425T075328
CREATED:20240112T181055Z
LAST-MODIFIED:20241001T152045Z
UID:10003248-1717353000-1717362000@stjameshydepark.org
SUMMARY:AA Meeting (Parish Hall; Rm. 201)
DESCRIPTION:
URL:https://stjameshydepark.org/event/aa-meeting-parish-hall-rm-201-2/2024-06-02/
LOCATION:St. James’ Episcopal Church\, 4526 Albany Post Rd.\, Hyde Park\, NY\, 12538\, United States
CATEGORIES:General
END:VEVENT
BEGIN:VEVENT
DTSTART;VALUE=DATE:20240603
DTEND;VALUE=DATE:20240604
DTSTAMP:20260425T075328
CREATED:20240112T172541Z
LAST-MODIFIED:20240112T172541Z
UID:10002971-1717372800-1717459199@stjameshydepark.org
SUMMARY:Parish Office Closed
DESCRIPTION:
URL:https://stjameshydepark.org/event/parish-office-closed-4/2024-06-03/
LOCATION:St. James’ Episcopal Church\, 4526 Albany Post Rd.\, Hyde Park\, NY\, 12538\, United States
CATEGORIES:General
END:VEVENT
BEGIN:VEVENT
DTSTART;TZID=America/New_York:20240603T140000
DTEND;TZID=America/New_York:20240603T160000
DTSTAMP:20260425T075328
CREATED:20240112T141137Z
LAST-MODIFIED:20241009T191510Z
UID:10002918-1717423200-1717430400@stjameshydepark.org
SUMMARY:Knitters and Crafters Group (Wilks Room)
DESCRIPTION:A New Group! A community of crafters begins on Mondays starting February 5\, from 2- 4 pm (drop-in). \nAll are welcome: knitters\, crocheters\, embroiderers\, crocheters\, conversationalists and miscellaneous other activities. No particular talent required. Meet in the Wilks Room at St. James Parish Hall.
URL:https://stjameshydepark.org/event/knitters-crafters/2024-06-03/
LOCATION:St. James’ Episcopal Church\, 4526 Albany Post Rd.\, Hyde Park\, NY\, 12538\, United States
CATEGORIES:Fun
END:VEVENT
BEGIN:VEVENT
DTSTART;TZID=America/New_York:20240604T190000
DTEND;TZID=America/New_York:20240604T200000
DTSTAMP:20260425T075328
CREATED:20240112T173004Z
LAST-MODIFIED:20240829T144849Z
UID:10003006-1717527600-1717531200@stjameshydepark.org
SUMMARY:Boy Scouts (Wilks Room)
DESCRIPTION:
URL:https://stjameshydepark.org/event/boy-scouts-wilks-room-2/2024-06-04/
LOCATION:St. James’ Episcopal Church\, 4526 Albany Post Rd.\, Hyde Park\, NY\, 12538\, United States
CATEGORIES:General
END:VEVENT
BEGIN:VEVENT
DTSTART;TZID=America/New_York:20240604T190000
DTEND;TZID=America/New_York:20240604T200000
DTSTAMP:20260425T075328
CREATED:20240112T173633Z
LAST-MODIFIED:20240216T165320Z
UID:10003034-1717527600-1717531200@stjameshydepark.org
SUMMARY:Boy Scouts Troop 80 (Parish Hall)
DESCRIPTION:
URL:https://stjameshydepark.org/event/boy-scouts-troop-80-parish-hall-rm-203-2-2/2024-06-04/
LOCATION:St. James’ Episcopal Church\, 4526 Albany Post Rd.\, Hyde Park\, NY\, 12538\, United States
CATEGORIES:General
END:VEVENT
BEGIN:VEVENT
DTSTART;TZID=America/New_York:20240605T110000
DTEND;TZID=America/New_York:20240605T120000
DTSTAMP:20260425T075328
CREATED:20240203T231706Z
LAST-MODIFIED:20240508T020856Z
UID:10003423-1717585200-1717588800@stjameshydepark.org
SUMMARY:Bible Study
DESCRIPTION:Our weekly Bible study on Zoom usually focuses on the Gospel for the upcoming Sunday and is led by Mtr. Meredith. We practice a contemplative\, prayerful style of Bible study that focuses on how God is speaking to us through our questions\, responses\, curiosities and doubts as we engage Scripture.  \nThe study is followed by a brief\, optional service of noonday prayer. \nJoin in any Wednesday at 11 am. No previous preparation is required. The Zoom link is distributed via our weekly email newsletter (or contact the parish office). \n 
URL:https://stjameshydepark.org/event/bible-study-2024/2024-06-05/
LOCATION:Online
CATEGORIES:Christian Formation
ATTACH;FMTTYPE=image/png:https://stjameshydepark.org/wp-content/uploads/2024/05/Bible-Study.png
END:VEVENT
BEGIN:VEVENT
DTSTART;TZID=America/New_York:20240605T180000
DTEND;TZID=America/New_York:20240605T200000
DTSTAMP:20260425T075328
CREATED:20240130T135022Z
LAST-MODIFIED:20240806T181522Z
UID:10003390-1717610400-1717617600@stjameshydepark.org
SUMMARY:Women's Group (Antonella's in Hyde Park)
DESCRIPTION:Women’s Group will be meeting at 6 PM on the following dates this Fall:\nSept. 11\nOct. 9\nNov. 13                                                                                                                                                                                                                                                                                                                                      Dec 11\nHope you can join us! Please see Dyan in the Parish Office for $20\, if that is helpful for you to attend!\nWe meet in the back room of Antonella’s in Hyde Park. They graciously provide us with separate checks\, so join for anything from a coffee to a 3 course meal! We laugh\, cry\, and grow together as a St. James’ family.
URL:https://stjameshydepark.org/event/womens-group-antonellas-in-hyde-park-2/2024-06-05/
LOCATION:Antonella’s Restaurant\, Hyde Park\, NY\, 4246 Albany Post Rd #1700\, Hyde Park\, NY\, 12538\, United States
CATEGORIES:Women's Group
END:VEVENT
BEGIN:VEVENT
DTSTART;TZID=America/New_York:20240605T183000
DTEND;TZID=America/New_York:20240605T193000
DTSTAMP:20260425T075328
CREATED:20240112T175112Z
LAST-MODIFIED:20240112T175307Z
UID:10003085-1717612200-1717615800@stjameshydepark.org
SUMMARY:Evening Prayer (Remote)
DESCRIPTION:
URL:https://stjameshydepark.org/event/evening-prayer-remote-2-2/2024-06-05/
LOCATION:Online
CATEGORIES:Worship
END:VEVENT
BEGIN:VEVENT
DTSTART;VALUE=DATE:20240606
DTEND;VALUE=DATE:20240607
DTSTAMP:20260425T075328
CREATED:20240606T134119Z
LAST-MODIFIED:20240606T134119Z
UID:10003792-1717632000-1717718399@stjameshydepark.org
SUMMARY:Doyle Fire Alarm & Smoke Detector Inspections (Parish Hall)
DESCRIPTION:
URL:https://stjameshydepark.org/event/doyle-fire-alarm-smoke-detector-inspections-parish-hall/
LOCATION:St. James’ Episcopal Church\, 4526 Albany Post Rd.\, Hyde Park\, NY\, 12538\, United States
END:VEVENT
BEGIN:VEVENT
DTSTART;TZID=America/New_York:20240606T190000
DTEND;TZID=America/New_York:20240606T220000
DTSTAMP:20260425T075328
CREATED:20240531T145140Z
LAST-MODIFIED:20240604T123052Z
UID:10003786-1717700400-1717711200@stjameshydepark.org
SUMMARY:Finance Committee Meeting (Wilks Room)
DESCRIPTION:
URL:https://stjameshydepark.org/event/finance-committee-meeting-wilks-room/
LOCATION:St. James’ Episcopal Church\, 4526 Albany Post Rd.\, Hyde Park\, NY\, 12538\, United States
END:VEVENT
BEGIN:VEVENT
DTSTART;TZID=America/New_York:20240607T100000
DTEND;TZID=America/New_York:20240607T130000
DTSTAMP:20260425T075328
CREATED:20240605T125507Z
LAST-MODIFIED:20240605T125507Z
UID:10003789-1717754400-1717765200@stjameshydepark.org
SUMMARY:Co-Working (Wilks Room)
DESCRIPTION:
URL:https://stjameshydepark.org/event/co-working-wilks-room-3/
LOCATION:St. James’ Episcopal Church\, 4526 Albany Post Rd.\, Hyde Park\, NY\, 12538\, United States
END:VEVENT
BEGIN:VEVENT
DTSTART;TZID=America/New_York:20240608T110000
DTEND;TZID=America/New_York:20240608T130000
DTSTAMP:20260425T075328
CREATED:20240608T021052Z
LAST-MODIFIED:20240608T021052Z
UID:10003798-1717844400-1717851600@stjameshydepark.org
SUMMARY:Dutchess Episcopalians at Poughkeepsie Pride
DESCRIPTION:Dutchess Episcopalians will march together at Poughkeepsie Pride this year\, plus we’ll have a table at Waryas Park\, where the parade ends! Lineup is at Cannon and Market Streets beginning at 11 am. Stepoff is at noon. \nPlease contact Mtr. Meredith (315-569-3767) to RSVP!
URL:https://stjameshydepark.org/event/pride-2024/
LOCATION:Market Street and Cannon Street\, 35 Market Street\, Poughkeepsie\, NY\, 12601\, United States
CATEGORIES:Fun,Outreach
ATTACH;FMTTYPE=image/png:https://stjameshydepark.org/wp-content/uploads/2024/02/Rainbow-Welcome.png
END:VEVENT
BEGIN:VEVENT
DTSTART;TZID=America/New_York:20240608T170000
DTEND;TZID=America/New_York:20240608T210000
DTSTAMP:20260425T075328
CREATED:20240308T162617Z
LAST-MODIFIED:20240308T162617Z
UID:10003592-1717866000-1717880400@stjameshydepark.org
SUMMARY:Birthday Party (Chapel)
DESCRIPTION:
URL:https://stjameshydepark.org/event/birthday-party-chapel/
LOCATION:St. James’ Chapel\, 10 East Market Street\, Hyde Park\, NY\, 12567\, United States
END:VEVENT
BEGIN:VEVENT
DTSTART;TZID=America/New_York:20240608T173000
DTEND;TZID=America/New_York:20240608T210000
DTSTAMP:20260425T075328
CREATED:20240608T013558Z
LAST-MODIFIED:20240609T014020Z
UID:10003795-1717867800-1717880400@stjameshydepark.org
SUMMARY:St. James @ Kingston Stockade Soccer!
DESCRIPTION:Come join the St. James’ cheering section for our Kingston Stockade Division 4 soccer team!\nEnjoy a fun evening with St. James’ friends the next three Saturdays at 6 pm at the Marist stadium. What could be better on a summer evening than friendly conversation\, kids running around\, food trucks\, and an occasional goal to celebrate! \nMany St. James’ members & friends have enjoyed attending these games recently. Most of us bring folding chairs so we can sit together on the west side of the field near the Stockade team’s energetic cheering leaders\, and a few prefer the stadium seats. \nTickets are $10/adults and $5/children ages 3-12. We have found that arriving around 5:30 provides a head start on the food truck lines. You are welcome to bring water bottles and snacks. There are three more season games in 2024:  June 8\, 15\, and 22. Details on games at stockadefc.com. No RSVP needed\, but if you’d like to coordinate\, text or call Russell Urban-Mead at 914-456-1095.
URL:https://stjameshydepark.org/event/st-james-kingston-stockade-soccer/2024-06-08/
LOCATION:NY
CATEGORIES:Fun
END:VEVENT
BEGIN:VEVENT
DTSTART;TZID=America/New_York:20240608T183000
DTEND;TZID=America/New_York:20240608T193000
DTSTAMP:20260425T075328
CREATED:20240112T175527Z
LAST-MODIFIED:20240112T175653Z
UID:10003135-1717871400-1717875000@stjameshydepark.org
SUMMARY:Compline (Remote)
DESCRIPTION:
URL:https://stjameshydepark.org/event/compline-remote-3-2023-01-07-2/2024-06-08/
LOCATION:Online
CATEGORIES:Worship
END:VEVENT
BEGIN:VEVENT
DTSTART;TZID=America/New_York:20240609T080000
DTEND;TZID=America/New_York:20240609T090000
DTSTAMP:20260425T075328
CREATED:20231222T015421Z
LAST-MODIFIED:20241213T230031Z
UID:10002854-1717920000-1717923600@stjameshydepark.org
SUMMARY:Holy Eucharist (Rite I)
DESCRIPTION:Join us Sundays at 8:00 a.m. for a celebration of Holy Eucharist (Communion). This is a quiet service\, usually without music\, though we often have a soloist with acoustic guitar playing before and after the service. The service uses Rite 1 from the 1979 Book of Common Prayer\, with traditional language.
URL:https://stjameshydepark.org/event/2024-eucharist-8am/2024-06-09/
LOCATION:St. James’ Episcopal Church\, 4526 Albany Post Rd.\, Hyde Park\, NY\, 12538\, United States
CATEGORIES:Worship
END:VEVENT
BEGIN:VEVENT
DTSTART;TZID=America/New_York:20240609T090000
DTEND;TZID=America/New_York:20240609T100000
DTSTAMP:20260425T075328
CREATED:20240526T112549Z
LAST-MODIFIED:20240531T162301Z
UID:10003782-1717923600-1717927200@stjameshydepark.org
SUMMARY:9 am Coffee Hour with farewell to Jim and Jan!
DESCRIPTION:We’ll have a special coffee hour between our 8 and 10 am services today so we can bid a fond farewell to members Jim and Jan Smyth\, who are moving away.
URL:https://stjameshydepark.org/event/9-am-coffee-hour-with-farewell-to-jim-and-jan/
LOCATION:HP Farmers Market
CATEGORIES:One Time Event
END:VEVENT
BEGIN:VEVENT
DTSTART;TZID=America/New_York:20240609T100000
DTEND;TZID=America/New_York:20240609T113000
DTSTAMP:20260425T075328
CREATED:20240602T092935Z
LAST-MODIFIED:20240602T092936Z
UID:10002750-1717927200-1717932600@stjameshydepark.org
SUMMARY:Holy Eucharist (Rite II) for Youth Sunday and Ice Cream Social Coffee Hour
DESCRIPTION:Join us Sundays at 10:00 a.m. for a celebration of Holy Eucharist (Communion). This service has music (usually organ and choir\, along with special guest musicians) and uses a variety of prayers and language from traditional to inclusive and expansive\, drawing from Rite II of the 1979 Book of Common Prayer\, Enriching Our Worship\, and other sources. \nToday’s service will celebrate our younger members\, who will assist in leading worship\, readings\, and prayers. We will recognize our high school graduates and members who have completed Sunday School. \nThe service will be followed by a special Coffee Hour with ice cream sundaes! \nMore details about St. James’ Sunday School at: https://stjameshydepark.org/for-children/
URL:https://stjameshydepark.org/event/2024-eucharist-rite-ii-7/
LOCATION:St. James’ Episcopal Church\, 4526 Albany Post Rd.\, Hyde Park\, NY\, 12538\, United States
CATEGORIES:Worship
END:VEVENT
BEGIN:VEVENT
DTSTART;TZID=America/New_York:20240609T183000
DTEND;TZID=America/New_York:20240609T210000
DTSTAMP:20260425T075328
CREATED:20240112T181055Z
LAST-MODIFIED:20241001T152045Z
UID:10003249-1717957800-1717966800@stjameshydepark.org
SUMMARY:AA Meeting (Parish Hall; Rm. 201)
DESCRIPTION:
URL:https://stjameshydepark.org/event/aa-meeting-parish-hall-rm-201-2/2024-06-09/
LOCATION:St. James’ Episcopal Church\, 4526 Albany Post Rd.\, Hyde Park\, NY\, 12538\, United States
CATEGORIES:General
END:VEVENT
BEGIN:VEVENT
DTSTART;VALUE=DATE:20240610
DTEND;VALUE=DATE:20240611
DTSTAMP:20260425T075328
CREATED:20240112T172541Z
LAST-MODIFIED:20240112T172541Z
UID:10002972-1717977600-1718063999@stjameshydepark.org
SUMMARY:Parish Office Closed
DESCRIPTION:
URL:https://stjameshydepark.org/event/parish-office-closed-4/2024-06-10/
LOCATION:St. James’ Episcopal Church\, 4526 Albany Post Rd.\, Hyde Park\, NY\, 12538\, United States
CATEGORIES:General
END:VEVENT
END:VCALENDAR