BEGIN:VCALENDAR
VERSION:2.0
PRODID:-//St. James&#039; Episcopal Church - ECPv6.15.20//NONSGML v1.0//EN
CALSCALE:GREGORIAN
METHOD:PUBLISH
X-ORIGINAL-URL:https://stjameshydepark.org
X-WR-CALDESC:Events for St. James&#039; Episcopal Church
REFRESH-INTERVAL;VALUE=DURATION:PT1H
X-Robots-Tag:noindex
X-PUBLISHED-TTL:PT1H
BEGIN:VTIMEZONE
TZID:America/New_York
BEGIN:DAYLIGHT
TZOFFSETFROM:-0500
TZOFFSETTO:-0400
TZNAME:EDT
DTSTART:20230312T070000
END:DAYLIGHT
BEGIN:STANDARD
TZOFFSETFROM:-0400
TZOFFSETTO:-0500
TZNAME:EST
DTSTART:20231105T060000
END:STANDARD
BEGIN:DAYLIGHT
TZOFFSETFROM:-0500
TZOFFSETTO:-0400
TZNAME:EDT
DTSTART:20240310T070000
END:DAYLIGHT
BEGIN:STANDARD
TZOFFSETFROM:-0400
TZOFFSETTO:-0500
TZNAME:EST
DTSTART:20241103T060000
END:STANDARD
BEGIN:DAYLIGHT
TZOFFSETFROM:-0500
TZOFFSETTO:-0400
TZNAME:EDT
DTSTART:20250309T070000
END:DAYLIGHT
BEGIN:STANDARD
TZOFFSETFROM:-0400
TZOFFSETTO:-0500
TZNAME:EST
DTSTART:20251102T060000
END:STANDARD
END:VTIMEZONE
BEGIN:VEVENT
DTSTART;TZID=America/New_York:20240501T103000
DTEND;TZID=America/New_York:20240501T120000
DTSTAMP:20260425T093446
CREATED:20240208T172616Z
LAST-MODIFIED:20240515T185656Z
UID:10003646-1714559400-1714564800@stjameshydepark.org
SUMMARY:Co-Working (Wilks Room or Parish Hall)
DESCRIPTION:
URL:https://stjameshydepark.org/event/co-working-wilks-room/2024-05-01/
LOCATION:St. James’ Episcopal Church\, 4526 Albany Post Rd.\, Hyde Park\, NY\, 12538\, United States
END:VEVENT
BEGIN:VEVENT
DTSTART;TZID=America/New_York:20240501T110000
DTEND;TZID=America/New_York:20240501T120000
DTSTAMP:20260425T093446
CREATED:20240203T231706Z
LAST-MODIFIED:20240508T020856Z
UID:10003418-1714561200-1714564800@stjameshydepark.org
SUMMARY:Bible Study
DESCRIPTION:Our weekly Bible study on Zoom usually focuses on the Gospel for the upcoming Sunday and is led by Mtr. Meredith. We practice a contemplative\, prayerful style of Bible study that focuses on how God is speaking to us through our questions\, responses\, curiosities and doubts as we engage Scripture.  \nThe study is followed by a brief\, optional service of noonday prayer. \nJoin in any Wednesday at 11 am. No previous preparation is required. The Zoom link is distributed via our weekly email newsletter (or contact the parish office). \n 
URL:https://stjameshydepark.org/event/bible-study-2024/2024-05-01/
LOCATION:Online
CATEGORIES:Christian Formation
ATTACH;FMTTYPE=image/png:https://stjameshydepark.org/wp-content/uploads/2024/05/Bible-Study.png
END:VEVENT
BEGIN:VEVENT
DTSTART;TZID=America/New_York:20240501T183000
DTEND;TZID=America/New_York:20240501T193000
DTSTAMP:20260425T093446
CREATED:20240112T175112Z
LAST-MODIFIED:20240112T175307Z
UID:10003080-1714588200-1714591800@stjameshydepark.org
SUMMARY:Evening Prayer (Remote)
DESCRIPTION:
URL:https://stjameshydepark.org/event/evening-prayer-remote-2-2/2024-05-01/
LOCATION:Online
CATEGORIES:Worship
END:VEVENT
BEGIN:VEVENT
DTSTART;TZID=America/New_York:20240501T190000
DTEND;TZID=America/New_York:20240501T200000
DTSTAMP:20260425T093446
CREATED:20240216T180456Z
LAST-MODIFIED:20240218T205501Z
UID:10003547-1714590000-1714593600@stjameshydepark.org
SUMMARY:[New Deal] Adult Tap (Parish Hall)
DESCRIPTION:
URL:https://stjameshydepark.org/event/adult-tap-parish-hall-2/2024-05-01/
LOCATION:St. James’ Episcopal Church\, 4526 Albany Post Rd.\, Hyde Park\, NY\, 12538\, United States
CATEGORIES:New Deal
END:VEVENT
BEGIN:VEVENT
DTSTART;VALUE=DATE:20240502
DTEND;VALUE=DATE:20240503
DTSTAMP:20260425T093446
CREATED:20240423T180502Z
LAST-MODIFIED:20240423T181042Z
UID:10003755-1714608000-1714694399@stjameshydepark.org
SUMMARY:Parish Office Closed
DESCRIPTION:The Office will be closed due to the Office Manager’s vacation.  Email and phone messages will be checked periodically.
URL:https://stjameshydepark.org/event/parish-office-closed-5/2024-05-02/
LOCATION:St. James’ Episcopal Church\, 4526 Albany Post Rd.\, Hyde Park\, NY\, 12538\, United States
END:VEVENT
BEGIN:VEVENT
DTSTART;VALUE=DATE:20240503
DTEND;VALUE=DATE:20240504
DTSTAMP:20260425T093446
CREATED:20240423T180502Z
LAST-MODIFIED:20240423T181042Z
UID:10003756-1714694400-1714780799@stjameshydepark.org
SUMMARY:Parish Office Closed
DESCRIPTION:The Office will be closed due to the Office Manager’s vacation.  Email and phone messages will be checked periodically.
URL:https://stjameshydepark.org/event/parish-office-closed-5/2024-05-03/
LOCATION:St. James’ Episcopal Church\, 4526 Albany Post Rd.\, Hyde Park\, NY\, 12538\, United States
END:VEVENT
BEGIN:VEVENT
DTSTART;TZID=America/New_York:20240503T103000
DTEND;TZID=America/New_York:20240503T120000
DTSTAMP:20260425T093446
CREATED:20240208T172616Z
LAST-MODIFIED:20240515T185656Z
UID:10003647-1714732200-1714737600@stjameshydepark.org
SUMMARY:Co-Working (Wilks Room or Parish Hall)
DESCRIPTION:
URL:https://stjameshydepark.org/event/co-working-wilks-room/2024-05-03/
LOCATION:St. James’ Episcopal Church\, 4526 Albany Post Rd.\, Hyde Park\, NY\, 12538\, United States
END:VEVENT
BEGIN:VEVENT
DTSTART;TZID=America/New_York:20240504T143000
DTEND;TZID=America/New_York:20240504T150000
DTSTAMP:20260425T093446
CREATED:20240202T154617Z
LAST-MODIFIED:20240301T184903Z
UID:10003399-1714833000-1714834800@stjameshydepark.org
SUMMARY:Livingston Burial (Churchyard)
DESCRIPTION:
URL:https://stjameshydepark.org/event/livingston-burial-churchyard/
LOCATION:St. James’ Episcopal Church\, 4526 Albany Post Rd.\, Hyde Park\, NY\, 12538\, United States
CATEGORIES:Funerals
END:VEVENT
BEGIN:VEVENT
DTSTART;TZID=America/New_York:20240504T180000
DTEND;TZID=America/New_York:20240504T210000
DTSTAMP:20260425T093446
CREATED:20240409T170226Z
LAST-MODIFIED:20240409T170226Z
UID:10003740-1714845600-1714856400@stjameshydepark.org
SUMMARY:Cabaret Performance (Parish Hall)
DESCRIPTION:
URL:https://stjameshydepark.org/event/cabaret-performance-parish-hall/
LOCATION:St. James’ Episcopal Church\, 4526 Albany Post Rd.\, Hyde Park\, NY\, 12538\, United States
END:VEVENT
BEGIN:VEVENT
DTSTART;TZID=America/New_York:20240504T183000
DTEND;TZID=America/New_York:20240504T193000
DTSTAMP:20260425T093446
CREATED:20240112T175527Z
LAST-MODIFIED:20240112T175653Z
UID:10003130-1714847400-1714851000@stjameshydepark.org
SUMMARY:Compline (Remote)
DESCRIPTION:
URL:https://stjameshydepark.org/event/compline-remote-3-2023-01-07-2/2024-05-04/
LOCATION:Online
CATEGORIES:Worship
END:VEVENT
BEGIN:VEVENT
DTSTART;TZID=America/New_York:20240505T080000
DTEND;TZID=America/New_York:20240505T090000
DTSTAMP:20260425T093446
CREATED:20231222T015421Z
LAST-MODIFIED:20241213T230031Z
UID:10002849-1714896000-1714899600@stjameshydepark.org
SUMMARY:Holy Eucharist (Rite I)
DESCRIPTION:Join us Sundays at 8:00 a.m. for a celebration of Holy Eucharist (Communion). This is a quiet service\, usually without music\, though we often have a soloist with acoustic guitar playing before and after the service. The service uses Rite 1 from the 1979 Book of Common Prayer\, with traditional language.
URL:https://stjameshydepark.org/event/2024-eucharist-8am/2024-05-05/
LOCATION:St. James’ Episcopal Church\, 4526 Albany Post Rd.\, Hyde Park\, NY\, 12538\, United States
CATEGORIES:Worship
END:VEVENT
BEGIN:VEVENT
DTSTART;TZID=America/New_York:20240505T091500
DTEND;TZID=America/New_York:20240505T094500
DTSTAMP:20260425T093446
CREATED:20240415T115702Z
LAST-MODIFIED:20240415T115712Z
UID:10003678-1714900500-1714902300@stjameshydepark.org
SUMMARY:"Mary Strong" Rosary Prayer Group
DESCRIPTION:The “Mary Strong” rosary prayer group meets on the first Sunday of each month. We meet in the Church at 9:15 between our 8 and 10 am services. All are welcome! \nNever prayed the rosary before? No problem! This group will teach you everything you need to know. \nYes\, Episcopalians can and do pray the rosary! Just as we ask our friends to pray for us\, we can ask the saints—that great cloud of witnesses—to intercede on our behalf. Praying the rosary draws us close to the heart of St. Mary the God-bearer as we meditate on Jesus’ ministry\, crucifixion\, resurrection and ascension.
URL:https://stjameshydepark.org/event/rosary-prayer-group-2/2024-05-05/
LOCATION:St. James’ Episcopal Church\, 4526 Albany Post Rd.\, Hyde Park\, NY\, 12538\, United States
CATEGORIES:Christian Formation,Worship
END:VEVENT
BEGIN:VEVENT
DTSTART;TZID=America/New_York:20240505T100000
DTEND;TZID=America/New_York:20240505T113000
DTSTAMP:20260425T093446
CREATED:20231222T014951Z
LAST-MODIFIED:20231222T014951Z
UID:10002745-1714903200-1714908600@stjameshydepark.org
SUMMARY:Holy Eucharist (Rite II) with Sunday School and Coffee Hour
DESCRIPTION:Join us Sundays at 10:00 a.m. for a celebration of Holy Eucharist (Communion). This service has music (usually organ and choir\, along with special guest musicians) and uses a variety of prayers and language from traditional to inclusive and expansive\, drawing from Rite II of the 1979 Book of Common Prayer\, Enriching Our Worship\, and other sources. \nCoffee hour in the Parish House usually follows this service. \nSunday School for kindergarten and up meets today on the second floor of the Parish House at 10:00 a.m. Students will rejoin the congregation just before Holy Communion. New to St. James’ Church? Your kids are welcome to Sunday School any Sunday. More details about St. James’ Sunday School at: https://stjameshydepark.org/for-children/
URL:https://stjameshydepark.org/event/2024-eucharist-rite-ii/2024-05-05/
LOCATION:St. James’ Episcopal Church\, 4526 Albany Post Rd.\, Hyde Park\, NY\, 12538\, United States
CATEGORIES:Worship
END:VEVENT
BEGIN:VEVENT
DTSTART;TZID=America/New_York:20240505T123000
DTEND;TZID=America/New_York:20240505T170000
DTSTAMP:20260425T093447
CREATED:20240409T170646Z
LAST-MODIFIED:20240409T170646Z
UID:10003741-1714912200-1714928400@stjameshydepark.org
SUMMARY:Boy Scout Troop 33 Court of Honor (Parish Hall)
DESCRIPTION:
URL:https://stjameshydepark.org/event/boy-scout-troop-33-court-of-honor-parish-hall/
LOCATION:St. James’ Episcopal Church\, 4526 Albany Post Rd.\, Hyde Park\, NY\, 12538\, United States
END:VEVENT
BEGIN:VEVENT
DTSTART;TZID=America/New_York:20240505T183000
DTEND;TZID=America/New_York:20240505T210000
DTSTAMP:20260425T093447
CREATED:20240112T181055Z
LAST-MODIFIED:20241001T152045Z
UID:10003244-1714933800-1714942800@stjameshydepark.org
SUMMARY:AA Meeting (Parish Hall; Rm. 201)
DESCRIPTION:
URL:https://stjameshydepark.org/event/aa-meeting-parish-hall-rm-201-2/2024-05-05/
LOCATION:St. James’ Episcopal Church\, 4526 Albany Post Rd.\, Hyde Park\, NY\, 12538\, United States
CATEGORIES:General
END:VEVENT
BEGIN:VEVENT
DTSTART;VALUE=DATE:20240506
DTEND;VALUE=DATE:20240507
DTSTAMP:20260425T093447
CREATED:20240112T172541Z
LAST-MODIFIED:20240112T172541Z
UID:10002967-1714953600-1715039999@stjameshydepark.org
SUMMARY:Parish Office Closed
DESCRIPTION:
URL:https://stjameshydepark.org/event/parish-office-closed-4/2024-05-06/
LOCATION:St. James’ Episcopal Church\, 4526 Albany Post Rd.\, Hyde Park\, NY\, 12538\, United States
CATEGORIES:General
END:VEVENT
BEGIN:VEVENT
DTSTART;TZID=America/New_York:20240506T103000
DTEND;TZID=America/New_York:20240506T120000
DTSTAMP:20260425T093447
CREATED:20240208T172616Z
LAST-MODIFIED:20240515T185656Z
UID:10003648-1714991400-1714996800@stjameshydepark.org
SUMMARY:Co-Working (Wilks Room or Parish Hall)
DESCRIPTION:
URL:https://stjameshydepark.org/event/co-working-wilks-room/2024-05-06/
LOCATION:St. James’ Episcopal Church\, 4526 Albany Post Rd.\, Hyde Park\, NY\, 12538\, United States
END:VEVENT
BEGIN:VEVENT
DTSTART;TZID=America/New_York:20240506T140000
DTEND;TZID=America/New_York:20240506T160000
DTSTAMP:20260425T093447
CREATED:20240112T141137Z
LAST-MODIFIED:20241009T191510Z
UID:10002914-1715004000-1715011200@stjameshydepark.org
SUMMARY:Knitters and Crafters Group (Wilks Room)
DESCRIPTION:A New Group! A community of crafters begins on Mondays starting February 5\, from 2- 4 pm (drop-in). \nAll are welcome: knitters\, crocheters\, embroiderers\, crocheters\, conversationalists and miscellaneous other activities. No particular talent required. Meet in the Wilks Room at St. James Parish Hall.
URL:https://stjameshydepark.org/event/knitters-crafters/2024-05-06/
LOCATION:St. James’ Episcopal Church\, 4526 Albany Post Rd.\, Hyde Park\, NY\, 12538\, United States
CATEGORIES:Fun
END:VEVENT
BEGIN:VEVENT
DTSTART;VALUE=DATE:20240507
DTEND;VALUE=DATE:20240508
DTSTAMP:20260425T093447
CREATED:20240423T180502Z
LAST-MODIFIED:20240423T181042Z
UID:10003758-1715040000-1715126399@stjameshydepark.org
SUMMARY:Parish Office Closed
DESCRIPTION:The Office will be closed due to the Office Manager’s vacation.  Email and phone messages will be checked periodically.
URL:https://stjameshydepark.org/event/parish-office-closed-5/2024-05-07/
LOCATION:St. James’ Episcopal Church\, 4526 Albany Post Rd.\, Hyde Park\, NY\, 12538\, United States
END:VEVENT
BEGIN:VEVENT
DTSTART;TZID=America/New_York:20240507T173000
DTEND;TZID=America/New_York:20240507T190000
DTSTAMP:20260425T093447
CREATED:20240411T123328Z
LAST-MODIFIED:20240411T123328Z
UID:10003742-1715103000-1715108400@stjameshydepark.org
SUMMARY:Nursery School Open House (Classroom)
DESCRIPTION:
URL:https://stjameshydepark.org/event/nursery-school-open-house-classroom/
LOCATION:St. James’ Episcopal Church\, 4526 Albany Post Rd.\, Hyde Park\, NY\, 12538\, United States
END:VEVENT
BEGIN:VEVENT
DTSTART;TZID=America/New_York:20240507T180000
DTEND;TZID=America/New_York:20240507T200000
DTSTAMP:20260425T093447
CREATED:20240216T174259Z
LAST-MODIFIED:20240317T170047Z
UID:10003614-1715104800-1715112000@stjameshydepark.org
SUMMARY:[New Deal] "Chicago" Rehearsal (Classrooms)
DESCRIPTION:
URL:https://stjameshydepark.org/event/chicago-classrooms/2024-05-07/
LOCATION:St. James’ Episcopal Church\, 4526 Albany Post Rd.\, Hyde Park\, NY\, 12538\, United States
CATEGORIES:New Deal
END:VEVENT
BEGIN:VEVENT
DTSTART;TZID=America/New_York:20240507T190000
DTEND;TZID=America/New_York:20240507T200000
DTSTAMP:20260425T093447
CREATED:20240112T173004Z
LAST-MODIFIED:20240829T144849Z
UID:10003005-1715108400-1715112000@stjameshydepark.org
SUMMARY:Boy Scouts (Wilks Room)
DESCRIPTION:
URL:https://stjameshydepark.org/event/boy-scouts-wilks-room-2/2024-05-07/
LOCATION:St. James’ Episcopal Church\, 4526 Albany Post Rd.\, Hyde Park\, NY\, 12538\, United States
CATEGORIES:General
END:VEVENT
BEGIN:VEVENT
DTSTART;TZID=America/New_York:20240507T190000
DTEND;TZID=America/New_York:20240507T200000
DTSTAMP:20260425T093447
CREATED:20240112T173633Z
LAST-MODIFIED:20240216T165320Z
UID:10003030-1715108400-1715112000@stjameshydepark.org
SUMMARY:Boy Scouts Troop 80 (Parish Hall)
DESCRIPTION:
URL:https://stjameshydepark.org/event/boy-scouts-troop-80-parish-hall-rm-203-2-2/2024-05-07/
LOCATION:St. James’ Episcopal Church\, 4526 Albany Post Rd.\, Hyde Park\, NY\, 12538\, United States
CATEGORIES:General
END:VEVENT
BEGIN:VEVENT
DTSTART;VALUE=DATE:20240508
DTEND;VALUE=DATE:20240509
DTSTAMP:20260425T093447
CREATED:20240423T180502Z
LAST-MODIFIED:20240423T181042Z
UID:10003759-1715126400-1715212799@stjameshydepark.org
SUMMARY:Parish Office Closed
DESCRIPTION:The Office will be closed due to the Office Manager’s vacation.  Email and phone messages will be checked periodically.
URL:https://stjameshydepark.org/event/parish-office-closed-5/2024-05-08/
LOCATION:St. James’ Episcopal Church\, 4526 Albany Post Rd.\, Hyde Park\, NY\, 12538\, United States
END:VEVENT
BEGIN:VEVENT
DTSTART;TZID=America/New_York:20240508T180000
DTEND;TZID=America/New_York:20240508T200000
DTSTAMP:20260425T093447
CREATED:20240130T135022Z
LAST-MODIFIED:20240806T181522Z
UID:10003389-1715191200-1715198400@stjameshydepark.org
SUMMARY:Women's Group (Antonella's in Hyde Park)
DESCRIPTION:Women’s Group will be meeting at 6 PM on the following dates this Fall:\nSept. 11\nOct. 9\nNov. 13                                                                                                                                                                                                                                                                                                                                      Dec 11\nHope you can join us! Please see Dyan in the Parish Office for $20\, if that is helpful for you to attend!\nWe meet in the back room of Antonella’s in Hyde Park. They graciously provide us with separate checks\, so join for anything from a coffee to a 3 course meal! We laugh\, cry\, and grow together as a St. James’ family.
URL:https://stjameshydepark.org/event/womens-group-antonellas-in-hyde-park-2/2024-05-08/
LOCATION:Antonella’s Restaurant\, Hyde Park\, NY\, 4246 Albany Post Rd #1700\, Hyde Park\, NY\, 12538\, United States
CATEGORIES:Women's Group
END:VEVENT
BEGIN:VEVENT
DTSTART;TZID=America/New_York:20240508T183000
DTEND;TZID=America/New_York:20240508T193000
DTSTAMP:20260425T093447
CREATED:20240112T175112Z
LAST-MODIFIED:20240112T175307Z
UID:10003081-1715193000-1715196600@stjameshydepark.org
SUMMARY:Evening Prayer (Remote)
DESCRIPTION:
URL:https://stjameshydepark.org/event/evening-prayer-remote-2-2/2024-05-08/
LOCATION:Online
CATEGORIES:Worship
END:VEVENT
BEGIN:VEVENT
DTSTART;TZID=America/New_York:20240508T190000
DTEND;TZID=America/New_York:20240508T200000
DTSTAMP:20260425T093447
CREATED:20240216T180456Z
LAST-MODIFIED:20240218T205501Z
UID:10003548-1715194800-1715198400@stjameshydepark.org
SUMMARY:[New Deal] Adult Tap (Parish Hall)
DESCRIPTION:
URL:https://stjameshydepark.org/event/adult-tap-parish-hall-2/2024-05-08/
LOCATION:St. James’ Episcopal Church\, 4526 Albany Post Rd.\, Hyde Park\, NY\, 12538\, United States
CATEGORIES:New Deal
END:VEVENT
BEGIN:VEVENT
DTSTART;VALUE=DATE:20240509
DTEND;VALUE=DATE:20240510
DTSTAMP:20260425T093447
CREATED:20240423T180502Z
LAST-MODIFIED:20240423T181042Z
UID:10003760-1715212800-1715299199@stjameshydepark.org
SUMMARY:Parish Office Closed
DESCRIPTION:The Office will be closed due to the Office Manager’s vacation.  Email and phone messages will be checked periodically.
URL:https://stjameshydepark.org/event/parish-office-closed-5/2024-05-09/
LOCATION:St. James’ Episcopal Church\, 4526 Albany Post Rd.\, Hyde Park\, NY\, 12538\, United States
END:VEVENT
BEGIN:VEVENT
DTSTART;TZID=America/New_York:20240509T110000
DTEND;TZID=America/New_York:20240509T120000
DTSTAMP:20260425T093447
CREATED:20240508T021008Z
LAST-MODIFIED:20240508T021034Z
UID:10003774-1715252400-1715256000@stjameshydepark.org
SUMMARY:Bible Study
DESCRIPTION:Our weekly Bible study on Zoom usually focuses on the Gospel for the upcoming Sunday and is led by Mtr. Meredith. We practice a contemplative\, prayerful style of Bible study that focuses on how God is speaking to us through our questions\, responses\, curiosities and doubts as we engage Scripture.  \nThe study is followed by a brief\, optional service of noonday prayer. \nUsually on Wednesdays at 11 am. This week only\, it will be on Thursday (May 9th) at 11 am.  \nNo previous preparation is required. The Zoom link is distributed via our weekly email newsletter (or contact the parish office). \n 
URL:https://stjameshydepark.org/event/bible-study-2024-05-09/
LOCATION:Online
CATEGORIES:Christian Formation
ATTACH;FMTTYPE=image/png:https://stjameshydepark.org/wp-content/uploads/2024/05/Bible-Study.png
END:VEVENT
BEGIN:VEVENT
DTSTART;VALUE=DATE:20240510
DTEND;VALUE=DATE:20240511
DTSTAMP:20260425T093447
CREATED:20240206T143509Z
LAST-MODIFIED:20240206T143509Z
UID:10003454-1715299200-1715385599@stjameshydepark.org
SUMMARY:Mother's Day Tea Setup (Parish Hall\, Kitchen)
DESCRIPTION:
URL:https://stjameshydepark.org/event/mothers-day-tea-setup-parish-hall-kitchen/
LOCATION:St. James’ Episcopal Church\, 4526 Albany Post Rd.\, Hyde Park\, NY\, 12538\, United States
CATEGORIES:Outreach
END:VEVENT
END:VCALENDAR