BEGIN:VCALENDAR
VERSION:2.0
PRODID:-//St. James&#039; Episcopal Church - ECPv6.15.20//NONSGML v1.0//EN
CALSCALE:GREGORIAN
METHOD:PUBLISH
X-ORIGINAL-URL:https://stjameshydepark.org
X-WR-CALDESC:Events for St. James&#039; Episcopal Church
REFRESH-INTERVAL;VALUE=DURATION:PT1H
X-Robots-Tag:noindex
X-PUBLISHED-TTL:PT1H
BEGIN:VTIMEZONE
TZID:America/New_York
BEGIN:DAYLIGHT
TZOFFSETFROM:-0500
TZOFFSETTO:-0400
TZNAME:EDT
DTSTART:20230312T070000
END:DAYLIGHT
BEGIN:STANDARD
TZOFFSETFROM:-0400
TZOFFSETTO:-0500
TZNAME:EST
DTSTART:20231105T060000
END:STANDARD
BEGIN:DAYLIGHT
TZOFFSETFROM:-0500
TZOFFSETTO:-0400
TZNAME:EDT
DTSTART:20240310T070000
END:DAYLIGHT
BEGIN:STANDARD
TZOFFSETFROM:-0400
TZOFFSETTO:-0500
TZNAME:EST
DTSTART:20241103T060000
END:STANDARD
BEGIN:DAYLIGHT
TZOFFSETFROM:-0500
TZOFFSETTO:-0400
TZNAME:EDT
DTSTART:20250309T070000
END:DAYLIGHT
BEGIN:STANDARD
TZOFFSETFROM:-0400
TZOFFSETTO:-0500
TZNAME:EST
DTSTART:20251102T060000
END:STANDARD
END:VTIMEZONE
BEGIN:VEVENT
DTSTART;TZID=America/New_York:20240405T103000
DTEND;TZID=America/New_York:20240405T120000
DTSTAMP:20260425T104530
CREATED:20240208T172616Z
LAST-MODIFIED:20240515T185656Z
UID:10003635-1712313000-1712318400@stjameshydepark.org
SUMMARY:Co-Working (Wilks Room or Parish Hall)
DESCRIPTION:
URL:https://stjameshydepark.org/event/co-working-wilks-room/2024-04-05/
LOCATION:St. James’ Episcopal Church\, 4526 Albany Post Rd.\, Hyde Park\, NY\, 12538\, United States
END:VEVENT
BEGIN:VEVENT
DTSTART;TZID=America/New_York:20240406T100000
DTEND;TZID=America/New_York:20240406T140000
DTSTAMP:20260425T104530
CREATED:20240314T144141Z
LAST-MODIFIED:20240423T173526Z
UID:10003618-1712397600-1712412000@stjameshydepark.org
SUMMARY:[New Deal] "Chicago" Rehearsal (Parish Hall)
DESCRIPTION:
URL:https://stjameshydepark.org/event/new-deal-chicago-parish-hall/2024-04-06/
LOCATION:St. James’ Episcopal Church\, 4526 Albany Post Rd.\, Hyde Park\, NY\, 12538\, United States
CATEGORIES:New Deal
END:VEVENT
BEGIN:VEVENT
DTSTART;TZID=America/New_York:20240406T183000
DTEND;TZID=America/New_York:20240406T193000
DTSTAMP:20260425T104530
CREATED:20240112T175527Z
LAST-MODIFIED:20240112T175653Z
UID:10003126-1712428200-1712431800@stjameshydepark.org
SUMMARY:Compline (Remote)
DESCRIPTION:
URL:https://stjameshydepark.org/event/compline-remote-3-2023-01-07-2/2024-04-06/
LOCATION:Online
CATEGORIES:Worship
END:VEVENT
BEGIN:VEVENT
DTSTART;VALUE=DATE:20240407
DTEND;VALUE=DATE:20240408
DTSTAMP:20260425T104530
CREATED:20240117T150908Z
LAST-MODIFIED:20240117T150908Z
UID:10003333-1712448000-1712534399@stjameshydepark.org
SUMMARY:Supply for 8am and 10AM
DESCRIPTION:
URL:https://stjameshydepark.org/event/supply-for-8am-and-10am/
LOCATION:St. James’ Episcopal Church\, 4526 Albany Post Rd.\, Hyde Park\, NY\, 12538\, United States
CATEGORIES:Worship
END:VEVENT
BEGIN:VEVENT
DTSTART;TZID=America/New_York:20240407T080000
DTEND;TZID=America/New_York:20240407T090000
DTSTAMP:20260425T104530
CREATED:20231222T015421Z
LAST-MODIFIED:20241213T230031Z
UID:10002845-1712476800-1712480400@stjameshydepark.org
SUMMARY:Holy Eucharist (Rite I)
DESCRIPTION:Join us Sundays at 8:00 a.m. for a celebration of Holy Eucharist (Communion). This is a quiet service\, usually without music\, though we often have a soloist with acoustic guitar playing before and after the service. The service uses Rite 1 from the 1979 Book of Common Prayer\, with traditional language.
URL:https://stjameshydepark.org/event/2024-eucharist-8am/2024-04-07/
LOCATION:St. James’ Episcopal Church\, 4526 Albany Post Rd.\, Hyde Park\, NY\, 12538\, United States
CATEGORIES:Worship
END:VEVENT
BEGIN:VEVENT
DTSTART;TZID=America/New_York:20240407T091500
DTEND;TZID=America/New_York:20240407T094500
DTSTAMP:20260425T104530
CREATED:20240403T163142Z
LAST-MODIFIED:20240403T163142Z
UID:10003674-1712481300-1712483100@stjameshydepark.org
SUMMARY:"Mary Strong" Rosary Prayer Group
DESCRIPTION:The “Mary Strong” rosary prayer group meets between our 8 and 10 am services\, on Sundays at 9:15 am in the church\, starting April 7th. \nNever prayed the rosary before? No problem! This group will teach you everything you need to know. \nYes\, Episcopalians can and do pray the rosary! Just as we ask our friends to pray for us\, we can ask the saints—that great cloud of witnesses—to intercede on our behalf. Praying the rosary draws us close to the heart of St. Mary the God-bearer as we meditate on Jesus’ ministry\, crucifixion\, resurrection and ascension.
URL:https://stjameshydepark.org/event/rosary-prayer-group/2024-04-07/
LOCATION:St. James’ Episcopal Church\, 4526 Albany Post Rd.\, Hyde Park\, NY\, 12538\, United States
CATEGORIES:Christian Formation,Worship
END:VEVENT
BEGIN:VEVENT
DTSTART;TZID=America/New_York:20240407T100000
DTEND;TZID=America/New_York:20240407T113000
DTSTAMP:20260425T104530
CREATED:20231222T014951Z
LAST-MODIFIED:20231222T014951Z
UID:10002741-1712484000-1712489400@stjameshydepark.org
SUMMARY:Holy Eucharist (Rite II) with Sunday School and Coffee Hour
DESCRIPTION:Join us Sundays at 10:00 a.m. for a celebration of Holy Eucharist (Communion). This service has music (usually organ and choir\, along with special guest musicians) and uses a variety of prayers and language from traditional to inclusive and expansive\, drawing from Rite II of the 1979 Book of Common Prayer\, Enriching Our Worship\, and other sources. \nCoffee hour in the Parish House usually follows this service. \nSunday School for kindergarten and up meets today on the second floor of the Parish House at 10:00 a.m. Students will rejoin the congregation just before Holy Communion. New to St. James’ Church? Your kids are welcome to Sunday School any Sunday. More details about St. James’ Sunday School at: https://stjameshydepark.org/for-children/
URL:https://stjameshydepark.org/event/2024-eucharist-rite-ii/2024-04-07/
LOCATION:St. James’ Episcopal Church\, 4526 Albany Post Rd.\, Hyde Park\, NY\, 12538\, United States
CATEGORIES:Worship
END:VEVENT
BEGIN:VEVENT
DTSTART;TZID=America/New_York:20240407T183000
DTEND;TZID=America/New_York:20240407T210000
DTSTAMP:20260425T104530
CREATED:20240112T181055Z
LAST-MODIFIED:20241001T152045Z
UID:10003240-1712514600-1712523600@stjameshydepark.org
SUMMARY:AA Meeting (Parish Hall; Rm. 201)
DESCRIPTION:
URL:https://stjameshydepark.org/event/aa-meeting-parish-hall-rm-201-2/2024-04-07/
LOCATION:St. James’ Episcopal Church\, 4526 Albany Post Rd.\, Hyde Park\, NY\, 12538\, United States
CATEGORIES:General
END:VEVENT
BEGIN:VEVENT
DTSTART;VALUE=DATE:20240408
DTEND;VALUE=DATE:20240409
DTSTAMP:20260425T104530
CREATED:20240112T172541Z
LAST-MODIFIED:20240112T172541Z
UID:10002963-1712534400-1712620799@stjameshydepark.org
SUMMARY:Parish Office Closed
DESCRIPTION:
URL:https://stjameshydepark.org/event/parish-office-closed-4/2024-04-08/
LOCATION:St. James’ Episcopal Church\, 4526 Albany Post Rd.\, Hyde Park\, NY\, 12538\, United States
CATEGORIES:General
END:VEVENT
BEGIN:VEVENT
DTSTART;TZID=America/New_York:20240408T103000
DTEND;TZID=America/New_York:20240408T120000
DTSTAMP:20260425T104530
CREATED:20240208T172616Z
LAST-MODIFIED:20240515T185656Z
UID:10003636-1712572200-1712577600@stjameshydepark.org
SUMMARY:Co-Working (Wilks Room or Parish Hall)
DESCRIPTION:
URL:https://stjameshydepark.org/event/co-working-wilks-room/2024-04-08/
LOCATION:St. James’ Episcopal Church\, 4526 Albany Post Rd.\, Hyde Park\, NY\, 12538\, United States
END:VEVENT
BEGIN:VEVENT
DTSTART;TZID=America/New_York:20240408T140000
DTEND;TZID=America/New_York:20240408T160000
DTSTAMP:20260425T104530
CREATED:20240112T141137Z
LAST-MODIFIED:20241009T191510Z
UID:10002910-1712584800-1712592000@stjameshydepark.org
SUMMARY:Knitters and Crafters Group (Wilks Room)
DESCRIPTION:A New Group! A community of crafters begins on Mondays starting February 5\, from 2- 4 pm (drop-in). \nAll are welcome: knitters\, crocheters\, embroiderers\, crocheters\, conversationalists and miscellaneous other activities. No particular talent required. Meet in the Wilks Room at St. James Parish Hall.
URL:https://stjameshydepark.org/event/knitters-crafters/2024-04-08/
LOCATION:St. James’ Episcopal Church\, 4526 Albany Post Rd.\, Hyde Park\, NY\, 12538\, United States
CATEGORIES:Fun
END:VEVENT
BEGIN:VEVENT
DTSTART;TZID=America/New_York:20240408T190000
DTEND;TZID=America/New_York:20240408T210000
DTSTAMP:20260425T104530
CREATED:20240124T135641Z
LAST-MODIFIED:20240815T140901Z
UID:10003915-1712602800-1712610000@stjameshydepark.org
SUMMARY:Girl Scout Troop 10015 Meeting (Parish Hall)
DESCRIPTION:
URL:https://stjameshydepark.org/event/girl-scout-troop-10015-meeting-parish-hall-4/2024-04-08/
LOCATION:St. James’ Episcopal Church\, 4526 Albany Post Rd.\, Hyde Park\, NY\, 12538\, United States
CATEGORIES:General
END:VEVENT
BEGIN:VEVENT
DTSTART;TZID=America/New_York:20240409T180000
DTEND;TZID=America/New_York:20240409T200000
DTSTAMP:20260425T104530
CREATED:20240216T174259Z
LAST-MODIFIED:20240317T170047Z
UID:10003610-1712685600-1712692800@stjameshydepark.org
SUMMARY:[New Deal] "Chicago" Rehearsal (Classrooms)
DESCRIPTION:
URL:https://stjameshydepark.org/event/chicago-classrooms/2024-04-09/
LOCATION:St. James’ Episcopal Church\, 4526 Albany Post Rd.\, Hyde Park\, NY\, 12538\, United States
CATEGORIES:New Deal
END:VEVENT
BEGIN:VEVENT
DTSTART;TZID=America/New_York:20240409T183000
DTEND;TZID=America/New_York:20240409T200000
DTSTAMP:20260425T104530
CREATED:20240319T145238Z
LAST-MODIFIED:20240319T145238Z
UID:10003623-1712687400-1712692800@stjameshydepark.org
SUMMARY:Nursery School Meeting (Wilks Room)
DESCRIPTION:
URL:https://stjameshydepark.org/event/nursery-school-meeting-wilks-room/
LOCATION:St. James’ Episcopal Church\, 4526 Albany Post Rd.\, Hyde Park\, NY\, 12538\, United States
END:VEVENT
BEGIN:VEVENT
DTSTART;TZID=America/New_York:20240409T190000
DTEND;TZID=America/New_York:20240409T200000
DTSTAMP:20260425T104530
CREATED:20240112T173633Z
LAST-MODIFIED:20240216T165320Z
UID:10003026-1712689200-1712692800@stjameshydepark.org
SUMMARY:Boy Scouts Troop 80 (Parish Hall)
DESCRIPTION:
URL:https://stjameshydepark.org/event/boy-scouts-troop-80-parish-hall-rm-203-2-2/2024-04-09/
LOCATION:St. James’ Episcopal Church\, 4526 Albany Post Rd.\, Hyde Park\, NY\, 12538\, United States
CATEGORIES:General
END:VEVENT
BEGIN:VEVENT
DTSTART;VALUE=DATE:20240410
DTEND;VALUE=DATE:20240411
DTSTAMP:20260425T104530
CREATED:20240403T184048Z
LAST-MODIFIED:20240403T184048Z
UID:10003734-1712707200-1712793599@stjameshydepark.org
SUMMARY:Parish House & Nursery School Closed for Electric Work
DESCRIPTION:
URL:https://stjameshydepark.org/event/parish-house-nursery-school-closed-for-electric-work/
LOCATION:HP Farmers Market
CATEGORIES:Nursery School,One Time Event
END:VEVENT
BEGIN:VEVENT
DTSTART;TZID=America/New_York:20240410T110000
DTEND;TZID=America/New_York:20240410T120000
DTSTAMP:20260425T104530
CREATED:20240321T190859Z
LAST-MODIFIED:20240321T190901Z
UID:10003415-1712746800-1712750400@stjameshydepark.org
SUMMARY:No Bible Study on April 10th
DESCRIPTION:NO BIBLE STUDY APRIL 3rd or 1oth \nOur weekly Bible study on Zoom usually focuses on the Gospel for the upcoming Sunday and is led by Mtr. Meredith. We practice a contemplative\, prayerful style of Bible study that focuses on how God is speaking to us through our questions\, responses\, curiosities and doubts as we engage Scripture.  \nThe study is followed by a brief\, optional service of noonday prayer. \nJoin in any Wednesday at 11 am. No previous preparation is required. The Zoom link is distributed via our weekly email newsletter (or contact the parish office). \n 
URL:https://stjameshydepark.org/event/bible-study-2024-3/
LOCATION:Online
CATEGORIES:Christian Formation
END:VEVENT
BEGIN:VEVENT
DTSTART;TZID=America/New_York:20240410T180000
DTEND;TZID=America/New_York:20240410T200000
DTSTAMP:20260425T104530
CREATED:20240130T135022Z
LAST-MODIFIED:20240806T181522Z
UID:10003388-1712772000-1712779200@stjameshydepark.org
SUMMARY:Women's Group (Antonella's in Hyde Park)
DESCRIPTION:Women’s Group will be meeting at 6 PM on the following dates this Fall:\nSept. 11\nOct. 9\nNov. 13                                                                                                                                                                                                                                                                                                                                      Dec 11\nHope you can join us! Please see Dyan in the Parish Office for $20\, if that is helpful for you to attend!\nWe meet in the back room of Antonella’s in Hyde Park. They graciously provide us with separate checks\, so join for anything from a coffee to a 3 course meal! We laugh\, cry\, and grow together as a St. James’ family.
URL:https://stjameshydepark.org/event/womens-group-antonellas-in-hyde-park-2/2024-04-10/
LOCATION:Antonella’s Restaurant\, Hyde Park\, NY\, 4246 Albany Post Rd #1700\, Hyde Park\, NY\, 12538\, United States
CATEGORIES:Women's Group
END:VEVENT
BEGIN:VEVENT
DTSTART;TZID=America/New_York:20240410T183000
DTEND;TZID=America/New_York:20240410T193000
DTSTAMP:20260425T104530
CREATED:20240112T175112Z
LAST-MODIFIED:20240112T175307Z
UID:10003077-1712773800-1712777400@stjameshydepark.org
SUMMARY:Evening Prayer (Remote)
DESCRIPTION:
URL:https://stjameshydepark.org/event/evening-prayer-remote-2-2/2024-04-10/
LOCATION:Online
CATEGORIES:Worship
END:VEVENT
BEGIN:VEVENT
DTSTART;TZID=America/New_York:20240410T190000
DTEND;TZID=America/New_York:20240410T200000
DTSTAMP:20260425T104530
CREATED:20240216T180456Z
LAST-MODIFIED:20240218T205501Z
UID:10003544-1712775600-1712779200@stjameshydepark.org
SUMMARY:[New Deal] Adult Tap (Parish Hall)
DESCRIPTION:
URL:https://stjameshydepark.org/event/adult-tap-parish-hall-2/2024-04-10/
LOCATION:St. James’ Episcopal Church\, 4526 Albany Post Rd.\, Hyde Park\, NY\, 12538\, United States
CATEGORIES:New Deal
END:VEVENT
BEGIN:VEVENT
DTSTART;TZID=America/New_York:20240412T103000
DTEND;TZID=America/New_York:20240412T120000
DTSTAMP:20260425T104530
CREATED:20240208T172616Z
LAST-MODIFIED:20240515T185656Z
UID:10003638-1712917800-1712923200@stjameshydepark.org
SUMMARY:Co-Working (Wilks Room or Parish Hall)
DESCRIPTION:
URL:https://stjameshydepark.org/event/co-working-wilks-room/2024-04-12/
LOCATION:St. James’ Episcopal Church\, 4526 Albany Post Rd.\, Hyde Park\, NY\, 12538\, United States
END:VEVENT
BEGIN:VEVENT
DTSTART;TZID=America/New_York:20240413T100000
DTEND;TZID=America/New_York:20240413T120000
DTSTAMP:20260425T104530
CREATED:20240301T184452Z
LAST-MODIFIED:20240301T184608Z
UID:10003590-1713002400-1713009600@stjameshydepark.org
SUMMARY:Eames Funeral (Church & Churchyard)
DESCRIPTION:
URL:https://stjameshydepark.org/event/eames-funeral-church/
LOCATION:St. James’ Episcopal Church\, 4526 Albany Post Rd.\, Hyde Park\, NY\, 12538\, United States
END:VEVENT
BEGIN:VEVENT
DTSTART;TZID=America/New_York:20240413T100000
DTEND;TZID=America/New_York:20240413T140000
DTSTAMP:20260425T104530
CREATED:20240312T135449Z
LAST-MODIFIED:20240317T171043Z
UID:10003515-1713002400-1713016800@stjameshydepark.org
SUMMARY:[New Deal] "Chicago" Rehearsal (Classrooms)
DESCRIPTION:
URL:https://stjameshydepark.org/event/chicago-classrooms-sat-apr-13/
LOCATION:St. James’ Episcopal Church\, 4526 Albany Post Rd.\, Hyde Park\, NY\, 12538\, United States
CATEGORIES:New Deal
END:VEVENT
BEGIN:VEVENT
DTSTART;TZID=America/New_York:20240413T110000
DTEND;TZID=America/New_York:20240413T150000
DTSTAMP:20260425T104530
CREATED:20240206T141716Z
LAST-MODIFIED:20240403T162500Z
UID:10003453-1713006000-1713020400@stjameshydepark.org
SUMMARY:Youth Group Service Day (Parish Hall & Kitchen)
DESCRIPTION:Our Youth Group (grades 7-12) will meet up in the Parish Hall on Saturday\, April 13th from 11:30 to 3:30 for a service day. We’re planning to: \n\nPrepare a hot Easter-themed meal (think ham and your fave sides and desserts) to be delivered to our neighbors experiencing homelessness in Poughkeepsie\nDecorate Easter Eggs to be shared with the same folks\nPrepare birthday cake kits to be distributed by the Hyde Park Food Pantry\n\nPlease RSVP to Kerri Palermo kmpjgp@gmail.com or 914-489-2616.
URL:https://stjameshydepark.org/event/youth-group-apr-2024/
LOCATION:St. James’ Episcopal Church\, 4526 Albany Post Rd.\, Hyde Park\, NY\, 12538\, United States
CATEGORIES:Kids & Youth,Outreach
END:VEVENT
BEGIN:VEVENT
DTSTART;TZID=America/New_York:20240413T170000
DTEND;TZID=America/New_York:20240413T230000
DTSTAMP:20260425T104530
CREATED:20240320T145122Z
LAST-MODIFIED:20240320T145122Z
UID:10003624-1713027600-1713049200@stjameshydepark.org
SUMMARY:Birthday Party (Parish Hall)
DESCRIPTION:
URL:https://stjameshydepark.org/event/birthday-party-parish-hall/
LOCATION:St. James’ Episcopal Church\, 4526 Albany Post Rd.\, Hyde Park\, NY\, 12538\, United States
END:VEVENT
BEGIN:VEVENT
DTSTART;TZID=America/New_York:20240413T183000
DTEND;TZID=America/New_York:20240413T193000
DTSTAMP:20260425T104530
CREATED:20240112T175527Z
LAST-MODIFIED:20240112T175653Z
UID:10003127-1713033000-1713036600@stjameshydepark.org
SUMMARY:Compline (Remote)
DESCRIPTION:
URL:https://stjameshydepark.org/event/compline-remote-3-2023-01-07-2/2024-04-13/
LOCATION:Online
CATEGORIES:Worship
END:VEVENT
BEGIN:VEVENT
DTSTART;TZID=America/New_York:20240414T080000
DTEND;TZID=America/New_York:20240414T090000
DTSTAMP:20260425T104530
CREATED:20231222T015421Z
LAST-MODIFIED:20241213T230031Z
UID:10002846-1713081600-1713085200@stjameshydepark.org
SUMMARY:Holy Eucharist (Rite I)
DESCRIPTION:Join us Sundays at 8:00 a.m. for a celebration of Holy Eucharist (Communion). This is a quiet service\, usually without music\, though we often have a soloist with acoustic guitar playing before and after the service. The service uses Rite 1 from the 1979 Book of Common Prayer\, with traditional language.
URL:https://stjameshydepark.org/event/2024-eucharist-8am/2024-04-14/
LOCATION:St. James’ Episcopal Church\, 4526 Albany Post Rd.\, Hyde Park\, NY\, 12538\, United States
CATEGORIES:Worship
END:VEVENT
BEGIN:VEVENT
DTSTART;TZID=America/New_York:20240414T091500
DTEND;TZID=America/New_York:20240414T094500
DTSTAMP:20260425T104530
CREATED:20240403T163142Z
LAST-MODIFIED:20240403T163142Z
UID:10003675-1713086100-1713087900@stjameshydepark.org
SUMMARY:"Mary Strong" Rosary Prayer Group
DESCRIPTION:The “Mary Strong” rosary prayer group meets between our 8 and 10 am services\, on Sundays at 9:15 am in the church\, starting April 7th. \nNever prayed the rosary before? No problem! This group will teach you everything you need to know. \nYes\, Episcopalians can and do pray the rosary! Just as we ask our friends to pray for us\, we can ask the saints—that great cloud of witnesses—to intercede on our behalf. Praying the rosary draws us close to the heart of St. Mary the God-bearer as we meditate on Jesus’ ministry\, crucifixion\, resurrection and ascension.
URL:https://stjameshydepark.org/event/rosary-prayer-group/2024-04-14/
LOCATION:St. James’ Episcopal Church\, 4526 Albany Post Rd.\, Hyde Park\, NY\, 12538\, United States
CATEGORIES:Christian Formation,Worship
END:VEVENT
BEGIN:VEVENT
DTSTART;TZID=America/New_York:20240414T100000
DTEND;TZID=America/New_York:20240414T113000
DTSTAMP:20260425T104530
CREATED:20231222T014951Z
LAST-MODIFIED:20231222T014951Z
UID:10002742-1713088800-1713094200@stjameshydepark.org
SUMMARY:Holy Eucharist (Rite II) with Sunday School and Coffee Hour
DESCRIPTION:Join us Sundays at 10:00 a.m. for a celebration of Holy Eucharist (Communion). This service has music (usually organ and choir\, along with special guest musicians) and uses a variety of prayers and language from traditional to inclusive and expansive\, drawing from Rite II of the 1979 Book of Common Prayer\, Enriching Our Worship\, and other sources. \nCoffee hour in the Parish House usually follows this service. \nSunday School for kindergarten and up meets today on the second floor of the Parish House at 10:00 a.m. Students will rejoin the congregation just before Holy Communion. New to St. James’ Church? Your kids are welcome to Sunday School any Sunday. More details about St. James’ Sunday School at: https://stjameshydepark.org/for-children/
URL:https://stjameshydepark.org/event/2024-eucharist-rite-ii/2024-04-14/
LOCATION:St. James’ Episcopal Church\, 4526 Albany Post Rd.\, Hyde Park\, NY\, 12538\, United States
CATEGORIES:Worship
END:VEVENT
BEGIN:VEVENT
DTSTART;TZID=America/New_York:20240414T130000
DTEND;TZID=America/New_York:20240414T143000
DTSTAMP:20260425T104530
CREATED:20240218T204537Z
LAST-MODIFIED:20240218T204537Z
UID:10003583-1713099600-1713105000@stjameshydepark.org
SUMMARY:Sunday School Visit to the Dutchess SPCA!
DESCRIPTION:On Sunday\, April 14th at 1 pm\, the St. James’ Sunday School will take a tour of the Dutchess County SPCA! We’ll have pizza together after church before we head over to visit and meet the animals.
URL:https://stjameshydepark.org/event/sunday-school-visit-to-the-dutchess-spca/
LOCATION:St. James’ Episcopal Church\, 4526 Albany Post Rd.\, Hyde Park\, NY\, 12538\, United States
CATEGORIES:Fun,Kids & Youth
END:VEVENT
END:VCALENDAR