BEGIN:VCALENDAR
VERSION:2.0
PRODID:-//St. James&#039; Episcopal Church - ECPv6.15.20//NONSGML v1.0//EN
CALSCALE:GREGORIAN
METHOD:PUBLISH
X-ORIGINAL-URL:https://stjameshydepark.org
X-WR-CALDESC:Events for St. James&#039; Episcopal Church
REFRESH-INTERVAL;VALUE=DURATION:PT1H
X-Robots-Tag:noindex
X-PUBLISHED-TTL:PT1H
BEGIN:VTIMEZONE
TZID:America/New_York
BEGIN:DAYLIGHT
TZOFFSETFROM:-0500
TZOFFSETTO:-0400
TZNAME:EDT
DTSTART:20230312T070000
END:DAYLIGHT
BEGIN:STANDARD
TZOFFSETFROM:-0400
TZOFFSETTO:-0500
TZNAME:EST
DTSTART:20231105T060000
END:STANDARD
BEGIN:DAYLIGHT
TZOFFSETFROM:-0500
TZOFFSETTO:-0400
TZNAME:EDT
DTSTART:20240310T070000
END:DAYLIGHT
BEGIN:STANDARD
TZOFFSETFROM:-0400
TZOFFSETTO:-0500
TZNAME:EST
DTSTART:20241103T060000
END:STANDARD
BEGIN:DAYLIGHT
TZOFFSETFROM:-0500
TZOFFSETTO:-0400
TZNAME:EDT
DTSTART:20250309T070000
END:DAYLIGHT
BEGIN:STANDARD
TZOFFSETFROM:-0400
TZOFFSETTO:-0500
TZNAME:EST
DTSTART:20251102T060000
END:STANDARD
END:VTIMEZONE
BEGIN:VEVENT
DTSTART;TZID=America/New_York:20240227T180000
DTEND;TZID=America/New_York:20240227T183000
DTSTAMP:20260425T111511
CREATED:20240207T184536Z
LAST-MODIFIED:20240207T184536Z
UID:10003459-1709056800-1709058600@stjameshydepark.org
SUMMARY:Centering Prayer (Church)
DESCRIPTION:Centering prayer is a type of meditation with a long history in the Christian tradition\, beginning with the 14th century English monk who wrote The Cloud of Unknowing. But you don’t need to be a monk or a mystic to practice centering prayer and experience its benefits. Lent is the perfect time to enter the quiet of this practice. Beginners welcome. Sessions will last about 30 minutes. Tuesdays at 6 pm in the church (starting 2/20). \nLed by Tessa Kale\, who has taken many retreats on centering prayer with Cynthia Bourgeault and is a participant in her Wisdom School.
URL:https://stjameshydepark.org/event/centering-prayer/2024-02-27/
LOCATION:St. James’ Episcopal Church\, 4526 Albany Post Rd.\, Hyde Park\, NY\, 12538\, United States
CATEGORIES:Christian Formation,Lent
ATTACH;FMTTYPE=image/png:https://stjameshydepark.org/wp-content/uploads/2024/02/Centering-Prayer.png
END:VEVENT
BEGIN:VEVENT
DTSTART;TZID=America/New_York:20240227T180000
DTEND;TZID=America/New_York:20240227T193000
DTSTAMP:20260425T111511
CREATED:20240207T191135Z
LAST-MODIFIED:20240207T191247Z
UID:10003463-1709056800-1709062200@stjameshydepark.org
SUMMARY:Men's Group Dinner (Antonella's Restaurant)
DESCRIPTION:Men’s Group is starting back up!\nAll welcome! Join in Tuesday\, February 28th at 6 pm in the back room of Antonella’s Restaurant. Questions? Please see Joe Gasparini (call/text 845-475-4717) or Mike Glancey.
URL:https://stjameshydepark.org/event/mens-group/
LOCATION:Antonella’s Restaurant\, Hyde Park\, NY\, 4246 Albany Post Rd #1700\, Hyde Park\, NY\, 12538\, United States
CATEGORIES:Fun
END:VEVENT
BEGIN:VEVENT
DTSTART;TZID=America/New_York:20240227T190000
DTEND;TZID=America/New_York:20240227T200000
DTSTAMP:20260425T111511
CREATED:20240112T173633Z
LAST-MODIFIED:20240216T165320Z
UID:10003020-1709060400-1709064000@stjameshydepark.org
SUMMARY:Boy Scouts Troop 80 (Parish Hall)
DESCRIPTION:
URL:https://stjameshydepark.org/event/boy-scouts-troop-80-parish-hall-rm-203-2-2/2024-02-27/
LOCATION:St. James’ Episcopal Church\, 4526 Albany Post Rd.\, Hyde Park\, NY\, 12538\, United States
CATEGORIES:General
END:VEVENT
BEGIN:VEVENT
DTSTART;TZID=America/New_York:20240228T110000
DTEND;TZID=America/New_York:20240228T120000
DTSTAMP:20260425T111511
CREATED:20240203T231706Z
LAST-MODIFIED:20240508T020856Z
UID:10003409-1709118000-1709121600@stjameshydepark.org
SUMMARY:Bible Study
DESCRIPTION:Our weekly Bible study on Zoom usually focuses on the Gospel for the upcoming Sunday and is led by Mtr. Meredith. We practice a contemplative\, prayerful style of Bible study that focuses on how God is speaking to us through our questions\, responses\, curiosities and doubts as we engage Scripture.  \nThe study is followed by a brief\, optional service of noonday prayer. \nJoin in any Wednesday at 11 am. No previous preparation is required. The Zoom link is distributed via our weekly email newsletter (or contact the parish office). \n 
URL:https://stjameshydepark.org/event/bible-study-2024/2024-02-28/
LOCATION:Online
CATEGORIES:Christian Formation
ATTACH;FMTTYPE=image/png:https://stjameshydepark.org/wp-content/uploads/2024/05/Bible-Study.png
END:VEVENT
BEGIN:VEVENT
DTSTART;TZID=America/New_York:20240228T183000
DTEND;TZID=America/New_York:20240228T193000
DTSTAMP:20260425T111511
CREATED:20240112T175112Z
LAST-MODIFIED:20240112T175307Z
UID:10003071-1709145000-1709148600@stjameshydepark.org
SUMMARY:Evening Prayer (Remote)
DESCRIPTION:
URL:https://stjameshydepark.org/event/evening-prayer-remote-2-2/2024-02-28/
LOCATION:Online
CATEGORIES:Worship
END:VEVENT
BEGIN:VEVENT
DTSTART;TZID=America/New_York:20240228T190000
DTEND;TZID=America/New_York:20240228T210000
DTSTAMP:20260425T111511
CREATED:20240117T162621Z
LAST-MODIFIED:20240117T211034Z
UID:10003341-1709146800-1709154000@stjameshydepark.org
SUMMARY:Vestry Meeting (Wilks Room)
DESCRIPTION:
URL:https://stjameshydepark.org/event/vestry-meetings-2024/2024-02-28/
LOCATION:St. James’ Episcopal Church\, 4526 Albany Post Rd.\, Hyde Park\, NY\, 12538\, United States
CATEGORIES:General
END:VEVENT
BEGIN:VEVENT
DTSTART;TZID=America/New_York:20240229T190000
DTEND;TZID=America/New_York:20240229T200000
DTSTAMP:20260425T111511
CREATED:20240121T102924Z
LAST-MODIFIED:20240121T103028Z
UID:10003369-1709233200-1709236800@stjameshydepark.org
SUMMARY:Diocesan Mission Review Listening Session
DESCRIPTION:Register for the listening session: https://dioceseny.zoom.us/meeting/register/tZErcumgqDoiH9FijdXV6Ab4JabT__NEJo1a#/registration \nAs we prepare for the installation of our 17th Bishop this February\, the Diocese of New York is beginning a Mission Review process.  \nThe goal of the Mission Review will be to set shared priorities and align diocesan leadership structures and budget with the needs of local communities. Every parish and ministry of the diocese will participate.  \nThe process will begin in January 2024\, with a series of listening sessions. The listening session for our area will take place on February 29th at 7:00 pm on Zoom. Please save the date! This will be an opportunity for the Mission Review task force to listen to the hopes and needs of our community.  \nA full report of the Mission Review and next steps will be shared at Diocesan Convention in November\, 2024. You can register for the listening session here. Everyone is welcome.  \nA follow-up survey will be sent out after the listening session for further feedback.” \nRegister for the listening session: https://dioceseny.zoom.us/meeting/register/tZErcumgqDoiH9FijdXV6Ab4JabT__NEJo1a#/registration
URL:https://stjameshydepark.org/event/diocesan-mission-review-listening-session/
LOCATION:Online
CATEGORIES:Governance
ATTACH;FMTTYPE=image/png:https://stjameshydepark.org/wp-content/uploads/2024/01/Dutchess-Deanery-Mission-Review-Listening-Session-Graphic-Square.png
END:VEVENT
BEGIN:VEVENT
DTSTART;TZID=America/New_York:20240302T183000
DTEND;TZID=America/New_York:20240302T193000
DTSTAMP:20260425T111511
CREATED:20240112T175527Z
LAST-MODIFIED:20240112T175653Z
UID:10003121-1709404200-1709407800@stjameshydepark.org
SUMMARY:Compline (Remote)
DESCRIPTION:
URL:https://stjameshydepark.org/event/compline-remote-3-2023-01-07-2/2024-03-02/
LOCATION:Online
CATEGORIES:Worship
END:VEVENT
BEGIN:VEVENT
DTSTART;TZID=America/New_York:20240303T080000
DTEND;TZID=America/New_York:20240303T090000
DTSTAMP:20260425T111511
CREATED:20231222T015421Z
LAST-MODIFIED:20241213T230031Z
UID:10002840-1709452800-1709456400@stjameshydepark.org
SUMMARY:Holy Eucharist (Rite I)
DESCRIPTION:Join us Sundays at 8:00 a.m. for a celebration of Holy Eucharist (Communion). This is a quiet service\, usually without music\, though we often have a soloist with acoustic guitar playing before and after the service. The service uses Rite 1 from the 1979 Book of Common Prayer\, with traditional language.
URL:https://stjameshydepark.org/event/2024-eucharist-8am/2024-03-03/
LOCATION:St. James’ Episcopal Church\, 4526 Albany Post Rd.\, Hyde Park\, NY\, 12538\, United States
CATEGORIES:Worship
END:VEVENT
BEGIN:VEVENT
DTSTART;TZID=America/New_York:20240303T090000
DTEND;TZID=America/New_York:20240303T100000
DTSTAMP:20260425T111511
CREATED:20240117T152356Z
LAST-MODIFIED:20240118T114853Z
UID:10003336-1709456400-1709460000@stjameshydepark.org
SUMMARY:Lenten Breakfast (Parish Hall)
DESCRIPTION:Sundays in Lent are little feasts—let’s break our fasts together with our beloved Lenten Breakfasts! \nJoin us in the Parish Hall for a delicious hot breakfast and good company at 9 am on Sundays in Lent\, February 25th through March 17th. There will be no Coffee Hour after the 10 am service on these Sundays. \nThanks to the Vestry and other volunteers for sponsoring these breafkasts!
URL:https://stjameshydepark.org/event/lenten-breakfast-parish-hall-2/2024-03-03/
LOCATION:St. James’ Episcopal Church\, 4526 Albany Post Rd.\, Hyde Park\, NY\, 12538\, United States
CATEGORIES:Fun
ATTACH;FMTTYPE=image/png:https://stjameshydepark.org/wp-content/uploads/2024/01/Lenten-Breakfasts-2024.png
END:VEVENT
BEGIN:VEVENT
DTSTART;TZID=America/New_York:20240303T100000
DTEND;TZID=America/New_York:20240303T113000
DTSTAMP:20260425T111511
CREATED:20240117T155053Z
LAST-MODIFIED:20240117T155054Z
UID:10002736-1709460000-1709465400@stjameshydepark.org
SUMMARY:Holy Eucharist (Rite II) with Sunday School (no Coffee Hour today)
DESCRIPTION:Join us Sundays at 10:00 a.m. for a celebration of Holy Eucharist (Communion). This service has music (usually organ and choir\, along with special guest musicians) and uses a variety of prayers and language from traditional to inclusive and expansive\, drawing from Rite II of the 1979 Book of Common Prayer\, Enriching Our Worship\, and other sources. \nBecause a Lenten Breakfast is being served today at 9 am (all are welcome!) there is no Coffee Hour after this service. \nSunday School for kindergarten and up meets today on the second floor of the Parish House at 10:00 a.m. Students will rejoin the congregation just before Holy Communion. New to St. James’ Church? Your kids are welcome to Sunday School any Sunday. More details about St. James’ Sunday School at: https://stjameshydepark.org/for-children/
URL:https://stjameshydepark.org/event/2024-eucharist-rite-ii-4/
LOCATION:St. James’ Episcopal Church\, 4526 Albany Post Rd.\, Hyde Park\, NY\, 12538\, United States
CATEGORIES:Worship
END:VEVENT
BEGIN:VEVENT
DTSTART;TZID=America/New_York:20240303T183000
DTEND;TZID=America/New_York:20240303T210000
DTSTAMP:20260425T111511
CREATED:20240112T181055Z
LAST-MODIFIED:20241001T152045Z
UID:10003235-1709490600-1709499600@stjameshydepark.org
SUMMARY:AA Meeting (Parish Hall; Rm. 201)
DESCRIPTION:
URL:https://stjameshydepark.org/event/aa-meeting-parish-hall-rm-201-2/2024-03-03/
LOCATION:St. James’ Episcopal Church\, 4526 Albany Post Rd.\, Hyde Park\, NY\, 12538\, United States
CATEGORIES:General
END:VEVENT
BEGIN:VEVENT
DTSTART;VALUE=DATE:20240304
DTEND;VALUE=DATE:20240305
DTSTAMP:20260425T111511
CREATED:20240112T172541Z
LAST-MODIFIED:20240112T172541Z
UID:10002958-1709510400-1709596799@stjameshydepark.org
SUMMARY:Parish Office Closed
DESCRIPTION:
URL:https://stjameshydepark.org/event/parish-office-closed-4/2024-03-04/
LOCATION:St. James’ Episcopal Church\, 4526 Albany Post Rd.\, Hyde Park\, NY\, 12538\, United States
CATEGORIES:General
END:VEVENT
BEGIN:VEVENT
DTSTART;TZID=America/New_York:20240304T140000
DTEND;TZID=America/New_York:20240304T160000
DTSTAMP:20260425T111511
CREATED:20240112T141137Z
LAST-MODIFIED:20241009T191510Z
UID:10002905-1709560800-1709568000@stjameshydepark.org
SUMMARY:Knitters and Crafters Group (Wilks Room)
DESCRIPTION:A New Group! A community of crafters begins on Mondays starting February 5\, from 2- 4 pm (drop-in). \nAll are welcome: knitters\, crocheters\, embroiderers\, crocheters\, conversationalists and miscellaneous other activities. No particular talent required. Meet in the Wilks Room at St. James Parish Hall.
URL:https://stjameshydepark.org/event/knitters-crafters/2024-03-04/
LOCATION:St. James’ Episcopal Church\, 4526 Albany Post Rd.\, Hyde Park\, NY\, 12538\, United States
CATEGORIES:Fun
END:VEVENT
BEGIN:VEVENT
DTSTART;TZID=America/New_York:20240305T180000
DTEND;TZID=America/New_York:20240305T183000
DTSTAMP:20260425T111511
CREATED:20240207T184536Z
LAST-MODIFIED:20240207T184536Z
UID:10003460-1709661600-1709663400@stjameshydepark.org
SUMMARY:Centering Prayer (Church)
DESCRIPTION:Centering prayer is a type of meditation with a long history in the Christian tradition\, beginning with the 14th century English monk who wrote The Cloud of Unknowing. But you don’t need to be a monk or a mystic to practice centering prayer and experience its benefits. Lent is the perfect time to enter the quiet of this practice. Beginners welcome. Sessions will last about 30 minutes. Tuesdays at 6 pm in the church (starting 2/20). \nLed by Tessa Kale\, who has taken many retreats on centering prayer with Cynthia Bourgeault and is a participant in her Wisdom School.
URL:https://stjameshydepark.org/event/centering-prayer/2024-03-05/
LOCATION:St. James’ Episcopal Church\, 4526 Albany Post Rd.\, Hyde Park\, NY\, 12538\, United States
CATEGORIES:Christian Formation,Lent
ATTACH;FMTTYPE=image/png:https://stjameshydepark.org/wp-content/uploads/2024/02/Centering-Prayer.png
END:VEVENT
BEGIN:VEVENT
DTSTART;TZID=America/New_York:20240305T190000
DTEND;TZID=America/New_York:20240305T200000
DTSTAMP:20260425T111511
CREATED:20240112T173004Z
LAST-MODIFIED:20240829T144849Z
UID:10003003-1709665200-1709668800@stjameshydepark.org
SUMMARY:Boy Scouts (Wilks Room)
DESCRIPTION:
URL:https://stjameshydepark.org/event/boy-scouts-wilks-room-2/2024-03-05/
LOCATION:St. James’ Episcopal Church\, 4526 Albany Post Rd.\, Hyde Park\, NY\, 12538\, United States
CATEGORIES:General
END:VEVENT
BEGIN:VEVENT
DTSTART;TZID=America/New_York:20240305T190000
DTEND;TZID=America/New_York:20240305T200000
DTSTAMP:20260425T111511
CREATED:20240112T173633Z
LAST-MODIFIED:20240216T165320Z
UID:10003021-1709665200-1709668800@stjameshydepark.org
SUMMARY:Boy Scouts Troop 80 (Parish Hall)
DESCRIPTION:
URL:https://stjameshydepark.org/event/boy-scouts-troop-80-parish-hall-rm-203-2-2/2024-03-05/
LOCATION:St. James’ Episcopal Church\, 4526 Albany Post Rd.\, Hyde Park\, NY\, 12538\, United States
CATEGORIES:General
END:VEVENT
BEGIN:VEVENT
DTSTART;TZID=America/New_York:20240306T110000
DTEND;TZID=America/New_York:20240306T120000
DTSTAMP:20260425T111511
CREATED:20240203T231706Z
LAST-MODIFIED:20240508T020856Z
UID:10003410-1709722800-1709726400@stjameshydepark.org
SUMMARY:Bible Study
DESCRIPTION:Our weekly Bible study on Zoom usually focuses on the Gospel for the upcoming Sunday and is led by Mtr. Meredith. We practice a contemplative\, prayerful style of Bible study that focuses on how God is speaking to us through our questions\, responses\, curiosities and doubts as we engage Scripture.  \nThe study is followed by a brief\, optional service of noonday prayer. \nJoin in any Wednesday at 11 am. No previous preparation is required. The Zoom link is distributed via our weekly email newsletter (or contact the parish office). \n 
URL:https://stjameshydepark.org/event/bible-study-2024/2024-03-06/
LOCATION:Online
CATEGORIES:Christian Formation
ATTACH;FMTTYPE=image/png:https://stjameshydepark.org/wp-content/uploads/2024/05/Bible-Study.png
END:VEVENT
BEGIN:VEVENT
DTSTART;TZID=America/New_York:20240306T183000
DTEND;TZID=America/New_York:20240306T193000
DTSTAMP:20260425T111511
CREATED:20240112T175112Z
LAST-MODIFIED:20240112T175307Z
UID:10003072-1709749800-1709753400@stjameshydepark.org
SUMMARY:Evening Prayer (Remote)
DESCRIPTION:
URL:https://stjameshydepark.org/event/evening-prayer-remote-2-2/2024-03-06/
LOCATION:Online
CATEGORIES:Worship
END:VEVENT
BEGIN:VEVENT
DTSTART;TZID=America/New_York:20240306T183000
DTEND;TZID=America/New_York:20240306T193000
DTSTAMP:20260425T111511
CREATED:20240226T142228Z
LAST-MODIFIED:20240226T142228Z
UID:10003584-1709749800-1709753400@stjameshydepark.org
SUMMARY:Outreach Ministry Meeting (Wilks Room)
DESCRIPTION:
URL:https://stjameshydepark.org/event/outreach-ministry-meeting-wilks-room/
LOCATION:St. James’ Episcopal Church\, 4526 Albany Post Rd.\, Hyde Park\, NY\, 12538\, United States
CATEGORIES:Outreach
END:VEVENT
BEGIN:VEVENT
DTSTART;TZID=America/New_York:20240307T190000
DTEND;TZID=America/New_York:20240307T201500
DTSTAMP:20260425T111511
CREATED:20240131T214909Z
LAST-MODIFIED:20240209T001553Z
UID:10003394-1709838000-1709842500@stjameshydepark.org
SUMMARY:Lenten Study: Meeting God in the Gospel of Mark (Wilks Room)
DESCRIPTION:Mother Meredith will offer a 3-session Lenten Book Study on the Gospel of Mark on Thursdays in Lent\, March 7th\, 14th\, and 21st at 7 pm. We’ll meet in the Wilks Room. Each session will be followed by a 15-minute service of Compline (the Church’s bedtime prayer) at 8 pm. \nWe’ll read and discuss Mark’s Gospel alongside Archbishop Rowan Williams’ book Meeting God in Mark. This short (just 75 pages!) but mighty study book is available for about $11 from any bookseller or massive online retailer. Please read the introduction and first chapter prior to the first session. \nDownload the Lenten Reading Plan for the Gospel of Mark\, from Meeting God in Mark. There is a reading for each day\, Monday to Saturday\, and a Sunday reflection. Starting on Ash Wednesday and reading a chapter or less each day\, you’ll finish the Gospel of Mark by Easter Sunday.
URL:https://stjameshydepark.org/event/lent-study-mark/2024-03-07/
LOCATION:St. James’ Episcopal Church\, 4526 Albany Post Rd.\, Hyde Park\, NY\, 12538\, United States
CATEGORIES:Christian Formation,Lent
ATTACH;FMTTYPE=image/png:https://stjameshydepark.org/wp-content/uploads/2024/01/Meeting-God-in-the-Gospel-of-Mark.png
END:VEVENT
BEGIN:VEVENT
DTSTART;TZID=America/New_York:20240309T183000
DTEND;TZID=America/New_York:20240309T193000
DTSTAMP:20260425T111511
CREATED:20240112T175527Z
LAST-MODIFIED:20240112T175653Z
UID:10003122-1710009000-1710012600@stjameshydepark.org
SUMMARY:Compline (Remote)
DESCRIPTION:
URL:https://stjameshydepark.org/event/compline-remote-3-2023-01-07-2/2024-03-09/
LOCATION:Online
CATEGORIES:Worship
END:VEVENT
BEGIN:VEVENT
DTSTART;TZID=America/New_York:20240310T080000
DTEND;TZID=America/New_York:20240310T090000
DTSTAMP:20260425T111511
CREATED:20231222T015421Z
LAST-MODIFIED:20241213T230031Z
UID:10002841-1710057600-1710061200@stjameshydepark.org
SUMMARY:Holy Eucharist (Rite I)
DESCRIPTION:Join us Sundays at 8:00 a.m. for a celebration of Holy Eucharist (Communion). This is a quiet service\, usually without music\, though we often have a soloist with acoustic guitar playing before and after the service. The service uses Rite 1 from the 1979 Book of Common Prayer\, with traditional language.
URL:https://stjameshydepark.org/event/2024-eucharist-8am/2024-03-10/
LOCATION:St. James’ Episcopal Church\, 4526 Albany Post Rd.\, Hyde Park\, NY\, 12538\, United States
CATEGORIES:Worship
END:VEVENT
BEGIN:VEVENT
DTSTART;TZID=America/New_York:20240310T090000
DTEND;TZID=America/New_York:20240310T100000
DTSTAMP:20260425T111511
CREATED:20240117T152356Z
LAST-MODIFIED:20240118T114853Z
UID:10003337-1710061200-1710064800@stjameshydepark.org
SUMMARY:Lenten Breakfast (Parish Hall)
DESCRIPTION:Sundays in Lent are little feasts—let’s break our fasts together with our beloved Lenten Breakfasts! \nJoin us in the Parish Hall for a delicious hot breakfast and good company at 9 am on Sundays in Lent\, February 25th through March 17th. There will be no Coffee Hour after the 10 am service on these Sundays. \nThanks to the Vestry and other volunteers for sponsoring these breafkasts!
URL:https://stjameshydepark.org/event/lenten-breakfast-parish-hall-2/2024-03-10/
LOCATION:St. James’ Episcopal Church\, 4526 Albany Post Rd.\, Hyde Park\, NY\, 12538\, United States
CATEGORIES:Fun
ATTACH;FMTTYPE=image/png:https://stjameshydepark.org/wp-content/uploads/2024/01/Lenten-Breakfasts-2024.png
END:VEVENT
BEGIN:VEVENT
DTSTART;TZID=America/New_York:20240310T100000
DTEND;TZID=America/New_York:20240310T113000
DTSTAMP:20260425T111511
CREATED:20240117T155038Z
LAST-MODIFIED:20240117T155039Z
UID:10002737-1710064800-1710070200@stjameshydepark.org
SUMMARY:Holy Eucharist (Rite II) with Sunday School (no Coffee Hour today)
DESCRIPTION:Join us Sundays at 10:00 a.m. for a celebration of Holy Eucharist (Communion). This service has music (usually organ and choir\, along with special guest musicians) and uses a variety of prayers and language from traditional to inclusive and expansive\, drawing from Rite II of the 1979 Book of Common Prayer\, Enriching Our Worship\, and other sources. \nBecause a Lenten Breakfast is being served today at 9 am (all are welcome!) there is no Coffee Hour after this service. \nSunday School for kindergarten and up meets today on the second floor of the Parish House at 10:00 a.m. Students will rejoin the congregation just before Holy Communion. New to St. James’ Church? Your kids are welcome to Sunday School any Sunday. More details about St. James’ Sunday School at: https://stjameshydepark.org/for-children/
URL:https://stjameshydepark.org/event/2024-eucharist-rite-ii-3/
LOCATION:St. James’ Episcopal Church\, 4526 Albany Post Rd.\, Hyde Park\, NY\, 12538\, United States
CATEGORIES:Worship
END:VEVENT
BEGIN:VEVENT
DTSTART;TZID=America/New_York:20240310T183000
DTEND;TZID=America/New_York:20240310T210000
DTSTAMP:20260425T111511
CREATED:20240112T181055Z
LAST-MODIFIED:20241001T152045Z
UID:10003236-1710095400-1710104400@stjameshydepark.org
SUMMARY:AA Meeting (Parish Hall; Rm. 201)
DESCRIPTION:
URL:https://stjameshydepark.org/event/aa-meeting-parish-hall-rm-201-2/2024-03-10/
LOCATION:St. James’ Episcopal Church\, 4526 Albany Post Rd.\, Hyde Park\, NY\, 12538\, United States
CATEGORIES:General
END:VEVENT
BEGIN:VEVENT
DTSTART;VALUE=DATE:20240311
DTEND;VALUE=DATE:20240312
DTSTAMP:20260425T111511
CREATED:20240112T172541Z
LAST-MODIFIED:20240112T172541Z
UID:10002959-1710115200-1710201599@stjameshydepark.org
SUMMARY:Parish Office Closed
DESCRIPTION:
URL:https://stjameshydepark.org/event/parish-office-closed-4/2024-03-11/
LOCATION:St. James’ Episcopal Church\, 4526 Albany Post Rd.\, Hyde Park\, NY\, 12538\, United States
CATEGORIES:General
END:VEVENT
BEGIN:VEVENT
DTSTART;TZID=America/New_York:20240311T140000
DTEND;TZID=America/New_York:20240311T160000
DTSTAMP:20260425T111511
CREATED:20240112T141137Z
LAST-MODIFIED:20241009T191510Z
UID:10002906-1710165600-1710172800@stjameshydepark.org
SUMMARY:Knitters and Crafters Group (Wilks Room)
DESCRIPTION:A New Group! A community of crafters begins on Mondays starting February 5\, from 2- 4 pm (drop-in). \nAll are welcome: knitters\, crocheters\, embroiderers\, crocheters\, conversationalists and miscellaneous other activities. No particular talent required. Meet in the Wilks Room at St. James Parish Hall.
URL:https://stjameshydepark.org/event/knitters-crafters/2024-03-11/
LOCATION:St. James’ Episcopal Church\, 4526 Albany Post Rd.\, Hyde Park\, NY\, 12538\, United States
CATEGORIES:Fun
END:VEVENT
BEGIN:VEVENT
DTSTART;TZID=America/New_York:20240311T190000
DTEND;TZID=America/New_York:20240311T210000
DTSTAMP:20260425T111511
CREATED:20240124T135641Z
LAST-MODIFIED:20240815T140901Z
UID:10003914-1710183600-1710190800@stjameshydepark.org
SUMMARY:Girl Scout Troop 10015 Meeting (Parish Hall)
DESCRIPTION:
URL:https://stjameshydepark.org/event/girl-scout-troop-10015-meeting-parish-hall-4/2024-03-11/
LOCATION:St. James’ Episcopal Church\, 4526 Albany Post Rd.\, Hyde Park\, NY\, 12538\, United States
CATEGORIES:General
END:VEVENT
BEGIN:VEVENT
DTSTART;TZID=America/New_York:20240312T180000
DTEND;TZID=America/New_York:20240312T183000
DTSTAMP:20260425T111511
CREATED:20240207T184536Z
LAST-MODIFIED:20240207T184536Z
UID:10003461-1710266400-1710268200@stjameshydepark.org
SUMMARY:Centering Prayer (Church)
DESCRIPTION:Centering prayer is a type of meditation with a long history in the Christian tradition\, beginning with the 14th century English monk who wrote The Cloud of Unknowing. But you don’t need to be a monk or a mystic to practice centering prayer and experience its benefits. Lent is the perfect time to enter the quiet of this practice. Beginners welcome. Sessions will last about 30 minutes. Tuesdays at 6 pm in the church (starting 2/20). \nLed by Tessa Kale\, who has taken many retreats on centering prayer with Cynthia Bourgeault and is a participant in her Wisdom School.
URL:https://stjameshydepark.org/event/centering-prayer/2024-03-12/
LOCATION:St. James’ Episcopal Church\, 4526 Albany Post Rd.\, Hyde Park\, NY\, 12538\, United States
CATEGORIES:Christian Formation,Lent
ATTACH;FMTTYPE=image/png:https://stjameshydepark.org/wp-content/uploads/2024/02/Centering-Prayer.png
END:VEVENT
END:VCALENDAR