BEGIN:VCALENDAR
VERSION:2.0
PRODID:-//St. James&#039; Episcopal Church - ECPv6.15.20//NONSGML v1.0//EN
CALSCALE:GREGORIAN
METHOD:PUBLISH
X-ORIGINAL-URL:https://stjameshydepark.org
X-WR-CALDESC:Events for St. James&#039; Episcopal Church
REFRESH-INTERVAL;VALUE=DURATION:PT1H
X-Robots-Tag:noindex
X-PUBLISHED-TTL:PT1H
BEGIN:VTIMEZONE
TZID:America/New_York
BEGIN:DAYLIGHT
TZOFFSETFROM:-0500
TZOFFSETTO:-0400
TZNAME:EDT
DTSTART:20220313T070000
END:DAYLIGHT
BEGIN:STANDARD
TZOFFSETFROM:-0400
TZOFFSETTO:-0500
TZNAME:EST
DTSTART:20221106T060000
END:STANDARD
BEGIN:DAYLIGHT
TZOFFSETFROM:-0500
TZOFFSETTO:-0400
TZNAME:EDT
DTSTART:20230312T070000
END:DAYLIGHT
BEGIN:STANDARD
TZOFFSETFROM:-0400
TZOFFSETTO:-0500
TZNAME:EST
DTSTART:20231105T060000
END:STANDARD
BEGIN:DAYLIGHT
TZOFFSETFROM:-0500
TZOFFSETTO:-0400
TZNAME:EDT
DTSTART:20240310T070000
END:DAYLIGHT
BEGIN:STANDARD
TZOFFSETFROM:-0400
TZOFFSETTO:-0500
TZNAME:EST
DTSTART:20241103T060000
END:STANDARD
END:VTIMEZONE
BEGIN:VEVENT
DTSTART;TZID=America/New_York:20230603T183000
DTEND;TZID=America/New_York:20230603T193000
DTSTAMP:20260425T232555
CREATED:20230112T191110Z
LAST-MODIFIED:20231102T135511Z
UID:10001619-1685817000-1685820600@stjameshydepark.org
SUMMARY:Compline (Remote)
DESCRIPTION:
URL:https://stjameshydepark.org/event/compline-remote-3-2023-01-07/2023-06-03/
LOCATION:Online
CATEGORIES:Worship
END:VEVENT
BEGIN:VEVENT
DTSTART;TZID=America/New_York:20230604T080000
DTEND;TZID=America/New_York:20230604T090000
DTSTAMP:20260425T232555
CREATED:20230110T171732Z
LAST-MODIFIED:20230709T232408Z
UID:10001550-1685865600-1685869200@stjameshydepark.org
SUMMARY:Holy Eucharist (Rite I)
DESCRIPTION:Join us Sundays at 8:00 a.m. for a celebration of Holy Eucharist (Communion). This is a quiet service\, usually without music\, though we often have a soloist with acoustic guitar playing before and after the service. The service uses Rite 1 from the 1979 Book of Common Prayer\, with traditional language.
URL:https://stjameshydepark.org/event/holy-eucharist-rite-i-2023-05-28/2023-06-04/
LOCATION:St. James’ Episcopal Church\, 4526 Albany Post Rd.\, Hyde Park\, NY\, 12538\, United States
CATEGORIES:Worship
END:VEVENT
BEGIN:VEVENT
DTSTART;TZID=America/New_York:20230604T100000
DTEND;TZID=America/New_York:20230604T110000
DTSTAMP:20260425T232555
CREATED:20230104T213823Z
LAST-MODIFIED:20231025T142856Z
UID:10001779-1685872800-1685876400@stjameshydepark.org
SUMMARY:Holy Eucharist (Rite II) No Sunday School
DESCRIPTION:Join us Sundays at 10:00 a.m. for a celebration of Holy Eucharist (Communion). This service has music (usually organ and choir\, along with special guest musicians) and uses a variety of prayers and language from traditional to inclusive and expansive\, drawing from Rite II of the 1979 Book of Common Prayer\, Enriching Our Worship\, and other sources. Coffee hour in the Parish House usually follows this service. \nChildren are invited to join their families in church. \n 
URL:https://stjameshydepark.org/event/holy-eucharist-rite-ii-2023-06-04/
LOCATION:St. James’ Episcopal Church\, 4526 Albany Post Rd.\, Hyde Park\, NY\, 12538\, United States
CATEGORIES:General
END:VEVENT
BEGIN:VEVENT
DTSTART;TZID=America/New_York:20230604T100000
DTEND;TZID=America/New_York:20230604T113000
DTSTAMP:20260425T232555
CREATED:20230709T233422Z
LAST-MODIFIED:20230709T233422Z
UID:10002174-1685872800-1685878200@stjameshydepark.org
SUMMARY:Holy Eucharist\, Rite II with Sunday School and Coffee Hour
DESCRIPTION:Join us Sundays at 10:00 a.m. for a celebration of Holy Eucharist (Communion). This service has music (usually organ and choir\, along with special guest musicians) and uses a variety of prayers and language from traditional to inclusive and expansive\, drawing from Rite II of the 1979 Book of Common Prayer\, Enriching Our Worship\, and other sources. Coffee hour in the Parish House usually follows this service. \nSunday School for kindergarten and up meets today on the second floor of the Parish House at 10:00 a.m. Students will rejoin the congregation just before Holy Communion. New to St. James’? Your kids are welcome to Sunday School any Sunday. More details about St. James’ Sunday School at: https://stjameshydepark.org/for-children/
URL:https://stjameshydepark.org/event/holy-eucharist-rite-ii-spring-2023/2023-06-04/
LOCATION:St. James’ Episcopal Church\, 4526 Albany Post Rd.\, Hyde Park\, NY\, 12538\, United States
CATEGORIES:Kids & Youth,Worship
END:VEVENT
BEGIN:VEVENT
DTSTART;TZID=America/New_York:20230604T111500
DTEND;TZID=America/New_York:20230604T123000
DTSTAMP:20260425T232555
CREATED:20230511T201728Z
LAST-MODIFIED:20230926T162438Z
UID:10002062-1685877300-1685881800@stjameshydepark.org
SUMMARY:Farewell Party for Kim and Kathleen!
DESCRIPTION:All St. James’ members and friends\, and alumni\, families\, and friends of St. James’ Nursery School are invited to a party to honor our retiring Nursery School teachers Kim Illuminate and Kathleen Craft. \nSunday\, June 4th at 11:15 (right after the 10 am service)\nin the Parish Hall of St. James’ Episcopal Church\n4526 Albany Post Road\, Hyde Park
URL:https://stjameshydepark.org/event/farewell-party-for-kim-and-kathleen/
LOCATION:St. James’ Episcopal Church\, 4526 Albany Post Rd.\, Hyde Park\, NY\, 12538\, United States
CATEGORIES:Fun,Nursery School
ATTACH;FMTTYPE=image/jpeg:https://stjameshydepark.org/wp-content/uploads/2023/05/nursery-school-retirement.jpg
END:VEVENT
BEGIN:VEVENT
DTSTART;TZID=America/New_York:20230604T183000
DTEND;TZID=America/New_York:20230604T210000
DTSTAMP:20260425T232555
CREATED:20230315T174027Z
LAST-MODIFIED:20231108T151435Z
UID:10001955-1685903400-1685912400@stjameshydepark.org
SUMMARY:AA Meeting (Parish Hall; Rm. 201)
DESCRIPTION:
URL:https://stjameshydepark.org/event/aa-meeting-parish-hall-rm-201/2023-06-04/
LOCATION:St. James’ Episcopal Church\, 4526 Albany Post Rd.\, Hyde Park\, NY\, 12538\, United States
END:VEVENT
BEGIN:VEVENT
DTSTART;VALUE=DATE:20230605
DTEND;VALUE=DATE:20230606
DTSTAMP:20260425T232555
CREATED:20220329T204444Z
LAST-MODIFIED:20230112T190336Z
UID:10001182-1685923200-1686009599@stjameshydepark.org
SUMMARY:Parish Office Closed
DESCRIPTION:
URL:https://stjameshydepark.org/event/parish-office-closed-2/2023-06-05/
LOCATION:NY
CATEGORIES:General
END:VEVENT
BEGIN:VEVENT
DTSTART;TZID=America/New_York:20230606T190000
DTEND;TZID=America/New_York:20230606T200000
DTSTAMP:20260425T232555
CREATED:20230113T151213Z
LAST-MODIFIED:20230316T161002Z
UID:10001873-1686078000-1686081600@stjameshydepark.org
SUMMARY:Boy Scouts Troop 80 (Parish Hall; Rm. 203)
DESCRIPTION:
URL:https://stjameshydepark.org/event/boy-scouts-troop-80-parish-hall-rm-203-2/2023-06-06/
LOCATION:St. James’ Episcopal Church\, 4526 Albany Post Rd.\, Hyde Park\, NY\, 12538\, United States
END:VEVENT
BEGIN:VEVENT
DTSTART;TZID=America/New_York:20230607T100000
DTEND;TZID=America/New_York:20230607T110000
DTSTAMP:20260425T232555
CREATED:20230524T125832Z
LAST-MODIFIED:20230926T162257Z
UID:10002065-1686132000-1686135600@stjameshydepark.org
SUMMARY:Petting Zoo (Nursery School side lawn)
DESCRIPTION:
URL:https://stjameshydepark.org/event/petting-zoo-nursery-school-side-lawn/
LOCATION:St. James’ Episcopal Church\, 4526 Albany Post Rd.\, Hyde Park\, NY\, 12538\, United States
CATEGORIES:Nursery School
END:VEVENT
BEGIN:VEVENT
DTSTART;TZID=America/New_York:20230607T110000
DTEND;TZID=America/New_York:20230607T120000
DTSTAMP:20260425T232555
CREATED:20220329T172814Z
LAST-MODIFIED:20230214T222810Z
UID:10001709-1686135600-1686139200@stjameshydepark.org
SUMMARY:Bible Study (Zoom)
DESCRIPTION:Our weekly Bible study takes place on Zoom! Join in every Wednesday at 11 a.m. for prayer\, conversation and reflection on the readings for the upcoming Sunday. The Zoom link will be distributed via our Google Group\, or contact the parish office. 
URL:https://stjameshydepark.org/event/bible-study-2023-02-15/2023-06-07/
LOCATION:Online
CATEGORIES:General
END:VEVENT
BEGIN:VEVENT
DTSTART;TZID=America/New_York:20230607T180000
DTEND;TZID=America/New_York:20230607T200000
DTSTAMP:20260425T232555
CREATED:20230131T154710Z
LAST-MODIFIED:20230926T161648Z
UID:10001653-1686160800-1686168000@stjameshydepark.org
SUMMARY:Women's Group (Antonella’s in Hyde Park)
DESCRIPTION:
URL:https://stjameshydepark.org/event/womens-group-antonellas-in-hyde-park/2023-06-07/
LOCATION:Antonella’s Restaurant\, Hyde Park\, NY\, 4246 Albany Post Rd #1700\, Hyde Park\, NY\, 12538\, United States
CATEGORIES:Women's Group
END:VEVENT
BEGIN:VEVENT
DTSTART;TZID=America/New_York:20230607T183000
DTEND;TZID=America/New_York:20230607T193000
DTSTAMP:20260425T232555
CREATED:20230112T192240Z
LAST-MODIFIED:20230926T155941Z
UID:10001802-1686162600-1686166200@stjameshydepark.org
SUMMARY:Evening Prayer (Remote)
DESCRIPTION:
URL:https://stjameshydepark.org/event/evening-prayer-remote-2/2023-06-07/
LOCATION:Online
CATEGORIES:Worship
END:VEVENT
BEGIN:VEVENT
DTSTART;TZID=America/New_York:20230610T090000
DTEND;TZID=America/New_York:20230610T150000
DTSTAMP:20260425T232555
CREATED:20230526T131256Z
LAST-MODIFIED:20230926T155711Z
UID:10001914-1686387600-1686409200@stjameshydepark.org
SUMMARY:Yellow Chapel Emporium (Chapel Parking Lot)
DESCRIPTION:
URL:https://stjameshydepark.org/event/emporium-chapel-parking-lot-2/2023-06-10/
LOCATION:St. James’ Chapel\, 10 East Market Street\, Hyde Park\, NY\, 12567\, United States
CATEGORIES:Community Garden
END:VEVENT
BEGIN:VEVENT
DTSTART;TZID=America/New_York:20230610T110000
DTEND;TZID=America/New_York:20230610T130000
DTSTAMP:20260425T232555
CREATED:20230607T015241Z
LAST-MODIFIED:20230607T015321Z
UID:10002068-1686394800-1686402000@stjameshydepark.org
SUMMARY:Episcopalians at Poughkeepsie Pride!
DESCRIPTION:Help spread the Good News that God loves everyone\, and we welcome everyone! \nLGBTQ+ Episcopalians and allies from many Dutchess County Episcopal churches will meet up to march in the Poughkeepsie Pride parade on Saturday\, June 10th. The parade lineup starts at 11 am\, with a 12 pm step off. Look for our “Episcopal Church Welcomes You” banner in the lineup on Market Street at the corner of Cannon Street. There is limited parking\, so carpooling is recommended. The parade route is less than a mile and ends at Waryas Park. \nMtr. Meredith can’t go this year\, but if you plan to go or just want more info\, please let her know.
URL:https://stjameshydepark.org/event/pride-2023/
LOCATION:Market Street and Cannon Street\, 35 Market Street\, Poughkeepsie\, NY\, 12601\, United States
CATEGORIES:Fun,Outreach
ATTACH;FMTTYPE=image/png:https://stjameshydepark.org/wp-content/uploads/2023/06/poughkeepsie-pride-episcopalians-2023.png
END:VEVENT
BEGIN:VEVENT
DTSTART;TZID=America/New_York:20230610T183000
DTEND;TZID=America/New_York:20230610T193000
DTSTAMP:20260425T232555
CREATED:20230112T191110Z
LAST-MODIFIED:20231102T135511Z
UID:10001620-1686421800-1686425400@stjameshydepark.org
SUMMARY:Compline (Remote)
DESCRIPTION:
URL:https://stjameshydepark.org/event/compline-remote-3-2023-01-07/2023-06-10/
LOCATION:Online
CATEGORIES:Worship
END:VEVENT
BEGIN:VEVENT
DTSTART;TZID=America/New_York:20230611T080000
DTEND;TZID=America/New_York:20230611T090000
DTSTAMP:20260425T232555
CREATED:20230110T171732Z
LAST-MODIFIED:20230709T232408Z
UID:10001551-1686470400-1686474000@stjameshydepark.org
SUMMARY:Holy Eucharist (Rite I)
DESCRIPTION:Join us Sundays at 8:00 a.m. for a celebration of Holy Eucharist (Communion). This is a quiet service\, usually without music\, though we often have a soloist with acoustic guitar playing before and after the service. The service uses Rite 1 from the 1979 Book of Common Prayer\, with traditional language.
URL:https://stjameshydepark.org/event/holy-eucharist-rite-i-2023-05-28/2023-06-11/
LOCATION:St. James’ Episcopal Church\, 4526 Albany Post Rd.\, Hyde Park\, NY\, 12538\, United States
CATEGORIES:Worship
END:VEVENT
BEGIN:VEVENT
DTSTART;TZID=America/New_York:20230611T100000
DTEND;TZID=America/New_York:20230611T110000
DTSTAMP:20260425T232555
CREATED:20230104T213823Z
LAST-MODIFIED:20230411T135601Z
UID:10001780-1686477600-1686481200@stjameshydepark.org
SUMMARY:Holy Eucharist (Rite II) - Recognition Sunday with Ice Cream Social
DESCRIPTION:Join us Sundays at 10:00 a.m. for a celebration of Holy Eucharist (Communion). This service has music (usually organ and choir\, along with special guest musicians) and uses a variety of prayers and language from traditional to inclusive and expansive\, drawing from Rite II of the 1979 Book of Common Prayer\, Enriching Our Worship\, and other sources. Coffee hour in the Parish House usually follows this service. \nSunday School for kindergarten and up meets today on the second floor of the Parish House at 10:00 a.m. Students will rejoin the congregation just before Holy Communion. New to St. James’? Your kids are welcome to Sunday School any Sunday. More details about St. James’ Sunday School at: https://stjameshydepark.org/for-children/
URL:https://stjameshydepark.org/event/holy-eucharist-rite-ii-2023-06-11/
LOCATION:St. James’ Episcopal Church\, 4526 Albany Post Rd.\, Hyde Park\, NY\, 12538\, United States
CATEGORIES:General
END:VEVENT
BEGIN:VEVENT
DTSTART;TZID=America/New_York:20230611T100000
DTEND;TZID=America/New_York:20230611T113000
DTSTAMP:20260425T232555
CREATED:20230709T233422Z
LAST-MODIFIED:20230709T233422Z
UID:10002175-1686477600-1686483000@stjameshydepark.org
SUMMARY:Holy Eucharist\, Rite II with Sunday School and Coffee Hour
DESCRIPTION:Join us Sundays at 10:00 a.m. for a celebration of Holy Eucharist (Communion). This service has music (usually organ and choir\, along with special guest musicians) and uses a variety of prayers and language from traditional to inclusive and expansive\, drawing from Rite II of the 1979 Book of Common Prayer\, Enriching Our Worship\, and other sources. Coffee hour in the Parish House usually follows this service. \nSunday School for kindergarten and up meets today on the second floor of the Parish House at 10:00 a.m. Students will rejoin the congregation just before Holy Communion. New to St. James’? Your kids are welcome to Sunday School any Sunday. More details about St. James’ Sunday School at: https://stjameshydepark.org/for-children/
URL:https://stjameshydepark.org/event/holy-eucharist-rite-ii-spring-2023/2023-06-11/
LOCATION:St. James’ Episcopal Church\, 4526 Albany Post Rd.\, Hyde Park\, NY\, 12538\, United States
CATEGORIES:Kids & Youth,Worship
END:VEVENT
BEGIN:VEVENT
DTSTART;TZID=America/New_York:20230611T150000
DTEND;TZID=America/New_York:20230611T200000
DTSTAMP:20260425T232555
CREATED:20230419T152025Z
LAST-MODIFIED:20230419T152025Z
UID:10001724-1686495600-1686513600@stjameshydepark.org
SUMMARY:Voice Recital (Parish Hall)
DESCRIPTION:
URL:https://stjameshydepark.org/event/voice-recital-parish-hall/
LOCATION:St. James’ Episcopal Church\, 4526 Albany Post Rd.\, Hyde Park\, NY\, 12538\, United States
END:VEVENT
BEGIN:VEVENT
DTSTART;TZID=America/New_York:20230611T183000
DTEND;TZID=America/New_York:20230611T210000
DTSTAMP:20260425T232555
CREATED:20230315T174027Z
LAST-MODIFIED:20231108T151435Z
UID:10001956-1686508200-1686517200@stjameshydepark.org
SUMMARY:AA Meeting (Parish Hall; Rm. 201)
DESCRIPTION:
URL:https://stjameshydepark.org/event/aa-meeting-parish-hall-rm-201/2023-06-11/
LOCATION:St. James’ Episcopal Church\, 4526 Albany Post Rd.\, Hyde Park\, NY\, 12538\, United States
END:VEVENT
BEGIN:VEVENT
DTSTART;VALUE=DATE:20230612
DTEND;VALUE=DATE:20230613
DTSTAMP:20260425T232555
CREATED:20220329T204444Z
LAST-MODIFIED:20230112T190336Z
UID:10001183-1686528000-1686614399@stjameshydepark.org
SUMMARY:Parish Office Closed
DESCRIPTION:
URL:https://stjameshydepark.org/event/parish-office-closed-2/2023-06-12/
LOCATION:NY
CATEGORIES:General
END:VEVENT
BEGIN:VEVENT
DTSTART;TZID=America/New_York:20230612T130000
DTEND;TZID=America/New_York:20230612T150000
DTSTAMP:20260425T232555
CREATED:20230607T165744Z
LAST-MODIFIED:20230607T165744Z
UID:10002071-1686574800-1686582000@stjameshydepark.org
SUMMARY:Setup for Field Trip (Parish Hall)
DESCRIPTION:
URL:https://stjameshydepark.org/event/setup-for-field-trip-parish-hall/
LOCATION:St. James’ Episcopal Church\, 4526 Albany Post Rd.\, Hyde Park\, NY\, 12538\, United States
END:VEVENT
BEGIN:VEVENT
DTSTART;TZID=America/New_York:20230613T100000
DTEND;TZID=America/New_York:20230613T130000
DTSTAMP:20260425T232555
CREATED:20230607T165330Z
LAST-MODIFIED:20230607T165422Z
UID:10002069-1686650400-1686661200@stjameshydepark.org
SUMMARY:North Park Elementary Field Trip (Parish Hall)
DESCRIPTION:
URL:https://stjameshydepark.org/event/north-park-elementary-field-trip-setup-parish-hall/
LOCATION:St. James’ Episcopal Church\, 4526 Albany Post Rd.\, Hyde Park\, NY\, 12538\, United States
END:VEVENT
BEGIN:VEVENT
DTSTART;TZID=America/New_York:20230613T190000
DTEND;TZID=America/New_York:20230613T200000
DTSTAMP:20260425T232555
CREATED:20230113T151213Z
LAST-MODIFIED:20230316T161002Z
UID:10001874-1686682800-1686686400@stjameshydepark.org
SUMMARY:Boy Scouts Troop 80 (Parish Hall; Rm. 203)
DESCRIPTION:
URL:https://stjameshydepark.org/event/boy-scouts-troop-80-parish-hall-rm-203-2/2023-06-13/
LOCATION:St. James’ Episcopal Church\, 4526 Albany Post Rd.\, Hyde Park\, NY\, 12538\, United States
END:VEVENT
BEGIN:VEVENT
DTSTART;TZID=America/New_York:20230614T110000
DTEND;TZID=America/New_York:20230614T120000
DTSTAMP:20260425T232555
CREATED:20220329T172814Z
LAST-MODIFIED:20230214T222810Z
UID:10001710-1686740400-1686744000@stjameshydepark.org
SUMMARY:Bible Study (Zoom)
DESCRIPTION:Our weekly Bible study takes place on Zoom! Join in every Wednesday at 11 a.m. for prayer\, conversation and reflection on the readings for the upcoming Sunday. The Zoom link will be distributed via our Google Group\, or contact the parish office. 
URL:https://stjameshydepark.org/event/bible-study-2023-02-15/2023-06-14/
LOCATION:Online
CATEGORIES:General
END:VEVENT
BEGIN:VEVENT
DTSTART;TZID=America/New_York:20230614T183000
DTEND;TZID=America/New_York:20230614T193000
DTSTAMP:20260425T232555
CREATED:20230112T192240Z
LAST-MODIFIED:20230926T155941Z
UID:10001803-1686767400-1686771000@stjameshydepark.org
SUMMARY:Evening Prayer (Remote)
DESCRIPTION:
URL:https://stjameshydepark.org/event/evening-prayer-remote-2/2023-06-14/
LOCATION:Online
CATEGORIES:Worship
END:VEVENT
BEGIN:VEVENT
DTSTART;TZID=America/New_York:20230617T183000
DTEND;TZID=America/New_York:20230617T193000
DTSTAMP:20260425T232555
CREATED:20230112T191110Z
LAST-MODIFIED:20231102T135511Z
UID:10001621-1687026600-1687030200@stjameshydepark.org
SUMMARY:Compline (Remote)
DESCRIPTION:
URL:https://stjameshydepark.org/event/compline-remote-3-2023-01-07/2023-06-17/
LOCATION:Online
CATEGORIES:Worship
END:VEVENT
BEGIN:VEVENT
DTSTART;TZID=America/New_York:20230618T080000
DTEND;TZID=America/New_York:20230618T090000
DTSTAMP:20260425T232555
CREATED:20230110T171732Z
LAST-MODIFIED:20230709T232408Z
UID:10001552-1687075200-1687078800@stjameshydepark.org
SUMMARY:Holy Eucharist (Rite I)
DESCRIPTION:Join us Sundays at 8:00 a.m. for a celebration of Holy Eucharist (Communion). This is a quiet service\, usually without music\, though we often have a soloist with acoustic guitar playing before and after the service. The service uses Rite 1 from the 1979 Book of Common Prayer\, with traditional language.
URL:https://stjameshydepark.org/event/holy-eucharist-rite-i-2023-05-28/2023-06-18/
LOCATION:St. James’ Episcopal Church\, 4526 Albany Post Rd.\, Hyde Park\, NY\, 12538\, United States
CATEGORIES:Worship
END:VEVENT
BEGIN:VEVENT
DTSTART;TZID=America/New_York:20230618T100000
DTEND;TZID=America/New_York:20230618T113000
DTSTAMP:20260425T232555
CREATED:20230709T233422Z
LAST-MODIFIED:20230709T233422Z
UID:10002176-1687082400-1687087800@stjameshydepark.org
SUMMARY:Holy Eucharist\, Rite II with Sunday School and Coffee Hour
DESCRIPTION:Join us Sundays at 10:00 a.m. for a celebration of Holy Eucharist (Communion). This service has music (usually organ and choir\, along with special guest musicians) and uses a variety of prayers and language from traditional to inclusive and expansive\, drawing from Rite II of the 1979 Book of Common Prayer\, Enriching Our Worship\, and other sources. Coffee hour in the Parish House usually follows this service. \nSunday School for kindergarten and up meets today on the second floor of the Parish House at 10:00 a.m. Students will rejoin the congregation just before Holy Communion. New to St. James’? Your kids are welcome to Sunday School any Sunday. More details about St. James’ Sunday School at: https://stjameshydepark.org/for-children/
URL:https://stjameshydepark.org/event/holy-eucharist-rite-ii-spring-2023/2023-06-18/
LOCATION:St. James’ Episcopal Church\, 4526 Albany Post Rd.\, Hyde Park\, NY\, 12538\, United States
CATEGORIES:Kids & Youth,Worship
END:VEVENT
BEGIN:VEVENT
DTSTART;TZID=America/New_York:20230618T183000
DTEND;TZID=America/New_York:20230618T210000
DTSTAMP:20260425T232555
CREATED:20230315T174027Z
LAST-MODIFIED:20231108T151435Z
UID:10001957-1687113000-1687122000@stjameshydepark.org
SUMMARY:AA Meeting (Parish Hall; Rm. 201)
DESCRIPTION:
URL:https://stjameshydepark.org/event/aa-meeting-parish-hall-rm-201/2023-06-18/
LOCATION:St. James’ Episcopal Church\, 4526 Albany Post Rd.\, Hyde Park\, NY\, 12538\, United States
END:VEVENT
END:VCALENDAR